{"text_format":"1","workbook":"xlsx","n_sheets":13,"sheets":["Start","Quick Guide","CAPA scoring index","REP1","CAPA DB","KPI","Report","EXPREP","expReport","Lists","DAte","docs","MATH"],"not_rendered":{"charts":0,"images":4,"macros":1,"external_links":0,"defined_names":116,"comments":0,"pivot_tables":0},"unopened":[],"bounds":{"document_bytes":16777216,"sheet_cells":100000,"rows_first":2000,"rows_last":500,"rows_between":2000,"halvings":0,"cell_chars":16384,"cell_head_chars":4096},"cells_cut":0,"cells_raw":0,"read":"whole","date_system":"1900"}

{"sheet":"Start","index":0,"n_rows":44,"n_cols":1,"rows_kept":44,"cut":false,"hidden":false,"merged":[]}
[]
[]
[]
[]
[]
[]
[]
[]
[]
[]
[]
[]
[]
[]
[]
[]
[]
[]
[]
[]
[]
[]
[]
[]
[]
[]
[]
[]
[]
[]
[]
[]
[]
[]
[]
[]
[]
[]
[]
[]
[]
[]
["© 2023 Nottingham University Hospitals Trust"]
["The copyright in this documentation is owned by Nottingham University Hospitals Trust and this documentation may not (except under a written licence granted by Nottingham University Hospitals Trust, strictly in accordance with that licence) be copied, stored on any electronic medium or transmitted over any electronic network, loaded into or stored in any computer, or reproduced in any other way."]

{"sheet":"Quick Guide","index":1,"n_rows":114,"n_cols":2,"rows_kept":114,"cut":false,"hidden":false,"merged":[]}
[]
[null,"How do I use the CAPA database?"]
[null,"The first time you open the database you will be prompted to enable macros:"]
[]
[]
[]
[]
[]
[]
[null,"Please click ‘enable content’. You may also be prompted to make the document a ‘trusted document’, please click yes."]
[]
[null,"After this, the following menu will appear:"]
[]
[]
[]
[]
[]
[]
[]
[]
[]
[]
[]
[]
[]
[]
[]
[]
[null,"Submitting a corrective action (formally a Non-conformance):"]
[]
[null,"Click ‘Submit details of a break in standard Process’"]
[null,"The following menu will appear:"]
[]
[]
[]
[]
[]
[]
[]
[]
[]
[]
[]
[]
[]
[]
[]
[]
[]
[]
[]
[]
[null,"The menu has the following options:"]
[null,"Please enter your name: this is an optional field, but if you can leave your name, it can help us follow up on actions."]
[null,"Please select which area of the service this applies to: This is a compulsory field, it contains a drop down detailing different areas of the service."]
[null,"Please choose what category best matches what happened: This is a compulsory field, it contains a drop down of different categories of incident, however if you are unsure which to use there is an option for unsure at the bottom."]
[null,"Was a Patient involved? This is an optional field, though if a patient is involved it would be expected to be completed."]
[null,"ID number(s) of any Patient(s) involved: if a patient was involved please add their details."]
[null,"Has an incident been raised already (if necessary)? This is an optional field, but please complete it if an incident has been raised on the Trusts incident reporting system."]
[null,"Incident number if raised: If an Incident has been raised, please add the number here."]
[null,"Does this relate to an existing document? This is an optional field, this contains a drop down listing options for how the incident related to existing documentation. Hopefully, if this is a standardised process, there should be a document detailing it. However, we are aware that’s not always the case & also acknowledge there are a lot of document titles to remember! So there are also options should you not remember the document title or if there isn’t a document detailing the process."]
[null,"If Yes, please select the document from below: If the incident does have relate to a document, please select it from this list. The list is regularly updated with current documentation found on readership lists."]
[null,"Please add a description of what happened: This is a compulsory field and probably the most important. Please add as much detail as you can as to what has occurred."]
[null,"Submit details: Once you have added all the information you can do, please click here. A message box will appear to acknowledge your submission."]
[null,"Exit: Exits the user form."]
[]
[null,"When making a submission please add as much detail as you can, the more information we have the easier it is to look into the incident and put in place actions to prevent a reoccurrence. If you have missed any compulsory fields the database will prompt you to enter them before you can make a submission."]
[]
[null,"Don’t worry about saving the database when you close it as it will save automatically."]
[]
[null,"Submitting a preventative action:"]
[]
[null,"Click ‘suggest a preventative action’ on the main menu."]
[null,"The following menu will appear:"]
[]
[]
[]
[]
[]
[]
[]
[]
[]
[]
[]
[]
[]
[]
[]
[]
[]
[]
[]
[]
[]
[null,"This menu is very similar to the Corrective actions one but with fewer options."]
[]
[null,"Please enter your name: this is an optional field, but if you can leave your name, it can help us follow up on suggestions."]
[null,"Please choose what category best matches your suggestion: This is a compulsory field, it contains a drop down of different categories of incident, however if you are unsure which to use there is an option for unsure at the bottom. "]
[null,"Please select which area of the service your suggestion relates to: This is a compulsory field, it contains a drop down detailing different areas of the service. It also has the option for all areas."]
[null,"Does this relate to a document? This is an optional field."]
[null,"If Yes, please select the document from below: If the suggestion does relate to a document, please select it from this list. The list is regularly updated with current documentation found on readership lists."]
[null,"Please detail your suggestion for a preventative action: This is a compulsory field and probably the most important. Please add as much detail as you can as to what your suggestion is."]
[null,"Submit details: Once you have added all the information you can do, please click here. A message box will appear to acknowledge your submission."]
[null,"Exit: Exits the user form."]
[]
[null,"Please add as much information as you can as it will help us see how best to look into your suggestion. If you have missed any compulsory fields the database will prompt you to enter them before you can make a submission."]
[]
[null,"Don’t worry about saving the database when you close it as it will save automatically."]
[]
[null,"Clarification on terms:"]
[]
[null,"What is an incident? Any unexpected or unintended event, which could have or did lead to harm, loss or damage."]
[null,"What is a risk? The potential for the above to occur."]

{"sheet":"CAPA scoring index","index":2,"n_rows":17,"n_cols":10,"rows_kept":17,"cut":false,"hidden":false,"merged":[[2,1,6,1],[7,1,8,3],[9,4,9,9],[11,1,11,3],[12,1,16,3]]}
[]
[null,"CAPA scoring index:"]
[null,"Consequence (actual or potential)","Catastrophic",5,5,10,15,20,25,30]
[null,null,"Serious",4,4,8,12,16,20,24]
[null,null,"Adverse",3,3,5,9,12,15,18]
[null,null,"Minor",2,2,4,6,8,10,12]
[null,null,"Insignificant",1,1,2,3,4,5,6]
[null,null,null,null,1,2,3,4,5,6]
[null,null,null,null,"Preventative","Isolated","Infrequent","Frequent","Very Frequent","Every time"]
[]
[null,"Decision making guide:"]
[null,"Rating",null,null,"Red","Orange","Yellow","Green"]
[null,"Potential Outcomes",null,null,"Halting clinical activities (widespread)","Halting clinical activities (isolated)","Reports withheld"]
[null,null,null,null,"Reports withheld","Reports withheld","Recalling previously released results","Recalling previously released results"]
[null,null,null,null,"Recalling previously released results","Recalling previously released results","Consider raising risk assessment ","Consider raising risk assessment "]
[null,null,null,null,"Incident transferred to Datix for management","Incident transferred to Datix for management","Consider transferring to Datix for management","Continue management through CAPA system"]
[null,null,null,null,"Managed in line with relevant Trust Policy","Managed in line with relevant Trust Policy","Managed in line with relevant Trust Policy","Managed in line with relevant Trust Policy"]

{"sheet":"REP1","index":3,"n_rows":10,"n_cols":2,"rows_kept":10,"cut":false,"hidden":true,"merged":[]}
["ID"]
["date",{"$f":"IFERROR(INDEX('CAPA DB'!E:E,MATCH('REP1'!B1,'CAPA DB'!A:A,0)),\"\")","v":""}]
["Info",{"$f":"IFERROR(INDEX('CAPA DB'!L:L,MATCH('REP1'!B1,'CAPA DB'!A:A,0)),\"\")","v":""}]
["Reviewer",{"$f":"IFERROR(INDEX('CAPA DB'!R:R,MATCH('REP1'!B1,'CAPA DB'!A:A,0)),\"\")","v":""}]
["Themes",{"$f":"IFERROR(INDEX('CAPA DB'!Y:Y,MATCH('REP1'!B1,'CAPA DB'!A:A,0)),\"\")","v":""}]
["Notes",{"$f":"IFERROR(INDEX('CAPA DB'!S:S,MATCH('REP1'!B1,'CAPA DB'!A:A,0)),\"\")","v":""}]
["RCA",{"$f":"IFERROR(INDEX('CAPA DB'!T:T,MATCH('REP1'!B1,'CAPA DB'!A:A,0)),\"\")","v":""}]
["Plan",{"$f":"IFERROR(INDEX('CAPA DB'!U:U,MATCH('REP1'!B1,'CAPA DB'!A:A,0)),\"\")","v":""}]
["score",{"$f":"IFERROR(INDEX('CAPA DB'!W:W,MATCH('REP1'!B1,'CAPA DB'!A:A,0)),\"\")","v":""}]
["TYPE",{"$f":"IFERROR(INDEX('CAPA DB'!C:C,MATCH('REP1'!B1,'CAPA DB'!A:A,0)),\"\")","v":""}]

{"sheet":"CAPA DB","index":4,"n_rows":2000,"n_cols":41,"rows_kept":2000,"cut":false,"hidden":true,"merged":[[0,38,0,40],[0,0,0,1],[0,3,0,11],[1,25,1,30],[0,14,0,23],[0,31,0,36],[0,12,0,13],[0,24,0,30]]}
["ID & Status",null,"Record","Record Details",null,null,null,null,null,null,null,null,"Incident Details",null,"Review details",null,null,null,null,null,null,null,null,null,"Themes",null,null,null,null,null,null,"Concession Details",null,null,null,null,null,{"$f":"TODAY()","v":"2026-01-09"},"MATH"]
["Record ID","Status","Record Type","Raised by","Date submitted","Pt affected?","ID number","Area of service","Category","Related to document?","Relevant Document","Description","Incident raised?","Incident number","Review start due","overdue message","Date started","Reviewed by","Review notes","RCA","Action Plan Details","Final Outcome","Score","Review Completed","Theme Summary","Please select Theme",null,null,null,null,null,"Concession?","Concession Number","Concession Length (days)","Concession Review Starts","Concession Expires","Concession Outcome","Math - Today","Diff sub & start","Diff start & fin","Ignore"]
[null,"Please select",null,null,null,null,null,null,null,null,null,null,null,null,{"$f":"IF(ISERROR(IF(C3=\"corrective\",E3+KPI!$P$4,IF(C3=\"Preventative\",E3+KPI!$P$5,\"\"))),\"\",IF(C3=\"corrective\",E3+KPI!$P$4,IF(C3=\"Preventative\",E3+KPI!$P$5,\"\")))","v":""},{"$f":"IF(AND(O3<TODAY(),B3=\"new\"),\"New - Overdue\",B3)","v":"Please select"},null,null,null,null,null,"Please select",null,null,{"$f":"Z3&AA3&AB3&AC3&AD3&AE3","v":""},null,null,null,null,null,null,null,null,null,{"$f":"IF(ISERROR(AJ3-20),\"\",AJ3-20)","v":""},{"$f":"IF(ISERROR(IF(C3=\"corrective\",E3+AH3,\"\")),\"\",IF(C3=\"corrective\",E3+AH3,\"\"))","v":""},null,null,{"$f":"IF(ISERROR(DATEDIF(E3,Q3,\"D\")),\"\",DATEDIF(E3,Q3,\"D\"))","v":0},{"$f":"IF(ISERROR(DATEDIF(Q3,X3,\"D\")),\"\",DATEDIF(Q3,X3,\"D\"))","v":0},{"$f":"COUNTIF(AN3,\">400\")+COUNTIF(AN3,\"=0\")","v":1}]
[null,"Please select",null,null,null,null,null,null,null,null,null,null,null,null,{"$f":"IF(ISERROR(IF(C4=\"corrective\",E4+KPI!$P$4,IF(C4=\"Preventative\",E4+KPI!$P$5,\"\"))),\"\",IF(C4=\"corrective\",E4+KPI!$P$4,IF(C4=\"Preventative\",E4+KPI!$P$5,\"\")))","v":""},{"$f":"IF(AND(O4<TODAY(),B4=\"new\"),\"New - Overdue\",B4)","v":"Please select"},null,null,null,null,null,"Please select",null,null,{"$f":"Z4&AA4&AB4&AC4&AD4&AE4","v":""},null,null,null,null,null,null,null,null,null,{"$f":"IF(ISERROR(AJ4-20),\"\",AJ4-20)","v":""},{"$f":"IF(ISERROR(IF(C4=\"corrective\",E4+AH4,\"\")),\"\",IF(C4=\"corrective\",E4+AH4,\"\"))","v":""},null,null,0,0,1]
[null,"Please select",null,null,null,null,null,null,null,null,null,null,null,null,{"$f":"IF(ISERROR(IF(C5=\"corrective\",E5+KPI!$P$4,IF(C5=\"Preventative\",E5+KPI!$P$5,\"\"))),\"\",IF(C5=\"corrective\",E5+KPI!$P$4,IF(C5=\"Preventative\",E5+KPI!$P$5,\"\")))","v":""},"Please select",null,null,null,null,null,"Please select",null,null,"",null,null,null,null,null,null,null,null,null,"","",null,null,0,0,1]
[null,"Please select",null,null,null,null,null,null,null,null,null,null,null,null,{"$f":"IF(ISERROR(IF(C6=\"corrective\",E6+KPI!$P$4,IF(C6=\"Preventative\",E6+KPI!$P$5,\"\"))),\"\",IF(C6=\"corrective\",E6+KPI!$P$4,IF(C6=\"Preventative\",E6+KPI!$P$5,\"\")))","v":""},"Please select",null,null,null,null,null,"Please select",null,null,"",null,null,null,null,null,null,null,null,null,"","",null,null,0,0,1]
[null,"Please select",null,null,null,null,null,null,null,null,null,null,null,null,{"$f":"IF(ISERROR(IF(C7=\"corrective\",E7+KPI!$P$4,IF(C7=\"Preventative\",E7+KPI!$P$5,\"\"))),\"\",IF(C7=\"corrective\",E7+KPI!$P$4,IF(C7=\"Preventative\",E7+KPI!$P$5,\"\")))","v":""},{"$f":"IF(AND(O7<TODAY(),B7=\"new\"),\"New - Overdue\",B7)","v":"Please select"},null,null,null,null,null,"Please select",null,null,{"$f":"Z7&AA7&AB7&AC7&AD7&AE7","v":""},null,null,null,null,null,null,null,null,null,{"$f":"IF(ISERROR(AJ7-20),\"\",AJ7-20)","v":""},{"$f":"IF(ISERROR(IF(C7=\"corrective\",E7+AH7,\"\")),\"\",IF(C7=\"corrective\",E7+AH7,\"\"))","v":""},null,null,0,0,1]
[null,"Please select",null,null,null,null,null,null,null,null,null,null,null,null,{"$f":"IF(ISERROR(IF(C8=\"corrective\",E8+KPI!$P$4,IF(C8=\"Preventative\",E8+KPI!$P$5,\"\"))),\"\",IF(C8=\"corrective\",E8+KPI!$P$4,IF(C8=\"Preventative\",E8+KPI!$P$5,\"\")))","v":""},"Please select",null,null,null,null,null,"Please select",null,null,"",null,null,null,null,null,null,null,null,null,"","",null,null,0,0,1]
[null,"Please select",null,null,null,null,null,null,null,null,null,null,null,null,{"$f":"IF(ISERROR(IF(C9=\"corrective\",E9+KPI!$P$4,IF(C9=\"Preventative\",E9+KPI!$P$5,\"\"))),\"\",IF(C9=\"corrective\",E9+KPI!$P$4,IF(C9=\"Preventative\",E9+KPI!$P$5,\"\")))","v":""},"Please select",null,null,null,null,null,"Please select",null,null,"",null,null,null,null,null,null,null,null,null,"","",null,null,0,0,1]
[null,"Please select",null,null,null,null,null,null,null,null,null,null,null,null,{"$f":"IF(ISERROR(IF(C10=\"corrective\",E10+KPI!$P$4,IF(C10=\"Preventative\",E10+KPI!$P$5,\"\"))),\"\",IF(C10=\"corrective\",E10+KPI!$P$4,IF(C10=\"Preventative\",E10+KPI!$P$5,\"\")))","v":""},"Please select",null,null,null,null,null,"Please select",null,null,"",null,null,null,null,null,null,null,null,null,"","",null,null,0,0,1]
[null,"Please select",null,null,null,null,null,null,null,null,null,null,null,null,{"$f":"IF(ISERROR(IF(C11=\"corrective\",E11+KPI!$P$4,IF(C11=\"Preventative\",E11+KPI!$P$5,\"\"))),\"\",IF(C11=\"corrective\",E11+KPI!$P$4,IF(C11=\"Preventative\",E11+KPI!$P$5,\"\")))","v":""},"Please select",null,null,null,null,null,"Please select",null,null,"",null,null,null,null,null,null,null,null,null,"","",null,null,0,0,1]
[null,"Please select",null,null,null,null,null,null,null,null,null,null,null,null,{"$f":"IF(ISERROR(IF(C12=\"corrective\",E12+KPI!$P$4,IF(C12=\"Preventative\",E12+KPI!$P$5,\"\"))),\"\",IF(C12=\"corrective\",E12+KPI!$P$4,IF(C12=\"Preventative\",E12+KPI!$P$5,\"\")))","v":""},"Please select",null,null,null,null,null,"Please select",null,null,"",null,null,null,null,null,null,null,null,null,"","",null,null,0,0,1]
[null,"Please select",null,null,null,null,null,null,null,null,null,null,null,null,{"$f":"IF(ISERROR(IF(C13=\"corrective\",E13+KPI!$P$4,IF(C13=\"Preventative\",E13+KPI!$P$5,\"\"))),\"\",IF(C13=\"corrective\",E13+KPI!$P$4,IF(C13=\"Preventative\",E13+KPI!$P$5,\"\")))","v":""},"Please select",null,null,null,null,null,"Please select",null,null,"",null,null,null,null,null,null,null,null,null,"","",null,null,0,0,1]
[null,"Please select",null,null,null,null,null,null,null,null,null,null,null,null,{"$f":"IF(ISERROR(IF(C14=\"corrective\",E14+KPI!$P$4,IF(C14=\"Preventative\",E14+KPI!$P$5,\"\"))),\"\",IF(C14=\"corrective\",E14+KPI!$P$4,IF(C14=\"Preventative\",E14+KPI!$P$5,\"\")))","v":""},"Please select",null,null,null,null,null,"Please select",null,null,"",null,null,null,null,null,null,null,null,null,"","",null,null,0,0,1]
[null,"Please select",null,null,null,null,null,null,null,null,null,null,null,null,{"$f":"IF(ISERROR(IF(C15=\"corrective\",E15+KPI!$P$4,IF(C15=\"Preventative\",E15+KPI!$P$5,\"\"))),\"\",IF(C15=\"corrective\",E15+KPI!$P$4,IF(C15=\"Preventative\",E15+KPI!$P$5,\"\")))","v":""},"Please select",null,null,null,null,null,"Please select",null,null,"",null,null,null,null,null,null,null,null,null,"","",null,null,0,0,1]
[null,"Please select",null,null,null,null,null,null,null,null,null,null,null,null,{"$f":"IF(ISERROR(IF(C16=\"corrective\",E16+KPI!$P$4,IF(C16=\"Preventative\",E16+KPI!$P$5,\"\"))),\"\",IF(C16=\"corrective\",E16+KPI!$P$4,IF(C16=\"Preventative\",E16+KPI!$P$5,\"\")))","v":""},"Please select",null,null,null,null,null,"Please select",null,null,"",null,null,null,null,null,null,null,null,null,"","",null,null,0,0,1]
[null,"Please select",null,null,null,null,null,null,null,null,null,null,null,null,{"$f":"IF(ISERROR(IF(C17=\"corrective\",E17+KPI!$P$4,IF(C17=\"Preventative\",E17+KPI!$P$5,\"\"))),\"\",IF(C17=\"corrective\",E17+KPI!$P$4,IF(C17=\"Preventative\",E17+KPI!$P$5,\"\")))","v":""},"Please select",null,null,null,null,null,"Please select",null,null,"",null,null,null,null,null,null,null,null,null,"","",null,null,0,0,1]
[null,"Please select",null,null,null,null,null,null,null,null,null,null,null,null,{"$f":"IF(ISERROR(IF(C18=\"corrective\",E18+KPI!$P$4,IF(C18=\"Preventative\",E18+KPI!$P$5,\"\"))),\"\",IF(C18=\"corrective\",E18+KPI!$P$4,IF(C18=\"Preventative\",E18+KPI!$P$5,\"\")))","v":""},"Please select",null,null,null,null,null,"Please select",null,null,"",null,null,null,null,null,null,null,null,null,"","",null,null,0,0,1]
[null,"Please select",null,null,null,null,null,null,null,null,null,null,null,null,{"$f":"IF(ISERROR(IF(C19=\"corrective\",E19+KPI!$P$4,IF(C19=\"Preventative\",E19+KPI!$P$5,\"\"))),\"\",IF(C19=\"corrective\",E19+KPI!$P$4,IF(C19=\"Preventative\",E19+KPI!$P$5,\"\")))","v":""},"Please select",null,null,null,null,null,"Please select",null,null,"",null,null,null,null,null,null,null,null,null,"","",null,null,0,0,1]
[null,"Please select",null,null,null,null,null,null,null,null,null,null,null,null,{"$f":"IF(ISERROR(IF(C20=\"corrective\",E20+KPI!$P$4,IF(C20=\"Preventative\",E20+KPI!$P$5,\"\"))),\"\",IF(C20=\"corrective\",E20+KPI!$P$4,IF(C20=\"Preventative\",E20+KPI!$P$5,\"\")))","v":""},"Please select",null,null,null,null,null,"Please select",null,null,"",null,null,null,null,null,null,null,null,null,"","",null,null,0,0,1]
[null,"Please select",null,null,null,null,null,null,null,null,null,null,null,null,{"$f":"IF(ISERROR(IF(C21=\"corrective\",E21+KPI!$P$4,IF(C21=\"Preventative\",E21+KPI!$P$5,\"\"))),\"\",IF(C21=\"corrective\",E21+KPI!$P$4,IF(C21=\"Preventative\",E21+KPI!$P$5,\"\")))","v":""},"Please select",null,null,null,null,null,"Please select",null,null,"",null,null,null,null,null,null,null,null,null,"","",null,null,0,0,1]
[null,"Please select",null,null,null,null,null,null,null,null,null,null,null,null,{"$f":"IF(ISERROR(IF(C22=\"corrective\",E22+KPI!$P$4,IF(C22=\"Preventative\",E22+KPI!$P$5,\"\"))),\"\",IF(C22=\"corrective\",E22+KPI!$P$4,IF(C22=\"Preventative\",E22+KPI!$P$5,\"\")))","v":""},"Please select",null,null,null,null,null,"Please select",null,null,"",null,null,null,null,null,null,null,null,null,"","",null,null,0,0,1]
[null,"Please select",null,null,null,null,null,null,null,null,null,null,null,null,{"$f":"IF(ISERROR(IF(C23=\"corrective\",E23+KPI!$P$4,IF(C23=\"Preventative\",E23+KPI!$P$5,\"\"))),\"\",IF(C23=\"corrective\",E23+KPI!$P$4,IF(C23=\"Preventative\",E23+KPI!$P$5,\"\")))","v":""},"Please select",null,null,null,null,null,"Please select",null,null,"",null,null,null,null,null,null,null,null,null,"","",null,"test conc",0,0,1]
[null,"Please select",null,null,null,null,null,null,null,null,null,null,null,null,{"$f":"IF(ISERROR(IF(C24=\"corrective\",E24+KPI!$P$4,IF(C24=\"Preventative\",E24+KPI!$P$5,\"\"))),\"\",IF(C24=\"corrective\",E24+KPI!$P$4,IF(C24=\"Preventative\",E24+KPI!$P$5,\"\")))","v":""},"Please select",null,null,null,null,null,"Please select",null,null,"",null,null,null,null,null,null,null,null,null,"","",null,null,0,0,1]
[null,"Please select",null,null,null,null,null,null,null,null,null,null,null,null,{"$f":"IF(ISERROR(IF(C25=\"corrective\",E25+KPI!$P$4,IF(C25=\"Preventative\",E25+KPI!$P$5,\"\"))),\"\",IF(C25=\"corrective\",E25+KPI!$P$4,IF(C25=\"Preventative\",E25+KPI!$P$5,\"\")))","v":""},"Please select",null,null,null,null,null,"Please select",null,null,"",null,null,null,null,null,null,null,null,null,"","",null,null,0,0,1]
[null,"Please select",null,null,null,null,null,null,null,null,null,null,null,null,{"$f":"IF(ISERROR(IF(C26=\"corrective\",E26+KPI!$P$4,IF(C26=\"Preventative\",E26+KPI!$P$5,\"\"))),\"\",IF(C26=\"corrective\",E26+KPI!$P$4,IF(C26=\"Preventative\",E26+KPI!$P$5,\"\")))","v":""},"Please select",null,null,null,null,null,"Please select",null,null,"",null,null,null,null,null,null,null,null,null,"","",null,null,0,0,1]
[null,"Please select",null,null,null,null,null,null,null,null,null,null,null,null,{"$f":"IF(ISERROR(IF(C27=\"corrective\",E27+KPI!$P$4,IF(C27=\"Preventative\",E27+KPI!$P$5,\"\"))),\"\",IF(C27=\"corrective\",E27+KPI!$P$4,IF(C27=\"Preventative\",E27+KPI!$P$5,\"\")))","v":""},"Please select",null,null,null,null,null,"Please select",null,null,"",null,null,null,null,null,null,null,null,null,"","",null,null,0,0,1]
[null,"Please select",null,null,null,null,null,null,null,null,null,null,null,null,{"$f":"IF(ISERROR(IF(C28=\"corrective\",E28+KPI!$P$4,IF(C28=\"Preventative\",E28+KPI!$P$5,\"\"))),\"\",IF(C28=\"corrective\",E28+KPI!$P$4,IF(C28=\"Preventative\",E28+KPI!$P$5,\"\")))","v":""},"Please select",null,null,null,null,null,"Please select",null,null,"",null,null,null,null,null,null,null,null,null,"","",null,null,0,0,1]
[null,"Please select",null,null,null,null,null,null,null,null,null,null,null,null,{"$f":"IF(ISERROR(IF(C29=\"corrective\",E29+KPI!$P$4,IF(C29=\"Preventative\",E29+KPI!$P$5,\"\"))),\"\",IF(C29=\"corrective\",E29+KPI!$P$4,IF(C29=\"Preventative\",E29+KPI!$P$5,\"\")))","v":""},"Please select",null,null,null,null,null,"Please select",null,null,"",null,null,null,null,null,null,null,null,null,"","",null,null,0,0,1]
[null,"Please select",null,null,null,null,null,null,null,null,null,null,null,null,{"$f":"IF(ISERROR(IF(C30=\"corrective\",E30+KPI!$P$4,IF(C30=\"Preventative\",E30+KPI!$P$5,\"\"))),\"\",IF(C30=\"corrective\",E30+KPI!$P$4,IF(C30=\"Preventative\",E30+KPI!$P$5,\"\")))","v":""},"Please select",null,null,null,null,null,"Please select",null,null,"",null,null,null,null,null,null,null,null,null,"","",null,null,0,0,1]
[null,"Please select",null,null,null,null,null,null,null,null,null,null,null,null,{"$f":"IF(ISERROR(IF(C31=\"corrective\",E31+KPI!$P$4,IF(C31=\"Preventative\",E31+KPI!$P$5,\"\"))),\"\",IF(C31=\"corrective\",E31+KPI!$P$4,IF(C31=\"Preventative\",E31+KPI!$P$5,\"\")))","v":""},"Please select",null,null,null,null,null,"Please select",null,null,"",null,null,null,null,null,null,null,null,null,"","",null,null,0,0,1]
[null,"Please select",null,null,null,null,null,null,null,null,null,null,null,null,{"$f":"IF(ISERROR(IF(C32=\"corrective\",E32+KPI!$P$4,IF(C32=\"Preventative\",E32+KPI!$P$5,\"\"))),\"\",IF(C32=\"corrective\",E32+KPI!$P$4,IF(C32=\"Preventative\",E32+KPI!$P$5,\"\")))","v":""},"Please select",null,null,null,null,null,"Please select",null,null,"",null,null,null,null,null,null,null,null,null,"","",null,null,0,0,1]
[null,"Please select",null,null,null,null,null,null,null,null,null,null,null,null,{"$f":"IF(ISERROR(IF(C33=\"corrective\",E33+KPI!$P$4,IF(C33=\"Preventative\",E33+KPI!$P$5,\"\"))),\"\",IF(C33=\"corrective\",E33+KPI!$P$4,IF(C33=\"Preventative\",E33+KPI!$P$5,\"\")))","v":""},"Please select",null,null,null,null,null,"Please select",null,null,"",null,null,null,null,null,null,null,null,null,"","",null,null,0,0,1]
[null,"Please select",null,null,null,null,null,null,null,null,null,null,null,null,{"$f":"IF(ISERROR(IF(C34=\"corrective\",E34+KPI!$P$4,IF(C34=\"Preventative\",E34+KPI!$P$5,\"\"))),\"\",IF(C34=\"corrective\",E34+KPI!$P$4,IF(C34=\"Preventative\",E34+KPI!$P$5,\"\")))","v":""},"Please select",null,null,null,null,null,"Please select",null,null,"",null,null,null,null,null,null,null,null,null,"","",null,null,0,0,1]
[null,"Please select",null,null,null,null,null,null,null,null,null,null,null,null,{"$f":"IF(ISERROR(IF(C35=\"corrective\",E35+KPI!$P$4,IF(C35=\"Preventative\",E35+KPI!$P$5,\"\"))),\"\",IF(C35=\"corrective\",E35+KPI!$P$4,IF(C35=\"Preventative\",E35+KPI!$P$5,\"\")))","v":""},"Please select",null,null,null,null,null,"Please select",null,null,"",null,null,null,null,null,null,null,null,null,"","",null,null,0,0,1]
[null,"Please select",null,null,null,null,null,null,null,null,null,null,null,null,{"$f":"IF(ISERROR(IF(C36=\"corrective\",E36+KPI!$P$4,IF(C36=\"Preventative\",E36+KPI!$P$5,\"\"))),\"\",IF(C36=\"corrective\",E36+KPI!$P$4,IF(C36=\"Preventative\",E36+KPI!$P$5,\"\")))","v":""},"Please select",null,null,null,null,null,"Please select",null,null,"",null,null,null,null,null,null,null,null,null,"","",null,null,0,0,1]
[null,"Please select",null,null,null,null,null,null,null,null,null,null,null,null,{"$f":"IF(ISERROR(IF(C37=\"corrective\",E37+KPI!$P$4,IF(C37=\"Preventative\",E37+KPI!$P$5,\"\"))),\"\",IF(C37=\"corrective\",E37+KPI!$P$4,IF(C37=\"Preventative\",E37+KPI!$P$5,\"\")))","v":""},"Please select",null,null,null,null,null,"Please select",null,null,"",null,null,null,null,null,null,null,null,null,"","",null,null,0,0,1]
[null,"Please select",null,null,null,null,null,null,null,null,null,null,null,null,{"$f":"IF(ISERROR(IF(C38=\"corrective\",E38+KPI!$P$4,IF(C38=\"Preventative\",E38+KPI!$P$5,\"\"))),\"\",IF(C38=\"corrective\",E38+KPI!$P$4,IF(C38=\"Preventative\",E38+KPI!$P$5,\"\")))","v":""},"Please select",null,null,null,null,null,"Please select",null,null,"",null,null,null,null,null,null,null,null,null,"","",null,null,0,0,1]
[null,"Please select",null,null,null,null,null,null,null,null,null,null,null,null,{"$f":"IF(ISERROR(IF(C39=\"corrective\",E39+KPI!$P$4,IF(C39=\"Preventative\",E39+KPI!$P$5,\"\"))),\"\",IF(C39=\"corrective\",E39+KPI!$P$4,IF(C39=\"Preventative\",E39+KPI!$P$5,\"\")))","v":""},"Please select",null,null,null,null,null,"Please select",null,null,"",null,null,null,null,null,null,null,null,null,"","",null,null,0,0,1]
[null,"Please select",null,null,null,null,null,null,null,null,null,null,null,null,{"$f":"IF(ISERROR(IF(C40=\"corrective\",E40+KPI!$P$4,IF(C40=\"Preventative\",E40+KPI!$P$5,\"\"))),\"\",IF(C40=\"corrective\",E40+KPI!$P$4,IF(C40=\"Preventative\",E40+KPI!$P$5,\"\")))","v":""},"Please select",null,null,null,null,null,"Please select",null,null,"",null,null,null,null,null,null,null,null,null,"","",null,null,0,0,1]
[null,"Please select",null,null,null,null,null,null,null,null,null,null,null,null,{"$f":"IF(ISERROR(IF(C41=\"corrective\",E41+KPI!$P$4,IF(C41=\"Preventative\",E41+KPI!$P$5,\"\"))),\"\",IF(C41=\"corrective\",E41+KPI!$P$4,IF(C41=\"Preventative\",E41+KPI!$P$5,\"\")))","v":""},"Please select",null,null,null,null,null,"Please select",null,null,"",null,null,null,null,null,null,null,null,null,"","",null,null,0,0,1]
[null,"Please select",null,null,null,null,null,null,null,null,null,null,null,null,{"$f":"IF(ISERROR(IF(C42=\"corrective\",E42+KPI!$P$4,IF(C42=\"Preventative\",E42+KPI!$P$5,\"\"))),\"\",IF(C42=\"corrective\",E42+KPI!$P$4,IF(C42=\"Preventative\",E42+KPI!$P$5,\"\")))","v":""},"Please select",null,null,null,null,null,"Please select",null,null,"",null,null,null,null,null,null,null,null,null,"","",null,null,0,0,1]
[null,"Please select",null,null,null,null,null,null,null,null,null,null,null,null,{"$f":"IF(ISERROR(IF(C43=\"corrective\",E43+KPI!$P$4,IF(C43=\"Preventative\",E43+KPI!$P$5,\"\"))),\"\",IF(C43=\"corrective\",E43+KPI!$P$4,IF(C43=\"Preventative\",E43+KPI!$P$5,\"\")))","v":""},"Please select",null,null,null,null,null,"Please select",null,null,"",null,null,null,null,null,null,null,null,null,"","",null,null,0,0,1]
[null,"Please select",null,null,null,null,null,null,null,null,null,null,null,null,{"$f":"IF(ISERROR(IF(C44=\"corrective\",E44+KPI!$P$4,IF(C44=\"Preventative\",E44+KPI!$P$5,\"\"))),\"\",IF(C44=\"corrective\",E44+KPI!$P$4,IF(C44=\"Preventative\",E44+KPI!$P$5,\"\")))","v":""},"Please select",null,null,null,null,null,"Please select",null,null,"",null,null,null,null,null,null,null,null,null,"","",null,null,0,0,1]
[null,"Please select",null,null,null,null,null,null,null,null,null,null,null,null,{"$f":"IF(ISERROR(IF(C45=\"corrective\",E45+KPI!$P$4,IF(C45=\"Preventative\",E45+KPI!$P$5,\"\"))),\"\",IF(C45=\"corrective\",E45+KPI!$P$4,IF(C45=\"Preventative\",E45+KPI!$P$5,\"\")))","v":""},"Please select",null,null,null,null,null,"Please select",null,null,"",null,null,null,null,null,null,null,null,null,"","",null,null,0,0,1]
[null,"Please select",null,null,null,null,null,null,null,null,null,null,null,null,{"$f":"IF(ISERROR(IF(C46=\"corrective\",E46+KPI!$P$4,IF(C46=\"Preventative\",E46+KPI!$P$5,\"\"))),\"\",IF(C46=\"corrective\",E46+KPI!$P$4,IF(C46=\"Preventative\",E46+KPI!$P$5,\"\")))","v":""},"Please select",null,null,null,null,null,"Please select",null,null,"",null,null,null,null,null,null,null,null,null,"","",null,null,0,0,1]
[null,"Please select",null,null,null,null,null,null,null,null,null,null,null,null,{"$f":"IF(ISERROR(IF(C47=\"corrective\",E47+KPI!$P$4,IF(C47=\"Preventative\",E47+KPI!$P$5,\"\"))),\"\",IF(C47=\"corrective\",E47+KPI!$P$4,IF(C47=\"Preventative\",E47+KPI!$P$5,\"\")))","v":""},"Please select",null,null,null,null,null,"Please select",null,null,"",null,null,null,null,null,null,null,null,null,"","",null,null,0,0,1]
[null,"Please select",null,null,null,null,null,null,null,null,null,null,null,null,{"$f":"IF(ISERROR(IF(C48=\"corrective\",E48+KPI!$P$4,IF(C48=\"Preventative\",E48+KPI!$P$5,\"\"))),\"\",IF(C48=\"corrective\",E48+KPI!$P$4,IF(C48=\"Preventative\",E48+KPI!$P$5,\"\")))","v":""},"Please select",null,null,null,null,null,"Please select",null,null,"",null,null,null,null,null,null,null,null,null,"","",null,null,0,0,1]
[null,"Please select",null,null,null,null,null,null,null,null,null,null,null,null,{"$f":"IF(ISERROR(IF(C49=\"corrective\",E49+KPI!$P$4,IF(C49=\"Preventative\",E49+KPI!$P$5,\"\"))),\"\",IF(C49=\"corrective\",E49+KPI!$P$4,IF(C49=\"Preventative\",E49+KPI!$P$5,\"\")))","v":""},"Please select",null,null,null,null,null,"Please select",null,null,"",null,null,null,null,null,null,null,null,null,"","",null,null,0,0,1]
[null,"Please select",null,null,null,null,null,null,null,null,null,null,null,null,{"$f":"IF(ISERROR(IF(C50=\"corrective\",E50+KPI!$P$4,IF(C50=\"Preventative\",E50+KPI!$P$5,\"\"))),\"\",IF(C50=\"corrective\",E50+KPI!$P$4,IF(C50=\"Preventative\",E50+KPI!$P$5,\"\")))","v":""},"Please select",null,null,null,null,null,"Please select",null,null,"",null,null,null,null,null,null,null,null,null,"","",null,null,0,0,1]
[null,"Please select",null,null,null,null,null,null,null,null,null,null,null,null,{"$f":"IF(ISERROR(IF(C51=\"corrective\",E51+KPI!$P$4,IF(C51=\"Preventative\",E51+KPI!$P$5,\"\"))),\"\",IF(C51=\"corrective\",E51+KPI!$P$4,IF(C51=\"Preventative\",E51+KPI!$P$5,\"\")))","v":""},"Please select",null,null,null,null,null,"Please select",null,null,"",null,null,null,null,null,null,null,null,null,"","",null,null,0,0,1]
[null,"Please select",null,null,null,null,null,null,null,null,null,null,null,null,{"$f":"IF(ISERROR(IF(C52=\"corrective\",E52+KPI!$P$4,IF(C52=\"Preventative\",E52+KPI!$P$5,\"\"))),\"\",IF(C52=\"corrective\",E52+KPI!$P$4,IF(C52=\"Preventative\",E52+KPI!$P$5,\"\")))","v":""},"Please select",null,null,null,null,null,"Please select",null,null,"",null,null,null,null,null,null,null,null,null,"","",null,null,0,0,1]
[null,"Please select",null,null,null,null,null,null,null,null,null,null,null,null,{"$f":"IF(ISERROR(IF(C53=\"corrective\",E53+KPI!$P$4,IF(C53=\"Preventative\",E53+KPI!$P$5,\"\"))),\"\",IF(C53=\"corrective\",E53+KPI!$P$4,IF(C53=\"Preventative\",E53+KPI!$P$5,\"\")))","v":""},"Please select",null,null,null,null,null,"Please select",null,null,"",null,null,null,null,null,null,null,null,null,"","",null,null,0,0,1]
[null,"Please select",null,null,null,null,null,null,null,null,null,null,null,null,{"$f":"IF(ISERROR(IF(C54=\"corrective\",E54+KPI!$P$4,IF(C54=\"Preventative\",E54+KPI!$P$5,\"\"))),\"\",IF(C54=\"corrective\",E54+KPI!$P$4,IF(C54=\"Preventative\",E54+KPI!$P$5,\"\")))","v":""},"Please select",null,null,null,null,null,"Please select",null,null,"",null,null,null,null,null,null,null,null,null,"","",null,null,0,0,1]
[null,"Please select",null,null,null,null,null,null,null,null,null,null,null,null,{"$f":"IF(ISERROR(IF(C55=\"corrective\",E55+KPI!$P$4,IF(C55=\"Preventative\",E55+KPI!$P$5,\"\"))),\"\",IF(C55=\"corrective\",E55+KPI!$P$4,IF(C55=\"Preventative\",E55+KPI!$P$5,\"\")))","v":""},"Please select",null,null,null,null,null,"Please select",null,null,"",null,null,null,null,null,null,null,null,null,"","",null,null,0,0,1]
[null,"Please select",null,null,null,null,null,null,null,null,null,null,null,null,{"$f":"IF(ISERROR(IF(C56=\"corrective\",E56+KPI!$P$4,IF(C56=\"Preventative\",E56+KPI!$P$5,\"\"))),\"\",IF(C56=\"corrective\",E56+KPI!$P$4,IF(C56=\"Preventative\",E56+KPI!$P$5,\"\")))","v":""},"Please select",null,null,null,null,null,"Please select",null,null,"",null,null,null,null,null,null,null,null,null,"","",null,null,0,0,1]
[null,"Please select",null,null,null,null,null,null,null,null,null,null,null,null,{"$f":"IF(ISERROR(IF(C57=\"corrective\",E57+KPI!$P$4,IF(C57=\"Preventative\",E57+KPI!$P$5,\"\"))),\"\",IF(C57=\"corrective\",E57+KPI!$P$4,IF(C57=\"Preventative\",E57+KPI!$P$5,\"\")))","v":""},"Please select",null,null,null,null,null,"Please select",null,null,"",null,null,null,null,null,null,null,null,null,"","",null,null,0,0,1]
[null,"Please select",null,null,null,null,null,null,null,null,null,null,null,null,{"$f":"IF(ISERROR(IF(C58=\"corrective\",E58+KPI!$P$4,IF(C58=\"Preventative\",E58+KPI!$P$5,\"\"))),\"\",IF(C58=\"corrective\",E58+KPI!$P$4,IF(C58=\"Preventative\",E58+KPI!$P$5,\"\")))","v":""},"Please select",null,null,null,null,null,"Please select",null,null,"",null,null,null,null,null,null,null,null,null,"","",null,null,0,0,1]
[null,"Please select",null,null,null,null,null,null,null,null,null,null,null,null,{"$f":"IF(ISERROR(IF(C59=\"corrective\",E59+KPI!$P$4,IF(C59=\"Preventative\",E59+KPI!$P$5,\"\"))),\"\",IF(C59=\"corrective\",E59+KPI!$P$4,IF(C59=\"Preventative\",E59+KPI!$P$5,\"\")))","v":""},"Please select",null,null,null,null,null,"Please select",null,null,"",null,null,null,null,null,null,null,null,null,"","",null,null,0,0,1]
[null,"Please select",null,null,null,null,null,null,null,null,null,null,null,null,{"$f":"IF(ISERROR(IF(C60=\"corrective\",E60+KPI!$P$4,IF(C60=\"Preventative\",E60+KPI!$P$5,\"\"))),\"\",IF(C60=\"corrective\",E60+KPI!$P$4,IF(C60=\"Preventative\",E60+KPI!$P$5,\"\")))","v":""},"Please select",null,null,null,null,null,"Please select",null,null,"",null,null,null,null,null,null,null,null,null,"","",null,null,0,0,1]
[null,"Please select",null,null,null,null,null,null,null,null,null,null,null,null,{"$f":"IF(ISERROR(IF(C61=\"corrective\",E61+KPI!$P$4,IF(C61=\"Preventative\",E61+KPI!$P$5,\"\"))),\"\",IF(C61=\"corrective\",E61+KPI!$P$4,IF(C61=\"Preventative\",E61+KPI!$P$5,\"\")))","v":""},"Please select",null,null,null,null,null,"Please select",null,null,"",null,null,null,null,null,null,null,null,null,"","",null,null,0,0,1]
[null,"Please select",null,null,null,null,null,null,null,null,null,null,null,null,{"$f":"IF(ISERROR(IF(C62=\"corrective\",E62+KPI!$P$4,IF(C62=\"Preventative\",E62+KPI!$P$5,\"\"))),\"\",IF(C62=\"corrective\",E62+KPI!$P$4,IF(C62=\"Preventative\",E62+KPI!$P$5,\"\")))","v":""},"Please select",null,null,null,null,null,"Please select",null,null,"",null,null,null,null,null,null,null,null,null,"","",null,null,0,0,1]
[null,"Please select",null,null,null,null,null,null,null,null,null,null,null,null,{"$f":"IF(ISERROR(IF(C63=\"corrective\",E63+KPI!$P$4,IF(C63=\"Preventative\",E63+KPI!$P$5,\"\"))),\"\",IF(C63=\"corrective\",E63+KPI!$P$4,IF(C63=\"Preventative\",E63+KPI!$P$5,\"\")))","v":""},"Please select",null,null,null,null,null,"Please select",null,null,"",null,null,null,null,null,null,null,null,null,"","",null,null,0,0,1]
[null,"Please select",null,null,null,null,null,null,null,null,null,null,null,null,{"$f":"IF(ISERROR(IF(C64=\"corrective\",E64+KPI!$P$4,IF(C64=\"Preventative\",E64+KPI!$P$5,\"\"))),\"\",IF(C64=\"corrective\",E64+KPI!$P$4,IF(C64=\"Preventative\",E64+KPI!$P$5,\"\")))","v":""},"Please select",null,null,null,null,null,"Please select",null,null,"",null,null,null,null,null,null,null,null,null,"","",null,null,0,0,{"$f":"COUNTIF(AN64,\">400\")+COUNTIF(AN64,\"=0\")","v":1}]
[null,"Please select",null,null,null,null,null,null,null,null,null,null,null,null,{"$f":"IF(ISERROR(IF(C65=\"corrective\",E65+KPI!$P$4,IF(C65=\"Preventative\",E65+KPI!$P$5,\"\"))),\"\",IF(C65=\"corrective\",E65+KPI!$P$4,IF(C65=\"Preventative\",E65+KPI!$P$5,\"\")))","v":""},"Please select",null,null,null,null,null,"Please select",null,null,"",null,null,null,null,null,null,null,null,null,"","",null,null,0,0,1]
[null,"Please select",null,null,null,null,null,null,null,null,null,null,null,null,{"$f":"IF(ISERROR(IF(C66=\"corrective\",E66+KPI!$P$4,IF(C66=\"Preventative\",E66+KPI!$P$5,\"\"))),\"\",IF(C66=\"corrective\",E66+KPI!$P$4,IF(C66=\"Preventative\",E66+KPI!$P$5,\"\")))","v":""},{"$f":"IF(AND(O66<TODAY(),B66=\"new\"),\"New - Overdue\",B66)","v":"Please select"},null,null,null,null,null,"Please select",null,null,{"$f":"Z66&AA66&AB66&AC66&AD66&AE66","v":""},null,null,null,null,null,null,null,null,null,{"$f":"IF(ISERROR(AJ66-20),\"\",AJ66-20)","v":""},{"$f":"IF(ISERROR(IF(C66=\"corrective\",E66+AH66,\"\")),\"\",IF(C66=\"corrective\",E66+AH66,\"\"))","v":""},null,null,{"$f":"IF(ISERROR(DATEDIF(E66,Q66,\"D\")),\"\",DATEDIF(E66,Q66,\"D\"))","v":0},{"$f":"IF(ISERROR(DATEDIF(Q66,X66,\"D\")),\"\",DATEDIF(Q66,X66,\"D\"))","v":0},1]
[null,"Please select",null,null,null,null,null,null,null,null,null,null,null,null,{"$f":"IF(ISERROR(IF(C67=\"corrective\",E67+KPI!$P$4,IF(C67=\"Preventative\",E67+KPI!$P$5,\"\"))),\"\",IF(C67=\"corrective\",E67+KPI!$P$4,IF(C67=\"Preventative\",E67+KPI!$P$5,\"\")))","v":""},"Please select",null,null,null,null,null,"Please select",null,null,"",null,null,null,null,null,null,null,null,null,"","",null,null,0,0,1]
[null,"Please select",null,null,null,null,null,null,null,null,null,null,null,null,{"$f":"IF(ISERROR(IF(C68=\"corrective\",E68+KPI!$P$4,IF(C68=\"Preventative\",E68+KPI!$P$5,\"\"))),\"\",IF(C68=\"corrective\",E68+KPI!$P$4,IF(C68=\"Preventative\",E68+KPI!$P$5,\"\")))","v":""},"Please select",null,null,null,null,null,"Please select",null,null,"",null,null,null,null,null,null,null,null,null,"","",null,null,0,0,1]
[null,"Please select",null,null,null,null,null,null,null,null,null,null,null,null,{"$f":"IF(ISERROR(IF(C69=\"corrective\",E69+KPI!$P$4,IF(C69=\"Preventative\",E69+KPI!$P$5,\"\"))),\"\",IF(C69=\"corrective\",E69+KPI!$P$4,IF(C69=\"Preventative\",E69+KPI!$P$5,\"\")))","v":""},"Please select",null,null,null,null,null,"Please select",null,null,"",null,null,null,null,null,null,null,null,null,"","",null,null,0,0,1]
[null,"Please select",null,null,null,null,null,null,null,null,null,null,null,null,{"$f":"IF(ISERROR(IF(C70=\"corrective\",E70+KPI!$P$4,IF(C70=\"Preventative\",E70+KPI!$P$5,\"\"))),\"\",IF(C70=\"corrective\",E70+KPI!$P$4,IF(C70=\"Preventative\",E70+KPI!$P$5,\"\")))","v":""},"Please select",null,null,null,null,null,"Please select",null,null,"",null,null,null,null,null,null,null,null,null,"","",null,null,0,0,1]
[null,"Please select",null,null,null,null,null,null,null,null,null,null,null,null,{"$f":"IF(ISERROR(IF(C71=\"corrective\",E71+KPI!$P$4,IF(C71=\"Preventative\",E71+KPI!$P$5,\"\"))),\"\",IF(C71=\"corrective\",E71+KPI!$P$4,IF(C71=\"Preventative\",E71+KPI!$P$5,\"\")))","v":""},"Please select",null,null,null,null,null,"Please select",null,null,"",null,null,null,null,null,null,null,null,null,"","",null,null,0,0,1]
[null,"Please select",null,null,null,null,null,null,null,null,null,null,null,null,{"$f":"IF(ISERROR(IF(C72=\"corrective\",E72+KPI!$P$4,IF(C72=\"Preventative\",E72+KPI!$P$5,\"\"))),\"\",IF(C72=\"corrective\",E72+KPI!$P$4,IF(C72=\"Preventative\",E72+KPI!$P$5,\"\")))","v":""},"Please select",null,null,null,null,null,"Please select",null,null,"",null,null,null,null,null,null,null,null,null,"","",null,null,0,0,1]
[null,"Please select",null,null,null,null,null,null,null,null,null,null,null,null,{"$f":"IF(ISERROR(IF(C73=\"corrective\",E73+KPI!$P$4,IF(C73=\"Preventative\",E73+KPI!$P$5,\"\"))),\"\",IF(C73=\"corrective\",E73+KPI!$P$4,IF(C73=\"Preventative\",E73+KPI!$P$5,\"\")))","v":""},"Please select",null,null,null,null,null,"Please select",null,null,"",null,null,null,null,null,null,null,null,null,"","",null,null,0,0,1]
[null,"Please select",null,null,null,null,null,null,null,null,null,null,null,null,{"$f":"IF(ISERROR(IF(C74=\"corrective\",E74+KPI!$P$4,IF(C74=\"Preventative\",E74+KPI!$P$5,\"\"))),\"\",IF(C74=\"corrective\",E74+KPI!$P$4,IF(C74=\"Preventative\",E74+KPI!$P$5,\"\")))","v":""},"Please select",null,null,null,null,null,"Please select",null,null,"",null,null,null,null,null,null,null,null,null,"","",null,null,0,0,1]
[null,"Please select",null,null,null,null,null,null,null,null,null,null,null,null,{"$f":"IF(ISERROR(IF(C75=\"corrective\",E75+KPI!$P$4,IF(C75=\"Preventative\",E75+KPI!$P$5,\"\"))),\"\",IF(C75=\"corrective\",E75+KPI!$P$4,IF(C75=\"Preventative\",E75+KPI!$P$5,\"\")))","v":""},"Please select",null,null,null,null,null,"Please select",null,null,"",null,null,null,null,null,null,null,null,null,"","",null,null,0,0,1]
[null,"Please select",null,null,null,null,null,null,null,null,null,null,null,null,{"$f":"IF(ISERROR(IF(C76=\"corrective\",E76+KPI!$P$4,IF(C76=\"Preventative\",E76+KPI!$P$5,\"\"))),\"\",IF(C76=\"corrective\",E76+KPI!$P$4,IF(C76=\"Preventative\",E76+KPI!$P$5,\"\")))","v":""},"Please select",null,null,null,null,null,"Please select",null,null,"",null,null,null,null,null,null,null,null,null,"","",null,null,0,0,1]
[null,"Please select",null,null,null,null,null,null,null,null,null,null,null,null,{"$f":"IF(ISERROR(IF(C77=\"corrective\",E77+KPI!$P$4,IF(C77=\"Preventative\",E77+KPI!$P$5,\"\"))),\"\",IF(C77=\"corrective\",E77+KPI!$P$4,IF(C77=\"Preventative\",E77+KPI!$P$5,\"\")))","v":""},"Please select",null,null,null,null,null,"Please select",null,null,"",null,null,null,null,null,null,null,null,null,"","",null,null,0,0,1]
[null,"Please select",null,null,null,null,null,null,null,null,null,null,null,null,{"$f":"IF(ISERROR(IF(C78=\"corrective\",E78+KPI!$P$4,IF(C78=\"Preventative\",E78+KPI!$P$5,\"\"))),\"\",IF(C78=\"corrective\",E78+KPI!$P$4,IF(C78=\"Preventative\",E78+KPI!$P$5,\"\")))","v":""},"Please select",null,null,null,null,null,"Please select",null,null,"",null,null,null,null,null,null,null,null,null,"","",null,null,0,0,1]
[null,"Please select",null,null,null,null,null,null,null,null,null,null,null,null,{"$f":"IF(ISERROR(IF(C79=\"corrective\",E79+KPI!$P$4,IF(C79=\"Preventative\",E79+KPI!$P$5,\"\"))),\"\",IF(C79=\"corrective\",E79+KPI!$P$4,IF(C79=\"Preventative\",E79+KPI!$P$5,\"\")))","v":""},"Please select",null,null,null,null,null,"Please select",null,null,"",null,null,null,null,null,null,null,null,null,"","",null,null,0,0,1]
[null,"Please select",null,null,null,null,null,null,null,null,null,null,null,null,{"$f":"IF(ISERROR(IF(C80=\"corrective\",E80+KPI!$P$4,IF(C80=\"Preventative\",E80+KPI!$P$5,\"\"))),\"\",IF(C80=\"corrective\",E80+KPI!$P$4,IF(C80=\"Preventative\",E80+KPI!$P$5,\"\")))","v":""},"Please select",null,null,null,null,null,"Please select",null,null,"",null,null,null,null,null,null,null,null,null,"","",null,null,0,0,1]
[null,"Please select",null,null,null,null,null,null,null,null,null,null,null,null,{"$f":"IF(ISERROR(IF(C81=\"corrective\",E81+KPI!$P$4,IF(C81=\"Preventative\",E81+KPI!$P$5,\"\"))),\"\",IF(C81=\"corrective\",E81+KPI!$P$4,IF(C81=\"Preventative\",E81+KPI!$P$5,\"\")))","v":""},"Please select",null,null,null,null,null,"Please select",null,null,"",null,null,null,null,null,null,null,null,null,"","",null,null,0,0,1]
[null,"Please select",null,null,null,null,null,null,null,null,null,null,null,null,{"$f":"IF(ISERROR(IF(C82=\"corrective\",E82+KPI!$P$4,IF(C82=\"Preventative\",E82+KPI!$P$5,\"\"))),\"\",IF(C82=\"corrective\",E82+KPI!$P$4,IF(C82=\"Preventative\",E82+KPI!$P$5,\"\")))","v":""},"Please select",null,null,null,null,null,"Please select",null,null,"",null,null,null,null,null,null,null,null,null,"","",null,null,0,0,1]
[null,"Please select",null,null,null,null,null,null,null,null,null,null,null,null,{"$f":"IF(ISERROR(IF(C83=\"corrective\",E83+KPI!$P$4,IF(C83=\"Preventative\",E83+KPI!$P$5,\"\"))),\"\",IF(C83=\"corrective\",E83+KPI!$P$4,IF(C83=\"Preventative\",E83+KPI!$P$5,\"\")))","v":""},"Please select",null,null,null,null,null,"Please select",null,null,"",null,null,null,null,null,null,null,null,null,"","",null,null,0,0,1]
[null,"Please select",null,null,null,null,null,null,null,null,null,null,null,null,{"$f":"IF(ISERROR(IF(C84=\"corrective\",E84+KPI!$P$4,IF(C84=\"Preventative\",E84+KPI!$P$5,\"\"))),\"\",IF(C84=\"corrective\",E84+KPI!$P$4,IF(C84=\"Preventative\",E84+KPI!$P$5,\"\")))","v":""},"Please select",null,null,null,null,null,"Please select",null,null,"",null,null,null,null,null,null,null,null,null,"","",null,null,0,0,1]
[null,"Please select",null,null,null,null,null,null,null,null,null,null,null,null,{"$f":"IF(ISERROR(IF(C85=\"corrective\",E85+KPI!$P$4,IF(C85=\"Preventative\",E85+KPI!$P$5,\"\"))),\"\",IF(C85=\"corrective\",E85+KPI!$P$4,IF(C85=\"Preventative\",E85+KPI!$P$5,\"\")))","v":""},"Please select",null,null,null,null,null,"Please select",null,null,"",null,null,null,null,null,null,null,null,null,"","",null,null,0,0,1]
[null,"Please select",null,null,null,null,null,null,null,null,null,null,null,null,{"$f":"IF(ISERROR(IF(C86=\"corrective\",E86+KPI!$P$4,IF(C86=\"Preventative\",E86+KPI!$P$5,\"\"))),\"\",IF(C86=\"corrective\",E86+KPI!$P$4,IF(C86=\"Preventative\",E86+KPI!$P$5,\"\")))","v":""},"Please select",null,null,null,null,null,"Please select",null,null,"",null,null,null,null,null,null,null,null,null,"","",null,null,0,0,1]
[null,"Please select",null,null,null,null,null,null,null,null,null,null,null,null,{"$f":"IF(ISERROR(IF(C87=\"corrective\",E87+KPI!$P$4,IF(C87=\"Preventative\",E87+KPI!$P$5,\"\"))),\"\",IF(C87=\"corrective\",E87+KPI!$P$4,IF(C87=\"Preventative\",E87+KPI!$P$5,\"\")))","v":""},"Please select",null,null,null,null,null,"Please select",null,null,"",null,null,null,null,null,null,null,null,null,"","",null,null,0,0,1]
[null,"Please select",null,null,null,null,null,null,null,null,null,null,null,null,{"$f":"IF(ISERROR(IF(C88=\"corrective\",E88+KPI!$P$4,IF(C88=\"Preventative\",E88+KPI!$P$5,\"\"))),\"\",IF(C88=\"corrective\",E88+KPI!$P$4,IF(C88=\"Preventative\",E88+KPI!$P$5,\"\")))","v":""},"Please select",null,null,null,null,null,"Please select",null,null,"",null,null,null,null,null,null,null,null,null,"","",null,null,0,0,1]
[null,"Please select",null,null,null,null,null,null,null,null,null,null,null,null,{"$f":"IF(ISERROR(IF(C89=\"corrective\",E89+KPI!$P$4,IF(C89=\"Preventative\",E89+KPI!$P$5,\"\"))),\"\",IF(C89=\"corrective\",E89+KPI!$P$4,IF(C89=\"Preventative\",E89+KPI!$P$5,\"\")))","v":""},"Please select",null,null,null,null,null,"Please select",null,null,"",null,null,null,null,null,null,null,null,null,"","",null,null,0,0,1]
[null,"Please select",null,null,null,null,null,null,null,null,null,null,null,null,{"$f":"IF(ISERROR(IF(C90=\"corrective\",E90+KPI!$P$4,IF(C90=\"Preventative\",E90+KPI!$P$5,\"\"))),\"\",IF(C90=\"corrective\",E90+KPI!$P$4,IF(C90=\"Preventative\",E90+KPI!$P$5,\"\")))","v":""},"Please select",null,null,null,null,null,"Please select",null,null,"",null,null,null,null,null,null,null,null,null,"","",null,null,0,0,1]
[null,"Please select",null,null,null,null,null,null,null,null,null,null,null,null,{"$f":"IF(ISERROR(IF(C91=\"corrective\",E91+KPI!$P$4,IF(C91=\"Preventative\",E91+KPI!$P$5,\"\"))),\"\",IF(C91=\"corrective\",E91+KPI!$P$4,IF(C91=\"Preventative\",E91+KPI!$P$5,\"\")))","v":""},"Please select",null,null,null,null,null,"Please select",null,null,"",null,null,null,null,null,null,null,null,null,"","",null,null,0,0,1]
[null,"Please select",null,null,null,null,null,null,null,null,null,null,null,null,{"$f":"IF(ISERROR(IF(C92=\"corrective\",E92+KPI!$P$4,IF(C92=\"Preventative\",E92+KPI!$P$5,\"\"))),\"\",IF(C92=\"corrective\",E92+KPI!$P$4,IF(C92=\"Preventative\",E92+KPI!$P$5,\"\")))","v":""},"Please select",null,null,null,null,null,"Please select",null,null,"",null,null,null,null,null,null,null,null,null,"","",null,null,0,0,1]
[null,"Please select",null,null,null,null,null,null,null,null,null,null,null,null,{"$f":"IF(ISERROR(IF(C93=\"corrective\",E93+KPI!$P$4,IF(C93=\"Preventative\",E93+KPI!$P$5,\"\"))),\"\",IF(C93=\"corrective\",E93+KPI!$P$4,IF(C93=\"Preventative\",E93+KPI!$P$5,\"\")))","v":""},"Please select",null,null,null,null,null,"Please select",null,null,"",null,null,null,null,null,null,null,null,null,"","",null,null,0,0,1]
[null,"Please select",null,null,null,null,null,null,null,null,null,null,null,null,{"$f":"IF(ISERROR(IF(C94=\"corrective\",E94+KPI!$P$4,IF(C94=\"Preventative\",E94+KPI!$P$5,\"\"))),\"\",IF(C94=\"corrective\",E94+KPI!$P$4,IF(C94=\"Preventative\",E94+KPI!$P$5,\"\")))","v":""},"Please select",null,null,null,null,null,"Please select",null,null,"",null,null,null,null,null,null,null,null,null,"","",null,null,0,0,1]
[null,"Please select",null,null,null,null,null,null,null,null,null,null,null,null,{"$f":"IF(ISERROR(IF(C95=\"corrective\",E95+KPI!$P$4,IF(C95=\"Preventative\",E95+KPI!$P$5,\"\"))),\"\",IF(C95=\"corrective\",E95+KPI!$P$4,IF(C95=\"Preventative\",E95+KPI!$P$5,\"\")))","v":""},"Please select",null,null,null,null,null,"Please select",null,null,"",null,null,null,null,null,null,null,null,null,"","",null,null,0,0,1]
[null,"Please select",null,null,null,null,null,null,null,null,null,null,null,null,{"$f":"IF(ISERROR(IF(C96=\"corrective\",E96+KPI!$P$4,IF(C96=\"Preventative\",E96+KPI!$P$5,\"\"))),\"\",IF(C96=\"corrective\",E96+KPI!$P$4,IF(C96=\"Preventative\",E96+KPI!$P$5,\"\")))","v":""},"Please select",null,null,null,null,null,"Please select",null,null,"",null,null,null,null,null,null,null,null,null,"","",null,null,0,0,1]
[null,"Please select",null,null,null,null,null,null,null,null,null,null,null,null,{"$f":"IF(ISERROR(IF(C97=\"corrective\",E97+KPI!$P$4,IF(C97=\"Preventative\",E97+KPI!$P$5,\"\"))),\"\",IF(C97=\"corrective\",E97+KPI!$P$4,IF(C97=\"Preventative\",E97+KPI!$P$5,\"\")))","v":""},"Please select",null,null,null,null,null,"Please select",null,null,"",null,null,null,null,null,null,null,null,null,"","",null,null,0,0,1]
[null,"Please select",null,null,null,null,null,null,null,null,null,null,null,null,{"$f":"IF(ISERROR(IF(C98=\"corrective\",E98+KPI!$P$4,IF(C98=\"Preventative\",E98+KPI!$P$5,\"\"))),\"\",IF(C98=\"corrective\",E98+KPI!$P$4,IF(C98=\"Preventative\",E98+KPI!$P$5,\"\")))","v":""},"Please select",null,null,null,null,null,"Please select",null,null,"",null,null,null,null,null,null,null,null,null,"","",null,null,0,0,1]
[null,"Please select",null,null,null,null,null,null,null,null,null,null,null,null,{"$f":"IF(ISERROR(IF(C99=\"corrective\",E99+KPI!$P$4,IF(C99=\"Preventative\",E99+KPI!$P$5,\"\"))),\"\",IF(C99=\"corrective\",E99+KPI!$P$4,IF(C99=\"Preventative\",E99+KPI!$P$5,\"\")))","v":""},"Please select",null,null,null,null,null,"Please select",null,null,"",null,null,null,null,null,null,null,null,null,"","",null,null,0,0,1]
[null,"Please select",null,null,null,null,null,null,null,null,null,null,null,null,{"$f":"IF(ISERROR(IF(C100=\"corrective\",E100+KPI!$P$4,IF(C100=\"Preventative\",E100+KPI!$P$5,\"\"))),\"\",IF(C100=\"corrective\",E100+KPI!$P$4,IF(C100=\"Preventative\",E100+KPI!$P$5,\"\")))","v":""},"Please select",null,null,null,null,null,"Please select",null,null,"",null,null,null,null,null,null,null,null,null,"","",null,null,0,0,1]
[null,"Please select",null,null,null,null,null,null,null,null,null,null,null,null,{"$f":"IF(ISERROR(IF(C101=\"corrective\",E101+KPI!$P$4,IF(C101=\"Preventative\",E101+KPI!$P$5,\"\"))),\"\",IF(C101=\"corrective\",E101+KPI!$P$4,IF(C101=\"Preventative\",E101+KPI!$P$5,\"\")))","v":""},"Please select",null,null,null,null,null,"Please select",null,null,"",null,null,null,null,null,null,null,null,null,"","",null,null,0,0,1]
[null,"Please select",null,null,null,null,null,null,null,null,null,null,null,null,{"$f":"IF(ISERROR(IF(C102=\"corrective\",E102+KPI!$P$4,IF(C102=\"Preventative\",E102+KPI!$P$5,\"\"))),\"\",IF(C102=\"corrective\",E102+KPI!$P$4,IF(C102=\"Preventative\",E102+KPI!$P$5,\"\")))","v":""},"Please select",null,null,null,null,null,"Please select",null,null,"",null,null,null,null,null,null,null,null,null,"","",null,null,0,0,1]
[null,"Please select",null,null,null,null,null,null,null,null,null,null,null,null,{"$f":"IF(ISERROR(IF(C103=\"corrective\",E103+KPI!$P$4,IF(C103=\"Preventative\",E103+KPI!$P$5,\"\"))),\"\",IF(C103=\"corrective\",E103+KPI!$P$4,IF(C103=\"Preventative\",E103+KPI!$P$5,\"\")))","v":""},"Please select",null,null,null,null,null,"Please select",null,null,"",null,null,null,null,null,null,null,null,null,"","",null,null,0,0,1]
[null,"Please select",null,null,null,null,null,null,null,null,null,null,null,null,{"$f":"IF(ISERROR(IF(C104=\"corrective\",E104+KPI!$P$4,IF(C104=\"Preventative\",E104+KPI!$P$5,\"\"))),\"\",IF(C104=\"corrective\",E104+KPI!$P$4,IF(C104=\"Preventative\",E104+KPI!$P$5,\"\")))","v":""},"Please select",null,null,null,null,null,"Please select",null,null,"",null,null,null,null,null,null,null,null,null,"","",null,null,0,0,1]
[null,"Please select",null,null,null,null,null,null,null,null,null,null,null,null,{"$f":"IF(ISERROR(IF(C105=\"corrective\",E105+KPI!$P$4,IF(C105=\"Preventative\",E105+KPI!$P$5,\"\"))),\"\",IF(C105=\"corrective\",E105+KPI!$P$4,IF(C105=\"Preventative\",E105+KPI!$P$5,\"\")))","v":""},"Please select",null,null,null,null,null,"Please select",null,null,"",null,null,null,null,null,null,null,null,null,"","",null,null,0,0,1]
[null,"Please select",null,null,null,null,null,null,null,null,null,null,null,null,{"$f":"IF(ISERROR(IF(C106=\"corrective\",E106+KPI!$P$4,IF(C106=\"Preventative\",E106+KPI!$P$5,\"\"))),\"\",IF(C106=\"corrective\",E106+KPI!$P$4,IF(C106=\"Preventative\",E106+KPI!$P$5,\"\")))","v":""},"Please select",null,null,null,null,null,"Please select",null,null,"",null,null,null,null,null,null,null,null,null,"","",null,null,0,0,1]
[null,"Please select",null,null,null,null,null,null,null,null,null,null,null,null,{"$f":"IF(ISERROR(IF(C107=\"corrective\",E107+KPI!$P$4,IF(C107=\"Preventative\",E107+KPI!$P$5,\"\"))),\"\",IF(C107=\"corrective\",E107+KPI!$P$4,IF(C107=\"Preventative\",E107+KPI!$P$5,\"\")))","v":""},"Please select",null,null,null,null,null,"Please select",null,null,"",null,null,null,null,null,null,null,null,null,"","",null,null,0,0,1]
[null,"Please select",null,null,null,null,null,null,null,null,null,null,null,null,{"$f":"IF(ISERROR(IF(C108=\"corrective\",E108+KPI!$P$4,IF(C108=\"Preventative\",E108+KPI!$P$5,\"\"))),\"\",IF(C108=\"corrective\",E108+KPI!$P$4,IF(C108=\"Preventative\",E108+KPI!$P$5,\"\")))","v":""},"Please select",null,null,null,null,null,"Please select",null,null,"",null,null,null,null,null,null,null,null,null,"","",null,null,0,0,1]
[null,"Please select",null,null,null,null,null,null,null,null,null,null,null,null,{"$f":"IF(ISERROR(IF(C109=\"corrective\",E109+KPI!$P$4,IF(C109=\"Preventative\",E109+KPI!$P$5,\"\"))),\"\",IF(C109=\"corrective\",E109+KPI!$P$4,IF(C109=\"Preventative\",E109+KPI!$P$5,\"\")))","v":""},"Please select",null,null,null,null,null,"Please select",null,null,"",null,null,null,null,null,null,null,null,null,"","",null,null,0,0,1]
[null,"Please select",null,null,null,null,null,null,null,null,null,null,null,null,{"$f":"IF(ISERROR(IF(C110=\"corrective\",E110+KPI!$P$4,IF(C110=\"Preventative\",E110+KPI!$P$5,\"\"))),\"\",IF(C110=\"corrective\",E110+KPI!$P$4,IF(C110=\"Preventative\",E110+KPI!$P$5,\"\")))","v":""},"Please select",null,null,null,null,null,"Please select",null,null,"",null,null,null,null,null,null,null,null,null,"","",null,null,0,0,1]
[null,"Please select",null,null,null,null,null,null,null,null,null,null,null,null,{"$f":"IF(ISERROR(IF(C111=\"corrective\",E111+KPI!$P$4,IF(C111=\"Preventative\",E111+KPI!$P$5,\"\"))),\"\",IF(C111=\"corrective\",E111+KPI!$P$4,IF(C111=\"Preventative\",E111+KPI!$P$5,\"\")))","v":""},"Please select",null,null,null,null,null,"Please select",null,null,"",null,null,null,null,null,null,null,null,null,"","",null,null,0,0,1]
[null,"Please select",null,null,null,null,null,null,null,null,null,null,null,null,{"$f":"IF(ISERROR(IF(C112=\"corrective\",E112+KPI!$P$4,IF(C112=\"Preventative\",E112+KPI!$P$5,\"\"))),\"\",IF(C112=\"corrective\",E112+KPI!$P$4,IF(C112=\"Preventative\",E112+KPI!$P$5,\"\")))","v":""},"Please select",null,null,null,null,null,"Please select",null,null,"",null,null,null,null,null,null,null,null,null,"","",null,null,0,0,1]
[null,"Please select",null,null,null,null,null,null,null,null,null,null,null,null,{"$f":"IF(ISERROR(IF(C113=\"corrective\",E113+KPI!$P$4,IF(C113=\"Preventative\",E113+KPI!$P$5,\"\"))),\"\",IF(C113=\"corrective\",E113+KPI!$P$4,IF(C113=\"Preventative\",E113+KPI!$P$5,\"\")))","v":""},"Please select",null,null,null,null,null,"Please select",null,null,"",null,null,null,null,null,null,null,null,null,"","",null,null,0,0,1]
[null,"Please select",null,null,null,null,null,null,null,null,null,null,null,null,{"$f":"IF(ISERROR(IF(C114=\"corrective\",E114+KPI!$P$4,IF(C114=\"Preventative\",E114+KPI!$P$5,\"\"))),\"\",IF(C114=\"corrective\",E114+KPI!$P$4,IF(C114=\"Preventative\",E114+KPI!$P$5,\"\")))","v":""},"Please select",null,null,null,null,null,"Please select",null,null,"",null,null,null,null,null,null,null,null,null,"","",null,null,0,0,1]
[null,"Please select",null,null,null,null,null,null,null,null,null,null,null,null,{"$f":"IF(ISERROR(IF(C115=\"corrective\",E115+KPI!$P$4,IF(C115=\"Preventative\",E115+KPI!$P$5,\"\"))),\"\",IF(C115=\"corrective\",E115+KPI!$P$4,IF(C115=\"Preventative\",E115+KPI!$P$5,\"\")))","v":""},"Please select",null,null,null,null,null,"Please select",null,null,"",null,null,null,null,null,null,null,null,null,"","",null,null,0,0,1]
[null,"Please select",null,null,null,null,null,null,null,null,null,null,null,null,{"$f":"IF(ISERROR(IF(C116=\"corrective\",E116+KPI!$P$4,IF(C116=\"Preventative\",E116+KPI!$P$5,\"\"))),\"\",IF(C116=\"corrective\",E116+KPI!$P$4,IF(C116=\"Preventative\",E116+KPI!$P$5,\"\")))","v":""},"Please select",null,null,null,null,null,"Please select",null,null,"",null,null,null,null,null,null,null,null,null,"","",null,null,0,0,1]
[null,"Please select",null,null,null,null,null,null,null,null,null,null,null,null,{"$f":"IF(ISERROR(IF(C117=\"corrective\",E117+KPI!$P$4,IF(C117=\"Preventative\",E117+KPI!$P$5,\"\"))),\"\",IF(C117=\"corrective\",E117+KPI!$P$4,IF(C117=\"Preventative\",E117+KPI!$P$5,\"\")))","v":""},"Please select",null,null,null,null,null,"Please select",null,null,"",null,null,null,null,null,null,null,null,null,"","",null,null,0,0,1]
[null,"Please select",null,null,null,null,null,null,null,null,null,null,null,null,{"$f":"IF(ISERROR(IF(C118=\"corrective\",E118+KPI!$P$4,IF(C118=\"Preventative\",E118+KPI!$P$5,\"\"))),\"\",IF(C118=\"corrective\",E118+KPI!$P$4,IF(C118=\"Preventative\",E118+KPI!$P$5,\"\")))","v":""},"Please select",null,null,null,null,null,"Please select",null,null,"",null,null,null,null,null,null,null,null,null,"","",null,null,0,0,1]
[null,"Please select",null,null,null,null,null,null,null,null,null,null,null,null,{"$f":"IF(ISERROR(IF(C119=\"corrective\",E119+KPI!$P$4,IF(C119=\"Preventative\",E119+KPI!$P$5,\"\"))),\"\",IF(C119=\"corrective\",E119+KPI!$P$4,IF(C119=\"Preventative\",E119+KPI!$P$5,\"\")))","v":""},"Please select",null,null,null,null,null,"Please select",null,null,"",null,null,null,null,null,null,null,null,null,"","",null,null,0,0,1]
[null,"Please select",null,null,null,null,null,null,null,null,null,null,null,null,{"$f":"IF(ISERROR(IF(C120=\"corrective\",E120+KPI!$P$4,IF(C120=\"Preventative\",E120+KPI!$P$5,\"\"))),\"\",IF(C120=\"corrective\",E120+KPI!$P$4,IF(C120=\"Preventative\",E120+KPI!$P$5,\"\")))","v":""},"Please select",null,null,null,null,null,"Please select",null,null,"",null,null,null,null,null,null,null,null,null,"","",null,null,0,0,1]
[null,"Please select",null,null,null,null,null,null,null,null,null,null,null,null,{"$f":"IF(ISERROR(IF(C121=\"corrective\",E121+KPI!$P$4,IF(C121=\"Preventative\",E121+KPI!$P$5,\"\"))),\"\",IF(C121=\"corrective\",E121+KPI!$P$4,IF(C121=\"Preventative\",E121+KPI!$P$5,\"\")))","v":""},"Please select",null,null,null,null,null,"Please select",null,null,"",null,null,null,null,null,null,null,null,null,"","",null,null,0,0,1]
[null,"Please select",null,null,null,null,null,null,null,null,null,null,null,null,{"$f":"IF(ISERROR(IF(C122=\"corrective\",E122+KPI!$P$4,IF(C122=\"Preventative\",E122+KPI!$P$5,\"\"))),\"\",IF(C122=\"corrective\",E122+KPI!$P$4,IF(C122=\"Preventative\",E122+KPI!$P$5,\"\")))","v":""},"Please select",null,null,null,null,null,"Please select",null,null,"",null,null,null,null,null,null,null,null,null,"","",null,null,0,0,1]
[null,"Please select",null,null,null,null,null,null,null,null,null,null,null,null,{"$f":"IF(ISERROR(IF(C123=\"corrective\",E123+KPI!$P$4,IF(C123=\"Preventative\",E123+KPI!$P$5,\"\"))),\"\",IF(C123=\"corrective\",E123+KPI!$P$4,IF(C123=\"Preventative\",E123+KPI!$P$5,\"\")))","v":""},"Please select",null,null,null,null,null,"Please select",null,null,"",null,null,null,null,null,null,null,null,null,"","",null,null,0,0,1]
[null,"Please select",null,null,null,null,null,null,null,null,null,null,null,null,{"$f":"IF(ISERROR(IF(C124=\"corrective\",E124+KPI!$P$4,IF(C124=\"Preventative\",E124+KPI!$P$5,\"\"))),\"\",IF(C124=\"corrective\",E124+KPI!$P$4,IF(C124=\"Preventative\",E124+KPI!$P$5,\"\")))","v":""},"Please select",null,null,null,null,null,"Please select",null,null,"",null,null,null,null,null,null,null,null,null,"","",null,null,0,0,1]
[null,"Please select",null,null,null,null,null,null,null,null,null,null,null,null,{"$f":"IF(ISERROR(IF(C125=\"corrective\",E125+KPI!$P$4,IF(C125=\"Preventative\",E125+KPI!$P$5,\"\"))),\"\",IF(C125=\"corrective\",E125+KPI!$P$4,IF(C125=\"Preventative\",E125+KPI!$P$5,\"\")))","v":""},"Please select",null,null,null,null,null,"Please select",null,null,"",null,null,null,null,null,null,null,null,null,"","",null,null,0,0,1]
[null,"Please select",null,null,null,null,null,null,null,null,null,null,null,null,{"$f":"IF(ISERROR(IF(C126=\"corrective\",E126+KPI!$P$4,IF(C126=\"Preventative\",E126+KPI!$P$5,\"\"))),\"\",IF(C126=\"corrective\",E126+KPI!$P$4,IF(C126=\"Preventative\",E126+KPI!$P$5,\"\")))","v":""},"Please select",null,null,null,null,null,"Please select",null,null,"",null,null,null,null,null,null,null,null,null,"","",null,null,0,0,1]
[null,"Please select",null,null,null,null,null,null,null,null,null,null,null,null,{"$f":"IF(ISERROR(IF(C127=\"corrective\",E127+KPI!$P$4,IF(C127=\"Preventative\",E127+KPI!$P$5,\"\"))),\"\",IF(C127=\"corrective\",E127+KPI!$P$4,IF(C127=\"Preventative\",E127+KPI!$P$5,\"\")))","v":""},"Please select",null,null,null,null,null,"Please select",null,null,"",null,null,null,null,null,null,null,null,null,"","",null,null,0,0,1]
[null,"Please select",null,null,null,null,null,null,null,null,null,null,null,null,{"$f":"IF(ISERROR(IF(C128=\"corrective\",E128+KPI!$P$4,IF(C128=\"Preventative\",E128+KPI!$P$5,\"\"))),\"\",IF(C128=\"corrective\",E128+KPI!$P$4,IF(C128=\"Preventative\",E128+KPI!$P$5,\"\")))","v":""},"Please select",null,null,null,null,null,"Please select",null,null,"",null,null,null,null,null,null,null,null,null,"","",null,null,0,0,{"$f":"COUNTIF(AN128,\">400\")+COUNTIF(AN128,\"=0\")","v":1}]
[null,"Please select",null,null,null,null,null,null,null,null,null,null,null,null,{"$f":"IF(ISERROR(IF(C129=\"corrective\",E129+KPI!$P$4,IF(C129=\"Preventative\",E129+KPI!$P$5,\"\"))),\"\",IF(C129=\"corrective\",E129+KPI!$P$4,IF(C129=\"Preventative\",E129+KPI!$P$5,\"\")))","v":""},"Please select",null,null,null,null,null,"Please select",null,null,"",null,null,null,null,null,null,null,null,null,"","",null,null,0,0,1]
[null,"Please select",null,null,null,null,null,null,null,null,null,null,null,null,{"$f":"IF(ISERROR(IF(C130=\"corrective\",E130+KPI!$P$4,IF(C130=\"Preventative\",E130+KPI!$P$5,\"\"))),\"\",IF(C130=\"corrective\",E130+KPI!$P$4,IF(C130=\"Preventative\",E130+KPI!$P$5,\"\")))","v":""},{"$f":"IF(AND(O130<TODAY(),B130=\"new\"),\"New - Overdue\",B130)","v":"Please select"},null,null,null,null,null,"Please select",null,null,{"$f":"Z130&AA130&AB130&AC130&AD130&AE130","v":""},null,null,null,null,null,null,null,null,null,{"$f":"IF(ISERROR(AJ130-20),\"\",AJ130-20)","v":""},{"$f":"IF(ISERROR(IF(C130=\"corrective\",E130+AH130,\"\")),\"\",IF(C130=\"corrective\",E130+AH130,\"\"))","v":""},null,null,{"$f":"IF(ISERROR(DATEDIF(E130,Q130,\"D\")),\"\",DATEDIF(E130,Q130,\"D\"))","v":0},{"$f":"IF(ISERROR(DATEDIF(Q130,X130,\"D\")),\"\",DATEDIF(Q130,X130,\"D\"))","v":0},1]
[null,"Please select",null,null,null,null,null,null,null,null,null,null,null,null,{"$f":"IF(ISERROR(IF(C131=\"corrective\",E131+KPI!$P$4,IF(C131=\"Preventative\",E131+KPI!$P$5,\"\"))),\"\",IF(C131=\"corrective\",E131+KPI!$P$4,IF(C131=\"Preventative\",E131+KPI!$P$5,\"\")))","v":""},"Please select",null,null,null,null,null,"Please select",null,null,"",null,null,null,null,null,null,null,null,null,"","",null,null,0,0,1]
[null,"Please select",null,null,null,null,null,null,null,null,null,null,null,null,{"$f":"IF(ISERROR(IF(C132=\"corrective\",E132+KPI!$P$4,IF(C132=\"Preventative\",E132+KPI!$P$5,\"\"))),\"\",IF(C132=\"corrective\",E132+KPI!$P$4,IF(C132=\"Preventative\",E132+KPI!$P$5,\"\")))","v":""},"Please select",null,null,null,null,null,"Please select",null,null,"",null,null,null,null,null,null,null,null,null,"","",null,null,0,0,1]
[null,"Please select",null,null,null,null,null,null,null,null,null,null,null,null,{"$f":"IF(ISERROR(IF(C133=\"corrective\",E133+KPI!$P$4,IF(C133=\"Preventative\",E133+KPI!$P$5,\"\"))),\"\",IF(C133=\"corrective\",E133+KPI!$P$4,IF(C133=\"Preventative\",E133+KPI!$P$5,\"\")))","v":""},"Please select",null,null,null,null,null,"Please select",null,null,"",null,null,null,null,null,null,null,null,null,"","",null,null,0,0,1]
[null,"Please select",null,null,null,null,null,null,null,null,null,null,null,null,{"$f":"IF(ISERROR(IF(C134=\"corrective\",E134+KPI!$P$4,IF(C134=\"Preventative\",E134+KPI!$P$5,\"\"))),\"\",IF(C134=\"corrective\",E134+KPI!$P$4,IF(C134=\"Preventative\",E134+KPI!$P$5,\"\")))","v":""},"Please select",null,null,null,null,null,"Please select",null,null,"",null,null,null,null,null,null,null,null,null,"","",null,null,0,0,1]
[null,"Please select",null,null,null,null,null,null,null,null,null,null,null,null,{"$f":"IF(ISERROR(IF(C135=\"corrective\",E135+KPI!$P$4,IF(C135=\"Preventative\",E135+KPI!$P$5,\"\"))),\"\",IF(C135=\"corrective\",E135+KPI!$P$4,IF(C135=\"Preventative\",E135+KPI!$P$5,\"\")))","v":""},"Please select",null,null,null,null,null,"Please select",null,null,"",null,null,null,null,null,null,null,null,null,"","",null,null,0,0,1]
[null,"Please select",null,null,null,null,null,null,null,null,null,null,null,null,{"$f":"IF(ISERROR(IF(C136=\"corrective\",E136+KPI!$P$4,IF(C136=\"Preventative\",E136+KPI!$P$5,\"\"))),\"\",IF(C136=\"corrective\",E136+KPI!$P$4,IF(C136=\"Preventative\",E136+KPI!$P$5,\"\")))","v":""},"Please select",null,null,null,null,null,"Please select",null,null,"",null,null,null,null,null,null,null,null,null,"","",null,null,0,0,1]
[null,"Please select",null,null,null,null,null,null,null,null,null,null,null,null,{"$f":"IF(ISERROR(IF(C137=\"corrective\",E137+KPI!$P$4,IF(C137=\"Preventative\",E137+KPI!$P$5,\"\"))),\"\",IF(C137=\"corrective\",E137+KPI!$P$4,IF(C137=\"Preventative\",E137+KPI!$P$5,\"\")))","v":""},"Please select",null,null,null,null,null,"Please select",null,null,"",null,null,null,null,null,null,null,null,null,"","",null,null,0,0,1]
[null,"Please select",null,null,null,null,null,null,null,null,null,null,null,null,{"$f":"IF(ISERROR(IF(C138=\"corrective\",E138+KPI!$P$4,IF(C138=\"Preventative\",E138+KPI!$P$5,\"\"))),\"\",IF(C138=\"corrective\",E138+KPI!$P$4,IF(C138=\"Preventative\",E138+KPI!$P$5,\"\")))","v":""},"Please select",null,null,null,null,null,"Please select",null,null,"",null,null,null,null,null,null,null,null,null,"","",null,null,0,0,1]
[null,"Please select",null,null,null,null,null,null,null,null,null,null,null,null,{"$f":"IF(ISERROR(IF(C139=\"corrective\",E139+KPI!$P$4,IF(C139=\"Preventative\",E139+KPI!$P$5,\"\"))),\"\",IF(C139=\"corrective\",E139+KPI!$P$4,IF(C139=\"Preventative\",E139+KPI!$P$5,\"\")))","v":""},"Please select",null,null,null,null,null,"Please select",null,null,"",null,null,null,null,null,null,null,null,null,"","",null,null,0,0,1]
[null,"Please select",null,null,null,null,null,null,null,null,null,null,null,null,{"$f":"IF(ISERROR(IF(C140=\"corrective\",E140+KPI!$P$4,IF(C140=\"Preventative\",E140+KPI!$P$5,\"\"))),\"\",IF(C140=\"corrective\",E140+KPI!$P$4,IF(C140=\"Preventative\",E140+KPI!$P$5,\"\")))","v":""},"Please select",null,null,null,null,null,"Please select",null,null,"",null,null,null,null,null,null,null,null,null,"","",null,null,0,0,1]
[null,"Please select",null,null,null,null,null,null,null,null,null,null,null,null,{"$f":"IF(ISERROR(IF(C141=\"corrective\",E141+KPI!$P$4,IF(C141=\"Preventative\",E141+KPI!$P$5,\"\"))),\"\",IF(C141=\"corrective\",E141+KPI!$P$4,IF(C141=\"Preventative\",E141+KPI!$P$5,\"\")))","v":""},"Please select",null,null,null,null,null,"Please select",null,null,"",null,null,null,null,null,null,null,null,null,"","",null,null,0,0,1]
[null,"Please select",null,null,null,null,null,null,null,null,null,null,null,null,{"$f":"IF(ISERROR(IF(C142=\"corrective\",E142+KPI!$P$4,IF(C142=\"Preventative\",E142+KPI!$P$5,\"\"))),\"\",IF(C142=\"corrective\",E142+KPI!$P$4,IF(C142=\"Preventative\",E142+KPI!$P$5,\"\")))","v":""},"Please select",null,null,null,null,null,"Please select",null,null,"",null,null,null,null,null,null,null,null,null,"","",null,null,0,0,1]
[null,"Please select",null,null,null,null,null,null,null,null,null,null,null,null,{"$f":"IF(ISERROR(IF(C143=\"corrective\",E143+KPI!$P$4,IF(C143=\"Preventative\",E143+KPI!$P$5,\"\"))),\"\",IF(C143=\"corrective\",E143+KPI!$P$4,IF(C143=\"Preventative\",E143+KPI!$P$5,\"\")))","v":""},"Please select",null,null,null,null,null,"Please select",null,null,"",null,null,null,null,null,null,null,null,null,"","",null,null,0,0,1]
[null,"Please select",null,null,null,null,null,null,null,null,null,null,null,null,{"$f":"IF(ISERROR(IF(C144=\"corrective\",E144+KPI!$P$4,IF(C144=\"Preventative\",E144+KPI!$P$5,\"\"))),\"\",IF(C144=\"corrective\",E144+KPI!$P$4,IF(C144=\"Preventative\",E144+KPI!$P$5,\"\")))","v":""},"Please select",null,null,null,null,null,"Please select",null,null,"",null,null,null,null,null,null,null,null,null,"","",null,null,0,0,1]
[null,"Please select",null,null,null,null,null,null,null,null,null,null,null,null,{"$f":"IF(ISERROR(IF(C145=\"corrective\",E145+KPI!$P$4,IF(C145=\"Preventative\",E145+KPI!$P$5,\"\"))),\"\",IF(C145=\"corrective\",E145+KPI!$P$4,IF(C145=\"Preventative\",E145+KPI!$P$5,\"\")))","v":""},"Please select",null,null,null,null,null,"Please select",null,null,"",null,null,null,null,null,null,null,null,null,"","",null,null,0,0,1]
[null,"Please select",null,null,null,null,null,null,null,null,null,null,null,null,{"$f":"IF(ISERROR(IF(C146=\"corrective\",E146+KPI!$P$4,IF(C146=\"Preventative\",E146+KPI!$P$5,\"\"))),\"\",IF(C146=\"corrective\",E146+KPI!$P$4,IF(C146=\"Preventative\",E146+KPI!$P$5,\"\")))","v":""},"Please select",null,null,null,null,null,"Please select",null,null,"",null,null,null,null,null,null,null,null,null,"","",null,null,0,0,1]
[null,"Please select",null,null,null,null,null,null,null,null,null,null,null,null,{"$f":"IF(ISERROR(IF(C147=\"corrective\",E147+KPI!$P$4,IF(C147=\"Preventative\",E147+KPI!$P$5,\"\"))),\"\",IF(C147=\"corrective\",E147+KPI!$P$4,IF(C147=\"Preventative\",E147+KPI!$P$5,\"\")))","v":""},"Please select",null,null,null,null,null,"Please select",null,null,"",null,null,null,null,null,null,null,null,null,"","",null,null,0,0,1]
[null,"Please select",null,null,null,null,null,null,null,null,null,null,null,null,{"$f":"IF(ISERROR(IF(C148=\"corrective\",E148+KPI!$P$4,IF(C148=\"Preventative\",E148+KPI!$P$5,\"\"))),\"\",IF(C148=\"corrective\",E148+KPI!$P$4,IF(C148=\"Preventative\",E148+KPI!$P$5,\"\")))","v":""},"Please select",null,null,null,null,null,"Please select",null,null,"",null,null,null,null,null,null,null,null,null,"","",null,null,0,0,1]
[null,"Please select",null,null,null,null,null,null,null,null,null,null,null,null,{"$f":"IF(ISERROR(IF(C149=\"corrective\",E149+KPI!$P$4,IF(C149=\"Preventative\",E149+KPI!$P$5,\"\"))),\"\",IF(C149=\"corrective\",E149+KPI!$P$4,IF(C149=\"Preventative\",E149+KPI!$P$5,\"\")))","v":""},"Please select",null,null,null,null,null,"Please select",null,null,"",null,null,null,null,null,null,null,null,null,"","",null,null,0,0,1]
[null,"Please select",null,null,null,null,null,null,null,null,null,null,null,null,{"$f":"IF(ISERROR(IF(C150=\"corrective\",E150+KPI!$P$4,IF(C150=\"Preventative\",E150+KPI!$P$5,\"\"))),\"\",IF(C150=\"corrective\",E150+KPI!$P$4,IF(C150=\"Preventative\",E150+KPI!$P$5,\"\")))","v":""},"Please select",null,null,null,null,null,"Please select",null,null,"",null,null,null,null,null,null,null,null,null,"","",null,null,0,0,1]
[null,"Please select",null,null,null,null,null,null,null,null,null,null,null,null,{"$f":"IF(ISERROR(IF(C151=\"corrective\",E151+KPI!$P$4,IF(C151=\"Preventative\",E151+KPI!$P$5,\"\"))),\"\",IF(C151=\"corrective\",E151+KPI!$P$4,IF(C151=\"Preventative\",E151+KPI!$P$5,\"\")))","v":""},"Please select",null,null,null,null,null,"Please select",null,null,"",null,null,null,null,null,null,null,null,null,"","",null,null,0,0,1]
[null,"Please select",null,null,null,null,null,null,null,null,null,null,null,null,{"$f":"IF(ISERROR(IF(C152=\"corrective\",E152+KPI!$P$4,IF(C152=\"Preventative\",E152+KPI!$P$5,\"\"))),\"\",IF(C152=\"corrective\",E152+KPI!$P$4,IF(C152=\"Preventative\",E152+KPI!$P$5,\"\")))","v":""},"Please select",null,null,null,null,null,"Please select",null,null,"",null,null,null,null,null,null,null,null,null,"","",null,null,0,0,1]
[null,"Please select",null,null,null,null,null,null,null,null,null,null,null,null,{"$f":"IF(ISERROR(IF(C153=\"corrective\",E153+KPI!$P$4,IF(C153=\"Preventative\",E153+KPI!$P$5,\"\"))),\"\",IF(C153=\"corrective\",E153+KPI!$P$4,IF(C153=\"Preventative\",E153+KPI!$P$5,\"\")))","v":""},"Please select",null,null,null,null,null,"Please select",null,null,"",null,null,null,null,null,null,null,null,null,"","",null,null,0,0,1]
[null,"Please select",null,null,null,null,null,null,null,null,null,null,null,null,{"$f":"IF(ISERROR(IF(C154=\"corrective\",E154+KPI!$P$4,IF(C154=\"Preventative\",E154+KPI!$P$5,\"\"))),\"\",IF(C154=\"corrective\",E154+KPI!$P$4,IF(C154=\"Preventative\",E154+KPI!$P$5,\"\")))","v":""},"Please select",null,null,null,null,null,"Please select",null,null,"",null,null,null,null,null,null,null,null,null,"","",null,null,0,0,1]
[null,"Please select",null,null,null,null,null,null,null,null,null,null,null,null,{"$f":"IF(ISERROR(IF(C155=\"corrective\",E155+KPI!$P$4,IF(C155=\"Preventative\",E155+KPI!$P$5,\"\"))),\"\",IF(C155=\"corrective\",E155+KPI!$P$4,IF(C155=\"Preventative\",E155+KPI!$P$5,\"\")))","v":""},"Please select",null,null,null,null,null,"Please select",null,null,"",null,null,null,null,null,null,null,null,null,"","",null,null,0,0,1]
[null,"Please select",null,null,null,null,null,null,null,null,null,null,null,null,{"$f":"IF(ISERROR(IF(C156=\"corrective\",E156+KPI!$P$4,IF(C156=\"Preventative\",E156+KPI!$P$5,\"\"))),\"\",IF(C156=\"corrective\",E156+KPI!$P$4,IF(C156=\"Preventative\",E156+KPI!$P$5,\"\")))","v":""},"Please select",null,null,null,null,null,"Please select",null,null,"",null,null,null,null,null,null,null,null,null,"","",null,null,0,0,1]
[null,"Please select",null,null,null,null,null,null,null,null,null,null,null,null,{"$f":"IF(ISERROR(IF(C157=\"corrective\",E157+KPI!$P$4,IF(C157=\"Preventative\",E157+KPI!$P$5,\"\"))),\"\",IF(C157=\"corrective\",E157+KPI!$P$4,IF(C157=\"Preventative\",E157+KPI!$P$5,\"\")))","v":""},"Please select",null,null,null,null,null,"Please select",null,null,"",null,null,null,null,null,null,null,null,null,"","",null,null,0,0,1]
[null,"Please select",null,null,null,null,null,null,null,null,null,null,null,null,{"$f":"IF(ISERROR(IF(C158=\"corrective\",E158+KPI!$P$4,IF(C158=\"Preventative\",E158+KPI!$P$5,\"\"))),\"\",IF(C158=\"corrective\",E158+KPI!$P$4,IF(C158=\"Preventative\",E158+KPI!$P$5,\"\")))","v":""},"Please select",null,null,null,null,null,"Please select",null,null,"",null,null,null,null,null,null,null,null,null,"","",null,null,0,0,1]
[null,"Please select",null,null,null,null,null,null,null,null,null,null,null,null,{"$f":"IF(ISERROR(IF(C159=\"corrective\",E159+KPI!$P$4,IF(C159=\"Preventative\",E159+KPI!$P$5,\"\"))),\"\",IF(C159=\"corrective\",E159+KPI!$P$4,IF(C159=\"Preventative\",E159+KPI!$P$5,\"\")))","v":""},"Please select",null,null,null,null,null,"Please select",null,null,"",null,null,null,null,null,null,null,null,null,"","",null,null,0,0,1]
[null,"Please select",null,null,null,null,null,null,null,null,null,null,null,null,{"$f":"IF(ISERROR(IF(C160=\"corrective\",E160+KPI!$P$4,IF(C160=\"Preventative\",E160+KPI!$P$5,\"\"))),\"\",IF(C160=\"corrective\",E160+KPI!$P$4,IF(C160=\"Preventative\",E160+KPI!$P$5,\"\")))","v":""},"Please select",null,null,null,null,null,"Please select",null,null,"",null,null,null,null,null,null,null,null,null,"","",null,null,0,0,1]
[null,"Please select",null,null,null,null,null,null,null,null,null,null,null,null,{"$f":"IF(ISERROR(IF(C161=\"corrective\",E161+KPI!$P$4,IF(C161=\"Preventative\",E161+KPI!$P$5,\"\"))),\"\",IF(C161=\"corrective\",E161+KPI!$P$4,IF(C161=\"Preventative\",E161+KPI!$P$5,\"\")))","v":""},"Please select",null,null,null,null,null,"Please select",null,null,"",null,null,null,null,null,null,null,null,null,"","",null,null,0,0,1]
[null,"Please select",null,null,null,null,null,null,null,null,null,null,null,null,{"$f":"IF(ISERROR(IF(C162=\"corrective\",E162+KPI!$P$4,IF(C162=\"Preventative\",E162+KPI!$P$5,\"\"))),\"\",IF(C162=\"corrective\",E162+KPI!$P$4,IF(C162=\"Preventative\",E162+KPI!$P$5,\"\")))","v":""},"Please select",null,null,null,null,null,"Please select",null,null,"",null,null,null,null,null,null,null,null,null,"","",null,null,0,0,1]
[null,"Please select",null,null,null,null,null,null,null,null,null,null,null,null,{"$f":"IF(ISERROR(IF(C163=\"corrective\",E163+KPI!$P$4,IF(C163=\"Preventative\",E163+KPI!$P$5,\"\"))),\"\",IF(C163=\"corrective\",E163+KPI!$P$4,IF(C163=\"Preventative\",E163+KPI!$P$5,\"\")))","v":""},"Please select",null,null,null,null,null,"Please select",null,null,"",null,null,null,null,null,null,null,null,null,"","",null,null,0,0,1]
[null,"Please select",null,null,null,null,null,null,null,null,null,null,null,null,{"$f":"IF(ISERROR(IF(C164=\"corrective\",E164+KPI!$P$4,IF(C164=\"Preventative\",E164+KPI!$P$5,\"\"))),\"\",IF(C164=\"corrective\",E164+KPI!$P$4,IF(C164=\"Preventative\",E164+KPI!$P$5,\"\")))","v":""},"Please select",null,null,null,null,null,"Please select",null,null,"",null,null,null,null,null,null,null,null,null,"","",null,null,0,0,1]
[null,"Please select",null,null,null,null,null,null,null,null,null,null,null,null,{"$f":"IF(ISERROR(IF(C165=\"corrective\",E165+KPI!$P$4,IF(C165=\"Preventative\",E165+KPI!$P$5,\"\"))),\"\",IF(C165=\"corrective\",E165+KPI!$P$4,IF(C165=\"Preventative\",E165+KPI!$P$5,\"\")))","v":""},"Please select",null,null,null,null,null,"Please select",null,null,"",null,null,null,null,null,null,null,null,null,"","",null,null,0,0,1]
[null,"Please select",null,null,null,null,null,null,null,null,null,null,null,null,{"$f":"IF(ISERROR(IF(C166=\"corrective\",E166+KPI!$P$4,IF(C166=\"Preventative\",E166+KPI!$P$5,\"\"))),\"\",IF(C166=\"corrective\",E166+KPI!$P$4,IF(C166=\"Preventative\",E166+KPI!$P$5,\"\")))","v":""},"Please select",null,null,null,null,null,"Please select",null,null,"",null,null,null,null,null,null,null,null,null,"","",null,null,0,0,1]
[null,"Please select",null,null,null,null,null,null,null,null,null,null,null,null,{"$f":"IF(ISERROR(IF(C167=\"corrective\",E167+KPI!$P$4,IF(C167=\"Preventative\",E167+KPI!$P$5,\"\"))),\"\",IF(C167=\"corrective\",E167+KPI!$P$4,IF(C167=\"Preventative\",E167+KPI!$P$5,\"\")))","v":""},"Please select",null,null,null,null,null,"Please select",null,null,"",null,null,null,null,null,null,null,null,null,"","",null,null,0,0,1]
[null,"Please select",null,null,null,null,null,null,null,null,null,null,null,null,{"$f":"IF(ISERROR(IF(C168=\"corrective\",E168+KPI!$P$4,IF(C168=\"Preventative\",E168+KPI!$P$5,\"\"))),\"\",IF(C168=\"corrective\",E168+KPI!$P$4,IF(C168=\"Preventative\",E168+KPI!$P$5,\"\")))","v":""},"Please select",null,null,null,null,null,"Please select",null,null,"",null,null,null,null,null,null,null,null,null,"","",null,null,0,0,1]
[null,"Please select",null,null,null,null,null,null,null,null,null,null,null,null,{"$f":"IF(ISERROR(IF(C169=\"corrective\",E169+KPI!$P$4,IF(C169=\"Preventative\",E169+KPI!$P$5,\"\"))),\"\",IF(C169=\"corrective\",E169+KPI!$P$4,IF(C169=\"Preventative\",E169+KPI!$P$5,\"\")))","v":""},"Please select",null,null,null,null,null,"Please select",null,null,"",null,null,null,null,null,null,null,null,null,"","",null,null,0,0,1]
[null,"Please select",null,null,null,null,null,null,null,null,null,null,null,null,{"$f":"IF(ISERROR(IF(C170=\"corrective\",E170+KPI!$P$4,IF(C170=\"Preventative\",E170+KPI!$P$5,\"\"))),\"\",IF(C170=\"corrective\",E170+KPI!$P$4,IF(C170=\"Preventative\",E170+KPI!$P$5,\"\")))","v":""},"Please select",null,null,null,null,null,"Please select",null,null,"",null,null,null,null,null,null,null,null,null,"","",null,null,0,0,1]
[null,"Please select",null,null,null,null,null,null,null,null,null,null,null,null,{"$f":"IF(ISERROR(IF(C171=\"corrective\",E171+KPI!$P$4,IF(C171=\"Preventative\",E171+KPI!$P$5,\"\"))),\"\",IF(C171=\"corrective\",E171+KPI!$P$4,IF(C171=\"Preventative\",E171+KPI!$P$5,\"\")))","v":""},"Please select",null,null,null,null,null,"Please select",null,null,"",null,null,null,null,null,null,null,null,null,"","",null,null,0,0,1]
[null,"Please select",null,null,null,null,null,null,null,null,null,null,null,null,{"$f":"IF(ISERROR(IF(C172=\"corrective\",E172+KPI!$P$4,IF(C172=\"Preventative\",E172+KPI!$P$5,\"\"))),\"\",IF(C172=\"corrective\",E172+KPI!$P$4,IF(C172=\"Preventative\",E172+KPI!$P$5,\"\")))","v":""},"Please select",null,null,null,null,null,"Please select",null,null,"",null,null,null,null,null,null,null,null,null,"","",null,null,0,0,1]
[null,"Please select",null,null,null,null,null,null,null,null,null,null,null,null,{"$f":"IF(ISERROR(IF(C173=\"corrective\",E173+KPI!$P$4,IF(C173=\"Preventative\",E173+KPI!$P$5,\"\"))),\"\",IF(C173=\"corrective\",E173+KPI!$P$4,IF(C173=\"Preventative\",E173+KPI!$P$5,\"\")))","v":""},"Please select",null,null,null,null,null,"Please select",null,null,"",null,null,null,null,null,null,null,null,null,"","",null,null,0,0,1]
[null,"Please select",null,null,null,null,null,null,null,null,null,null,null,null,{"$f":"IF(ISERROR(IF(C174=\"corrective\",E174+KPI!$P$4,IF(C174=\"Preventative\",E174+KPI!$P$5,\"\"))),\"\",IF(C174=\"corrective\",E174+KPI!$P$4,IF(C174=\"Preventative\",E174+KPI!$P$5,\"\")))","v":""},"Please select",null,null,null,null,null,"Please select",null,null,"",null,null,null,null,null,null,null,null,null,"","",null,null,0,0,1]
[null,"Please select",null,null,null,null,null,null,null,null,null,null,null,null,{"$f":"IF(ISERROR(IF(C175=\"corrective\",E175+KPI!$P$4,IF(C175=\"Preventative\",E175+KPI!$P$5,\"\"))),\"\",IF(C175=\"corrective\",E175+KPI!$P$4,IF(C175=\"Preventative\",E175+KPI!$P$5,\"\")))","v":""},"Please select",null,null,null,null,null,"Please select",null,null,"",null,null,null,null,null,null,null,null,null,"","",null,null,0,0,1]
[null,"Please select",null,null,null,null,null,null,null,null,null,null,null,null,{"$f":"IF(ISERROR(IF(C176=\"corrective\",E176+KPI!$P$4,IF(C176=\"Preventative\",E176+KPI!$P$5,\"\"))),\"\",IF(C176=\"corrective\",E176+KPI!$P$4,IF(C176=\"Preventative\",E176+KPI!$P$5,\"\")))","v":""},"Please select",null,null,null,null,null,"Please select",null,null,"",null,null,null,null,null,null,null,null,null,"","",null,null,0,0,1]
[null,"Please select",null,null,null,null,null,null,null,null,null,null,null,null,{"$f":"IF(ISERROR(IF(C177=\"corrective\",E177+KPI!$P$4,IF(C177=\"Preventative\",E177+KPI!$P$5,\"\"))),\"\",IF(C177=\"corrective\",E177+KPI!$P$4,IF(C177=\"Preventative\",E177+KPI!$P$5,\"\")))","v":""},"Please select",null,null,null,null,null,"Please select",null,null,"",null,null,null,null,null,null,null,null,null,"","",null,null,0,0,1]
[null,"Please select",null,null,null,null,null,null,null,null,null,null,null,null,{"$f":"IF(ISERROR(IF(C178=\"corrective\",E178+KPI!$P$4,IF(C178=\"Preventative\",E178+KPI!$P$5,\"\"))),\"\",IF(C178=\"corrective\",E178+KPI!$P$4,IF(C178=\"Preventative\",E178+KPI!$P$5,\"\")))","v":""},"Please select",null,null,null,null,null,"Please select",null,null,"",null,null,null,null,null,null,null,null,null,"","",null,null,0,0,1]
[null,"Please select",null,null,null,null,null,null,null,null,null,null,null,null,{"$f":"IF(ISERROR(IF(C179=\"corrective\",E179+KPI!$P$4,IF(C179=\"Preventative\",E179+KPI!$P$5,\"\"))),\"\",IF(C179=\"corrective\",E179+KPI!$P$4,IF(C179=\"Preventative\",E179+KPI!$P$5,\"\")))","v":""},"Please select",null,null,null,null,null,"Please select",null,null,"",null,null,null,null,null,null,null,null,null,"","",null,null,0,0,1]
[null,"Please select",null,null,null,null,null,null,null,null,null,null,null,null,{"$f":"IF(ISERROR(IF(C180=\"corrective\",E180+KPI!$P$4,IF(C180=\"Preventative\",E180+KPI!$P$5,\"\"))),\"\",IF(C180=\"corrective\",E180+KPI!$P$4,IF(C180=\"Preventative\",E180+KPI!$P$5,\"\")))","v":""},"Please select",null,null,null,null,null,"Please select",null,null,"",null,null,null,null,null,null,null,null,null,"","",null,null,0,0,1]
[null,"Please select",null,null,null,null,null,null,null,null,null,null,null,null,{"$f":"IF(ISERROR(IF(C181=\"corrective\",E181+KPI!$P$4,IF(C181=\"Preventative\",E181+KPI!$P$5,\"\"))),\"\",IF(C181=\"corrective\",E181+KPI!$P$4,IF(C181=\"Preventative\",E181+KPI!$P$5,\"\")))","v":""},"Please select",null,null,null,null,null,"Please select",null,null,"",null,null,null,null,null,null,null,null,null,"","",null,null,0,0,1]
[null,"Please select",null,null,null,null,null,null,null,null,null,null,null,null,{"$f":"IF(ISERROR(IF(C182=\"corrective\",E182+KPI!$P$4,IF(C182=\"Preventative\",E182+KPI!$P$5,\"\"))),\"\",IF(C182=\"corrective\",E182+KPI!$P$4,IF(C182=\"Preventative\",E182+KPI!$P$5,\"\")))","v":""},"Please select",null,null,null,null,null,"Please select",null,null,"",null,null,null,null,null,null,null,null,null,"","",null,null,0,0,1]
[null,"Please select",null,null,null,null,null,null,null,null,null,null,null,null,{"$f":"IF(ISERROR(IF(C183=\"corrective\",E183+KPI!$P$4,IF(C183=\"Preventative\",E183+KPI!$P$5,\"\"))),\"\",IF(C183=\"corrective\",E183+KPI!$P$4,IF(C183=\"Preventative\",E183+KPI!$P$5,\"\")))","v":""},"Please select",null,null,null,null,null,"Please select",null,null,"",null,null,null,null,null,null,null,null,null,"","",null,null,0,0,1]
[null,"Please select",null,null,null,null,null,null,null,null,null,null,null,null,{"$f":"IF(ISERROR(IF(C184=\"corrective\",E184+KPI!$P$4,IF(C184=\"Preventative\",E184+KPI!$P$5,\"\"))),\"\",IF(C184=\"corrective\",E184+KPI!$P$4,IF(C184=\"Preventative\",E184+KPI!$P$5,\"\")))","v":""},"Please select",null,null,null,null,null,"Please select",null,null,"",null,null,null,null,null,null,null,null,null,"","",null,null,0,0,1]
[null,"Please select",null,null,null,null,null,null,null,null,null,null,null,null,{"$f":"IF(ISERROR(IF(C185=\"corrective\",E185+KPI!$P$4,IF(C185=\"Preventative\",E185+KPI!$P$5,\"\"))),\"\",IF(C185=\"corrective\",E185+KPI!$P$4,IF(C185=\"Preventative\",E185+KPI!$P$5,\"\")))","v":""},"Please select",null,null,null,null,null,"Please select",null,null,"",null,null,null,null,null,null,null,null,null,"","",null,null,0,0,1]
[null,"Please select",null,null,null,null,null,null,null,null,null,null,null,null,{"$f":"IF(ISERROR(IF(C186=\"corrective\",E186+KPI!$P$4,IF(C186=\"Preventative\",E186+KPI!$P$5,\"\"))),\"\",IF(C186=\"corrective\",E186+KPI!$P$4,IF(C186=\"Preventative\",E186+KPI!$P$5,\"\")))","v":""},"Please select",null,null,null,null,null,"Please select",null,null,"",null,null,null,null,null,null,null,null,null,"","",null,null,0,0,1]
[null,"Please select",null,null,null,null,null,null,null,null,null,null,null,null,{"$f":"IF(ISERROR(IF(C187=\"corrective\",E187+KPI!$P$4,IF(C187=\"Preventative\",E187+KPI!$P$5,\"\"))),\"\",IF(C187=\"corrective\",E187+KPI!$P$4,IF(C187=\"Preventative\",E187+KPI!$P$5,\"\")))","v":""},"Please select",null,null,null,null,null,"Please select",null,null,"",null,null,null,null,null,null,null,null,null,"","",null,null,0,0,1]
[null,"Please select",null,null,null,null,null,null,null,null,null,null,null,null,{"$f":"IF(ISERROR(IF(C188=\"corrective\",E188+KPI!$P$4,IF(C188=\"Preventative\",E188+KPI!$P$5,\"\"))),\"\",IF(C188=\"corrective\",E188+KPI!$P$4,IF(C188=\"Preventative\",E188+KPI!$P$5,\"\")))","v":""},"Please select",null,null,null,null,null,"Please select",null,null,"",null,null,null,null,null,null,null,null,null,"","",null,null,0,0,1]
[null,"Please select",null,null,null,null,null,null,null,null,null,null,null,null,{"$f":"IF(ISERROR(IF(C189=\"corrective\",E189+KPI!$P$4,IF(C189=\"Preventative\",E189+KPI!$P$5,\"\"))),\"\",IF(C189=\"corrective\",E189+KPI!$P$4,IF(C189=\"Preventative\",E189+KPI!$P$5,\"\")))","v":""},"Please select",null,null,null,null,null,"Please select",null,null,"",null,null,null,null,null,null,null,null,null,"","",null,null,0,0,1]
[null,"Please select",null,null,null,null,null,null,null,null,null,null,null,null,{"$f":"IF(ISERROR(IF(C190=\"corrective\",E190+KPI!$P$4,IF(C190=\"Preventative\",E190+KPI!$P$5,\"\"))),\"\",IF(C190=\"corrective\",E190+KPI!$P$4,IF(C190=\"Preventative\",E190+KPI!$P$5,\"\")))","v":""},"Please select",null,null,null,null,null,"Please select",null,null,"",null,null,null,null,null,null,null,null,null,"","",null,null,0,0,1]
[null,"Please select",null,null,null,null,null,null,null,null,null,null,null,null,{"$f":"IF(ISERROR(IF(C191=\"corrective\",E191+KPI!$P$4,IF(C191=\"Preventative\",E191+KPI!$P$5,\"\"))),\"\",IF(C191=\"corrective\",E191+KPI!$P$4,IF(C191=\"Preventative\",E191+KPI!$P$5,\"\")))","v":""},"Please select",null,null,null,null,null,"Please select",null,null,"",null,null,null,null,null,null,null,null,null,"","",null,null,0,0,1]
[null,"Please select",null,null,null,null,null,null,null,null,null,null,null,null,{"$f":"IF(ISERROR(IF(C192=\"corrective\",E192+KPI!$P$4,IF(C192=\"Preventative\",E192+KPI!$P$5,\"\"))),\"\",IF(C192=\"corrective\",E192+KPI!$P$4,IF(C192=\"Preventative\",E192+KPI!$P$5,\"\")))","v":""},"Please select",null,null,null,null,null,"Please select",null,null,"",null,null,null,null,null,null,null,null,null,"","",null,null,0,0,{"$f":"COUNTIF(AN192,\">400\")+COUNTIF(AN192,\"=0\")","v":1}]
[null,"Please select",null,null,null,null,null,null,null,null,null,null,null,null,{"$f":"IF(ISERROR(IF(C193=\"corrective\",E193+KPI!$P$4,IF(C193=\"Preventative\",E193+KPI!$P$5,\"\"))),\"\",IF(C193=\"corrective\",E193+KPI!$P$4,IF(C193=\"Preventative\",E193+KPI!$P$5,\"\")))","v":""},"Please select",null,null,null,null,null,"Please select",null,null,"",null,null,null,null,null,null,null,null,null,"","",null,null,0,0,1]
[null,"Please select",null,null,null,null,null,null,null,null,null,null,null,null,{"$f":"IF(ISERROR(IF(C194=\"corrective\",E194+KPI!$P$4,IF(C194=\"Preventative\",E194+KPI!$P$5,\"\"))),\"\",IF(C194=\"corrective\",E194+KPI!$P$4,IF(C194=\"Preventative\",E194+KPI!$P$5,\"\")))","v":""},{"$f":"IF(AND(O194<TODAY(),B194=\"new\"),\"New - Overdue\",B194)","v":"Please select"},null,null,null,null,null,"Please select",null,null,{"$f":"Z194&AA194&AB194&AC194&AD194&AE194","v":""},null,null,null,null,null,null,null,null,null,{"$f":"IF(ISERROR(AJ194-20),\"\",AJ194-20)","v":""},{"$f":"IF(ISERROR(IF(C194=\"corrective\",E194+AH194,\"\")),\"\",IF(C194=\"corrective\",E194+AH194,\"\"))","v":""},null,null,{"$f":"IF(ISERROR(DATEDIF(E194,Q194,\"D\")),\"\",DATEDIF(E194,Q194,\"D\"))","v":0},{"$f":"IF(ISERROR(DATEDIF(Q194,X194,\"D\")),\"\",DATEDIF(Q194,X194,\"D\"))","v":0},1]
[null,"Please select",null,null,null,null,null,null,null,null,null,null,null,null,{"$f":"IF(ISERROR(IF(C195=\"corrective\",E195+KPI!$P$4,IF(C195=\"Preventative\",E195+KPI!$P$5,\"\"))),\"\",IF(C195=\"corrective\",E195+KPI!$P$4,IF(C195=\"Preventative\",E195+KPI!$P$5,\"\")))","v":""},"Please select",null,null,null,null,null,"Please select",null,null,"",null,null,null,null,null,null,null,null,null,"","",null,null,0,0,1]
[null,"Please select",null,null,null,null,null,null,null,null,null,null,null,null,{"$f":"IF(ISERROR(IF(C196=\"corrective\",E196+KPI!$P$4,IF(C196=\"Preventative\",E196+KPI!$P$5,\"\"))),\"\",IF(C196=\"corrective\",E196+KPI!$P$4,IF(C196=\"Preventative\",E196+KPI!$P$5,\"\")))","v":""},"Please select",null,null,null,null,null,"Please select",null,null,"",null,null,null,null,null,null,null,null,null,"","",null,null,0,0,1]
[null,"Please select",null,null,null,null,null,null,null,null,null,null,null,null,{"$f":"IF(ISERROR(IF(C197=\"corrective\",E197+KPI!$P$4,IF(C197=\"Preventative\",E197+KPI!$P$5,\"\"))),\"\",IF(C197=\"corrective\",E197+KPI!$P$4,IF(C197=\"Preventative\",E197+KPI!$P$5,\"\")))","v":""},"Please select",null,null,null,null,null,"Please select",null,null,"",null,null,null,null,null,null,null,null,null,"","",null,null,0,0,1]
[null,"Please select",null,null,null,null,null,null,null,null,null,null,null,null,{"$f":"IF(ISERROR(IF(C198=\"corrective\",E198+KPI!$P$4,IF(C198=\"Preventative\",E198+KPI!$P$5,\"\"))),\"\",IF(C198=\"corrective\",E198+KPI!$P$4,IF(C198=\"Preventative\",E198+KPI!$P$5,\"\")))","v":""},"Please select",null,null,null,null,null,"Please select",null,null,"",null,null,null,null,null,null,null,null,null,"","",null,null,0,0,1]
[null,"Please select",null,null,null,null,null,null,null,null,null,null,null,null,{"$f":"IF(ISERROR(IF(C199=\"corrective\",E199+KPI!$P$4,IF(C199=\"Preventative\",E199+KPI!$P$5,\"\"))),\"\",IF(C199=\"corrective\",E199+KPI!$P$4,IF(C199=\"Preventative\",E199+KPI!$P$5,\"\")))","v":""},"Please select",null,null,null,null,null,"Please select",null,null,"",null,null,null,null,null,null,null,null,null,"","",null,null,0,0,1]
[null,"Please select",null,null,null,null,null,null,null,null,null,null,null,null,{"$f":"IF(ISERROR(IF(C200=\"corrective\",E200+KPI!$P$4,IF(C200=\"Preventative\",E200+KPI!$P$5,\"\"))),\"\",IF(C200=\"corrective\",E200+KPI!$P$4,IF(C200=\"Preventative\",E200+KPI!$P$5,\"\")))","v":""},"Please select",null,null,null,null,null,"Please select",null,null,"",null,null,null,null,null,null,null,null,null,"","",null,null,0,0,1]
[null,"Please select",null,null,null,null,null,null,null,null,null,null,null,null,{"$f":"IF(ISERROR(IF(C201=\"corrective\",E201+KPI!$P$4,IF(C201=\"Preventative\",E201+KPI!$P$5,\"\"))),\"\",IF(C201=\"corrective\",E201+KPI!$P$4,IF(C201=\"Preventative\",E201+KPI!$P$5,\"\")))","v":""},"Please select",null,null,null,null,null,"Please select",null,null,"",null,null,null,null,null,null,null,null,null,"","",null,null,0,0,1]
[null,"Please select",null,null,null,null,null,null,null,null,null,null,null,null,{"$f":"IF(ISERROR(IF(C202=\"corrective\",E202+KPI!$P$4,IF(C202=\"Preventative\",E202+KPI!$P$5,\"\"))),\"\",IF(C202=\"corrective\",E202+KPI!$P$4,IF(C202=\"Preventative\",E202+KPI!$P$5,\"\")))","v":""},"Please select",null,null,null,null,null,"Please select",null,null,"",null,null,null,null,null,null,null,null,null,"","",null,null,0,0,1]
[null,"Please select",null,null,null,null,null,null,null,null,null,null,null,null,{"$f":"IF(ISERROR(IF(C203=\"corrective\",E203+KPI!$P$4,IF(C203=\"Preventative\",E203+KPI!$P$5,\"\"))),\"\",IF(C203=\"corrective\",E203+KPI!$P$4,IF(C203=\"Preventative\",E203+KPI!$P$5,\"\")))","v":""},"Please select",null,null,null,null,null,"Please select",null,null,"",null,null,null,null,null,null,null,null,null,"","",null,null,0,0,1]
[null,"Please select",null,null,null,null,null,null,null,null,null,null,null,null,{"$f":"IF(ISERROR(IF(C204=\"corrective\",E204+KPI!$P$4,IF(C204=\"Preventative\",E204+KPI!$P$5,\"\"))),\"\",IF(C204=\"corrective\",E204+KPI!$P$4,IF(C204=\"Preventative\",E204+KPI!$P$5,\"\")))","v":""},"Please select",null,null,null,null,null,"Please select",null,null,"",null,null,null,null,null,null,null,null,null,"","",null,null,0,0,1]
[null,"Please select",null,null,null,null,null,null,null,null,null,null,null,null,{"$f":"IF(ISERROR(IF(C205=\"corrective\",E205+KPI!$P$4,IF(C205=\"Preventative\",E205+KPI!$P$5,\"\"))),\"\",IF(C205=\"corrective\",E205+KPI!$P$4,IF(C205=\"Preventative\",E205+KPI!$P$5,\"\")))","v":""},"Please select",null,null,null,null,null,"Please select",null,null,"",null,null,null,null,null,null,null,null,null,"","",null,null,0,0,1]
[null,"Please select",null,null,null,null,null,null,null,null,null,null,null,null,{"$f":"IF(ISERROR(IF(C206=\"corrective\",E206+KPI!$P$4,IF(C206=\"Preventative\",E206+KPI!$P$5,\"\"))),\"\",IF(C206=\"corrective\",E206+KPI!$P$4,IF(C206=\"Preventative\",E206+KPI!$P$5,\"\")))","v":""},"Please select",null,null,null,null,null,"Please select",null,null,"",null,null,null,null,null,null,null,null,null,"","",null,null,0,0,1]
[null,"Please select",null,null,null,null,null,null,null,null,null,null,null,null,{"$f":"IF(ISERROR(IF(C207=\"corrective\",E207+KPI!$P$4,IF(C207=\"Preventative\",E207+KPI!$P$5,\"\"))),\"\",IF(C207=\"corrective\",E207+KPI!$P$4,IF(C207=\"Preventative\",E207+KPI!$P$5,\"\")))","v":""},"Please select",null,null,null,null,null,"Please select",null,null,"",null,null,null,null,null,null,null,null,null,"","",null,null,0,0,1]
[null,"Please select",null,null,null,null,null,null,null,null,null,null,null,null,{"$f":"IF(ISERROR(IF(C208=\"corrective\",E208+KPI!$P$4,IF(C208=\"Preventative\",E208+KPI!$P$5,\"\"))),\"\",IF(C208=\"corrective\",E208+KPI!$P$4,IF(C208=\"Preventative\",E208+KPI!$P$5,\"\")))","v":""},"Please select",null,null,null,null,null,"Please select",null,null,"",null,null,null,null,null,null,null,null,null,"","",null,null,0,0,1]
[null,"Please select",null,null,null,null,null,null,null,null,null,null,null,null,{"$f":"IF(ISERROR(IF(C209=\"corrective\",E209+KPI!$P$4,IF(C209=\"Preventative\",E209+KPI!$P$5,\"\"))),\"\",IF(C209=\"corrective\",E209+KPI!$P$4,IF(C209=\"Preventative\",E209+KPI!$P$5,\"\")))","v":""},"Please select",null,null,null,null,null,"Please select",null,null,"",null,null,null,null,null,null,null,null,null,"","",null,null,0,0,1]
[null,"Please select",null,null,null,null,null,null,null,null,null,null,null,null,{"$f":"IF(ISERROR(IF(C210=\"corrective\",E210+KPI!$P$4,IF(C210=\"Preventative\",E210+KPI!$P$5,\"\"))),\"\",IF(C210=\"corrective\",E210+KPI!$P$4,IF(C210=\"Preventative\",E210+KPI!$P$5,\"\")))","v":""},"Please select",null,null,null,null,null,"Please select",null,null,"",null,null,null,null,null,null,null,null,null,"","",null,null,0,0,1]
[null,"Please select",null,null,null,null,null,null,null,null,null,null,null,null,{"$f":"IF(ISERROR(IF(C211=\"corrective\",E211+KPI!$P$4,IF(C211=\"Preventative\",E211+KPI!$P$5,\"\"))),\"\",IF(C211=\"corrective\",E211+KPI!$P$4,IF(C211=\"Preventative\",E211+KPI!$P$5,\"\")))","v":""},"Please select",null,null,null,null,null,"Please select",null,null,"",null,null,null,null,null,null,null,null,null,"","",null,null,0,0,1]
[null,"Please select",null,null,null,null,null,null,null,null,null,null,null,null,{"$f":"IF(ISERROR(IF(C212=\"corrective\",E212+KPI!$P$4,IF(C212=\"Preventative\",E212+KPI!$P$5,\"\"))),\"\",IF(C212=\"corrective\",E212+KPI!$P$4,IF(C212=\"Preventative\",E212+KPI!$P$5,\"\")))","v":""},"Please select",null,null,null,null,null,"Please select",null,null,"",null,null,null,null,null,null,null,null,null,"","",null,null,0,0,1]
[null,"Please select",null,null,null,null,null,null,null,null,null,null,null,null,{"$f":"IF(ISERROR(IF(C213=\"corrective\",E213+KPI!$P$4,IF(C213=\"Preventative\",E213+KPI!$P$5,\"\"))),\"\",IF(C213=\"corrective\",E213+KPI!$P$4,IF(C213=\"Preventative\",E213+KPI!$P$5,\"\")))","v":""},"Please select",null,null,null,null,null,"Please select",null,null,"",null,null,null,null,null,null,null,null,null,"","",null,null,0,0,1]
[null,"Please select",null,null,null,null,null,null,null,null,null,null,null,null,{"$f":"IF(ISERROR(IF(C214=\"corrective\",E214+KPI!$P$4,IF(C214=\"Preventative\",E214+KPI!$P$5,\"\"))),\"\",IF(C214=\"corrective\",E214+KPI!$P$4,IF(C214=\"Preventative\",E214+KPI!$P$5,\"\")))","v":""},"Please select",null,null,null,null,null,"Please select",null,null,"",null,null,null,null,null,null,null,null,null,"","",null,null,0,0,1]
[null,"Please select",null,null,null,null,null,null,null,null,null,null,null,null,{"$f":"IF(ISERROR(IF(C215=\"corrective\",E215+KPI!$P$4,IF(C215=\"Preventative\",E215+KPI!$P$5,\"\"))),\"\",IF(C215=\"corrective\",E215+KPI!$P$4,IF(C215=\"Preventative\",E215+KPI!$P$5,\"\")))","v":""},"Please select",null,null,null,null,null,"Please select",null,null,"",null,null,null,null,null,null,null,null,null,"","",null,null,0,0,1]
[null,"Please select",null,null,null,null,null,null,null,null,null,null,null,null,{"$f":"IF(ISERROR(IF(C216=\"corrective\",E216+KPI!$P$4,IF(C216=\"Preventative\",E216+KPI!$P$5,\"\"))),\"\",IF(C216=\"corrective\",E216+KPI!$P$4,IF(C216=\"Preventative\",E216+KPI!$P$5,\"\")))","v":""},"Please select",null,null,null,null,null,"Please select",null,null,"",null,null,null,null,null,null,null,null,null,"","",null,null,0,0,1]
[null,"Please select",null,null,null,null,null,null,null,null,null,null,null,null,{"$f":"IF(ISERROR(IF(C217=\"corrective\",E217+KPI!$P$4,IF(C217=\"Preventative\",E217+KPI!$P$5,\"\"))),\"\",IF(C217=\"corrective\",E217+KPI!$P$4,IF(C217=\"Preventative\",E217+KPI!$P$5,\"\")))","v":""},"Please select",null,null,null,null,null,"Please select",null,null,"",null,null,null,null,null,null,null,null,null,"","",null,null,0,0,1]
[null,"Please select",null,null,null,null,null,null,null,null,null,null,null,null,{"$f":"IF(ISERROR(IF(C218=\"corrective\",E218+KPI!$P$4,IF(C218=\"Preventative\",E218+KPI!$P$5,\"\"))),\"\",IF(C218=\"corrective\",E218+KPI!$P$4,IF(C218=\"Preventative\",E218+KPI!$P$5,\"\")))","v":""},"Please select",null,null,null,null,null,"Please select",null,null,"",null,null,null,null,null,null,null,null,null,"","",null,null,0,0,1]
[null,"Please select",null,null,null,null,null,null,null,null,null,null,null,null,{"$f":"IF(ISERROR(IF(C219=\"corrective\",E219+KPI!$P$4,IF(C219=\"Preventative\",E219+KPI!$P$5,\"\"))),\"\",IF(C219=\"corrective\",E219+KPI!$P$4,IF(C219=\"Preventative\",E219+KPI!$P$5,\"\")))","v":""},"Please select",null,null,null,null,null,"Please select",null,null,"",null,null,null,null,null,null,null,null,null,"","",null,null,0,0,1]
[null,"Please select",null,null,null,null,null,null,null,null,null,null,null,null,{"$f":"IF(ISERROR(IF(C220=\"corrective\",E220+KPI!$P$4,IF(C220=\"Preventative\",E220+KPI!$P$5,\"\"))),\"\",IF(C220=\"corrective\",E220+KPI!$P$4,IF(C220=\"Preventative\",E220+KPI!$P$5,\"\")))","v":""},"Please select",null,null,null,null,null,"Please select",null,null,"",null,null,null,null,null,null,null,null,null,"","",null,null,0,0,1]
[null,"Please select",null,null,null,null,null,null,null,null,null,null,null,null,{"$f":"IF(ISERROR(IF(C221=\"corrective\",E221+KPI!$P$4,IF(C221=\"Preventative\",E221+KPI!$P$5,\"\"))),\"\",IF(C221=\"corrective\",E221+KPI!$P$4,IF(C221=\"Preventative\",E221+KPI!$P$5,\"\")))","v":""},"Please select",null,null,null,null,null,"Please select",null,null,"",null,null,null,null,null,null,null,null,null,"","",null,null,0,0,1]
[null,"Please select",null,null,null,null,null,null,null,null,null,null,null,null,{"$f":"IF(ISERROR(IF(C222=\"corrective\",E222+KPI!$P$4,IF(C222=\"Preventative\",E222+KPI!$P$5,\"\"))),\"\",IF(C222=\"corrective\",E222+KPI!$P$4,IF(C222=\"Preventative\",E222+KPI!$P$5,\"\")))","v":""},"Please select",null,null,null,null,null,"Please select",null,null,"",null,null,null,null,null,null,null,null,null,"","",null,null,0,0,1]
[null,"Please select",null,null,null,null,null,null,null,null,null,null,null,null,{"$f":"IF(ISERROR(IF(C223=\"corrective\",E223+KPI!$P$4,IF(C223=\"Preventative\",E223+KPI!$P$5,\"\"))),\"\",IF(C223=\"corrective\",E223+KPI!$P$4,IF(C223=\"Preventative\",E223+KPI!$P$5,\"\")))","v":""},"Please select",null,null,null,null,null,"Please select",null,null,"",null,null,null,null,null,null,null,null,null,"","",null,null,0,0,1]
[null,"Please select",null,null,null,null,null,null,null,null,null,null,null,null,{"$f":"IF(ISERROR(IF(C224=\"corrective\",E224+KPI!$P$4,IF(C224=\"Preventative\",E224+KPI!$P$5,\"\"))),\"\",IF(C224=\"corrective\",E224+KPI!$P$4,IF(C224=\"Preventative\",E224+KPI!$P$5,\"\")))","v":""},"Please select",null,null,null,null,null,"Please select",null,null,"",null,null,null,null,null,null,null,null,null,"","",null,null,0,0,1]
[null,"Please select",null,null,null,null,null,null,null,null,null,null,null,null,{"$f":"IF(ISERROR(IF(C225=\"corrective\",E225+KPI!$P$4,IF(C225=\"Preventative\",E225+KPI!$P$5,\"\"))),\"\",IF(C225=\"corrective\",E225+KPI!$P$4,IF(C225=\"Preventative\",E225+KPI!$P$5,\"\")))","v":""},"Please select",null,null,null,null,null,"Please select",null,null,"",null,null,null,null,null,null,null,null,null,"","",null,null,0,0,1]
[null,"Please select",null,null,null,null,null,null,null,null,null,null,null,null,{"$f":"IF(ISERROR(IF(C226=\"corrective\",E226+KPI!$P$4,IF(C226=\"Preventative\",E226+KPI!$P$5,\"\"))),\"\",IF(C226=\"corrective\",E226+KPI!$P$4,IF(C226=\"Preventative\",E226+KPI!$P$5,\"\")))","v":""},"Please select",null,null,null,null,null,"Please select",null,null,"",null,null,null,null,null,null,null,null,null,"","",null,null,0,0,1]
[null,"Please select",null,null,null,null,null,null,null,null,null,null,null,null,{"$f":"IF(ISERROR(IF(C227=\"corrective\",E227+KPI!$P$4,IF(C227=\"Preventative\",E227+KPI!$P$5,\"\"))),\"\",IF(C227=\"corrective\",E227+KPI!$P$4,IF(C227=\"Preventative\",E227+KPI!$P$5,\"\")))","v":""},"Please select",null,null,null,null,null,"Please select",null,null,"",null,null,null,null,null,null,null,null,null,"","",null,null,0,0,1]
[null,"Please select",null,null,null,null,null,null,null,null,null,null,null,null,{"$f":"IF(ISERROR(IF(C228=\"corrective\",E228+KPI!$P$4,IF(C228=\"Preventative\",E228+KPI!$P$5,\"\"))),\"\",IF(C228=\"corrective\",E228+KPI!$P$4,IF(C228=\"Preventative\",E228+KPI!$P$5,\"\")))","v":""},"Please select",null,null,null,null,null,"Please select",null,null,"",null,null,null,null,null,null,null,null,null,"","",null,null,0,0,1]
[null,"Please select",null,null,null,null,null,null,null,null,null,null,null,null,{"$f":"IF(ISERROR(IF(C229=\"corrective\",E229+KPI!$P$4,IF(C229=\"Preventative\",E229+KPI!$P$5,\"\"))),\"\",IF(C229=\"corrective\",E229+KPI!$P$4,IF(C229=\"Preventative\",E229+KPI!$P$5,\"\")))","v":""},"Please select",null,null,null,null,null,"Please select",null,null,"",null,null,null,null,null,null,null,null,null,"","",null,null,0,0,1]
[null,"Please select",null,null,null,null,null,null,null,null,null,null,null,null,{"$f":"IF(ISERROR(IF(C230=\"corrective\",E230+KPI!$P$4,IF(C230=\"Preventative\",E230+KPI!$P$5,\"\"))),\"\",IF(C230=\"corrective\",E230+KPI!$P$4,IF(C230=\"Preventative\",E230+KPI!$P$5,\"\")))","v":""},"Please select",null,null,null,null,null,"Please select",null,null,"",null,null,null,null,null,null,null,null,null,"","",null,null,0,0,1]
[null,"Please select",null,null,null,null,null,null,null,null,null,null,null,null,{"$f":"IF(ISERROR(IF(C231=\"corrective\",E231+KPI!$P$4,IF(C231=\"Preventative\",E231+KPI!$P$5,\"\"))),\"\",IF(C231=\"corrective\",E231+KPI!$P$4,IF(C231=\"Preventative\",E231+KPI!$P$5,\"\")))","v":""},"Please select",null,null,null,null,null,"Please select",null,null,"",null,null,null,null,null,null,null,null,null,"","",null,null,0,0,1]
[null,"Please select",null,null,null,null,null,null,null,null,null,null,null,null,{"$f":"IF(ISERROR(IF(C232=\"corrective\",E232+KPI!$P$4,IF(C232=\"Preventative\",E232+KPI!$P$5,\"\"))),\"\",IF(C232=\"corrective\",E232+KPI!$P$4,IF(C232=\"Preventative\",E232+KPI!$P$5,\"\")))","v":""},"Please select",null,null,null,null,null,"Please select",null,null,"",null,null,null,null,null,null,null,null,null,"","",null,null,0,0,1]
[null,"Please select",null,null,null,null,null,null,null,null,null,null,null,null,{"$f":"IF(ISERROR(IF(C233=\"corrective\",E233+KPI!$P$4,IF(C233=\"Preventative\",E233+KPI!$P$5,\"\"))),\"\",IF(C233=\"corrective\",E233+KPI!$P$4,IF(C233=\"Preventative\",E233+KPI!$P$5,\"\")))","v":""},"Please select",null,null,null,null,null,"Please select",null,null,"",null,null,null,null,null,null,null,null,null,"","",null,null,0,0,1]
[null,"Please select",null,null,null,null,null,null,null,null,null,null,null,null,{"$f":"IF(ISERROR(IF(C234=\"corrective\",E234+KPI!$P$4,IF(C234=\"Preventative\",E234+KPI!$P$5,\"\"))),\"\",IF(C234=\"corrective\",E234+KPI!$P$4,IF(C234=\"Preventative\",E234+KPI!$P$5,\"\")))","v":""},"Please select",null,null,null,null,null,"Please select",null,null,"",null,null,null,null,null,null,null,null,null,"","",null,null,0,0,1]
[null,"Please select",null,null,null,null,null,null,null,null,null,null,null,null,{"$f":"IF(ISERROR(IF(C235=\"corrective\",E235+KPI!$P$4,IF(C235=\"Preventative\",E235+KPI!$P$5,\"\"))),\"\",IF(C235=\"corrective\",E235+KPI!$P$4,IF(C235=\"Preventative\",E235+KPI!$P$5,\"\")))","v":""},"Please select",null,null,null,null,null,"Please select",null,null,"",null,null,null,null,null,null,null,null,null,"","",null,null,0,0,1]
[null,"Please select",null,null,null,null,null,null,null,null,null,null,null,null,{"$f":"IF(ISERROR(IF(C236=\"corrective\",E236+KPI!$P$4,IF(C236=\"Preventative\",E236+KPI!$P$5,\"\"))),\"\",IF(C236=\"corrective\",E236+KPI!$P$4,IF(C236=\"Preventative\",E236+KPI!$P$5,\"\")))","v":""},"Please select",null,null,null,null,null,"Please select",null,null,"",null,null,null,null,null,null,null,null,null,"","",null,null,0,0,1]
[null,"Please select",null,null,null,null,null,null,null,null,null,null,null,null,{"$f":"IF(ISERROR(IF(C237=\"corrective\",E237+KPI!$P$4,IF(C237=\"Preventative\",E237+KPI!$P$5,\"\"))),\"\",IF(C237=\"corrective\",E237+KPI!$P$4,IF(C237=\"Preventative\",E237+KPI!$P$5,\"\")))","v":""},"Please select",null,null,null,null,null,"Please select",null,null,"",null,null,null,null,null,null,null,null,null,"","",null,null,0,0,1]
[null,"Please select",null,null,null,null,null,null,null,null,null,null,null,null,{"$f":"IF(ISERROR(IF(C238=\"corrective\",E238+KPI!$P$4,IF(C238=\"Preventative\",E238+KPI!$P$5,\"\"))),\"\",IF(C238=\"corrective\",E238+KPI!$P$4,IF(C238=\"Preventative\",E238+KPI!$P$5,\"\")))","v":""},"Please select",null,null,null,null,null,"Please select",null,null,"",null,null,null,null,null,null,null,null,null,"","",null,null,0,0,1]
[null,"Please select",null,null,null,null,null,null,null,null,null,null,null,null,{"$f":"IF(ISERROR(IF(C239=\"corrective\",E239+KPI!$P$4,IF(C239=\"Preventative\",E239+KPI!$P$5,\"\"))),\"\",IF(C239=\"corrective\",E239+KPI!$P$4,IF(C239=\"Preventative\",E239+KPI!$P$5,\"\")))","v":""},"Please select",null,null,null,null,null,"Please select",null,null,"",null,null,null,null,null,null,null,null,null,"","",null,null,0,0,1]
[null,"Please select",null,null,null,null,null,null,null,null,null,null,null,null,{"$f":"IF(ISERROR(IF(C240=\"corrective\",E240+KPI!$P$4,IF(C240=\"Preventative\",E240+KPI!$P$5,\"\"))),\"\",IF(C240=\"corrective\",E240+KPI!$P$4,IF(C240=\"Preventative\",E240+KPI!$P$5,\"\")))","v":""},"Please select",null,null,null,null,null,"Please select",null,null,"",null,null,null,null,null,null,null,null,null,"","",null,null,0,0,1]
[null,"Please select",null,null,null,null,null,null,null,null,null,null,null,null,{"$f":"IF(ISERROR(IF(C241=\"corrective\",E241+KPI!$P$4,IF(C241=\"Preventative\",E241+KPI!$P$5,\"\"))),\"\",IF(C241=\"corrective\",E241+KPI!$P$4,IF(C241=\"Preventative\",E241+KPI!$P$5,\"\")))","v":""},"Please select",null,null,null,null,null,"Please select",null,null,"",null,null,null,null,null,null,null,null,null,"","",null,null,0,0,1]
[null,"Please select",null,null,null,null,null,null,null,null,null,null,null,null,{"$f":"IF(ISERROR(IF(C242=\"corrective\",E242+KPI!$P$4,IF(C242=\"Preventative\",E242+KPI!$P$5,\"\"))),\"\",IF(C242=\"corrective\",E242+KPI!$P$4,IF(C242=\"Preventative\",E242+KPI!$P$5,\"\")))","v":""},"Please select",null,null,null,null,null,"Please select",null,null,"",null,null,null,null,null,null,null,null,null,"","",null,null,0,0,1]
[null,"Please select",null,null,null,null,null,null,null,null,null,null,null,null,{"$f":"IF(ISERROR(IF(C243=\"corrective\",E243+KPI!$P$4,IF(C243=\"Preventative\",E243+KPI!$P$5,\"\"))),\"\",IF(C243=\"corrective\",E243+KPI!$P$4,IF(C243=\"Preventative\",E243+KPI!$P$5,\"\")))","v":""},"Please select",null,null,null,null,null,"Please select",null,null,"",null,null,null,null,null,null,null,null,null,"","",null,null,0,0,1]
[null,"Please select",null,null,null,null,null,null,null,null,null,null,null,null,{"$f":"IF(ISERROR(IF(C244=\"corrective\",E244+KPI!$P$4,IF(C244=\"Preventative\",E244+KPI!$P$5,\"\"))),\"\",IF(C244=\"corrective\",E244+KPI!$P$4,IF(C244=\"Preventative\",E244+KPI!$P$5,\"\")))","v":""},"Please select",null,null,null,null,null,"Please select",null,null,"",null,null,null,null,null,null,null,null,null,"","",null,null,0,0,1]
[null,"Please select",null,null,null,null,null,null,null,null,null,null,null,null,{"$f":"IF(ISERROR(IF(C245=\"corrective\",E245+KPI!$P$4,IF(C245=\"Preventative\",E245+KPI!$P$5,\"\"))),\"\",IF(C245=\"corrective\",E245+KPI!$P$4,IF(C245=\"Preventative\",E245+KPI!$P$5,\"\")))","v":""},"Please select",null,null,null,null,null,"Please select",null,null,"",null,null,null,null,null,null,null,null,null,"","",null,null,0,0,1]
[null,"Please select",null,null,null,null,null,null,null,null,null,null,null,null,{"$f":"IF(ISERROR(IF(C246=\"corrective\",E246+KPI!$P$4,IF(C246=\"Preventative\",E246+KPI!$P$5,\"\"))),\"\",IF(C246=\"corrective\",E246+KPI!$P$4,IF(C246=\"Preventative\",E246+KPI!$P$5,\"\")))","v":""},"Please select",null,null,null,null,null,"Please select",null,null,"",null,null,null,null,null,null,null,null,null,"","",null,null,0,0,1]
[null,"Please select",null,null,null,null,null,null,null,null,null,null,null,null,{"$f":"IF(ISERROR(IF(C247=\"corrective\",E247+KPI!$P$4,IF(C247=\"Preventative\",E247+KPI!$P$5,\"\"))),\"\",IF(C247=\"corrective\",E247+KPI!$P$4,IF(C247=\"Preventative\",E247+KPI!$P$5,\"\")))","v":""},"Please select",null,null,null,null,null,"Please select",null,null,"",null,null,null,null,null,null,null,null,null,"","",null,null,0,0,1]
[null,"Please select",null,null,null,null,null,null,null,null,null,null,null,null,{"$f":"IF(ISERROR(IF(C248=\"corrective\",E248+KPI!$P$4,IF(C248=\"Preventative\",E248+KPI!$P$5,\"\"))),\"\",IF(C248=\"corrective\",E248+KPI!$P$4,IF(C248=\"Preventative\",E248+KPI!$P$5,\"\")))","v":""},"Please select",null,null,null,null,null,"Please select",null,null,"",null,null,null,null,null,null,null,null,null,"","",null,null,0,0,1]
[null,"Please select",null,null,null,null,null,null,null,null,null,null,null,null,{"$f":"IF(ISERROR(IF(C249=\"corrective\",E249+KPI!$P$4,IF(C249=\"Preventative\",E249+KPI!$P$5,\"\"))),\"\",IF(C249=\"corrective\",E249+KPI!$P$4,IF(C249=\"Preventative\",E249+KPI!$P$5,\"\")))","v":""},"Please select",null,null,null,null,null,"Please select",null,null,"",null,null,null,null,null,null,null,null,null,"","",null,null,0,0,1]
[null,"Please select",null,null,null,null,null,null,null,null,null,null,null,null,{"$f":"IF(ISERROR(IF(C250=\"corrective\",E250+KPI!$P$4,IF(C250=\"Preventative\",E250+KPI!$P$5,\"\"))),\"\",IF(C250=\"corrective\",E250+KPI!$P$4,IF(C250=\"Preventative\",E250+KPI!$P$5,\"\")))","v":""},"Please select",null,null,null,null,null,"Please select",null,null,"",null,null,null,null,null,null,null,null,null,"","",null,null,0,0,1]
[null,"Please select",null,null,null,null,null,null,null,null,null,null,null,null,{"$f":"IF(ISERROR(IF(C251=\"corrective\",E251+KPI!$P$4,IF(C251=\"Preventative\",E251+KPI!$P$5,\"\"))),\"\",IF(C251=\"corrective\",E251+KPI!$P$4,IF(C251=\"Preventative\",E251+KPI!$P$5,\"\")))","v":""},"Please select",null,null,null,null,null,"Please select",null,null,"",null,null,null,null,null,null,null,null,null,"","",null,null,0,0,1]
[null,"Please select",null,null,null,null,null,null,null,null,null,null,null,null,{"$f":"IF(ISERROR(IF(C252=\"corrective\",E252+KPI!$P$4,IF(C252=\"Preventative\",E252+KPI!$P$5,\"\"))),\"\",IF(C252=\"corrective\",E252+KPI!$P$4,IF(C252=\"Preventative\",E252+KPI!$P$5,\"\")))","v":""},"Please select",null,null,null,null,null,"Please select",null,null,"",null,null,null,null,null,null,null,null,null,"","",null,null,0,0,1]
[null,"Please select",null,null,null,null,null,null,null,null,null,null,null,null,{"$f":"IF(ISERROR(IF(C253=\"corrective\",E253+KPI!$P$4,IF(C253=\"Preventative\",E253+KPI!$P$5,\"\"))),\"\",IF(C253=\"corrective\",E253+KPI!$P$4,IF(C253=\"Preventative\",E253+KPI!$P$5,\"\")))","v":""},"Please select",null,null,null,null,null,"Please select",null,null,"",null,null,null,null,null,null,null,null,null,"","",null,null,0,0,1]
[null,"Please select",null,null,null,null,null,null,null,null,null,null,null,null,{"$f":"IF(ISERROR(IF(C254=\"corrective\",E254+KPI!$P$4,IF(C254=\"Preventative\",E254+KPI!$P$5,\"\"))),\"\",IF(C254=\"corrective\",E254+KPI!$P$4,IF(C254=\"Preventative\",E254+KPI!$P$5,\"\")))","v":""},"Please select",null,null,null,null,null,"Please select",null,null,"",null,null,null,null,null,null,null,null,null,"","",null,null,0,0,1]
[null,"Please select",null,null,null,null,null,null,null,null,null,null,null,null,{"$f":"IF(ISERROR(IF(C255=\"corrective\",E255+KPI!$P$4,IF(C255=\"Preventative\",E255+KPI!$P$5,\"\"))),\"\",IF(C255=\"corrective\",E255+KPI!$P$4,IF(C255=\"Preventative\",E255+KPI!$P$5,\"\")))","v":""},"Please select",null,null,null,null,null,"Please select",null,null,"",null,null,null,null,null,null,null,null,null,"","",null,null,0,0,1]
[null,"Please select",null,null,null,null,null,null,null,null,null,null,null,null,{"$f":"IF(ISERROR(IF(C256=\"corrective\",E256+KPI!$P$4,IF(C256=\"Preventative\",E256+KPI!$P$5,\"\"))),\"\",IF(C256=\"corrective\",E256+KPI!$P$4,IF(C256=\"Preventative\",E256+KPI!$P$5,\"\")))","v":""},"Please select",null,null,null,null,null,"Please select",null,null,"",null,null,null,null,null,null,null,null,null,"","",null,null,0,0,{"$f":"COUNTIF(AN256,\">400\")+COUNTIF(AN256,\"=0\")","v":1}]
[null,"Please select",null,null,null,null,null,null,null,null,null,null,null,null,{"$f":"IF(ISERROR(IF(C257=\"corrective\",E257+KPI!$P$4,IF(C257=\"Preventative\",E257+KPI!$P$5,\"\"))),\"\",IF(C257=\"corrective\",E257+KPI!$P$4,IF(C257=\"Preventative\",E257+KPI!$P$5,\"\")))","v":""},"Please select",null,null,null,null,null,"Please select",null,null,"",null,null,null,null,null,null,null,null,null,"","",null,null,0,0,1]
[null,"Please select",null,null,null,null,null,null,null,null,null,null,null,null,{"$f":"IF(ISERROR(IF(C258=\"corrective\",E258+KPI!$P$4,IF(C258=\"Preventative\",E258+KPI!$P$5,\"\"))),\"\",IF(C258=\"corrective\",E258+KPI!$P$4,IF(C258=\"Preventative\",E258+KPI!$P$5,\"\")))","v":""},{"$f":"IF(AND(O258<TODAY(),B258=\"new\"),\"New - Overdue\",B258)","v":"Please select"},null,null,null,null,null,"Please select",null,null,{"$f":"Z258&AA258&AB258&AC258&AD258&AE258","v":""},null,null,null,null,null,null,null,null,null,{"$f":"IF(ISERROR(AJ258-20),\"\",AJ258-20)","v":""},{"$f":"IF(ISERROR(IF(C258=\"corrective\",E258+AH258,\"\")),\"\",IF(C258=\"corrective\",E258+AH258,\"\"))","v":""},null,null,{"$f":"IF(ISERROR(DATEDIF(E258,Q258,\"D\")),\"\",DATEDIF(E258,Q258,\"D\"))","v":0},{"$f":"IF(ISERROR(DATEDIF(Q258,X258,\"D\")),\"\",DATEDIF(Q258,X258,\"D\"))","v":0},1]
[null,"Please select",null,null,null,null,null,null,null,null,null,null,null,null,{"$f":"IF(ISERROR(IF(C259=\"corrective\",E259+KPI!$P$4,IF(C259=\"Preventative\",E259+KPI!$P$5,\"\"))),\"\",IF(C259=\"corrective\",E259+KPI!$P$4,IF(C259=\"Preventative\",E259+KPI!$P$5,\"\")))","v":""},"Please select",null,null,null,null,null,"Please select",null,null,"",null,null,null,null,null,null,null,null,null,"","",null,null,0,0,1]
[null,"Please select",null,null,null,null,null,null,null,null,null,null,null,null,{"$f":"IF(ISERROR(IF(C260=\"corrective\",E260+KPI!$P$4,IF(C260=\"Preventative\",E260+KPI!$P$5,\"\"))),\"\",IF(C260=\"corrective\",E260+KPI!$P$4,IF(C260=\"Preventative\",E260+KPI!$P$5,\"\")))","v":""},"Please select",null,null,null,null,null,"Please select",null,null,"",null,null,null,null,null,null,null,null,null,"","",null,null,0,0,1]
[null,"Please select",null,null,null,null,null,null,null,null,null,null,null,null,{"$f":"IF(ISERROR(IF(C261=\"corrective\",E261+KPI!$P$4,IF(C261=\"Preventative\",E261+KPI!$P$5,\"\"))),\"\",IF(C261=\"corrective\",E261+KPI!$P$4,IF(C261=\"Preventative\",E261+KPI!$P$5,\"\")))","v":""},"Please select",null,null,null,null,null,"Please select",null,null,"",null,null,null,null,null,null,null,null,null,"","",null,null,0,0,1]
[null,"Please select",null,null,null,null,null,null,null,null,null,null,null,null,{"$f":"IF(ISERROR(IF(C262=\"corrective\",E262+KPI!$P$4,IF(C262=\"Preventative\",E262+KPI!$P$5,\"\"))),\"\",IF(C262=\"corrective\",E262+KPI!$P$4,IF(C262=\"Preventative\",E262+KPI!$P$5,\"\")))","v":""},"Please select",null,null,null,null,null,"Please select",null,null,"",null,null,null,null,null,null,null,null,null,"","",null,null,0,0,1]
[null,"Please select",null,null,null,null,null,null,null,null,null,null,null,null,{"$f":"IF(ISERROR(IF(C263=\"corrective\",E263+KPI!$P$4,IF(C263=\"Preventative\",E263+KPI!$P$5,\"\"))),\"\",IF(C263=\"corrective\",E263+KPI!$P$4,IF(C263=\"Preventative\",E263+KPI!$P$5,\"\")))","v":""},"Please select",null,null,null,null,null,"Please select",null,null,"",null,null,null,null,null,null,null,null,null,"","",null,null,0,0,1]
[null,"Please select",null,null,null,null,null,null,null,null,null,null,null,null,{"$f":"IF(ISERROR(IF(C264=\"corrective\",E264+KPI!$P$4,IF(C264=\"Preventative\",E264+KPI!$P$5,\"\"))),\"\",IF(C264=\"corrective\",E264+KPI!$P$4,IF(C264=\"Preventative\",E264+KPI!$P$5,\"\")))","v":""},"Please select",null,null,null,null,null,"Please select",null,null,"",null,null,null,null,null,null,null,null,null,"","",null,null,0,0,1]
[null,"Please select",null,null,null,null,null,null,null,null,null,null,null,null,{"$f":"IF(ISERROR(IF(C265=\"corrective\",E265+KPI!$P$4,IF(C265=\"Preventative\",E265+KPI!$P$5,\"\"))),\"\",IF(C265=\"corrective\",E265+KPI!$P$4,IF(C265=\"Preventative\",E265+KPI!$P$5,\"\")))","v":""},"Please select",null,null,null,null,null,"Please select",null,null,"",null,null,null,null,null,null,null,null,null,"","",null,null,0,0,1]
[null,"Please select",null,null,null,null,null,null,null,null,null,null,null,null,{"$f":"IF(ISERROR(IF(C266=\"corrective\",E266+KPI!$P$4,IF(C266=\"Preventative\",E266+KPI!$P$5,\"\"))),\"\",IF(C266=\"corrective\",E266+KPI!$P$4,IF(C266=\"Preventative\",E266+KPI!$P$5,\"\")))","v":""},"Please select",null,null,null,null,null,"Please select",null,null,"",null,null,null,null,null,null,null,null,null,"","",null,null,0,0,1]
[null,"Please select",null,null,null,null,null,null,null,null,null,null,null,null,{"$f":"IF(ISERROR(IF(C267=\"corrective\",E267+KPI!$P$4,IF(C267=\"Preventative\",E267+KPI!$P$5,\"\"))),\"\",IF(C267=\"corrective\",E267+KPI!$P$4,IF(C267=\"Preventative\",E267+KPI!$P$5,\"\")))","v":""},"Please select",null,null,null,null,null,"Please select",null,null,"",null,null,null,null,null,null,null,null,null,"","",null,null,0,0,1]
[null,"Please select",null,null,null,null,null,null,null,null,null,null,null,null,{"$f":"IF(ISERROR(IF(C268=\"corrective\",E268+KPI!$P$4,IF(C268=\"Preventative\",E268+KPI!$P$5,\"\"))),\"\",IF(C268=\"corrective\",E268+KPI!$P$4,IF(C268=\"Preventative\",E268+KPI!$P$5,\"\")))","v":""},"Please select",null,null,null,null,null,"Please select",null,null,"",null,null,null,null,null,null,null,null,null,"","",null,null,0,0,1]
[null,"Please select",null,null,null,null,null,null,null,null,null,null,null,null,{"$f":"IF(ISERROR(IF(C269=\"corrective\",E269+KPI!$P$4,IF(C269=\"Preventative\",E269+KPI!$P$5,\"\"))),\"\",IF(C269=\"corrective\",E269+KPI!$P$4,IF(C269=\"Preventative\",E269+KPI!$P$5,\"\")))","v":""},"Please select",null,null,null,null,null,"Please select",null,null,"",null,null,null,null,null,null,null,null,null,"","",null,null,0,0,1]
[null,"Please select",null,null,null,null,null,null,null,null,null,null,null,null,{"$f":"IF(ISERROR(IF(C270=\"corrective\",E270+KPI!$P$4,IF(C270=\"Preventative\",E270+KPI!$P$5,\"\"))),\"\",IF(C270=\"corrective\",E270+KPI!$P$4,IF(C270=\"Preventative\",E270+KPI!$P$5,\"\")))","v":""},"Please select",null,null,null,null,null,"Please select",null,null,"",null,null,null,null,null,null,null,null,null,"","",null,null,0,0,1]
[null,"Please select",null,null,null,null,null,null,null,null,null,null,null,null,{"$f":"IF(ISERROR(IF(C271=\"corrective\",E271+KPI!$P$4,IF(C271=\"Preventative\",E271+KPI!$P$5,\"\"))),\"\",IF(C271=\"corrective\",E271+KPI!$P$4,IF(C271=\"Preventative\",E271+KPI!$P$5,\"\")))","v":""},"Please select",null,null,null,null,null,"Please select",null,null,"",null,null,null,null,null,null,null,null,null,"","",null,null,0,0,1]
[null,"Please select",null,null,null,null,null,null,null,null,null,null,null,null,{"$f":"IF(ISERROR(IF(C272=\"corrective\",E272+KPI!$P$4,IF(C272=\"Preventative\",E272+KPI!$P$5,\"\"))),\"\",IF(C272=\"corrective\",E272+KPI!$P$4,IF(C272=\"Preventative\",E272+KPI!$P$5,\"\")))","v":""},"Please select",null,null,null,null,null,"Please select",null,null,"",null,null,null,null,null,null,null,null,null,"","",null,null,0,0,1]
[null,"Please select",null,null,null,null,null,null,null,null,null,null,null,null,{"$f":"IF(ISERROR(IF(C273=\"corrective\",E273+KPI!$P$4,IF(C273=\"Preventative\",E273+KPI!$P$5,\"\"))),\"\",IF(C273=\"corrective\",E273+KPI!$P$4,IF(C273=\"Preventative\",E273+KPI!$P$5,\"\")))","v":""},"Please select",null,null,null,null,null,"Please select",null,null,"",null,null,null,null,null,null,null,null,null,"","",null,null,0,0,1]
[null,"Please select",null,null,null,null,null,null,null,null,null,null,null,null,{"$f":"IF(ISERROR(IF(C274=\"corrective\",E274+KPI!$P$4,IF(C274=\"Preventative\",E274+KPI!$P$5,\"\"))),\"\",IF(C274=\"corrective\",E274+KPI!$P$4,IF(C274=\"Preventative\",E274+KPI!$P$5,\"\")))","v":""},"Please select",null,null,null,null,null,"Please select",null,null,"",null,null,null,null,null,null,null,null,null,"","",null,null,0,0,1]
[null,"Please select",null,null,null,null,null,null,null,null,null,null,null,null,{"$f":"IF(ISERROR(IF(C275=\"corrective\",E275+KPI!$P$4,IF(C275=\"Preventative\",E275+KPI!$P$5,\"\"))),\"\",IF(C275=\"corrective\",E275+KPI!$P$4,IF(C275=\"Preventative\",E275+KPI!$P$5,\"\")))","v":""},"Please select",null,null,null,null,null,"Please select",null,null,"",null,null,null,null,null,null,null,null,null,"","",null,null,0,0,1]
[null,"Please select",null,null,null,null,null,null,null,null,null,null,null,null,{"$f":"IF(ISERROR(IF(C276=\"corrective\",E276+KPI!$P$4,IF(C276=\"Preventative\",E276+KPI!$P$5,\"\"))),\"\",IF(C276=\"corrective\",E276+KPI!$P$4,IF(C276=\"Preventative\",E276+KPI!$P$5,\"\")))","v":""},"Please select",null,null,null,null,null,"Please select",null,null,"",null,null,null,null,null,null,null,null,null,"","",null,null,0,0,1]
[null,"Please select",null,null,null,null,null,null,null,null,null,null,null,null,{"$f":"IF(ISERROR(IF(C277=\"corrective\",E277+KPI!$P$4,IF(C277=\"Preventative\",E277+KPI!$P$5,\"\"))),\"\",IF(C277=\"corrective\",E277+KPI!$P$4,IF(C277=\"Preventative\",E277+KPI!$P$5,\"\")))","v":""},"Please select",null,null,null,null,null,"Please select",null,null,"",null,null,null,null,null,null,null,null,null,"","",null,null,0,0,1]
[null,"Please select",null,null,null,null,null,null,null,null,null,null,null,null,{"$f":"IF(ISERROR(IF(C278=\"corrective\",E278+KPI!$P$4,IF(C278=\"Preventative\",E278+KPI!$P$5,\"\"))),\"\",IF(C278=\"corrective\",E278+KPI!$P$4,IF(C278=\"Preventative\",E278+KPI!$P$5,\"\")))","v":""},"Please select",null,null,null,null,null,"Please select",null,null,"",null,null,null,null,null,null,null,null,null,"","",null,null,0,0,1]
[null,"Please select",null,null,null,null,null,null,null,null,null,null,null,null,{"$f":"IF(ISERROR(IF(C279=\"corrective\",E279+KPI!$P$4,IF(C279=\"Preventative\",E279+KPI!$P$5,\"\"))),\"\",IF(C279=\"corrective\",E279+KPI!$P$4,IF(C279=\"Preventative\",E279+KPI!$P$5,\"\")))","v":""},"Please select",null,null,null,null,null,"Please select",null,null,"",null,null,null,null,null,null,null,null,null,"","",null,null,0,0,1]
[null,"Please select",null,null,null,null,null,null,null,null,null,null,null,null,{"$f":"IF(ISERROR(IF(C280=\"corrective\",E280+KPI!$P$4,IF(C280=\"Preventative\",E280+KPI!$P$5,\"\"))),\"\",IF(C280=\"corrective\",E280+KPI!$P$4,IF(C280=\"Preventative\",E280+KPI!$P$5,\"\")))","v":""},"Please select",null,null,null,null,null,"Please select",null,null,"",null,null,null,null,null,null,null,null,null,"","",null,null,0,0,1]
[null,"Please select",null,null,null,null,null,null,null,null,null,null,null,null,{"$f":"IF(ISERROR(IF(C281=\"corrective\",E281+KPI!$P$4,IF(C281=\"Preventative\",E281+KPI!$P$5,\"\"))),\"\",IF(C281=\"corrective\",E281+KPI!$P$4,IF(C281=\"Preventative\",E281+KPI!$P$5,\"\")))","v":""},"Please select",null,null,null,null,null,"Please select",null,null,"",null,null,null,null,null,null,null,null,null,"","",null,null,0,0,1]
[null,"Please select",null,null,null,null,null,null,null,null,null,null,null,null,{"$f":"IF(ISERROR(IF(C282=\"corrective\",E282+KPI!$P$4,IF(C282=\"Preventative\",E282+KPI!$P$5,\"\"))),\"\",IF(C282=\"corrective\",E282+KPI!$P$4,IF(C282=\"Preventative\",E282+KPI!$P$5,\"\")))","v":""},"Please select",null,null,null,null,null,"Please select",null,null,"",null,null,null,null,null,null,null,null,null,"","",null,null,0,0,1]
[null,"Please select",null,null,null,null,null,null,null,null,null,null,null,null,{"$f":"IF(ISERROR(IF(C283=\"corrective\",E283+KPI!$P$4,IF(C283=\"Preventative\",E283+KPI!$P$5,\"\"))),\"\",IF(C283=\"corrective\",E283+KPI!$P$4,IF(C283=\"Preventative\",E283+KPI!$P$5,\"\")))","v":""},"Please select",null,null,null,null,null,"Please select",null,null,"",null,null,null,null,null,null,null,null,null,"","",null,null,0,0,1]
[null,"Please select",null,null,null,null,null,null,null,null,null,null,null,null,{"$f":"IF(ISERROR(IF(C284=\"corrective\",E284+KPI!$P$4,IF(C284=\"Preventative\",E284+KPI!$P$5,\"\"))),\"\",IF(C284=\"corrective\",E284+KPI!$P$4,IF(C284=\"Preventative\",E284+KPI!$P$5,\"\")))","v":""},"Please select",null,null,null,null,null,"Please select",null,null,"",null,null,null,null,null,null,null,null,null,"","",null,null,0,0,1]
[null,"Please select",null,null,null,null,null,null,null,null,null,null,null,null,{"$f":"IF(ISERROR(IF(C285=\"corrective\",E285+KPI!$P$4,IF(C285=\"Preventative\",E285+KPI!$P$5,\"\"))),\"\",IF(C285=\"corrective\",E285+KPI!$P$4,IF(C285=\"Preventative\",E285+KPI!$P$5,\"\")))","v":""},"Please select",null,null,null,null,null,"Please select",null,null,"",null,null,null,null,null,null,null,null,null,"","",null,null,0,0,1]
[null,"Please select",null,null,null,null,null,null,null,null,null,null,null,null,{"$f":"IF(ISERROR(IF(C286=\"corrective\",E286+KPI!$P$4,IF(C286=\"Preventative\",E286+KPI!$P$5,\"\"))),\"\",IF(C286=\"corrective\",E286+KPI!$P$4,IF(C286=\"Preventative\",E286+KPI!$P$5,\"\")))","v":""},"Please select",null,null,null,null,null,"Please select",null,null,"",null,null,null,null,null,null,null,null,null,"","",null,null,0,0,1]
[null,"Please select",null,null,null,null,null,null,null,null,null,null,null,null,{"$f":"IF(ISERROR(IF(C287=\"corrective\",E287+KPI!$P$4,IF(C287=\"Preventative\",E287+KPI!$P$5,\"\"))),\"\",IF(C287=\"corrective\",E287+KPI!$P$4,IF(C287=\"Preventative\",E287+KPI!$P$5,\"\")))","v":""},"Please select",null,null,null,null,null,"Please select",null,null,"",null,null,null,null,null,null,null,null,null,"","",null,null,0,0,1]
[null,"Please select",null,null,null,null,null,null,null,null,null,null,null,null,{"$f":"IF(ISERROR(IF(C288=\"corrective\",E288+KPI!$P$4,IF(C288=\"Preventative\",E288+KPI!$P$5,\"\"))),\"\",IF(C288=\"corrective\",E288+KPI!$P$4,IF(C288=\"Preventative\",E288+KPI!$P$5,\"\")))","v":""},"Please select",null,null,null,null,null,"Please select",null,null,"",null,null,null,null,null,null,null,null,null,"","",null,null,0,0,1]
[null,"Please select",null,null,null,null,null,null,null,null,null,null,null,null,{"$f":"IF(ISERROR(IF(C289=\"corrective\",E289+KPI!$P$4,IF(C289=\"Preventative\",E289+KPI!$P$5,\"\"))),\"\",IF(C289=\"corrective\",E289+KPI!$P$4,IF(C289=\"Preventative\",E289+KPI!$P$5,\"\")))","v":""},"Please select",null,null,null,null,null,"Please select",null,null,"",null,null,null,null,null,null,null,null,null,"","",null,null,0,0,1]
[null,"Please select",null,null,null,null,null,null,null,null,null,null,null,null,{"$f":"IF(ISERROR(IF(C290=\"corrective\",E290+KPI!$P$4,IF(C290=\"Preventative\",E290+KPI!$P$5,\"\"))),\"\",IF(C290=\"corrective\",E290+KPI!$P$4,IF(C290=\"Preventative\",E290+KPI!$P$5,\"\")))","v":""},"Please select",null,null,null,null,null,"Please select",null,null,"",null,null,null,null,null,null,null,null,null,"","",null,null,0,0,1]
[null,"Please select",null,null,null,null,null,null,null,null,null,null,null,null,{"$f":"IF(ISERROR(IF(C291=\"corrective\",E291+KPI!$P$4,IF(C291=\"Preventative\",E291+KPI!$P$5,\"\"))),\"\",IF(C291=\"corrective\",E291+KPI!$P$4,IF(C291=\"Preventative\",E291+KPI!$P$5,\"\")))","v":""},"Please select",null,null,null,null,null,"Please select",null,null,"",null,null,null,null,null,null,null,null,null,"","",null,null,0,0,1]
[null,"Please select",null,null,null,null,null,null,null,null,null,null,null,null,{"$f":"IF(ISERROR(IF(C292=\"corrective\",E292+KPI!$P$4,IF(C292=\"Preventative\",E292+KPI!$P$5,\"\"))),\"\",IF(C292=\"corrective\",E292+KPI!$P$4,IF(C292=\"Preventative\",E292+KPI!$P$5,\"\")))","v":""},"Please select",null,null,null,null,null,"Please select",null,null,"",null,null,null,null,null,null,null,null,null,"","",null,null,0,0,1]
[null,"Please select",null,null,null,null,null,null,null,null,null,null,null,null,{"$f":"IF(ISERROR(IF(C293=\"corrective\",E293+KPI!$P$4,IF(C293=\"Preventative\",E293+KPI!$P$5,\"\"))),\"\",IF(C293=\"corrective\",E293+KPI!$P$4,IF(C293=\"Preventative\",E293+KPI!$P$5,\"\")))","v":""},"Please select",null,null,null,null,null,"Please select",null,null,"",null,null,null,null,null,null,null,null,null,"","",null,null,0,0,1]
[null,"Please select",null,null,null,null,null,null,null,null,null,null,null,null,{"$f":"IF(ISERROR(IF(C294=\"corrective\",E294+KPI!$P$4,IF(C294=\"Preventative\",E294+KPI!$P$5,\"\"))),\"\",IF(C294=\"corrective\",E294+KPI!$P$4,IF(C294=\"Preventative\",E294+KPI!$P$5,\"\")))","v":""},"Please select",null,null,null,null,null,"Please select",null,null,"",null,null,null,null,null,null,null,null,null,"","",null,null,0,0,1]
[null,"Please select",null,null,null,null,null,null,null,null,null,null,null,null,{"$f":"IF(ISERROR(IF(C295=\"corrective\",E295+KPI!$P$4,IF(C295=\"Preventative\",E295+KPI!$P$5,\"\"))),\"\",IF(C295=\"corrective\",E295+KPI!$P$4,IF(C295=\"Preventative\",E295+KPI!$P$5,\"\")))","v":""},"Please select",null,null,null,null,null,"Please select",null,null,"",null,null,null,null,null,null,null,null,null,"","",null,null,0,0,1]
[null,"Please select",null,null,null,null,null,null,null,null,null,null,null,null,{"$f":"IF(ISERROR(IF(C296=\"corrective\",E296+KPI!$P$4,IF(C296=\"Preventative\",E296+KPI!$P$5,\"\"))),\"\",IF(C296=\"corrective\",E296+KPI!$P$4,IF(C296=\"Preventative\",E296+KPI!$P$5,\"\")))","v":""},"Please select",null,null,null,null,null,"Please select",null,null,"",null,null,null,null,null,null,null,null,null,"","",null,null,0,0,1]
[null,"Please select",null,null,null,null,null,null,null,null,null,null,null,null,{"$f":"IF(ISERROR(IF(C297=\"corrective\",E297+KPI!$P$4,IF(C297=\"Preventative\",E297+KPI!$P$5,\"\"))),\"\",IF(C297=\"corrective\",E297+KPI!$P$4,IF(C297=\"Preventative\",E297+KPI!$P$5,\"\")))","v":""},"Please select",null,null,null,null,null,"Please select",null,null,"",null,null,null,null,null,null,null,null,null,"","",null,null,0,0,1]
[null,"Please select",null,null,null,null,null,null,null,null,null,null,null,null,{"$f":"IF(ISERROR(IF(C298=\"corrective\",E298+KPI!$P$4,IF(C298=\"Preventative\",E298+KPI!$P$5,\"\"))),\"\",IF(C298=\"corrective\",E298+KPI!$P$4,IF(C298=\"Preventative\",E298+KPI!$P$5,\"\")))","v":""},"Please select",null,null,null,null,null,"Please select",null,null,"",null,null,null,null,null,null,null,null,null,"","",null,null,0,0,1]
[null,"Please select",null,null,null,null,null,null,null,null,null,null,null,null,{"$f":"IF(ISERROR(IF(C299=\"corrective\",E299+KPI!$P$4,IF(C299=\"Preventative\",E299+KPI!$P$5,\"\"))),\"\",IF(C299=\"corrective\",E299+KPI!$P$4,IF(C299=\"Preventative\",E299+KPI!$P$5,\"\")))","v":""},"Please select",null,null,null,null,null,"Please select",null,null,"",null,null,null,null,null,null,null,null,null,"","",null,null,0,0,1]
[null,"Please select",null,null,null,null,null,null,null,null,null,null,null,null,{"$f":"IF(ISERROR(IF(C300=\"corrective\",E300+KPI!$P$4,IF(C300=\"Preventative\",E300+KPI!$P$5,\"\"))),\"\",IF(C300=\"corrective\",E300+KPI!$P$4,IF(C300=\"Preventative\",E300+KPI!$P$5,\"\")))","v":""},"Please select",null,null,null,null,null,"Please select",null,null,"",null,null,null,null,null,null,null,null,null,"","",null,null,0,0,1]
[null,"Please select",null,null,null,null,null,null,null,null,null,null,null,null,{"$f":"IF(ISERROR(IF(C301=\"corrective\",E301+KPI!$P$4,IF(C301=\"Preventative\",E301+KPI!$P$5,\"\"))),\"\",IF(C301=\"corrective\",E301+KPI!$P$4,IF(C301=\"Preventative\",E301+KPI!$P$5,\"\")))","v":""},"Please select",null,null,null,null,null,"Please select",null,null,"",null,null,null,null,null,null,null,null,null,"","",null,null,0,0,1]
[null,"Please select",null,null,null,null,null,null,null,null,null,null,null,null,{"$f":"IF(ISERROR(IF(C302=\"corrective\",E302+KPI!$P$4,IF(C302=\"Preventative\",E302+KPI!$P$5,\"\"))),\"\",IF(C302=\"corrective\",E302+KPI!$P$4,IF(C302=\"Preventative\",E302+KPI!$P$5,\"\")))","v":""},"Please select",null,null,null,null,null,"Please select",null,null,"",null,null,null,null,null,null,null,null,null,"","",null,null,0,0,1]
[null,"Please select",null,null,null,null,null,null,null,null,null,null,null,null,{"$f":"IF(ISERROR(IF(C303=\"corrective\",E303+KPI!$P$4,IF(C303=\"Preventative\",E303+KPI!$P$5,\"\"))),\"\",IF(C303=\"corrective\",E303+KPI!$P$4,IF(C303=\"Preventative\",E303+KPI!$P$5,\"\")))","v":""},"Please select",null,null,null,null,null,"Please select",null,null,"",null,null,null,null,null,null,null,null,null,"","",null,null,0,0,1]
[null,"Please select",null,null,null,null,null,null,null,null,null,null,null,null,{"$f":"IF(ISERROR(IF(C304=\"corrective\",E304+KPI!$P$4,IF(C304=\"Preventative\",E304+KPI!$P$5,\"\"))),\"\",IF(C304=\"corrective\",E304+KPI!$P$4,IF(C304=\"Preventative\",E304+KPI!$P$5,\"\")))","v":""},"Please select",null,null,null,null,null,"Please select",null,null,"",null,null,null,null,null,null,null,null,null,"","",null,null,0,0,1]
[null,"Please select",null,null,null,null,null,null,null,null,null,null,null,null,{"$f":"IF(ISERROR(IF(C305=\"corrective\",E305+KPI!$P$4,IF(C305=\"Preventative\",E305+KPI!$P$5,\"\"))),\"\",IF(C305=\"corrective\",E305+KPI!$P$4,IF(C305=\"Preventative\",E305+KPI!$P$5,\"\")))","v":""},"Please select",null,null,null,null,null,"Please select",null,null,"",null,null,null,null,null,null,null,null,null,"","",null,null,0,0,1]
[null,"Please select",null,null,null,null,null,null,null,null,null,null,null,null,{"$f":"IF(ISERROR(IF(C306=\"corrective\",E306+KPI!$P$4,IF(C306=\"Preventative\",E306+KPI!$P$5,\"\"))),\"\",IF(C306=\"corrective\",E306+KPI!$P$4,IF(C306=\"Preventative\",E306+KPI!$P$5,\"\")))","v":""},"Please select",null,null,null,null,null,"Please select",null,null,"",null,null,null,null,null,null,null,null,null,"","",null,null,0,0,1]
[null,"Please select",null,null,null,null,null,null,null,null,null,null,null,null,{"$f":"IF(ISERROR(IF(C307=\"corrective\",E307+KPI!$P$4,IF(C307=\"Preventative\",E307+KPI!$P$5,\"\"))),\"\",IF(C307=\"corrective\",E307+KPI!$P$4,IF(C307=\"Preventative\",E307+KPI!$P$5,\"\")))","v":""},"Please select",null,null,null,null,null,"Please select",null,null,"",null,null,null,null,null,null,null,null,null,"","",null,null,0,0,1]
[null,"Please select",null,null,null,null,null,null,null,null,null,null,null,null,{"$f":"IF(ISERROR(IF(C308=\"corrective\",E308+KPI!$P$4,IF(C308=\"Preventative\",E308+KPI!$P$5,\"\"))),\"\",IF(C308=\"corrective\",E308+KPI!$P$4,IF(C308=\"Preventative\",E308+KPI!$P$5,\"\")))","v":""},"Please select",null,null,null,null,null,"Please select",null,null,"",null,null,null,null,null,null,null,null,null,"","",null,null,0,0,1]
[null,"Please select",null,null,null,null,null,null,null,null,null,null,null,null,{"$f":"IF(ISERROR(IF(C309=\"corrective\",E309+KPI!$P$4,IF(C309=\"Preventative\",E309+KPI!$P$5,\"\"))),\"\",IF(C309=\"corrective\",E309+KPI!$P$4,IF(C309=\"Preventative\",E309+KPI!$P$5,\"\")))","v":""},"Please select",null,null,null,null,null,"Please select",null,null,"",null,null,null,null,null,null,null,null,null,"","",null,null,0,0,1]
[null,"Please select",null,null,null,null,null,null,null,null,null,null,null,null,{"$f":"IF(ISERROR(IF(C310=\"corrective\",E310+KPI!$P$4,IF(C310=\"Preventative\",E310+KPI!$P$5,\"\"))),\"\",IF(C310=\"corrective\",E310+KPI!$P$4,IF(C310=\"Preventative\",E310+KPI!$P$5,\"\")))","v":""},"Please select",null,null,null,null,null,"Please select",null,null,"",null,null,null,null,null,null,null,null,null,"","",null,null,0,0,1]
[null,"Please select",null,null,null,null,null,null,null,null,null,null,null,null,{"$f":"IF(ISERROR(IF(C311=\"corrective\",E311+KPI!$P$4,IF(C311=\"Preventative\",E311+KPI!$P$5,\"\"))),\"\",IF(C311=\"corrective\",E311+KPI!$P$4,IF(C311=\"Preventative\",E311+KPI!$P$5,\"\")))","v":""},"Please select",null,null,null,null,null,"Please select",null,null,"",null,null,null,null,null,null,null,null,null,"","",null,null,0,0,1]
[null,"Please select",null,null,null,null,null,null,null,null,null,null,null,null,{"$f":"IF(ISERROR(IF(C312=\"corrective\",E312+KPI!$P$4,IF(C312=\"Preventative\",E312+KPI!$P$5,\"\"))),\"\",IF(C312=\"corrective\",E312+KPI!$P$4,IF(C312=\"Preventative\",E312+KPI!$P$5,\"\")))","v":""},"Please select",null,null,null,null,null,"Please select",null,null,"",null,null,null,null,null,null,null,null,null,"","",null,null,0,0,1]
[null,"Please select",null,null,null,null,null,null,null,null,null,null,null,null,{"$f":"IF(ISERROR(IF(C313=\"corrective\",E313+KPI!$P$4,IF(C313=\"Preventative\",E313+KPI!$P$5,\"\"))),\"\",IF(C313=\"corrective\",E313+KPI!$P$4,IF(C313=\"Preventative\",E313+KPI!$P$5,\"\")))","v":""},"Please select",null,null,null,null,null,"Please select",null,null,"",null,null,null,null,null,null,null,null,null,"","",null,null,0,0,1]
[null,"Please select",null,null,null,null,null,null,null,null,null,null,null,null,{"$f":"IF(ISERROR(IF(C314=\"corrective\",E314+KPI!$P$4,IF(C314=\"Preventative\",E314+KPI!$P$5,\"\"))),\"\",IF(C314=\"corrective\",E314+KPI!$P$4,IF(C314=\"Preventative\",E314+KPI!$P$5,\"\")))","v":""},"Please select",null,null,null,null,null,"Please select",null,null,"",null,null,null,null,null,null,null,null,null,"","",null,null,0,0,1]
[null,"Please select",null,null,null,null,null,null,null,null,null,null,null,null,{"$f":"IF(ISERROR(IF(C315=\"corrective\",E315+KPI!$P$4,IF(C315=\"Preventative\",E315+KPI!$P$5,\"\"))),\"\",IF(C315=\"corrective\",E315+KPI!$P$4,IF(C315=\"Preventative\",E315+KPI!$P$5,\"\")))","v":""},"Please select",null,null,null,null,null,"Please select",null,null,"",null,null,null,null,null,null,null,null,null,"","",null,null,0,0,1]
[null,"Please select",null,null,null,null,null,null,null,null,null,null,null,null,{"$f":"IF(ISERROR(IF(C316=\"corrective\",E316+KPI!$P$4,IF(C316=\"Preventative\",E316+KPI!$P$5,\"\"))),\"\",IF(C316=\"corrective\",E316+KPI!$P$4,IF(C316=\"Preventative\",E316+KPI!$P$5,\"\")))","v":""},"Please select",null,null,null,null,null,"Please select",null,null,"",null,null,null,null,null,null,null,null,null,"","",null,null,0,0,1]
[null,"Please select",null,null,null,null,null,null,null,null,null,null,null,null,{"$f":"IF(ISERROR(IF(C317=\"corrective\",E317+KPI!$P$4,IF(C317=\"Preventative\",E317+KPI!$P$5,\"\"))),\"\",IF(C317=\"corrective\",E317+KPI!$P$4,IF(C317=\"Preventative\",E317+KPI!$P$5,\"\")))","v":""},"Please select",null,null,null,null,null,"Please select",null,null,"",null,null,null,null,null,null,null,null,null,"","",null,null,0,0,1]
[null,"Please select",null,null,null,null,null,null,null,null,null,null,null,null,{"$f":"IF(ISERROR(IF(C318=\"corrective\",E318+KPI!$P$4,IF(C318=\"Preventative\",E318+KPI!$P$5,\"\"))),\"\",IF(C318=\"corrective\",E318+KPI!$P$4,IF(C318=\"Preventative\",E318+KPI!$P$5,\"\")))","v":""},"Please select",null,null,null,null,null,"Please select",null,null,"",null,null,null,null,null,null,null,null,null,"","",null,null,0,0,1]
[null,"Please select",null,null,null,null,null,null,null,null,null,null,null,null,{"$f":"IF(ISERROR(IF(C319=\"corrective\",E319+KPI!$P$4,IF(C319=\"Preventative\",E319+KPI!$P$5,\"\"))),\"\",IF(C319=\"corrective\",E319+KPI!$P$4,IF(C319=\"Preventative\",E319+KPI!$P$5,\"\")))","v":""},"Please select",null,null,null,null,null,"Please select",null,null,"",null,null,null,null,null,null,null,null,null,"","",null,null,0,0,1]
[null,"Please select",null,null,null,null,null,null,null,null,null,null,null,null,{"$f":"IF(ISERROR(IF(C320=\"corrective\",E320+KPI!$P$4,IF(C320=\"Preventative\",E320+KPI!$P$5,\"\"))),\"\",IF(C320=\"corrective\",E320+KPI!$P$4,IF(C320=\"Preventative\",E320+KPI!$P$5,\"\")))","v":""},"Please select",null,null,null,null,null,"Please select",null,null,"",null,null,null,null,null,null,null,null,null,"","",null,null,0,0,{"$f":"COUNTIF(AN320,\">400\")+COUNTIF(AN320,\"=0\")","v":1}]
[null,"Please select",null,null,null,null,null,null,null,null,null,null,null,null,{"$f":"IF(ISERROR(IF(C321=\"corrective\",E321+KPI!$P$4,IF(C321=\"Preventative\",E321+KPI!$P$5,\"\"))),\"\",IF(C321=\"corrective\",E321+KPI!$P$4,IF(C321=\"Preventative\",E321+KPI!$P$5,\"\")))","v":""},"Please select",null,null,null,null,null,"Please select",null,null,"",null,null,null,null,null,null,null,null,null,"","",null,null,0,0,1]
[null,"Please select",null,null,null,null,null,null,null,null,null,null,null,null,{"$f":"IF(ISERROR(IF(C322=\"corrective\",E322+KPI!$P$4,IF(C322=\"Preventative\",E322+KPI!$P$5,\"\"))),\"\",IF(C322=\"corrective\",E322+KPI!$P$4,IF(C322=\"Preventative\",E322+KPI!$P$5,\"\")))","v":""},{"$f":"IF(AND(O322<TODAY(),B322=\"new\"),\"New - Overdue\",B322)","v":"Please select"},null,null,null,null,null,"Please select",null,null,{"$f":"Z322&AA322&AB322&AC322&AD322&AE322","v":""},null,null,null,null,null,null,null,null,null,{"$f":"IF(ISERROR(AJ322-20),\"\",AJ322-20)","v":""},{"$f":"IF(ISERROR(IF(C322=\"corrective\",E322+AH322,\"\")),\"\",IF(C322=\"corrective\",E322+AH322,\"\"))","v":""},null,null,{"$f":"IF(ISERROR(DATEDIF(E322,Q322,\"D\")),\"\",DATEDIF(E322,Q322,\"D\"))","v":0},{"$f":"IF(ISERROR(DATEDIF(Q322,X322,\"D\")),\"\",DATEDIF(Q322,X322,\"D\"))","v":0},1]
[null,"Please select",null,null,null,null,null,null,null,null,null,null,null,null,{"$f":"IF(ISERROR(IF(C323=\"corrective\",E323+KPI!$P$4,IF(C323=\"Preventative\",E323+KPI!$P$5,\"\"))),\"\",IF(C323=\"corrective\",E323+KPI!$P$4,IF(C323=\"Preventative\",E323+KPI!$P$5,\"\")))","v":""},"Please select",null,null,null,null,null,"Please select",null,null,"",null,null,null,null,null,null,null,null,null,"","",null,null,0,0,1]
[null,"Please select",null,null,null,null,null,null,null,null,null,null,null,null,{"$f":"IF(ISERROR(IF(C324=\"corrective\",E324+KPI!$P$4,IF(C324=\"Preventative\",E324+KPI!$P$5,\"\"))),\"\",IF(C324=\"corrective\",E324+KPI!$P$4,IF(C324=\"Preventative\",E324+KPI!$P$5,\"\")))","v":""},"Please select",null,null,null,null,null,"Please select",null,null,"",null,null,null,null,null,null,null,null,null,"","",null,null,0,0,1]
[null,"Please select",null,null,null,null,null,null,null,null,null,null,null,null,{"$f":"IF(ISERROR(IF(C325=\"corrective\",E325+KPI!$P$4,IF(C325=\"Preventative\",E325+KPI!$P$5,\"\"))),\"\",IF(C325=\"corrective\",E325+KPI!$P$4,IF(C325=\"Preventative\",E325+KPI!$P$5,\"\")))","v":""},"Please select",null,null,null,null,null,"Please select",null,null,"",null,null,null,null,null,null,null,null,null,"","",null,null,0,0,1]
[null,"Please select",null,null,null,null,null,null,null,null,null,null,null,null,{"$f":"IF(ISERROR(IF(C326=\"corrective\",E326+KPI!$P$4,IF(C326=\"Preventative\",E326+KPI!$P$5,\"\"))),\"\",IF(C326=\"corrective\",E326+KPI!$P$4,IF(C326=\"Preventative\",E326+KPI!$P$5,\"\")))","v":""},"Please select",null,null,null,null,null,"Please select",null,null,"",null,null,null,null,null,null,null,null,null,"","",null,null,0,0,1]
[null,"Please select",null,null,null,null,null,null,null,null,null,null,null,null,{"$f":"IF(ISERROR(IF(C327=\"corrective\",E327+KPI!$P$4,IF(C327=\"Preventative\",E327+KPI!$P$5,\"\"))),\"\",IF(C327=\"corrective\",E327+KPI!$P$4,IF(C327=\"Preventative\",E327+KPI!$P$5,\"\")))","v":""},"Please select",null,null,null,null,null,"Please select",null,null,"",null,null,null,null,null,null,null,null,null,"","",null,null,0,0,1]
[null,"Please select",null,null,null,null,null,null,null,null,null,null,null,null,{"$f":"IF(ISERROR(IF(C328=\"corrective\",E328+KPI!$P$4,IF(C328=\"Preventative\",E328+KPI!$P$5,\"\"))),\"\",IF(C328=\"corrective\",E328+KPI!$P$4,IF(C328=\"Preventative\",E328+KPI!$P$5,\"\")))","v":""},"Please select",null,null,null,null,null,"Please select",null,null,"",null,null,null,null,null,null,null,null,null,"","",null,null,0,0,1]
[null,"Please select",null,null,null,null,null,null,null,null,null,null,null,null,{"$f":"IF(ISERROR(IF(C329=\"corrective\",E329+KPI!$P$4,IF(C329=\"Preventative\",E329+KPI!$P$5,\"\"))),\"\",IF(C329=\"corrective\",E329+KPI!$P$4,IF(C329=\"Preventative\",E329+KPI!$P$5,\"\")))","v":""},"Please select",null,null,null,null,null,"Please select",null,null,"",null,null,null,null,null,null,null,null,null,"","",null,null,0,0,1]
[null,"Please select",null,null,null,null,null,null,null,null,null,null,null,null,{"$f":"IF(ISERROR(IF(C330=\"corrective\",E330+KPI!$P$4,IF(C330=\"Preventative\",E330+KPI!$P$5,\"\"))),\"\",IF(C330=\"corrective\",E330+KPI!$P$4,IF(C330=\"Preventative\",E330+KPI!$P$5,\"\")))","v":""},"Please select",null,null,null,null,null,"Please select",null,null,"",null,null,null,null,null,null,null,null,null,"","",null,null,0,0,1]
[null,"Please select",null,null,null,null,null,null,null,null,null,null,null,null,{"$f":"IF(ISERROR(IF(C331=\"corrective\",E331+KPI!$P$4,IF(C331=\"Preventative\",E331+KPI!$P$5,\"\"))),\"\",IF(C331=\"corrective\",E331+KPI!$P$4,IF(C331=\"Preventative\",E331+KPI!$P$5,\"\")))","v":""},"Please select",null,null,null,null,null,"Please select",null,null,"",null,null,null,null,null,null,null,null,null,"","",null,null,0,0,1]
[null,"Please select",null,null,null,null,null,null,null,null,null,null,null,null,{"$f":"IF(ISERROR(IF(C332=\"corrective\",E332+KPI!$P$4,IF(C332=\"Preventative\",E332+KPI!$P$5,\"\"))),\"\",IF(C332=\"corrective\",E332+KPI!$P$4,IF(C332=\"Preventative\",E332+KPI!$P$5,\"\")))","v":""},"Please select",null,null,null,null,null,"Please select",null,null,"",null,null,null,null,null,null,null,null,null,"","",null,null,0,0,1]
[null,"Please select",null,null,null,null,null,null,null,null,null,null,null,null,{"$f":"IF(ISERROR(IF(C333=\"corrective\",E333+KPI!$P$4,IF(C333=\"Preventative\",E333+KPI!$P$5,\"\"))),\"\",IF(C333=\"corrective\",E333+KPI!$P$4,IF(C333=\"Preventative\",E333+KPI!$P$5,\"\")))","v":""},"Please select",null,null,null,null,null,"Please select",null,null,"",null,null,null,null,null,null,null,null,null,"","",null,null,0,0,1]
[null,"Please select",null,null,null,null,null,null,null,null,null,null,null,null,{"$f":"IF(ISERROR(IF(C334=\"corrective\",E334+KPI!$P$4,IF(C334=\"Preventative\",E334+KPI!$P$5,\"\"))),\"\",IF(C334=\"corrective\",E334+KPI!$P$4,IF(C334=\"Preventative\",E334+KPI!$P$5,\"\")))","v":""},"Please select",null,null,null,null,null,"Please select",null,null,"",null,null,null,null,null,null,null,null,null,"","",null,null,0,0,1]
[null,"Please select",null,null,null,null,null,null,null,null,null,null,null,null,{"$f":"IF(ISERROR(IF(C335=\"corrective\",E335+KPI!$P$4,IF(C335=\"Preventative\",E335+KPI!$P$5,\"\"))),\"\",IF(C335=\"corrective\",E335+KPI!$P$4,IF(C335=\"Preventative\",E335+KPI!$P$5,\"\")))","v":""},"Please select",null,null,null,null,null,"Please select",null,null,"",null,null,null,null,null,null,null,null,null,"","",null,null,0,0,1]
[null,"Please select",null,null,null,null,null,null,null,null,null,null,null,null,{"$f":"IF(ISERROR(IF(C336=\"corrective\",E336+KPI!$P$4,IF(C336=\"Preventative\",E336+KPI!$P$5,\"\"))),\"\",IF(C336=\"corrective\",E336+KPI!$P$4,IF(C336=\"Preventative\",E336+KPI!$P$5,\"\")))","v":""},"Please select",null,null,null,null,null,"Please select",null,null,"",null,null,null,null,null,null,null,null,null,"","",null,null,0,0,1]
[null,"Please select",null,null,null,null,null,null,null,null,null,null,null,null,{"$f":"IF(ISERROR(IF(C337=\"corrective\",E337+KPI!$P$4,IF(C337=\"Preventative\",E337+KPI!$P$5,\"\"))),\"\",IF(C337=\"corrective\",E337+KPI!$P$4,IF(C337=\"Preventative\",E337+KPI!$P$5,\"\")))","v":""},"Please select",null,null,null,null,null,"Please select",null,null,"",null,null,null,null,null,null,null,null,null,"","",null,null,0,0,1]
[null,"Please select",null,null,null,null,null,null,null,null,null,null,null,null,{"$f":"IF(ISERROR(IF(C338=\"corrective\",E338+KPI!$P$4,IF(C338=\"Preventative\",E338+KPI!$P$5,\"\"))),\"\",IF(C338=\"corrective\",E338+KPI!$P$4,IF(C338=\"Preventative\",E338+KPI!$P$5,\"\")))","v":""},"Please select",null,null,null,null,null,"Please select",null,null,"",null,null,null,null,null,null,null,null,null,"","",null,null,0,0,1]
[null,"Please select",null,null,null,null,null,null,null,null,null,null,null,null,{"$f":"IF(ISERROR(IF(C339=\"corrective\",E339+KPI!$P$4,IF(C339=\"Preventative\",E339+KPI!$P$5,\"\"))),\"\",IF(C339=\"corrective\",E339+KPI!$P$4,IF(C339=\"Preventative\",E339+KPI!$P$5,\"\")))","v":""},"Please select",null,null,null,null,null,"Please select",null,null,"",null,null,null,null,null,null,null,null,null,"","",null,null,0,0,1]
[null,"Please select",null,null,null,null,null,null,null,null,null,null,null,null,{"$f":"IF(ISERROR(IF(C340=\"corrective\",E340+KPI!$P$4,IF(C340=\"Preventative\",E340+KPI!$P$5,\"\"))),\"\",IF(C340=\"corrective\",E340+KPI!$P$4,IF(C340=\"Preventative\",E340+KPI!$P$5,\"\")))","v":""},"Please select",null,null,null,null,null,"Please select",null,null,"",null,null,null,null,null,null,null,null,null,"","",null,null,0,0,1]
[null,"Please select",null,null,null,null,null,null,null,null,null,null,null,null,{"$f":"IF(ISERROR(IF(C341=\"corrective\",E341+KPI!$P$4,IF(C341=\"Preventative\",E341+KPI!$P$5,\"\"))),\"\",IF(C341=\"corrective\",E341+KPI!$P$4,IF(C341=\"Preventative\",E341+KPI!$P$5,\"\")))","v":""},"Please select",null,null,null,null,null,"Please select",null,null,"",null,null,null,null,null,null,null,null,null,"","",null,null,0,0,1]
[null,"Please select",null,null,null,null,null,null,null,null,null,null,null,null,{"$f":"IF(ISERROR(IF(C342=\"corrective\",E342+KPI!$P$4,IF(C342=\"Preventative\",E342+KPI!$P$5,\"\"))),\"\",IF(C342=\"corrective\",E342+KPI!$P$4,IF(C342=\"Preventative\",E342+KPI!$P$5,\"\")))","v":""},"Please select",null,null,null,null,null,"Please select",null,null,"",null,null,null,null,null,null,null,null,null,"","",null,null,0,0,1]
[null,"Please select",null,null,null,null,null,null,null,null,null,null,null,null,{"$f":"IF(ISERROR(IF(C343=\"corrective\",E343+KPI!$P$4,IF(C343=\"Preventative\",E343+KPI!$P$5,\"\"))),\"\",IF(C343=\"corrective\",E343+KPI!$P$4,IF(C343=\"Preventative\",E343+KPI!$P$5,\"\")))","v":""},"Please select",null,null,null,null,null,"Please select",null,null,"",null,null,null,null,null,null,null,null,null,"","",null,null,0,0,1]
[null,"Please select",null,null,null,null,null,null,null,null,null,null,null,null,{"$f":"IF(ISERROR(IF(C344=\"corrective\",E344+KPI!$P$4,IF(C344=\"Preventative\",E344+KPI!$P$5,\"\"))),\"\",IF(C344=\"corrective\",E344+KPI!$P$4,IF(C344=\"Preventative\",E344+KPI!$P$5,\"\")))","v":""},"Please select",null,null,null,null,null,"Please select",null,null,"",null,null,null,null,null,null,null,null,null,"","",null,null,0,0,1]
[null,"Please select",null,null,null,null,null,null,null,null,null,null,null,null,{"$f":"IF(ISERROR(IF(C345=\"corrective\",E345+KPI!$P$4,IF(C345=\"Preventative\",E345+KPI!$P$5,\"\"))),\"\",IF(C345=\"corrective\",E345+KPI!$P$4,IF(C345=\"Preventative\",E345+KPI!$P$5,\"\")))","v":""},"Please select",null,null,null,null,null,"Please select",null,null,"",null,null,null,null,null,null,null,null,null,"","",null,null,0,0,1]
[null,"Please select",null,null,null,null,null,null,null,null,null,null,null,null,{"$f":"IF(ISERROR(IF(C346=\"corrective\",E346+KPI!$P$4,IF(C346=\"Preventative\",E346+KPI!$P$5,\"\"))),\"\",IF(C346=\"corrective\",E346+KPI!$P$4,IF(C346=\"Preventative\",E346+KPI!$P$5,\"\")))","v":""},"Please select",null,null,null,null,null,"Please select",null,null,"",null,null,null,null,null,null,null,null,null,"","",null,null,0,0,1]
[null,"Please select",null,null,null,null,null,null,null,null,null,null,null,null,{"$f":"IF(ISERROR(IF(C347=\"corrective\",E347+KPI!$P$4,IF(C347=\"Preventative\",E347+KPI!$P$5,\"\"))),\"\",IF(C347=\"corrective\",E347+KPI!$P$4,IF(C347=\"Preventative\",E347+KPI!$P$5,\"\")))","v":""},"Please select",null,null,null,null,null,"Please select",null,null,"",null,null,null,null,null,null,null,null,null,"","",null,null,0,0,1]
[null,"Please select",null,null,null,null,null,null,null,null,null,null,null,null,{"$f":"IF(ISERROR(IF(C348=\"corrective\",E348+KPI!$P$4,IF(C348=\"Preventative\",E348+KPI!$P$5,\"\"))),\"\",IF(C348=\"corrective\",E348+KPI!$P$4,IF(C348=\"Preventative\",E348+KPI!$P$5,\"\")))","v":""},"Please select",null,null,null,null,null,"Please select",null,null,"",null,null,null,null,null,null,null,null,null,"","",null,null,0,0,1]
[null,"Please select",null,null,null,null,null,null,null,null,null,null,null,null,{"$f":"IF(ISERROR(IF(C349=\"corrective\",E349+KPI!$P$4,IF(C349=\"Preventative\",E349+KPI!$P$5,\"\"))),\"\",IF(C349=\"corrective\",E349+KPI!$P$4,IF(C349=\"Preventative\",E349+KPI!$P$5,\"\")))","v":""},"Please select",null,null,null,null,null,"Please select",null,null,"",null,null,null,null,null,null,null,null,null,"","",null,null,0,0,1]
[null,"Please select",null,null,null,null,null,null,null,null,null,null,null,null,{"$f":"IF(ISERROR(IF(C350=\"corrective\",E350+KPI!$P$4,IF(C350=\"Preventative\",E350+KPI!$P$5,\"\"))),\"\",IF(C350=\"corrective\",E350+KPI!$P$4,IF(C350=\"Preventative\",E350+KPI!$P$5,\"\")))","v":""},"Please select",null,null,null,null,null,"Please select",null,null,"",null,null,null,null,null,null,null,null,null,"","",null,null,0,0,1]
[null,"Please select",null,null,null,null,null,null,null,null,null,null,null,null,{"$f":"IF(ISERROR(IF(C351=\"corrective\",E351+KPI!$P$4,IF(C351=\"Preventative\",E351+KPI!$P$5,\"\"))),\"\",IF(C351=\"corrective\",E351+KPI!$P$4,IF(C351=\"Preventative\",E351+KPI!$P$5,\"\")))","v":""},"Please select",null,null,null,null,null,"Please select",null,null,"",null,null,null,null,null,null,null,null,null,"","",null,null,0,0,1]
[null,"Please select",null,null,null,null,null,null,null,null,null,null,null,null,{"$f":"IF(ISERROR(IF(C352=\"corrective\",E352+KPI!$P$4,IF(C352=\"Preventative\",E352+KPI!$P$5,\"\"))),\"\",IF(C352=\"corrective\",E352+KPI!$P$4,IF(C352=\"Preventative\",E352+KPI!$P$5,\"\")))","v":""},"Please select",null,null,null,null,null,"Please select",null,null,"",null,null,null,null,null,null,null,null,null,"","",null,null,0,0,1]
[null,"Please select",null,null,null,null,null,null,null,null,null,null,null,null,{"$f":"IF(ISERROR(IF(C353=\"corrective\",E353+KPI!$P$4,IF(C353=\"Preventative\",E353+KPI!$P$5,\"\"))),\"\",IF(C353=\"corrective\",E353+KPI!$P$4,IF(C353=\"Preventative\",E353+KPI!$P$5,\"\")))","v":""},"Please select",null,null,null,null,null,"Please select",null,null,"",null,null,null,null,null,null,null,null,null,"","",null,null,0,0,1]
[null,"Please select",null,null,null,null,null,null,null,null,null,null,null,null,{"$f":"IF(ISERROR(IF(C354=\"corrective\",E354+KPI!$P$4,IF(C354=\"Preventative\",E354+KPI!$P$5,\"\"))),\"\",IF(C354=\"corrective\",E354+KPI!$P$4,IF(C354=\"Preventative\",E354+KPI!$P$5,\"\")))","v":""},"Please select",null,null,null,null,null,"Please select",null,null,"",null,null,null,null,null,null,null,null,null,"","",null,null,0,0,1]
[null,"Please select",null,null,null,null,null,null,null,null,null,null,null,null,{"$f":"IF(ISERROR(IF(C355=\"corrective\",E355+KPI!$P$4,IF(C355=\"Preventative\",E355+KPI!$P$5,\"\"))),\"\",IF(C355=\"corrective\",E355+KPI!$P$4,IF(C355=\"Preventative\",E355+KPI!$P$5,\"\")))","v":""},"Please select",null,null,null,null,null,"Please select",null,null,"",null,null,null,null,null,null,null,null,null,"","",null,null,0,0,1]
[null,"Please select",null,null,null,null,null,null,null,null,null,null,null,null,{"$f":"IF(ISERROR(IF(C356=\"corrective\",E356+KPI!$P$4,IF(C356=\"Preventative\",E356+KPI!$P$5,\"\"))),\"\",IF(C356=\"corrective\",E356+KPI!$P$4,IF(C356=\"Preventative\",E356+KPI!$P$5,\"\")))","v":""},"Please select",null,null,null,null,null,"Please select",null,null,"",null,null,null,null,null,null,null,null,null,"","",null,null,0,0,1]
[null,"Please select",null,null,null,null,null,null,null,null,null,null,null,null,{"$f":"IF(ISERROR(IF(C357=\"corrective\",E357+KPI!$P$4,IF(C357=\"Preventative\",E357+KPI!$P$5,\"\"))),\"\",IF(C357=\"corrective\",E357+KPI!$P$4,IF(C357=\"Preventative\",E357+KPI!$P$5,\"\")))","v":""},"Please select",null,null,null,null,null,"Please select",null,null,"",null,null,null,null,null,null,null,null,null,"","",null,null,0,0,1]
[null,"Please select",null,null,null,null,null,null,null,null,null,null,null,null,{"$f":"IF(ISERROR(IF(C358=\"corrective\",E358+KPI!$P$4,IF(C358=\"Preventative\",E358+KPI!$P$5,\"\"))),\"\",IF(C358=\"corrective\",E358+KPI!$P$4,IF(C358=\"Preventative\",E358+KPI!$P$5,\"\")))","v":""},"Please select",null,null,null,null,null,"Please select",null,null,"",null,null,null,null,null,null,null,null,null,"","",null,null,0,0,1]
[null,"Please select",null,null,null,null,null,null,null,null,null,null,null,null,{"$f":"IF(ISERROR(IF(C359=\"corrective\",E359+KPI!$P$4,IF(C359=\"Preventative\",E359+KPI!$P$5,\"\"))),\"\",IF(C359=\"corrective\",E359+KPI!$P$4,IF(C359=\"Preventative\",E359+KPI!$P$5,\"\")))","v":""},"Please select",null,null,null,null,null,"Please select",null,null,"",null,null,null,null,null,null,null,null,null,"","",null,null,0,0,1]
[null,"Please select",null,null,null,null,null,null,null,null,null,null,null,null,{"$f":"IF(ISERROR(IF(C360=\"corrective\",E360+KPI!$P$4,IF(C360=\"Preventative\",E360+KPI!$P$5,\"\"))),\"\",IF(C360=\"corrective\",E360+KPI!$P$4,IF(C360=\"Preventative\",E360+KPI!$P$5,\"\")))","v":""},"Please select",null,null,null,null,null,"Please select",null,null,"",null,null,null,null,null,null,null,null,null,"","",null,null,0,0,1]
[null,"Please select",null,null,null,null,null,null,null,null,null,null,null,null,{"$f":"IF(ISERROR(IF(C361=\"corrective\",E361+KPI!$P$4,IF(C361=\"Preventative\",E361+KPI!$P$5,\"\"))),\"\",IF(C361=\"corrective\",E361+KPI!$P$4,IF(C361=\"Preventative\",E361+KPI!$P$5,\"\")))","v":""},"Please select",null,null,null,null,null,"Please select",null,null,"",null,null,null,null,null,null,null,null,null,"","",null,null,0,0,1]
[null,"Please select",null,null,null,null,null,null,null,null,null,null,null,null,{"$f":"IF(ISERROR(IF(C362=\"corrective\",E362+KPI!$P$4,IF(C362=\"Preventative\",E362+KPI!$P$5,\"\"))),\"\",IF(C362=\"corrective\",E362+KPI!$P$4,IF(C362=\"Preventative\",E362+KPI!$P$5,\"\")))","v":""},"Please select",null,null,null,null,null,"Please select",null,null,"",null,null,null,null,null,null,null,null,null,"","",null,null,0,0,1]
[null,"Please select",null,null,null,null,null,null,null,null,null,null,null,null,{"$f":"IF(ISERROR(IF(C363=\"corrective\",E363+KPI!$P$4,IF(C363=\"Preventative\",E363+KPI!$P$5,\"\"))),\"\",IF(C363=\"corrective\",E363+KPI!$P$4,IF(C363=\"Preventative\",E363+KPI!$P$5,\"\")))","v":""},"Please select",null,null,null,null,null,"Please select",null,null,"",null,null,null,null,null,null,null,null,null,"","",null,null,0,0,1]
[null,"Please select",null,null,null,null,null,null,null,null,null,null,null,null,{"$f":"IF(ISERROR(IF(C364=\"corrective\",E364+KPI!$P$4,IF(C364=\"Preventative\",E364+KPI!$P$5,\"\"))),\"\",IF(C364=\"corrective\",E364+KPI!$P$4,IF(C364=\"Preventative\",E364+KPI!$P$5,\"\")))","v":""},"Please select",null,null,null,null,null,"Please select",null,null,"",null,null,null,null,null,null,null,null,null,"","",null,null,0,0,1]
[null,"Please select",null,null,null,null,null,null,null,null,null,null,null,null,{"$f":"IF(ISERROR(IF(C365=\"corrective\",E365+KPI!$P$4,IF(C365=\"Preventative\",E365+KPI!$P$5,\"\"))),\"\",IF(C365=\"corrective\",E365+KPI!$P$4,IF(C365=\"Preventative\",E365+KPI!$P$5,\"\")))","v":""},"Please select",null,null,null,null,null,"Please select",null,null,"",null,null,null,null,null,null,null,null,null,"","",null,null,0,0,1]
[null,"Please select",null,null,null,null,null,null,null,null,null,null,null,null,{"$f":"IF(ISERROR(IF(C366=\"corrective\",E366+KPI!$P$4,IF(C366=\"Preventative\",E366+KPI!$P$5,\"\"))),\"\",IF(C366=\"corrective\",E366+KPI!$P$4,IF(C366=\"Preventative\",E366+KPI!$P$5,\"\")))","v":""},"Please select",null,null,null,null,null,"Please select",null,null,"",null,null,null,null,null,null,null,null,null,"","",null,null,0,0,1]
[null,"Please select",null,null,null,null,null,null,null,null,null,null,null,null,{"$f":"IF(ISERROR(IF(C367=\"corrective\",E367+KPI!$P$4,IF(C367=\"Preventative\",E367+KPI!$P$5,\"\"))),\"\",IF(C367=\"corrective\",E367+KPI!$P$4,IF(C367=\"Preventative\",E367+KPI!$P$5,\"\")))","v":""},"Please select",null,null,null,null,null,"Please select",null,null,"",null,null,null,null,null,null,null,null,null,"","",null,null,0,0,1]
[null,"Please select",null,null,null,null,null,null,null,null,null,null,null,null,{"$f":"IF(ISERROR(IF(C368=\"corrective\",E368+KPI!$P$4,IF(C368=\"Preventative\",E368+KPI!$P$5,\"\"))),\"\",IF(C368=\"corrective\",E368+KPI!$P$4,IF(C368=\"Preventative\",E368+KPI!$P$5,\"\")))","v":""},"Please select",null,null,null,null,null,"Please select",null,null,"",null,null,null,null,null,null,null,null,null,"","",null,null,0,0,1]
[null,"Please select",null,null,null,null,null,null,null,null,null,null,null,null,{"$f":"IF(ISERROR(IF(C369=\"corrective\",E369+KPI!$P$4,IF(C369=\"Preventative\",E369+KPI!$P$5,\"\"))),\"\",IF(C369=\"corrective\",E369+KPI!$P$4,IF(C369=\"Preventative\",E369+KPI!$P$5,\"\")))","v":""},"Please select",null,null,null,null,null,"Please select",null,null,"",null,null,null,null,null,null,null,null,null,"","",null,null,0,0,1]
[null,"Please select",null,null,null,null,null,null,null,null,null,null,null,null,{"$f":"IF(ISERROR(IF(C370=\"corrective\",E370+KPI!$P$4,IF(C370=\"Preventative\",E370+KPI!$P$5,\"\"))),\"\",IF(C370=\"corrective\",E370+KPI!$P$4,IF(C370=\"Preventative\",E370+KPI!$P$5,\"\")))","v":""},"Please select",null,null,null,null,null,"Please select",null,null,"",null,null,null,null,null,null,null,null,null,"","",null,null,0,0,1]
[null,"Please select",null,null,null,null,null,null,null,null,null,null,null,null,{"$f":"IF(ISERROR(IF(C371=\"corrective\",E371+KPI!$P$4,IF(C371=\"Preventative\",E371+KPI!$P$5,\"\"))),\"\",IF(C371=\"corrective\",E371+KPI!$P$4,IF(C371=\"Preventative\",E371+KPI!$P$5,\"\")))","v":""},"Please select",null,null,null,null,null,"Please select",null,null,"",null,null,null,null,null,null,null,null,null,"","",null,null,0,0,1]
[null,"Please select",null,null,null,null,null,null,null,null,null,null,null,null,{"$f":"IF(ISERROR(IF(C372=\"corrective\",E372+KPI!$P$4,IF(C372=\"Preventative\",E372+KPI!$P$5,\"\"))),\"\",IF(C372=\"corrective\",E372+KPI!$P$4,IF(C372=\"Preventative\",E372+KPI!$P$5,\"\")))","v":""},"Please select",null,null,null,null,null,"Please select",null,null,"",null,null,null,null,null,null,null,null,null,"","",null,null,0,0,1]
[null,"Please select",null,null,null,null,null,null,null,null,null,null,null,null,{"$f":"IF(ISERROR(IF(C373=\"corrective\",E373+KPI!$P$4,IF(C373=\"Preventative\",E373+KPI!$P$5,\"\"))),\"\",IF(C373=\"corrective\",E373+KPI!$P$4,IF(C373=\"Preventative\",E373+KPI!$P$5,\"\")))","v":""},"Please select",null,null,null,null,null,"Please select",null,null,"",null,null,null,null,null,null,null,null,null,"","",null,null,0,0,1]
[null,"Please select",null,null,null,null,null,null,null,null,null,null,null,null,{"$f":"IF(ISERROR(IF(C374=\"corrective\",E374+KPI!$P$4,IF(C374=\"Preventative\",E374+KPI!$P$5,\"\"))),\"\",IF(C374=\"corrective\",E374+KPI!$P$4,IF(C374=\"Preventative\",E374+KPI!$P$5,\"\")))","v":""},"Please select",null,null,null,null,null,"Please select",null,null,"",null,null,null,null,null,null,null,null,null,"","",null,null,0,0,1]
[null,"Please select",null,null,null,null,null,null,null,null,null,null,null,null,{"$f":"IF(ISERROR(IF(C375=\"corrective\",E375+KPI!$P$4,IF(C375=\"Preventative\",E375+KPI!$P$5,\"\"))),\"\",IF(C375=\"corrective\",E375+KPI!$P$4,IF(C375=\"Preventative\",E375+KPI!$P$5,\"\")))","v":""},"Please select",null,null,null,null,null,"Please select",null,null,"",null,null,null,null,null,null,null,null,null,"","",null,null,0,0,1]
[null,"Please select",null,null,null,null,null,null,null,null,null,null,null,null,{"$f":"IF(ISERROR(IF(C376=\"corrective\",E376+KPI!$P$4,IF(C376=\"Preventative\",E376+KPI!$P$5,\"\"))),\"\",IF(C376=\"corrective\",E376+KPI!$P$4,IF(C376=\"Preventative\",E376+KPI!$P$5,\"\")))","v":""},"Please select",null,null,null,null,null,"Please select",null,null,"",null,null,null,null,null,null,null,null,null,"","",null,null,0,0,1]
[null,"Please select",null,null,null,null,null,null,null,null,null,null,null,null,{"$f":"IF(ISERROR(IF(C377=\"corrective\",E377+KPI!$P$4,IF(C377=\"Preventative\",E377+KPI!$P$5,\"\"))),\"\",IF(C377=\"corrective\",E377+KPI!$P$4,IF(C377=\"Preventative\",E377+KPI!$P$5,\"\")))","v":""},"Please select",null,null,null,null,null,"Please select",null,null,"",null,null,null,null,null,null,null,null,null,"","",null,null,0,0,1]
[null,"Please select",null,null,null,null,null,null,null,null,null,null,null,null,{"$f":"IF(ISERROR(IF(C378=\"corrective\",E378+KPI!$P$4,IF(C378=\"Preventative\",E378+KPI!$P$5,\"\"))),\"\",IF(C378=\"corrective\",E378+KPI!$P$4,IF(C378=\"Preventative\",E378+KPI!$P$5,\"\")))","v":""},"Please select",null,null,null,null,null,"Please select",null,null,"",null,null,null,null,null,null,null,null,null,"","",null,null,0,0,1]
[null,"Please select",null,null,null,null,null,null,null,null,null,null,null,null,{"$f":"IF(ISERROR(IF(C379=\"corrective\",E379+KPI!$P$4,IF(C379=\"Preventative\",E379+KPI!$P$5,\"\"))),\"\",IF(C379=\"corrective\",E379+KPI!$P$4,IF(C379=\"Preventative\",E379+KPI!$P$5,\"\")))","v":""},"Please select",null,null,null,null,null,"Please select",null,null,"",null,null,null,null,null,null,null,null,null,"","",null,null,0,0,1]
[null,"Please select",null,null,null,null,null,null,null,null,null,null,null,null,{"$f":"IF(ISERROR(IF(C380=\"corrective\",E380+KPI!$P$4,IF(C380=\"Preventative\",E380+KPI!$P$5,\"\"))),\"\",IF(C380=\"corrective\",E380+KPI!$P$4,IF(C380=\"Preventative\",E380+KPI!$P$5,\"\")))","v":""},"Please select",null,null,null,null,null,"Please select",null,null,"",null,null,null,null,null,null,null,null,null,"","",null,null,0,0,1]
[null,"Please select",null,null,null,null,null,null,null,null,null,null,null,null,{"$f":"IF(ISERROR(IF(C381=\"corrective\",E381+KPI!$P$4,IF(C381=\"Preventative\",E381+KPI!$P$5,\"\"))),\"\",IF(C381=\"corrective\",E381+KPI!$P$4,IF(C381=\"Preventative\",E381+KPI!$P$5,\"\")))","v":""},"Please select",null,null,null,null,null,"Please select",null,null,"",null,null,null,null,null,null,null,null,null,"","",null,null,0,0,1]
[null,"Please select",null,null,null,null,null,null,null,null,null,null,null,null,{"$f":"IF(ISERROR(IF(C382=\"corrective\",E382+KPI!$P$4,IF(C382=\"Preventative\",E382+KPI!$P$5,\"\"))),\"\",IF(C382=\"corrective\",E382+KPI!$P$4,IF(C382=\"Preventative\",E382+KPI!$P$5,\"\")))","v":""},"Please select",null,null,null,null,null,"Please select",null,null,"",null,null,null,null,null,null,null,null,null,"","",null,null,0,0,1]
[null,"Please select",null,null,null,null,null,null,null,null,null,null,null,null,{"$f":"IF(ISERROR(IF(C383=\"corrective\",E383+KPI!$P$4,IF(C383=\"Preventative\",E383+KPI!$P$5,\"\"))),\"\",IF(C383=\"corrective\",E383+KPI!$P$4,IF(C383=\"Preventative\",E383+KPI!$P$5,\"\")))","v":""},"Please select",null,null,null,null,null,"Please select",null,null,"",null,null,null,null,null,null,null,null,null,"","",null,null,0,0,{"$f":"COUNTIF(AN383,\">400\")+COUNTIF(AN383,\"=0\")","v":1}]
[null,"Please select",null,null,null,null,null,null,null,null,null,null,null,null,{"$f":"IF(ISERROR(IF(C384=\"corrective\",E384+KPI!$P$4,IF(C384=\"Preventative\",E384+KPI!$P$5,\"\"))),\"\",IF(C384=\"corrective\",E384+KPI!$P$4,IF(C384=\"Preventative\",E384+KPI!$P$5,\"\")))","v":""},"Please select",null,null,null,null,null,"Please select",null,null,"",null,null,null,null,null,null,null,null,null,"","",null,null,0,0,1]
[null,"Please select",null,null,null,null,null,null,null,null,null,null,null,null,{"$f":"IF(ISERROR(IF(C385=\"corrective\",E385+KPI!$P$4,IF(C385=\"Preventative\",E385+KPI!$P$5,\"\"))),\"\",IF(C385=\"corrective\",E385+KPI!$P$4,IF(C385=\"Preventative\",E385+KPI!$P$5,\"\")))","v":""},"Please select",null,null,null,null,null,"Please select",null,null,"",null,null,null,null,null,null,null,null,null,"","",null,null,0,0,1]
[null,"Please select",null,null,null,null,null,null,null,null,null,null,null,null,{"$f":"IF(ISERROR(IF(C386=\"corrective\",E386+KPI!$P$4,IF(C386=\"Preventative\",E386+KPI!$P$5,\"\"))),\"\",IF(C386=\"corrective\",E386+KPI!$P$4,IF(C386=\"Preventative\",E386+KPI!$P$5,\"\")))","v":""},{"$f":"IF(AND(O386<TODAY(),B386=\"new\"),\"New - Overdue\",B386)","v":"Please select"},null,null,null,null,null,"Please select",null,null,{"$f":"Z386&AA386&AB386&AC386&AD386&AE386","v":""},null,null,null,null,null,null,null,null,null,{"$f":"IF(ISERROR(AJ386-20),\"\",AJ386-20)","v":""},{"$f":"IF(ISERROR(IF(C386=\"corrective\",E386+AH386,\"\")),\"\",IF(C386=\"corrective\",E386+AH386,\"\"))","v":""},null,null,{"$f":"IF(ISERROR(DATEDIF(E386,Q386,\"D\")),\"\",DATEDIF(E386,Q386,\"D\"))","v":0},{"$f":"IF(ISERROR(DATEDIF(Q386,X386,\"D\")),\"\",DATEDIF(Q386,X386,\"D\"))","v":0},1]
[null,"Please select",null,null,null,null,null,null,null,null,null,null,null,null,{"$f":"IF(ISERROR(IF(C387=\"corrective\",E387+KPI!$P$4,IF(C387=\"Preventative\",E387+KPI!$P$5,\"\"))),\"\",IF(C387=\"corrective\",E387+KPI!$P$4,IF(C387=\"Preventative\",E387+KPI!$P$5,\"\")))","v":""},"Please select",null,null,null,null,null,"Please select",null,null,"",null,null,null,null,null,null,null,null,null,"","",null,null,0,0,1]
[null,"Please select",null,null,null,null,null,null,null,null,null,null,null,null,{"$f":"IF(ISERROR(IF(C388=\"corrective\",E388+KPI!$P$4,IF(C388=\"Preventative\",E388+KPI!$P$5,\"\"))),\"\",IF(C388=\"corrective\",E388+KPI!$P$4,IF(C388=\"Preventative\",E388+KPI!$P$5,\"\")))","v":""},"Please select",null,null,null,null,null,"Please select",null,null,"",null,null,null,null,null,null,null,null,null,"","",null,null,0,0,1]
[null,"Please select",null,null,null,null,null,null,null,null,null,null,null,null,{"$f":"IF(ISERROR(IF(C389=\"corrective\",E389+KPI!$P$4,IF(C389=\"Preventative\",E389+KPI!$P$5,\"\"))),\"\",IF(C389=\"corrective\",E389+KPI!$P$4,IF(C389=\"Preventative\",E389+KPI!$P$5,\"\")))","v":""},"Please select",null,null,null,null,null,"Please select",null,null,"",null,null,null,null,null,null,null,null,null,"","",null,null,0,0,1]
[null,"Please select",null,null,null,null,null,null,null,null,null,null,null,null,{"$f":"IF(ISERROR(IF(C390=\"corrective\",E390+KPI!$P$4,IF(C390=\"Preventative\",E390+KPI!$P$5,\"\"))),\"\",IF(C390=\"corrective\",E390+KPI!$P$4,IF(C390=\"Preventative\",E390+KPI!$P$5,\"\")))","v":""},"Please select",null,null,null,null,null,"Please select",null,null,"",null,null,null,null,null,null,null,null,null,"","",null,null,0,0,1]
[null,"Please select",null,null,null,null,null,null,null,null,null,null,null,null,{"$f":"IF(ISERROR(IF(C391=\"corrective\",E391+KPI!$P$4,IF(C391=\"Preventative\",E391+KPI!$P$5,\"\"))),\"\",IF(C391=\"corrective\",E391+KPI!$P$4,IF(C391=\"Preventative\",E391+KPI!$P$5,\"\")))","v":""},"Please select",null,null,null,null,null,"Please select",null,null,"",null,null,null,null,null,null,null,null,null,"","",null,null,0,0,1]
[null,"Please select",null,null,null,null,null,null,null,null,null,null,null,null,{"$f":"IF(ISERROR(IF(C392=\"corrective\",E392+KPI!$P$4,IF(C392=\"Preventative\",E392+KPI!$P$5,\"\"))),\"\",IF(C392=\"corrective\",E392+KPI!$P$4,IF(C392=\"Preventative\",E392+KPI!$P$5,\"\")))","v":""},"Please select",null,null,null,null,null,"Please select",null,null,"",null,null,null,null,null,null,null,null,null,"","",null,null,0,0,1]
[null,"Please select",null,null,null,null,null,null,null,null,null,null,null,null,{"$f":"IF(ISERROR(IF(C393=\"corrective\",E393+KPI!$P$4,IF(C393=\"Preventative\",E393+KPI!$P$5,\"\"))),\"\",IF(C393=\"corrective\",E393+KPI!$P$4,IF(C393=\"Preventative\",E393+KPI!$P$5,\"\")))","v":""},"Please select",null,null,null,null,null,"Please select",null,null,"",null,null,null,null,null,null,null,null,null,"","",null,null,0,0,1]
[null,"Please select",null,null,null,null,null,null,null,null,null,null,null,null,{"$f":"IF(ISERROR(IF(C394=\"corrective\",E394+KPI!$P$4,IF(C394=\"Preventative\",E394+KPI!$P$5,\"\"))),\"\",IF(C394=\"corrective\",E394+KPI!$P$4,IF(C394=\"Preventative\",E394+KPI!$P$5,\"\")))","v":""},"Please select",null,null,null,null,null,"Please select",null,null,"",null,null,null,null,null,null,null,null,null,"","",null,null,0,0,1]
[null,"Please select",null,null,null,null,null,null,null,null,null,null,null,null,{"$f":"IF(ISERROR(IF(C395=\"corrective\",E395+KPI!$P$4,IF(C395=\"Preventative\",E395+KPI!$P$5,\"\"))),\"\",IF(C395=\"corrective\",E395+KPI!$P$4,IF(C395=\"Preventative\",E395+KPI!$P$5,\"\")))","v":""},"Please select",null,null,null,null,null,"Please select",null,null,"",null,null,null,null,null,null,null,null,null,"","",null,null,0,0,1]
[null,"Please select",null,null,null,null,null,null,null,null,null,null,null,null,{"$f":"IF(ISERROR(IF(C396=\"corrective\",E396+KPI!$P$4,IF(C396=\"Preventative\",E396+KPI!$P$5,\"\"))),\"\",IF(C396=\"corrective\",E396+KPI!$P$4,IF(C396=\"Preventative\",E396+KPI!$P$5,\"\")))","v":""},"Please select",null,null,null,null,null,"Please select",null,null,"",null,null,null,null,null,null,null,null,null,"","",null,null,0,0,1]
[null,"Please select",null,null,null,null,null,null,null,null,null,null,null,null,{"$f":"IF(ISERROR(IF(C397=\"corrective\",E397+KPI!$P$4,IF(C397=\"Preventative\",E397+KPI!$P$5,\"\"))),\"\",IF(C397=\"corrective\",E397+KPI!$P$4,IF(C397=\"Preventative\",E397+KPI!$P$5,\"\")))","v":""},"Please select",null,null,null,null,null,"Please select",null,null,"",null,null,null,null,null,null,null,null,null,"","",null,null,0,0,1]
[null,"Please select",null,null,null,null,null,null,null,null,null,null,null,null,{"$f":"IF(ISERROR(IF(C398=\"corrective\",E398+KPI!$P$4,IF(C398=\"Preventative\",E398+KPI!$P$5,\"\"))),\"\",IF(C398=\"corrective\",E398+KPI!$P$4,IF(C398=\"Preventative\",E398+KPI!$P$5,\"\")))","v":""},"Please select",null,null,null,null,null,"Please select",null,null,"",null,null,null,null,null,null,null,null,null,"","",null,null,0,0,1]
[null,"Please select",null,null,null,null,null,null,null,null,null,null,null,null,{"$f":"IF(ISERROR(IF(C399=\"corrective\",E399+KPI!$P$4,IF(C399=\"Preventative\",E399+KPI!$P$5,\"\"))),\"\",IF(C399=\"corrective\",E399+KPI!$P$4,IF(C399=\"Preventative\",E399+KPI!$P$5,\"\")))","v":""},"Please select",null,null,null,null,null,"Please select",null,null,"",null,null,null,null,null,null,null,null,null,"","",null,null,0,0,1]
[null,"Please select",null,null,null,null,null,null,null,null,null,null,null,null,{"$f":"IF(ISERROR(IF(C400=\"corrective\",E400+KPI!$P$4,IF(C400=\"Preventative\",E400+KPI!$P$5,\"\"))),\"\",IF(C400=\"corrective\",E400+KPI!$P$4,IF(C400=\"Preventative\",E400+KPI!$P$5,\"\")))","v":""},"Please select",null,null,null,null,null,"Please select",null,null,"",null,null,null,null,null,null,null,null,null,"","",null,null,0,0,1]
[null,"Please select",null,null,null,null,null,null,null,null,null,null,null,null,{"$f":"IF(ISERROR(IF(C401=\"corrective\",E401+KPI!$P$4,IF(C401=\"Preventative\",E401+KPI!$P$5,\"\"))),\"\",IF(C401=\"corrective\",E401+KPI!$P$4,IF(C401=\"Preventative\",E401+KPI!$P$5,\"\")))","v":""},"Please select",null,null,null,null,null,"Please select",null,null,"",null,null,null,null,null,null,null,null,null,"","",null,null,0,0,1]
[null,"Please select",null,null,null,null,null,null,null,null,null,null,null,null,{"$f":"IF(ISERROR(IF(C402=\"corrective\",E402+KPI!$P$4,IF(C402=\"Preventative\",E402+KPI!$P$5,\"\"))),\"\",IF(C402=\"corrective\",E402+KPI!$P$4,IF(C402=\"Preventative\",E402+KPI!$P$5,\"\")))","v":""},"Please select",null,null,null,null,null,"Please select",null,null,"",null,null,null,null,null,null,null,null,null,"","",null,null,0,0,1]
[null,"Please select",null,null,null,null,null,null,null,null,null,null,null,null,{"$f":"IF(ISERROR(IF(C403=\"corrective\",E403+KPI!$P$4,IF(C403=\"Preventative\",E403+KPI!$P$5,\"\"))),\"\",IF(C403=\"corrective\",E403+KPI!$P$4,IF(C403=\"Preventative\",E403+KPI!$P$5,\"\")))","v":""},"Please select",null,null,null,null,null,"Please select",null,null,"",null,null,null,null,null,null,null,null,null,"","",null,null,0,0,1]
[null,"Please select",null,null,null,null,null,null,null,null,null,null,null,null,{"$f":"IF(ISERROR(IF(C404=\"corrective\",E404+KPI!$P$4,IF(C404=\"Preventative\",E404+KPI!$P$5,\"\"))),\"\",IF(C404=\"corrective\",E404+KPI!$P$4,IF(C404=\"Preventative\",E404+KPI!$P$5,\"\")))","v":""},"Please select",null,null,null,null,null,"Please select",null,null,"",null,null,null,null,null,null,null,null,null,"","",null,null,0,0,1]
[null,"Please select",null,null,null,null,null,null,null,null,null,null,null,null,{"$f":"IF(ISERROR(IF(C405=\"corrective\",E405+KPI!$P$4,IF(C405=\"Preventative\",E405+KPI!$P$5,\"\"))),\"\",IF(C405=\"corrective\",E405+KPI!$P$4,IF(C405=\"Preventative\",E405+KPI!$P$5,\"\")))","v":""},"Please select",null,null,null,null,null,"Please select",null,null,"",null,null,null,null,null,null,null,null,null,"","",null,null,0,0,1]
[null,"Please select",null,null,null,null,null,null,null,null,null,null,null,null,{"$f":"IF(ISERROR(IF(C406=\"corrective\",E406+KPI!$P$4,IF(C406=\"Preventative\",E406+KPI!$P$5,\"\"))),\"\",IF(C406=\"corrective\",E406+KPI!$P$4,IF(C406=\"Preventative\",E406+KPI!$P$5,\"\")))","v":""},"Please select",null,null,null,null,null,"Please select",null,null,"",null,null,null,null,null,null,null,null,null,"","",null,null,0,0,1]
[null,"Please select",null,null,null,null,null,null,null,null,null,null,null,null,{"$f":"IF(ISERROR(IF(C407=\"corrective\",E407+KPI!$P$4,IF(C407=\"Preventative\",E407+KPI!$P$5,\"\"))),\"\",IF(C407=\"corrective\",E407+KPI!$P$4,IF(C407=\"Preventative\",E407+KPI!$P$5,\"\")))","v":""},"Please select",null,null,null,null,null,"Please select",null,null,"",null,null,null,null,null,null,null,null,null,"","",null,null,0,0,1]
[null,"Please select",null,null,null,null,null,null,null,null,null,null,null,null,{"$f":"IF(ISERROR(IF(C408=\"corrective\",E408+KPI!$P$4,IF(C408=\"Preventative\",E408+KPI!$P$5,\"\"))),\"\",IF(C408=\"corrective\",E408+KPI!$P$4,IF(C408=\"Preventative\",E408+KPI!$P$5,\"\")))","v":""},"Please select",null,null,null,null,null,"Please select",null,null,"",null,null,null,null,null,null,null,null,null,"","",null,null,0,0,1]
[null,"Please select",null,null,null,null,null,null,null,null,null,null,null,null,{"$f":"IF(ISERROR(IF(C409=\"corrective\",E409+KPI!$P$4,IF(C409=\"Preventative\",E409+KPI!$P$5,\"\"))),\"\",IF(C409=\"corrective\",E409+KPI!$P$4,IF(C409=\"Preventative\",E409+KPI!$P$5,\"\")))","v":""},"Please select",null,null,null,null,null,"Please select",null,null,"",null,null,null,null,null,null,null,null,null,"","",null,null,0,0,1]
[null,"Please select",null,null,null,null,null,null,null,null,null,null,null,null,{"$f":"IF(ISERROR(IF(C410=\"corrective\",E410+KPI!$P$4,IF(C410=\"Preventative\",E410+KPI!$P$5,\"\"))),\"\",IF(C410=\"corrective\",E410+KPI!$P$4,IF(C410=\"Preventative\",E410+KPI!$P$5,\"\")))","v":""},"Please select",null,null,null,null,null,"Please select",null,null,"",null,null,null,null,null,null,null,null,null,"","",null,null,0,0,1]
[null,"Please select",null,null,null,null,null,null,null,null,null,null,null,null,{"$f":"IF(ISERROR(IF(C411=\"corrective\",E411+KPI!$P$4,IF(C411=\"Preventative\",E411+KPI!$P$5,\"\"))),\"\",IF(C411=\"corrective\",E411+KPI!$P$4,IF(C411=\"Preventative\",E411+KPI!$P$5,\"\")))","v":""},"Please select",null,null,null,null,null,"Please select",null,null,"",null,null,null,null,null,null,null,null,null,"","",null,null,0,0,1]
[null,"Please select",null,null,null,null,null,null,null,null,null,null,null,null,{"$f":"IF(ISERROR(IF(C412=\"corrective\",E412+KPI!$P$4,IF(C412=\"Preventative\",E412+KPI!$P$5,\"\"))),\"\",IF(C412=\"corrective\",E412+KPI!$P$4,IF(C412=\"Preventative\",E412+KPI!$P$5,\"\")))","v":""},"Please select",null,null,null,null,null,"Please select",null,null,"",null,null,null,null,null,null,null,null,null,"","",null,null,0,0,1]
[null,"Please select",null,null,null,null,null,null,null,null,null,null,null,null,{"$f":"IF(ISERROR(IF(C413=\"corrective\",E413+KPI!$P$4,IF(C413=\"Preventative\",E413+KPI!$P$5,\"\"))),\"\",IF(C413=\"corrective\",E413+KPI!$P$4,IF(C413=\"Preventative\",E413+KPI!$P$5,\"\")))","v":""},"Please select",null,null,null,null,null,"Please select",null,null,"",null,null,null,null,null,null,null,null,null,"","",null,null,0,0,1]
[null,"Please select",null,null,null,null,null,null,null,null,null,null,null,null,{"$f":"IF(ISERROR(IF(C414=\"corrective\",E414+KPI!$P$4,IF(C414=\"Preventative\",E414+KPI!$P$5,\"\"))),\"\",IF(C414=\"corrective\",E414+KPI!$P$4,IF(C414=\"Preventative\",E414+KPI!$P$5,\"\")))","v":""},"Please select",null,null,null,null,null,"Please select",null,null,"",null,null,null,null,null,null,null,null,null,"","",null,null,0,0,1]
[null,"Please select",null,null,null,null,null,null,null,null,null,null,null,null,{"$f":"IF(ISERROR(IF(C415=\"corrective\",E415+KPI!$P$4,IF(C415=\"Preventative\",E415+KPI!$P$5,\"\"))),\"\",IF(C415=\"corrective\",E415+KPI!$P$4,IF(C415=\"Preventative\",E415+KPI!$P$5,\"\")))","v":""},"Please select",null,null,null,null,null,"Please select",null,null,"",null,null,null,null,null,null,null,null,null,"","",null,null,0,0,1]
[null,"Please select",null,null,null,null,null,null,null,null,null,null,null,null,{"$f":"IF(ISERROR(IF(C416=\"corrective\",E416+KPI!$P$4,IF(C416=\"Preventative\",E416+KPI!$P$5,\"\"))),\"\",IF(C416=\"corrective\",E416+KPI!$P$4,IF(C416=\"Preventative\",E416+KPI!$P$5,\"\")))","v":""},"Please select",null,null,null,null,null,"Please select",null,null,"",null,null,null,null,null,null,null,null,null,"","",null,null,0,0,1]
[null,"Please select",null,null,null,null,null,null,null,null,null,null,null,null,{"$f":"IF(ISERROR(IF(C417=\"corrective\",E417+KPI!$P$4,IF(C417=\"Preventative\",E417+KPI!$P$5,\"\"))),\"\",IF(C417=\"corrective\",E417+KPI!$P$4,IF(C417=\"Preventative\",E417+KPI!$P$5,\"\")))","v":""},"Please select",null,null,null,null,null,"Please select",null,null,"",null,null,null,null,null,null,null,null,null,"","",null,null,0,0,1]
[null,"Please select",null,null,null,null,null,null,null,null,null,null,null,null,{"$f":"IF(ISERROR(IF(C418=\"corrective\",E418+KPI!$P$4,IF(C418=\"Preventative\",E418+KPI!$P$5,\"\"))),\"\",IF(C418=\"corrective\",E418+KPI!$P$4,IF(C418=\"Preventative\",E418+KPI!$P$5,\"\")))","v":""},"Please select",null,null,null,null,null,"Please select",null,null,"",null,null,null,null,null,null,null,null,null,"","",null,null,0,0,1]
[null,"Please select",null,null,null,null,null,null,null,null,null,null,null,null,{"$f":"IF(ISERROR(IF(C419=\"corrective\",E419+KPI!$P$4,IF(C419=\"Preventative\",E419+KPI!$P$5,\"\"))),\"\",IF(C419=\"corrective\",E419+KPI!$P$4,IF(C419=\"Preventative\",E419+KPI!$P$5,\"\")))","v":""},"Please select",null,null,null,null,null,"Please select",null,null,"",null,null,null,null,null,null,null,null,null,"","",null,null,0,0,1]
[null,"Please select",null,null,null,null,null,null,null,null,null,null,null,null,{"$f":"IF(ISERROR(IF(C420=\"corrective\",E420+KPI!$P$4,IF(C420=\"Preventative\",E420+KPI!$P$5,\"\"))),\"\",IF(C420=\"corrective\",E420+KPI!$P$4,IF(C420=\"Preventative\",E420+KPI!$P$5,\"\")))","v":""},"Please select",null,null,null,null,null,"Please select",null,null,"",null,null,null,null,null,null,null,null,null,"","",null,null,0,0,1]
[null,"Please select",null,null,null,null,null,null,null,null,null,null,null,null,{"$f":"IF(ISERROR(IF(C421=\"corrective\",E421+KPI!$P$4,IF(C421=\"Preventative\",E421+KPI!$P$5,\"\"))),\"\",IF(C421=\"corrective\",E421+KPI!$P$4,IF(C421=\"Preventative\",E421+KPI!$P$5,\"\")))","v":""},"Please select",null,null,null,null,null,"Please select",null,null,"",null,null,null,null,null,null,null,null,null,"","",null,null,0,0,1]
[null,"Please select",null,null,null,null,null,null,null,null,null,null,null,null,{"$f":"IF(ISERROR(IF(C422=\"corrective\",E422+KPI!$P$4,IF(C422=\"Preventative\",E422+KPI!$P$5,\"\"))),\"\",IF(C422=\"corrective\",E422+KPI!$P$4,IF(C422=\"Preventative\",E422+KPI!$P$5,\"\")))","v":""},"Please select",null,null,null,null,null,"Please select",null,null,"",null,null,null,null,null,null,null,null,null,"","",null,null,0,0,1]
[null,"Please select",null,null,null,null,null,null,null,null,null,null,null,null,{"$f":"IF(ISERROR(IF(C423=\"corrective\",E423+KPI!$P$4,IF(C423=\"Preventative\",E423+KPI!$P$5,\"\"))),\"\",IF(C423=\"corrective\",E423+KPI!$P$4,IF(C423=\"Preventative\",E423+KPI!$P$5,\"\")))","v":""},"Please select",null,null,null,null,null,"Please select",null,null,"",null,null,null,null,null,null,null,null,null,"","",null,null,0,0,1]
[null,"Please select",null,null,null,null,null,null,null,null,null,null,null,null,{"$f":"IF(ISERROR(IF(C424=\"corrective\",E424+KPI!$P$4,IF(C424=\"Preventative\",E424+KPI!$P$5,\"\"))),\"\",IF(C424=\"corrective\",E424+KPI!$P$4,IF(C424=\"Preventative\",E424+KPI!$P$5,\"\")))","v":""},"Please select",null,null,null,null,null,"Please select",null,null,"",null,null,null,null,null,null,null,null,null,"","",null,null,0,0,1]
[null,"Please select",null,null,null,null,null,null,null,null,null,null,null,null,{"$f":"IF(ISERROR(IF(C425=\"corrective\",E425+KPI!$P$4,IF(C425=\"Preventative\",E425+KPI!$P$5,\"\"))),\"\",IF(C425=\"corrective\",E425+KPI!$P$4,IF(C425=\"Preventative\",E425+KPI!$P$5,\"\")))","v":""},"Please select",null,null,null,null,null,"Please select",null,null,"",null,null,null,null,null,null,null,null,null,"","",null,null,0,0,1]
[null,"Please select",null,null,null,null,null,null,null,null,null,null,null,null,{"$f":"IF(ISERROR(IF(C426=\"corrective\",E426+KPI!$P$4,IF(C426=\"Preventative\",E426+KPI!$P$5,\"\"))),\"\",IF(C426=\"corrective\",E426+KPI!$P$4,IF(C426=\"Preventative\",E426+KPI!$P$5,\"\")))","v":""},"Please select",null,null,null,null,null,"Please select",null,null,"",null,null,null,null,null,null,null,null,null,"","",null,null,0,0,1]
[null,"Please select",null,null,null,null,null,null,null,null,null,null,null,null,{"$f":"IF(ISERROR(IF(C427=\"corrective\",E427+KPI!$P$4,IF(C427=\"Preventative\",E427+KPI!$P$5,\"\"))),\"\",IF(C427=\"corrective\",E427+KPI!$P$4,IF(C427=\"Preventative\",E427+KPI!$P$5,\"\")))","v":""},"Please select",null,null,null,null,null,"Please select",null,null,"",null,null,null,null,null,null,null,null,null,"","",null,null,0,0,1]
[null,"Please select",null,null,null,null,null,null,null,null,null,null,null,null,{"$f":"IF(ISERROR(IF(C428=\"corrective\",E428+KPI!$P$4,IF(C428=\"Preventative\",E428+KPI!$P$5,\"\"))),\"\",IF(C428=\"corrective\",E428+KPI!$P$4,IF(C428=\"Preventative\",E428+KPI!$P$5,\"\")))","v":""},"Please select",null,null,null,null,null,"Please select",null,null,"",null,null,null,null,null,null,null,null,null,"","",null,null,0,0,1]
[null,"Please select",null,null,null,null,null,null,null,null,null,null,null,null,{"$f":"IF(ISERROR(IF(C429=\"corrective\",E429+KPI!$P$4,IF(C429=\"Preventative\",E429+KPI!$P$5,\"\"))),\"\",IF(C429=\"corrective\",E429+KPI!$P$4,IF(C429=\"Preventative\",E429+KPI!$P$5,\"\")))","v":""},"Please select",null,null,null,null,null,"Please select",null,null,"",null,null,null,null,null,null,null,null,null,"","",null,null,0,0,1]
[null,"Please select",null,null,null,null,null,null,null,null,null,null,null,null,{"$f":"IF(ISERROR(IF(C430=\"corrective\",E430+KPI!$P$4,IF(C430=\"Preventative\",E430+KPI!$P$5,\"\"))),\"\",IF(C430=\"corrective\",E430+KPI!$P$4,IF(C430=\"Preventative\",E430+KPI!$P$5,\"\")))","v":""},"Please select",null,null,null,null,null,"Please select",null,null,"",null,null,null,null,null,null,null,null,null,"","",null,null,0,0,1]
[null,"Please select",null,null,null,null,null,null,null,null,null,null,null,null,{"$f":"IF(ISERROR(IF(C431=\"corrective\",E431+KPI!$P$4,IF(C431=\"Preventative\",E431+KPI!$P$5,\"\"))),\"\",IF(C431=\"corrective\",E431+KPI!$P$4,IF(C431=\"Preventative\",E431+KPI!$P$5,\"\")))","v":""},"Please select",null,null,null,null,null,"Please select",null,null,"",null,null,null,null,null,null,null,null,null,"","",null,null,0,0,1]
[null,"Please select",null,null,null,null,null,null,null,null,null,null,null,null,{"$f":"IF(ISERROR(IF(C432=\"corrective\",E432+KPI!$P$4,IF(C432=\"Preventative\",E432+KPI!$P$5,\"\"))),\"\",IF(C432=\"corrective\",E432+KPI!$P$4,IF(C432=\"Preventative\",E432+KPI!$P$5,\"\")))","v":""},"Please select",null,null,null,null,null,"Please select",null,null,"",null,null,null,null,null,null,null,null,null,"","",null,null,0,0,1]
[null,"Please select",null,null,null,null,null,null,null,null,null,null,null,null,{"$f":"IF(ISERROR(IF(C433=\"corrective\",E433+KPI!$P$4,IF(C433=\"Preventative\",E433+KPI!$P$5,\"\"))),\"\",IF(C433=\"corrective\",E433+KPI!$P$4,IF(C433=\"Preventative\",E433+KPI!$P$5,\"\")))","v":""},"Please select",null,null,null,null,null,"Please select",null,null,"",null,null,null,null,null,null,null,null,null,"","",null,null,0,0,1]
[null,"Please select",null,null,null,null,null,null,null,null,null,null,null,null,{"$f":"IF(ISERROR(IF(C434=\"corrective\",E434+KPI!$P$4,IF(C434=\"Preventative\",E434+KPI!$P$5,\"\"))),\"\",IF(C434=\"corrective\",E434+KPI!$P$4,IF(C434=\"Preventative\",E434+KPI!$P$5,\"\")))","v":""},"Please select",null,null,null,null,null,"Please select",null,null,"",null,null,null,null,null,null,null,null,null,"","",null,null,0,0,1]
[null,"Please select",null,null,null,null,null,null,null,null,null,null,null,null,{"$f":"IF(ISERROR(IF(C435=\"corrective\",E435+KPI!$P$4,IF(C435=\"Preventative\",E435+KPI!$P$5,\"\"))),\"\",IF(C435=\"corrective\",E435+KPI!$P$4,IF(C435=\"Preventative\",E435+KPI!$P$5,\"\")))","v":""},"Please select",null,null,null,null,null,"Please select",null,null,"",null,null,null,null,null,null,null,null,null,"","",null,null,0,0,1]
[null,"Please select",null,null,null,null,null,null,null,null,null,null,null,null,{"$f":"IF(ISERROR(IF(C436=\"corrective\",E436+KPI!$P$4,IF(C436=\"Preventative\",E436+KPI!$P$5,\"\"))),\"\",IF(C436=\"corrective\",E436+KPI!$P$4,IF(C436=\"Preventative\",E436+KPI!$P$5,\"\")))","v":""},"Please select",null,null,null,null,null,"Please select",null,null,"",null,null,null,null,null,null,null,null,null,"","",null,null,0,0,1]
[null,"Please select",null,null,null,null,null,null,null,null,null,null,null,null,{"$f":"IF(ISERROR(IF(C437=\"corrective\",E437+KPI!$P$4,IF(C437=\"Preventative\",E437+KPI!$P$5,\"\"))),\"\",IF(C437=\"corrective\",E437+KPI!$P$4,IF(C437=\"Preventative\",E437+KPI!$P$5,\"\")))","v":""},"Please select",null,null,null,null,null,"Please select",null,null,"",null,null,null,null,null,null,null,null,null,"","",null,null,0,0,1]
[null,"Please select",null,null,null,null,null,null,null,null,null,null,null,null,{"$f":"IF(ISERROR(IF(C438=\"corrective\",E438+KPI!$P$4,IF(C438=\"Preventative\",E438+KPI!$P$5,\"\"))),\"\",IF(C438=\"corrective\",E438+KPI!$P$4,IF(C438=\"Preventative\",E438+KPI!$P$5,\"\")))","v":""},"Please select",null,null,null,null,null,"Please select",null,null,"",null,null,null,null,null,null,null,null,null,"","",null,null,0,0,1]
[null,"Please select",null,null,null,null,null,null,null,null,null,null,null,null,{"$f":"IF(ISERROR(IF(C439=\"corrective\",E439+KPI!$P$4,IF(C439=\"Preventative\",E439+KPI!$P$5,\"\"))),\"\",IF(C439=\"corrective\",E439+KPI!$P$4,IF(C439=\"Preventative\",E439+KPI!$P$5,\"\")))","v":""},"Please select",null,null,null,null,null,"Please select",null,null,"",null,null,null,null,null,null,null,null,null,"","",null,null,0,0,1]
[null,"Please select",null,null,null,null,null,null,null,null,null,null,null,null,{"$f":"IF(ISERROR(IF(C440=\"corrective\",E440+KPI!$P$4,IF(C440=\"Preventative\",E440+KPI!$P$5,\"\"))),\"\",IF(C440=\"corrective\",E440+KPI!$P$4,IF(C440=\"Preventative\",E440+KPI!$P$5,\"\")))","v":""},"Please select",null,null,null,null,null,"Please select",null,null,"",null,null,null,null,null,null,null,null,null,"","",null,null,0,0,1]
[null,"Please select",null,null,null,null,null,null,null,null,null,null,null,null,{"$f":"IF(ISERROR(IF(C441=\"corrective\",E441+KPI!$P$4,IF(C441=\"Preventative\",E441+KPI!$P$5,\"\"))),\"\",IF(C441=\"corrective\",E441+KPI!$P$4,IF(C441=\"Preventative\",E441+KPI!$P$5,\"\")))","v":""},"Please select",null,null,null,null,null,"Please select",null,null,"",null,null,null,null,null,null,null,null,null,"","",null,null,0,0,1]
[null,"Please select",null,null,null,null,null,null,null,null,null,null,null,null,{"$f":"IF(ISERROR(IF(C442=\"corrective\",E442+KPI!$P$4,IF(C442=\"Preventative\",E442+KPI!$P$5,\"\"))),\"\",IF(C442=\"corrective\",E442+KPI!$P$4,IF(C442=\"Preventative\",E442+KPI!$P$5,\"\")))","v":""},"Please select",null,null,null,null,null,"Please select",null,null,"",null,null,null,null,null,null,null,null,null,"","",null,null,0,0,1]
[null,"Please select",null,null,null,null,null,null,null,null,null,null,null,null,{"$f":"IF(ISERROR(IF(C443=\"corrective\",E443+KPI!$P$4,IF(C443=\"Preventative\",E443+KPI!$P$5,\"\"))),\"\",IF(C443=\"corrective\",E443+KPI!$P$4,IF(C443=\"Preventative\",E443+KPI!$P$5,\"\")))","v":""},"Please select",null,null,null,null,null,"Please select",null,null,"",null,null,null,null,null,null,null,null,null,"","",null,null,0,0,1]
[null,"Please select",null,null,null,null,null,null,null,null,null,null,null,null,{"$f":"IF(ISERROR(IF(C444=\"corrective\",E444+KPI!$P$4,IF(C444=\"Preventative\",E444+KPI!$P$5,\"\"))),\"\",IF(C444=\"corrective\",E444+KPI!$P$4,IF(C444=\"Preventative\",E444+KPI!$P$5,\"\")))","v":""},"Please select",null,null,null,null,null,"Please select",null,null,"",null,null,null,null,null,null,null,null,null,"","",null,null,0,0,1]
[null,"Please select",null,null,null,null,null,null,null,null,null,null,null,null,{"$f":"IF(ISERROR(IF(C445=\"corrective\",E445+KPI!$P$4,IF(C445=\"Preventative\",E445+KPI!$P$5,\"\"))),\"\",IF(C445=\"corrective\",E445+KPI!$P$4,IF(C445=\"Preventative\",E445+KPI!$P$5,\"\")))","v":""},"Please select",null,null,null,null,null,"Please select",null,null,"",null,null,null,null,null,null,null,null,null,"","",null,null,0,0,1]
[null,"Please select",null,null,null,null,null,null,null,null,null,null,null,null,{"$f":"IF(ISERROR(IF(C446=\"corrective\",E446+KPI!$P$4,IF(C446=\"Preventative\",E446+KPI!$P$5,\"\"))),\"\",IF(C446=\"corrective\",E446+KPI!$P$4,IF(C446=\"Preventative\",E446+KPI!$P$5,\"\")))","v":""},"Please select",null,null,null,null,null,"Please select",null,null,"",null,null,null,null,null,null,null,null,null,"","",null,null,0,0,1]
[null,"Please select",null,null,null,null,null,null,null,null,null,null,null,null,{"$f":"IF(ISERROR(IF(C447=\"corrective\",E447+KPI!$P$4,IF(C447=\"Preventative\",E447+KPI!$P$5,\"\"))),\"\",IF(C447=\"corrective\",E447+KPI!$P$4,IF(C447=\"Preventative\",E447+KPI!$P$5,\"\")))","v":""},"Please select",null,null,null,null,null,"Please select",null,null,"",null,null,null,null,null,null,null,null,null,"","",null,null,0,0,{"$f":"COUNTIF(AN447,\">400\")+COUNTIF(AN447,\"=0\")","v":1}]
[null,"Please select",null,null,null,null,null,null,null,null,null,null,null,null,{"$f":"IF(ISERROR(IF(C448=\"corrective\",E448+KPI!$P$4,IF(C448=\"Preventative\",E448+KPI!$P$5,\"\"))),\"\",IF(C448=\"corrective\",E448+KPI!$P$4,IF(C448=\"Preventative\",E448+KPI!$P$5,\"\")))","v":""},"Please select",null,null,null,null,null,"Please select",null,null,"",null,null,null,null,null,null,null,null,null,"","",null,null,0,0,1]
[null,"Please select",null,null,null,null,null,null,null,null,null,null,null,null,{"$f":"IF(ISERROR(IF(C449=\"corrective\",E449+KPI!$P$4,IF(C449=\"Preventative\",E449+KPI!$P$5,\"\"))),\"\",IF(C449=\"corrective\",E449+KPI!$P$4,IF(C449=\"Preventative\",E449+KPI!$P$5,\"\")))","v":""},"Please select",null,null,null,null,null,"Please select",null,null,"",null,null,null,null,null,null,null,null,null,"","",null,null,0,0,1]
[null,"Please select",null,null,null,null,null,null,null,null,null,null,null,null,{"$f":"IF(ISERROR(IF(C450=\"corrective\",E450+KPI!$P$4,IF(C450=\"Preventative\",E450+KPI!$P$5,\"\"))),\"\",IF(C450=\"corrective\",E450+KPI!$P$4,IF(C450=\"Preventative\",E450+KPI!$P$5,\"\")))","v":""},{"$f":"IF(AND(O450<TODAY(),B450=\"new\"),\"New - Overdue\",B450)","v":"Please select"},null,null,null,null,null,"Please select",null,null,{"$f":"Z450&AA450&AB450&AC450&AD450&AE450","v":""},null,null,null,null,null,null,null,null,null,{"$f":"IF(ISERROR(AJ450-20),\"\",AJ450-20)","v":""},{"$f":"IF(ISERROR(IF(C450=\"corrective\",E450+AH450,\"\")),\"\",IF(C450=\"corrective\",E450+AH450,\"\"))","v":""},null,null,{"$f":"IF(ISERROR(DATEDIF(E450,Q450,\"D\")),\"\",DATEDIF(E450,Q450,\"D\"))","v":0},{"$f":"IF(ISERROR(DATEDIF(Q450,X450,\"D\")),\"\",DATEDIF(Q450,X450,\"D\"))","v":0},1]
[null,"Please select",null,null,null,null,null,null,null,null,null,null,null,null,{"$f":"IF(ISERROR(IF(C451=\"corrective\",E451+KPI!$P$4,IF(C451=\"Preventative\",E451+KPI!$P$5,\"\"))),\"\",IF(C451=\"corrective\",E451+KPI!$P$4,IF(C451=\"Preventative\",E451+KPI!$P$5,\"\")))","v":""},"Please select",null,null,null,null,null,"Please select",null,null,"",null,null,null,null,null,null,null,null,null,"","",null,null,0,0,1]
[null,"Please select",null,null,null,null,null,null,null,null,null,null,null,null,{"$f":"IF(ISERROR(IF(C452=\"corrective\",E452+KPI!$P$4,IF(C452=\"Preventative\",E452+KPI!$P$5,\"\"))),\"\",IF(C452=\"corrective\",E452+KPI!$P$4,IF(C452=\"Preventative\",E452+KPI!$P$5,\"\")))","v":""},"Please select",null,null,null,null,null,"Please select",null,null,"",null,null,null,null,null,null,null,null,null,"","",null,null,0,0,1]
[null,"Please select",null,null,null,null,null,null,null,null,null,null,null,null,{"$f":"IF(ISERROR(IF(C453=\"corrective\",E453+KPI!$P$4,IF(C453=\"Preventative\",E453+KPI!$P$5,\"\"))),\"\",IF(C453=\"corrective\",E453+KPI!$P$4,IF(C453=\"Preventative\",E453+KPI!$P$5,\"\")))","v":""},"Please select",null,null,null,null,null,"Please select",null,null,"",null,null,null,null,null,null,null,null,null,"","",null,null,0,0,1]
[null,"Please select",null,null,null,null,null,null,null,null,null,null,null,null,{"$f":"IF(ISERROR(IF(C454=\"corrective\",E454+KPI!$P$4,IF(C454=\"Preventative\",E454+KPI!$P$5,\"\"))),\"\",IF(C454=\"corrective\",E454+KPI!$P$4,IF(C454=\"Preventative\",E454+KPI!$P$5,\"\")))","v":""},"Please select",null,null,null,null,null,"Please select",null,null,"",null,null,null,null,null,null,null,null,null,"","",null,null,0,0,1]
[null,"Please select",null,null,null,null,null,null,null,null,null,null,null,null,{"$f":"IF(ISERROR(IF(C455=\"corrective\",E455+KPI!$P$4,IF(C455=\"Preventative\",E455+KPI!$P$5,\"\"))),\"\",IF(C455=\"corrective\",E455+KPI!$P$4,IF(C455=\"Preventative\",E455+KPI!$P$5,\"\")))","v":""},"Please select",null,null,null,null,null,"Please select",null,null,"",null,null,null,null,null,null,null,null,null,"","",null,null,0,0,1]
[null,"Please select",null,null,null,null,null,null,null,null,null,null,null,null,{"$f":"IF(ISERROR(IF(C456=\"corrective\",E456+KPI!$P$4,IF(C456=\"Preventative\",E456+KPI!$P$5,\"\"))),\"\",IF(C456=\"corrective\",E456+KPI!$P$4,IF(C456=\"Preventative\",E456+KPI!$P$5,\"\")))","v":""},"Please select",null,null,null,null,null,"Please select",null,null,"",null,null,null,null,null,null,null,null,null,"","",null,null,0,0,1]
[null,"Please select",null,null,null,null,null,null,null,null,null,null,null,null,{"$f":"IF(ISERROR(IF(C457=\"corrective\",E457+KPI!$P$4,IF(C457=\"Preventative\",E457+KPI!$P$5,\"\"))),\"\",IF(C457=\"corrective\",E457+KPI!$P$4,IF(C457=\"Preventative\",E457+KPI!$P$5,\"\")))","v":""},"Please select",null,null,null,null,null,"Please select",null,null,"",null,null,null,null,null,null,null,null,null,"","",null,null,0,0,1]
[null,"Please select",null,null,null,null,null,null,null,null,null,null,null,null,{"$f":"IF(ISERROR(IF(C458=\"corrective\",E458+KPI!$P$4,IF(C458=\"Preventative\",E458+KPI!$P$5,\"\"))),\"\",IF(C458=\"corrective\",E458+KPI!$P$4,IF(C458=\"Preventative\",E458+KPI!$P$5,\"\")))","v":""},"Please select",null,null,null,null,null,"Please select",null,null,"",null,null,null,null,null,null,null,null,null,"","",null,null,0,0,1]
[null,"Please select",null,null,null,null,null,null,null,null,null,null,null,null,{"$f":"IF(ISERROR(IF(C459=\"corrective\",E459+KPI!$P$4,IF(C459=\"Preventative\",E459+KPI!$P$5,\"\"))),\"\",IF(C459=\"corrective\",E459+KPI!$P$4,IF(C459=\"Preventative\",E459+KPI!$P$5,\"\")))","v":""},"Please select",null,null,null,null,null,"Please select",null,null,"",null,null,null,null,null,null,null,null,null,"","",null,null,0,0,1]
[null,"Please select",null,null,null,null,null,null,null,null,null,null,null,null,{"$f":"IF(ISERROR(IF(C460=\"corrective\",E460+KPI!$P$4,IF(C460=\"Preventative\",E460+KPI!$P$5,\"\"))),\"\",IF(C460=\"corrective\",E460+KPI!$P$4,IF(C460=\"Preventative\",E460+KPI!$P$5,\"\")))","v":""},"Please select",null,null,null,null,null,"Please select",null,null,"",null,null,null,null,null,null,null,null,null,"","",null,null,0,0,1]
[null,"Please select",null,null,null,null,null,null,null,null,null,null,null,null,{"$f":"IF(ISERROR(IF(C461=\"corrective\",E461+KPI!$P$4,IF(C461=\"Preventative\",E461+KPI!$P$5,\"\"))),\"\",IF(C461=\"corrective\",E461+KPI!$P$4,IF(C461=\"Preventative\",E461+KPI!$P$5,\"\")))","v":""},"Please select",null,null,null,null,null,"Please select",null,null,"",null,null,null,null,null,null,null,null,null,"","",null,null,0,0,1]
[null,"Please select",null,null,null,null,null,null,null,null,null,null,null,null,{"$f":"IF(ISERROR(IF(C462=\"corrective\",E462+KPI!$P$4,IF(C462=\"Preventative\",E462+KPI!$P$5,\"\"))),\"\",IF(C462=\"corrective\",E462+KPI!$P$4,IF(C462=\"Preventative\",E462+KPI!$P$5,\"\")))","v":""},"Please select",null,null,null,null,null,"Please select",null,null,"",null,null,null,null,null,null,null,null,null,"","",null,null,0,0,1]
[null,"Please select",null,null,null,null,null,null,null,null,null,null,null,null,{"$f":"IF(ISERROR(IF(C463=\"corrective\",E463+KPI!$P$4,IF(C463=\"Preventative\",E463+KPI!$P$5,\"\"))),\"\",IF(C463=\"corrective\",E463+KPI!$P$4,IF(C463=\"Preventative\",E463+KPI!$P$5,\"\")))","v":""},"Please select",null,null,null,null,null,"Please select",null,null,"",null,null,null,null,null,null,null,null,null,"","",null,null,0,0,1]
[null,"Please select",null,null,null,null,null,null,null,null,null,null,null,null,{"$f":"IF(ISERROR(IF(C464=\"corrective\",E464+KPI!$P$4,IF(C464=\"Preventative\",E464+KPI!$P$5,\"\"))),\"\",IF(C464=\"corrective\",E464+KPI!$P$4,IF(C464=\"Preventative\",E464+KPI!$P$5,\"\")))","v":""},"Please select",null,null,null,null,null,"Please select",null,null,"",null,null,null,null,null,null,null,null,null,"","",null,null,0,0,1]
[null,"Please select",null,null,null,null,null,null,null,null,null,null,null,null,{"$f":"IF(ISERROR(IF(C465=\"corrective\",E465+KPI!$P$4,IF(C465=\"Preventative\",E465+KPI!$P$5,\"\"))),\"\",IF(C465=\"corrective\",E465+KPI!$P$4,IF(C465=\"Preventative\",E465+KPI!$P$5,\"\")))","v":""},"Please select",null,null,null,null,null,"Please select",null,null,"",null,null,null,null,null,null,null,null,null,"","",null,null,0,0,1]
[null,"Please select",null,null,null,null,null,null,null,null,null,null,null,null,{"$f":"IF(ISERROR(IF(C466=\"corrective\",E466+KPI!$P$4,IF(C466=\"Preventative\",E466+KPI!$P$5,\"\"))),\"\",IF(C466=\"corrective\",E466+KPI!$P$4,IF(C466=\"Preventative\",E466+KPI!$P$5,\"\")))","v":""},"Please select",null,null,null,null,null,"Please select",null,null,"",null,null,null,null,null,null,null,null,null,"","",null,null,0,0,1]
[null,"Please select",null,null,null,null,null,null,null,null,null,null,null,null,{"$f":"IF(ISERROR(IF(C467=\"corrective\",E467+KPI!$P$4,IF(C467=\"Preventative\",E467+KPI!$P$5,\"\"))),\"\",IF(C467=\"corrective\",E467+KPI!$P$4,IF(C467=\"Preventative\",E467+KPI!$P$5,\"\")))","v":""},"Please select",null,null,null,null,null,"Please select",null,null,"",null,null,null,null,null,null,null,null,null,"","",null,null,0,0,1]
[null,"Please select",null,null,null,null,null,null,null,null,null,null,null,null,{"$f":"IF(ISERROR(IF(C468=\"corrective\",E468+KPI!$P$4,IF(C468=\"Preventative\",E468+KPI!$P$5,\"\"))),\"\",IF(C468=\"corrective\",E468+KPI!$P$4,IF(C468=\"Preventative\",E468+KPI!$P$5,\"\")))","v":""},"Please select",null,null,null,null,null,"Please select",null,null,"",null,null,null,null,null,null,null,null,null,"","",null,null,0,0,1]
[null,"Please select",null,null,null,null,null,null,null,null,null,null,null,null,{"$f":"IF(ISERROR(IF(C469=\"corrective\",E469+KPI!$P$4,IF(C469=\"Preventative\",E469+KPI!$P$5,\"\"))),\"\",IF(C469=\"corrective\",E469+KPI!$P$4,IF(C469=\"Preventative\",E469+KPI!$P$5,\"\")))","v":""},"Please select",null,null,null,null,null,"Please select",null,null,"",null,null,null,null,null,null,null,null,null,"","",null,null,0,0,1]
[null,"Please select",null,null,null,null,null,null,null,null,null,null,null,null,{"$f":"IF(ISERROR(IF(C470=\"corrective\",E470+KPI!$P$4,IF(C470=\"Preventative\",E470+KPI!$P$5,\"\"))),\"\",IF(C470=\"corrective\",E470+KPI!$P$4,IF(C470=\"Preventative\",E470+KPI!$P$5,\"\")))","v":""},"Please select",null,null,null,null,null,"Please select",null,null,"",null,null,null,null,null,null,null,null,null,"","",null,null,0,0,1]
[null,"Please select",null,null,null,null,null,null,null,null,null,null,null,null,{"$f":"IF(ISERROR(IF(C471=\"corrective\",E471+KPI!$P$4,IF(C471=\"Preventative\",E471+KPI!$P$5,\"\"))),\"\",IF(C471=\"corrective\",E471+KPI!$P$4,IF(C471=\"Preventative\",E471+KPI!$P$5,\"\")))","v":""},"Please select",null,null,null,null,null,"Please select",null,null,"",null,null,null,null,null,null,null,null,null,"","",null,null,0,0,1]
[null,"Please select",null,null,null,null,null,null,null,null,null,null,null,null,{"$f":"IF(ISERROR(IF(C472=\"corrective\",E472+KPI!$P$4,IF(C472=\"Preventative\",E472+KPI!$P$5,\"\"))),\"\",IF(C472=\"corrective\",E472+KPI!$P$4,IF(C472=\"Preventative\",E472+KPI!$P$5,\"\")))","v":""},"Please select",null,null,null,null,null,"Please select",null,null,"",null,null,null,null,null,null,null,null,null,"","",null,null,0,0,1]
[null,"Please select",null,null,null,null,null,null,null,null,null,null,null,null,{"$f":"IF(ISERROR(IF(C473=\"corrective\",E473+KPI!$P$4,IF(C473=\"Preventative\",E473+KPI!$P$5,\"\"))),\"\",IF(C473=\"corrective\",E473+KPI!$P$4,IF(C473=\"Preventative\",E473+KPI!$P$5,\"\")))","v":""},"Please select",null,null,null,null,null,"Please select",null,null,"",null,null,null,null,null,null,null,null,null,"","",null,null,0,0,1]
[null,"Please select",null,null,null,null,null,null,null,null,null,null,null,null,{"$f":"IF(ISERROR(IF(C474=\"corrective\",E474+KPI!$P$4,IF(C474=\"Preventative\",E474+KPI!$P$5,\"\"))),\"\",IF(C474=\"corrective\",E474+KPI!$P$4,IF(C474=\"Preventative\",E474+KPI!$P$5,\"\")))","v":""},"Please select",null,null,null,null,null,"Please select",null,null,"",null,null,null,null,null,null,null,null,null,"","",null,null,0,0,1]
[null,"Please select",null,null,null,null,null,null,null,null,null,null,null,null,{"$f":"IF(ISERROR(IF(C475=\"corrective\",E475+KPI!$P$4,IF(C475=\"Preventative\",E475+KPI!$P$5,\"\"))),\"\",IF(C475=\"corrective\",E475+KPI!$P$4,IF(C475=\"Preventative\",E475+KPI!$P$5,\"\")))","v":""},"Please select",null,null,null,null,null,"Please select",null,null,"",null,null,null,null,null,null,null,null,null,"","",null,null,0,0,1]
[null,"Please select",null,null,null,null,null,null,null,null,null,null,null,null,{"$f":"IF(ISERROR(IF(C476=\"corrective\",E476+KPI!$P$4,IF(C476=\"Preventative\",E476+KPI!$P$5,\"\"))),\"\",IF(C476=\"corrective\",E476+KPI!$P$4,IF(C476=\"Preventative\",E476+KPI!$P$5,\"\")))","v":""},"Please select",null,null,null,null,null,"Please select",null,null,"",null,null,null,null,null,null,null,null,null,"","",null,null,0,0,1]
[null,"Please select",null,null,null,null,null,null,null,null,null,null,null,null,{"$f":"IF(ISERROR(IF(C477=\"corrective\",E477+KPI!$P$4,IF(C477=\"Preventative\",E477+KPI!$P$5,\"\"))),\"\",IF(C477=\"corrective\",E477+KPI!$P$4,IF(C477=\"Preventative\",E477+KPI!$P$5,\"\")))","v":""},"Please select",null,null,null,null,null,"Please select",null,null,"",null,null,null,null,null,null,null,null,null,"","",null,null,0,0,1]
[null,"Please select",null,null,null,null,null,null,null,null,null,null,null,null,{"$f":"IF(ISERROR(IF(C478=\"corrective\",E478+KPI!$P$4,IF(C478=\"Preventative\",E478+KPI!$P$5,\"\"))),\"\",IF(C478=\"corrective\",E478+KPI!$P$4,IF(C478=\"Preventative\",E478+KPI!$P$5,\"\")))","v":""},"Please select",null,null,null,null,null,"Please select",null,null,"",null,null,null,null,null,null,null,null,null,"","",null,null,0,0,1]
[null,"Please select",null,null,null,null,null,null,null,null,null,null,null,null,{"$f":"IF(ISERROR(IF(C479=\"corrective\",E479+KPI!$P$4,IF(C479=\"Preventative\",E479+KPI!$P$5,\"\"))),\"\",IF(C479=\"corrective\",E479+KPI!$P$4,IF(C479=\"Preventative\",E479+KPI!$P$5,\"\")))","v":""},"Please select",null,null,null,null,null,"Please select",null,null,"",null,null,null,null,null,null,null,null,null,"","",null,null,0,0,1]
[null,"Please select",null,null,null,null,null,null,null,null,null,null,null,null,{"$f":"IF(ISERROR(IF(C480=\"corrective\",E480+KPI!$P$4,IF(C480=\"Preventative\",E480+KPI!$P$5,\"\"))),\"\",IF(C480=\"corrective\",E480+KPI!$P$4,IF(C480=\"Preventative\",E480+KPI!$P$5,\"\")))","v":""},"Please select",null,null,null,null,null,"Please select",null,null,"",null,null,null,null,null,null,null,null,null,"","",null,null,0,0,1]
[null,"Please select",null,null,null,null,null,null,null,null,null,null,null,null,{"$f":"IF(ISERROR(IF(C481=\"corrective\",E481+KPI!$P$4,IF(C481=\"Preventative\",E481+KPI!$P$5,\"\"))),\"\",IF(C481=\"corrective\",E481+KPI!$P$4,IF(C481=\"Preventative\",E481+KPI!$P$5,\"\")))","v":""},"Please select",null,null,null,null,null,"Please select",null,null,"",null,null,null,null,null,null,null,null,null,"","",null,null,0,0,1]
[null,"Please select",null,null,null,null,null,null,null,null,null,null,null,null,{"$f":"IF(ISERROR(IF(C482=\"corrective\",E482+KPI!$P$4,IF(C482=\"Preventative\",E482+KPI!$P$5,\"\"))),\"\",IF(C482=\"corrective\",E482+KPI!$P$4,IF(C482=\"Preventative\",E482+KPI!$P$5,\"\")))","v":""},"Please select",null,null,null,null,null,"Please select",null,null,"",null,null,null,null,null,null,null,null,null,"","",null,null,0,0,1]
[null,"Please select",null,null,null,null,null,null,null,null,null,null,null,null,{"$f":"IF(ISERROR(IF(C483=\"corrective\",E483+KPI!$P$4,IF(C483=\"Preventative\",E483+KPI!$P$5,\"\"))),\"\",IF(C483=\"corrective\",E483+KPI!$P$4,IF(C483=\"Preventative\",E483+KPI!$P$5,\"\")))","v":""},"Please select",null,null,null,null,null,"Please select",null,null,"",null,null,null,null,null,null,null,null,null,"","",null,null,0,0,1]
[null,"Please select",null,null,null,null,null,null,null,null,null,null,null,null,{"$f":"IF(ISERROR(IF(C484=\"corrective\",E484+KPI!$P$4,IF(C484=\"Preventative\",E484+KPI!$P$5,\"\"))),\"\",IF(C484=\"corrective\",E484+KPI!$P$4,IF(C484=\"Preventative\",E484+KPI!$P$5,\"\")))","v":""},"Please select",null,null,null,null,null,"Please select",null,null,"",null,null,null,null,null,null,null,null,null,"","",null,null,0,0,1]
[null,"Please select",null,null,null,null,null,null,null,null,null,null,null,null,{"$f":"IF(ISERROR(IF(C485=\"corrective\",E485+KPI!$P$4,IF(C485=\"Preventative\",E485+KPI!$P$5,\"\"))),\"\",IF(C485=\"corrective\",E485+KPI!$P$4,IF(C485=\"Preventative\",E485+KPI!$P$5,\"\")))","v":""},{"$f":"IF(AND(O485<TODAY(),B485=\"new\"),\"New - Overdue\",B485)","v":"Please select"},null,null,null,null,null,"Please select",null,null,{"$f":"Z485&AA485&AB485&AC485&AD485&AE485","v":""},null,null,null,null,null,null,null,null,"TBD",{"$f":"IF(ISERROR(AJ485-20),\"\",AJ485-20)","v":""},{"$f":"IF(ISERROR(IF(C485=\"corrective\",E485+AH485,\"\")),\"\",IF(C485=\"corrective\",E485+AH485,\"\"))","v":""},null,null,0,0,1]
[null,"Please select",null,null,null,null,null,null,null,null,null,null,null,null,{"$f":"IF(ISERROR(IF(C486=\"corrective\",E486+KPI!$P$4,IF(C486=\"Preventative\",E486+KPI!$P$5,\"\"))),\"\",IF(C486=\"corrective\",E486+KPI!$P$4,IF(C486=\"Preventative\",E486+KPI!$P$5,\"\")))","v":""},"Please select",null,null,null,null,null,"Please select",null,null,"",null,null,null,null,null,null,null,null,"TBD","","",null,null,0,0,1]
[null,"Please select",null,null,null,null,null,null,null,null,null,null,null,null,{"$f":"IF(ISERROR(IF(C487=\"corrective\",E487+KPI!$P$4,IF(C487=\"Preventative\",E487+KPI!$P$5,\"\"))),\"\",IF(C487=\"corrective\",E487+KPI!$P$4,IF(C487=\"Preventative\",E487+KPI!$P$5,\"\")))","v":""},"Please select",null,null,null,null,null,"Please select",null,null,"",null,null,null,null,null,null,null,null,"TBD","","",null,null,0,0,1]
[null,"Please select",null,null,null,null,null,null,null,null,null,null,null,null,{"$f":"IF(ISERROR(IF(C488=\"corrective\",E488+KPI!$P$4,IF(C488=\"Preventative\",E488+KPI!$P$5,\"\"))),\"\",IF(C488=\"corrective\",E488+KPI!$P$4,IF(C488=\"Preventative\",E488+KPI!$P$5,\"\")))","v":""},"Please select",null,null,null,null,null,"Please select",null,null,"",null,null,null,null,null,null,null,null,"TBD","","",null,null,0,0,1]
[null,"Please select",null,null,null,null,null,null,null,null,null,null,null,null,{"$f":"IF(ISERROR(IF(C489=\"corrective\",E489+KPI!$P$4,IF(C489=\"Preventative\",E489+KPI!$P$5,\"\"))),\"\",IF(C489=\"corrective\",E489+KPI!$P$4,IF(C489=\"Preventative\",E489+KPI!$P$5,\"\")))","v":""},"Please select",null,null,null,null,null,"Please select",null,null,"",null,null,null,null,null,null,null,null,"TBD","","",null,null,0,0,1]
[null,"Please select",null,null,null,null,null,null,null,null,null,null,null,null,{"$f":"IF(ISERROR(IF(C490=\"corrective\",E490+KPI!$P$4,IF(C490=\"Preventative\",E490+KPI!$P$5,\"\"))),\"\",IF(C490=\"corrective\",E490+KPI!$P$4,IF(C490=\"Preventative\",E490+KPI!$P$5,\"\")))","v":""},"Please select",null,null,null,null,null,"Please select",null,null,"",null,null,null,null,null,null,null,null,"TBD","","",null,null,0,0,1]
[null,"Please select",null,null,null,null,null,null,null,null,null,null,null,null,{"$f":"IF(ISERROR(IF(C491=\"corrective\",E491+KPI!$P$4,IF(C491=\"Preventative\",E491+KPI!$P$5,\"\"))),\"\",IF(C491=\"corrective\",E491+KPI!$P$4,IF(C491=\"Preventative\",E491+KPI!$P$5,\"\")))","v":""},"Please select",null,null,null,null,null,"Please select",null,null,"",null,null,null,null,null,null,null,null,"TBD","","",null,null,0,0,1]
[null,"Please select",null,null,null,null,null,null,null,null,null,null,null,null,{"$f":"IF(ISERROR(IF(C492=\"corrective\",E492+KPI!$P$4,IF(C492=\"Preventative\",E492+KPI!$P$5,\"\"))),\"\",IF(C492=\"corrective\",E492+KPI!$P$4,IF(C492=\"Preventative\",E492+KPI!$P$5,\"\")))","v":""},"Please select",null,null,null,null,null,"Please select",null,null,"",null,null,null,null,null,null,null,null,"TBD","","",null,null,0,0,1]
[null,"Please select",null,null,null,null,null,null,null,null,null,null,null,null,{"$f":"IF(ISERROR(IF(C493=\"corrective\",E493+KPI!$P$4,IF(C493=\"Preventative\",E493+KPI!$P$5,\"\"))),\"\",IF(C493=\"corrective\",E493+KPI!$P$4,IF(C493=\"Preventative\",E493+KPI!$P$5,\"\")))","v":""},"Please select",null,null,null,null,null,"Please select",null,null,"",null,null,null,null,null,null,null,null,"TBD","","",null,null,0,0,1]
[null,"Please select",null,null,null,null,null,null,null,null,null,null,null,null,{"$f":"IF(ISERROR(IF(C494=\"corrective\",E494+KPI!$P$4,IF(C494=\"Preventative\",E494+KPI!$P$5,\"\"))),\"\",IF(C494=\"corrective\",E494+KPI!$P$4,IF(C494=\"Preventative\",E494+KPI!$P$5,\"\")))","v":""},"Please select",null,null,null,null,null,"Please select",null,null,"",null,null,null,null,null,null,null,null,"TBD","","",null,null,0,0,1]
[null,"Please select",null,null,null,null,null,null,null,null,null,null,null,null,{"$f":"IF(ISERROR(IF(C495=\"corrective\",E495+KPI!$P$4,IF(C495=\"Preventative\",E495+KPI!$P$5,\"\"))),\"\",IF(C495=\"corrective\",E495+KPI!$P$4,IF(C495=\"Preventative\",E495+KPI!$P$5,\"\")))","v":""},{"$f":"IF(AND(O495<TODAY(),B495=\"new\"),\"New - Overdue\",B495)","v":"Please select"},null,null,null,null,null,"Please select",null,null,{"$f":"Z495&AA495&AB495&AC495&AD495&AE495","v":""},null,null,null,null,null,null,null,null,"TBD",{"$f":"IF(ISERROR(AJ495-20),\"\",AJ495-20)","v":""},{"$f":"IF(ISERROR(IF(C495=\"corrective\",E495+AH495,\"\")),\"\",IF(C495=\"corrective\",E495+AH495,\"\"))","v":""},null,null,0,0,{"$f":"COUNTIF(AN495,\">400\")+COUNTIF(AN495,\"=0\")","v":1}]
[null,"Please select",null,null,null,null,null,null,null,null,null,null,null,null,{"$f":"IF(ISERROR(IF(C496=\"corrective\",E496+KPI!$P$4,IF(C496=\"Preventative\",E496+KPI!$P$5,\"\"))),\"\",IF(C496=\"corrective\",E496+KPI!$P$4,IF(C496=\"Preventative\",E496+KPI!$P$5,\"\")))","v":""},"Please select",null,null,null,null,null,"Please select",null,null,"",null,null,null,null,null,null,null,null,"TBD","","",null,null,0,0,1]
[null,"Please select",null,null,null,null,null,null,null,null,null,null,null,null,{"$f":"IF(ISERROR(IF(C497=\"corrective\",E497+KPI!$P$4,IF(C497=\"Preventative\",E497+KPI!$P$5,\"\"))),\"\",IF(C497=\"corrective\",E497+KPI!$P$4,IF(C497=\"Preventative\",E497+KPI!$P$5,\"\")))","v":""},"Please select",null,null,null,null,null,"Please select",null,null,"",null,null,null,null,null,null,null,null,"TBD","","",null,null,0,0,1]
[null,"Please select",null,null,null,null,null,null,null,null,null,null,null,null,{"$f":"IF(ISERROR(IF(C498=\"corrective\",E498+KPI!$P$4,IF(C498=\"Preventative\",E498+KPI!$P$5,\"\"))),\"\",IF(C498=\"corrective\",E498+KPI!$P$4,IF(C498=\"Preventative\",E498+KPI!$P$5,\"\")))","v":""},"Please select",null,null,null,null,null,"Please select",null,null,"",null,null,null,null,null,null,null,null,"TBD","","",null,null,0,0,1]
[null,"Please select",null,null,null,null,null,null,null,null,null,null,null,null,{"$f":"IF(ISERROR(IF(C499=\"corrective\",E499+KPI!$P$4,IF(C499=\"Preventative\",E499+KPI!$P$5,\"\"))),\"\",IF(C499=\"corrective\",E499+KPI!$P$4,IF(C499=\"Preventative\",E499+KPI!$P$5,\"\")))","v":""},"Please select",null,null,null,null,null,"Please select",null,null,"",null,null,null,null,null,null,null,null,"TBD","","",null,null,0,0,1]
[null,"Please select",null,null,null,null,null,null,null,null,null,null,null,null,{"$f":"IF(ISERROR(IF(C500=\"corrective\",E500+KPI!$P$4,IF(C500=\"Preventative\",E500+KPI!$P$5,\"\"))),\"\",IF(C500=\"corrective\",E500+KPI!$P$4,IF(C500=\"Preventative\",E500+KPI!$P$5,\"\")))","v":""},"Please select",null,null,null,null,null,"Please select",null,null,"",null,null,null,null,null,null,null,null,"TBD","","",null,null,0,0,1]
[null,"Please select",null,null,null,null,null,null,null,null,null,null,null,null,{"$f":"IF(ISERROR(IF(C501=\"corrective\",E501+KPI!$P$4,IF(C501=\"Preventative\",E501+KPI!$P$5,\"\"))),\"\",IF(C501=\"corrective\",E501+KPI!$P$4,IF(C501=\"Preventative\",E501+KPI!$P$5,\"\")))","v":""},"Please select",null,null,null,null,null,"Please select",null,null,"",null,null,null,null,null,null,null,null,"TBD","","",null,null,0,0,1]
[null,"Please select",null,null,null,null,null,null,null,null,null,null,null,null,{"$f":"IF(ISERROR(IF(C502=\"corrective\",E502+KPI!$P$4,IF(C502=\"Preventative\",E502+KPI!$P$5,\"\"))),\"\",IF(C502=\"corrective\",E502+KPI!$P$4,IF(C502=\"Preventative\",E502+KPI!$P$5,\"\")))","v":""},"Please select",null,null,null,null,null,"Please select",null,null,"",null,null,null,null,null,null,null,null,"TBD","","",null,null,0,0,1]
[null,"Please select",null,null,null,null,null,null,null,null,null,null,null,null,{"$f":"IF(ISERROR(IF(C503=\"corrective\",E503+KPI!$P$4,IF(C503=\"Preventative\",E503+KPI!$P$5,\"\"))),\"\",IF(C503=\"corrective\",E503+KPI!$P$4,IF(C503=\"Preventative\",E503+KPI!$P$5,\"\")))","v":""},"Please select",null,null,null,null,null,"Please select",null,null,"",null,null,null,null,null,null,null,null,"TBD","","",null,null,0,0,1]
[null,"Please select",null,null,null,null,null,null,null,null,null,null,null,null,{"$f":"IF(ISERROR(IF(C504=\"corrective\",E504+KPI!$P$4,IF(C504=\"Preventative\",E504+KPI!$P$5,\"\"))),\"\",IF(C504=\"corrective\",E504+KPI!$P$4,IF(C504=\"Preventative\",E504+KPI!$P$5,\"\")))","v":""},"Please select",null,null,null,null,null,"Please select",null,null,"",null,null,null,null,null,null,null,null,"TBD","","",null,null,0,0,1]
[null,"Please select",null,null,null,null,null,null,null,null,null,null,null,null,{"$f":"IF(ISERROR(IF(C505=\"corrective\",E505+KPI!$P$4,IF(C505=\"Preventative\",E505+KPI!$P$5,\"\"))),\"\",IF(C505=\"corrective\",E505+KPI!$P$4,IF(C505=\"Preventative\",E505+KPI!$P$5,\"\")))","v":""},"Please select",null,null,null,null,null,"Please select",null,null,"",null,null,null,null,null,null,null,null,"TBD","","",null,null,0,0,1]
[null,"Please select",null,null,null,null,null,null,null,null,null,null,null,null,{"$f":"IF(ISERROR(IF(C506=\"corrective\",E506+KPI!$P$4,IF(C506=\"Preventative\",E506+KPI!$P$5,\"\"))),\"\",IF(C506=\"corrective\",E506+KPI!$P$4,IF(C506=\"Preventative\",E506+KPI!$P$5,\"\")))","v":""},"Please select",null,null,null,null,null,"Please select",null,null,"",null,null,null,null,null,null,null,null,"TBD","","",null,null,0,0,1]
[null,"Please select",null,null,null,null,null,null,null,null,null,null,null,null,{"$f":"IF(ISERROR(IF(C507=\"corrective\",E507+KPI!$P$4,IF(C507=\"Preventative\",E507+KPI!$P$5,\"\"))),\"\",IF(C507=\"corrective\",E507+KPI!$P$4,IF(C507=\"Preventative\",E507+KPI!$P$5,\"\")))","v":""},"Please select",null,null,null,null,null,"Please select",null,null,"",null,null,null,null,null,null,null,null,"TBD","","",null,null,0,0,1]
[null,"Please select",null,null,null,null,null,null,null,null,null,null,null,null,{"$f":"IF(ISERROR(IF(C508=\"corrective\",E508+KPI!$P$4,IF(C508=\"Preventative\",E508+KPI!$P$5,\"\"))),\"\",IF(C508=\"corrective\",E508+KPI!$P$4,IF(C508=\"Preventative\",E508+KPI!$P$5,\"\")))","v":""},"Please select",null,null,null,null,null,"Please select",null,null,"",null,null,null,null,null,null,null,null,"TBD","","",null,null,0,0,1]
[null,"Please select",null,null,null,null,null,null,null,null,null,null,null,null,{"$f":"IF(ISERROR(IF(C509=\"corrective\",E509+KPI!$P$4,IF(C509=\"Preventative\",E509+KPI!$P$5,\"\"))),\"\",IF(C509=\"corrective\",E509+KPI!$P$4,IF(C509=\"Preventative\",E509+KPI!$P$5,\"\")))","v":""},"Please select",null,null,null,null,null,"Please select",null,null,"",null,null,null,null,null,null,null,null,"TBD","","",null,null,0,0,1]
[null,"Please select",null,null,null,null,null,null,null,null,null,null,null,null,{"$f":"IF(ISERROR(IF(C510=\"corrective\",E510+KPI!$P$4,IF(C510=\"Preventative\",E510+KPI!$P$5,\"\"))),\"\",IF(C510=\"corrective\",E510+KPI!$P$4,IF(C510=\"Preventative\",E510+KPI!$P$5,\"\")))","v":""},"Please select",null,null,null,null,null,"Please select",null,null,"",null,null,null,null,null,null,null,null,"TBD","","",null,null,0,0,1]
[null,"Please select",null,null,null,null,null,null,null,null,null,null,null,null,{"$f":"IF(ISERROR(IF(C511=\"corrective\",E511+KPI!$P$4,IF(C511=\"Preventative\",E511+KPI!$P$5,\"\"))),\"\",IF(C511=\"corrective\",E511+KPI!$P$4,IF(C511=\"Preventative\",E511+KPI!$P$5,\"\")))","v":""},"Please select",null,null,null,null,null,"Please select",null,null,"",null,null,null,null,null,null,null,null,"TBD","","",null,null,0,0,1]
[null,"Please select",null,null,null,null,null,null,null,null,null,null,null,null,{"$f":"IF(ISERROR(IF(C512=\"corrective\",E512+KPI!$P$4,IF(C512=\"Preventative\",E512+KPI!$P$5,\"\"))),\"\",IF(C512=\"corrective\",E512+KPI!$P$4,IF(C512=\"Preventative\",E512+KPI!$P$5,\"\")))","v":""},"Please select",null,null,null,null,null,"Please select",null,null,"",null,null,null,null,null,null,null,null,"TBD","","",null,null,0,0,1]
[null,"Please select",null,null,null,null,null,null,null,null,null,null,null,null,{"$f":"IF(ISERROR(IF(C513=\"corrective\",E513+KPI!$P$4,IF(C513=\"Preventative\",E513+KPI!$P$5,\"\"))),\"\",IF(C513=\"corrective\",E513+KPI!$P$4,IF(C513=\"Preventative\",E513+KPI!$P$5,\"\")))","v":""},"Please select",null,null,null,null,null,"Please select",null,null,"",null,null,null,null,null,null,null,null,"TBD","","",null,null,0,0,1]
[null,"Please select",null,null,null,null,null,null,null,null,null,null,null,null,{"$f":"IF(ISERROR(IF(C514=\"corrective\",E514+KPI!$P$4,IF(C514=\"Preventative\",E514+KPI!$P$5,\"\"))),\"\",IF(C514=\"corrective\",E514+KPI!$P$4,IF(C514=\"Preventative\",E514+KPI!$P$5,\"\")))","v":""},"Please select",null,null,null,null,null,"Please select",null,null,"",null,null,null,null,null,null,null,null,"TBD","","",null,null,{"$f":"IF(ISERROR(DATEDIF(E514,Q514,\"D\")),\"\",DATEDIF(E514,Q514,\"D\"))","v":0},{"$f":"IF(ISERROR(DATEDIF(Q514,X514,\"D\")),\"\",DATEDIF(Q514,X514,\"D\"))","v":0},1]
[null,"Please select",null,null,null,null,null,null,null,null,null,null,null,null,{"$f":"IF(ISERROR(IF(C515=\"corrective\",E515+KPI!$P$4,IF(C515=\"Preventative\",E515+KPI!$P$5,\"\"))),\"\",IF(C515=\"corrective\",E515+KPI!$P$4,IF(C515=\"Preventative\",E515+KPI!$P$5,\"\")))","v":""},"Please select",null,null,null,null,null,"Please select",null,null,"",null,null,null,null,null,null,null,null,"TBD","","",null,null,0,0,1]
[null,"Please select",null,null,null,null,null,null,null,null,null,null,null,null,{"$f":"IF(ISERROR(IF(C516=\"corrective\",E516+KPI!$P$4,IF(C516=\"Preventative\",E516+KPI!$P$5,\"\"))),\"\",IF(C516=\"corrective\",E516+KPI!$P$4,IF(C516=\"Preventative\",E516+KPI!$P$5,\"\")))","v":""},"Please select",null,null,null,null,null,"Please select",null,null,"",null,null,null,null,null,null,null,null,"TBD","","",null,null,0,0,1]
[null,"Please select",null,null,null,null,null,null,null,null,null,null,null,null,{"$f":"IF(ISERROR(IF(C517=\"corrective\",E517+KPI!$P$4,IF(C517=\"Preventative\",E517+KPI!$P$5,\"\"))),\"\",IF(C517=\"corrective\",E517+KPI!$P$4,IF(C517=\"Preventative\",E517+KPI!$P$5,\"\")))","v":""},"Please select",null,null,null,null,null,"Please select",null,null,"",null,null,null,null,null,null,null,null,"TBD","","",null,null,0,0,1]
[null,"Please select",null,null,null,null,null,null,null,null,null,null,null,null,{"$f":"IF(ISERROR(IF(C518=\"corrective\",E518+KPI!$P$4,IF(C518=\"Preventative\",E518+KPI!$P$5,\"\"))),\"\",IF(C518=\"corrective\",E518+KPI!$P$4,IF(C518=\"Preventative\",E518+KPI!$P$5,\"\")))","v":""},"Please select",null,null,null,null,null,"Please select",null,null,"",null,null,null,null,null,null,null,null,"TBD","","",null,null,0,0,1]
[null,"Please select",null,null,null,null,null,null,null,null,null,null,null,null,{"$f":"IF(ISERROR(IF(C519=\"corrective\",E519+KPI!$P$4,IF(C519=\"Preventative\",E519+KPI!$P$5,\"\"))),\"\",IF(C519=\"corrective\",E519+KPI!$P$4,IF(C519=\"Preventative\",E519+KPI!$P$5,\"\")))","v":""},"Please select",null,null,null,null,null,"Please select",null,null,"",null,null,null,null,null,null,null,null,"TBD","","",null,null,0,0,1]
[null,"Please select",null,null,null,null,null,null,null,null,null,null,null,null,{"$f":"IF(ISERROR(IF(C520=\"corrective\",E520+KPI!$P$4,IF(C520=\"Preventative\",E520+KPI!$P$5,\"\"))),\"\",IF(C520=\"corrective\",E520+KPI!$P$4,IF(C520=\"Preventative\",E520+KPI!$P$5,\"\")))","v":""},"Please select",null,null,null,null,null,"Please select",null,null,"",null,null,null,null,null,null,null,null,"TBD","","",null,null,0,0,1]
[null,"Please select",null,null,null,null,null,null,null,null,null,null,null,null,{"$f":"IF(ISERROR(IF(C521=\"corrective\",E521+KPI!$P$4,IF(C521=\"Preventative\",E521+KPI!$P$5,\"\"))),\"\",IF(C521=\"corrective\",E521+KPI!$P$4,IF(C521=\"Preventative\",E521+KPI!$P$5,\"\")))","v":""},"Please select",null,null,null,null,null,"Please select",null,null,"",null,null,null,null,null,null,null,null,"TBD","","",null,null,0,0,1]
[null,"Please select",null,null,null,null,null,null,null,null,null,null,null,null,{"$f":"IF(ISERROR(IF(C522=\"corrective\",E522+KPI!$P$4,IF(C522=\"Preventative\",E522+KPI!$P$5,\"\"))),\"\",IF(C522=\"corrective\",E522+KPI!$P$4,IF(C522=\"Preventative\",E522+KPI!$P$5,\"\")))","v":""},"Please select",null,null,null,null,null,"Please select",null,null,"",null,null,null,null,null,null,null,null,"TBD","","",null,null,0,0,1]
[null,"Please select",null,null,null,null,null,null,null,null,null,null,null,null,{"$f":"IF(ISERROR(IF(C523=\"corrective\",E523+KPI!$P$4,IF(C523=\"Preventative\",E523+KPI!$P$5,\"\"))),\"\",IF(C523=\"corrective\",E523+KPI!$P$4,IF(C523=\"Preventative\",E523+KPI!$P$5,\"\")))","v":""},"Please select",null,null,null,null,null,"Please select",null,null,"",null,null,null,null,null,null,null,null,"TBD","","",null,null,0,0,1]
[null,"Please select",null,null,null,null,null,null,null,null,null,null,null,null,{"$f":"IF(ISERROR(IF(C524=\"corrective\",E524+KPI!$P$4,IF(C524=\"Preventative\",E524+KPI!$P$5,\"\"))),\"\",IF(C524=\"corrective\",E524+KPI!$P$4,IF(C524=\"Preventative\",E524+KPI!$P$5,\"\")))","v":""},"Please select",null,null,null,null,null,"Please select",null,null,"",null,null,null,null,null,null,null,null,"TBD","","",null,null,0,0,1]
[null,"Please select",null,null,null,null,null,null,null,null,null,null,null,null,{"$f":"IF(ISERROR(IF(C525=\"corrective\",E525+KPI!$P$4,IF(C525=\"Preventative\",E525+KPI!$P$5,\"\"))),\"\",IF(C525=\"corrective\",E525+KPI!$P$4,IF(C525=\"Preventative\",E525+KPI!$P$5,\"\")))","v":""},"Please select",null,null,null,null,null,"Please select",null,null,"",null,null,null,null,null,null,null,null,"TBD","","",null,null,0,0,1]
[null,"Please select",null,null,null,null,null,null,null,null,null,null,null,null,{"$f":"IF(ISERROR(IF(C526=\"corrective\",E526+KPI!$P$4,IF(C526=\"Preventative\",E526+KPI!$P$5,\"\"))),\"\",IF(C526=\"corrective\",E526+KPI!$P$4,IF(C526=\"Preventative\",E526+KPI!$P$5,\"\")))","v":""},"Please select",null,null,null,null,null,"Please select",null,null,"",null,null,null,null,null,null,null,null,"TBD","","",null,null,0,0,1]
[null,"Please select",null,null,null,null,null,null,null,null,null,null,null,null,{"$f":"IF(ISERROR(IF(C527=\"corrective\",E527+KPI!$P$4,IF(C527=\"Preventative\",E527+KPI!$P$5,\"\"))),\"\",IF(C527=\"corrective\",E527+KPI!$P$4,IF(C527=\"Preventative\",E527+KPI!$P$5,\"\")))","v":""},"Please select",null,null,null,null,null,"Please select",null,null,"",null,null,null,null,null,null,null,null,"TBD","","",null,null,0,0,1]
[null,"Please select",null,null,null,null,null,null,null,null,null,null,null,null,{"$f":"IF(ISERROR(IF(C528=\"corrective\",E528+KPI!$P$4,IF(C528=\"Preventative\",E528+KPI!$P$5,\"\"))),\"\",IF(C528=\"corrective\",E528+KPI!$P$4,IF(C528=\"Preventative\",E528+KPI!$P$5,\"\")))","v":""},"Please select",null,null,null,null,null,"Please select",null,null,"",null,null,null,null,null,null,null,null,"TBD","","",null,null,0,0,1]
[null,"Please select",null,null,null,null,null,null,null,null,null,null,null,null,{"$f":"IF(ISERROR(IF(C529=\"corrective\",E529+KPI!$P$4,IF(C529=\"Preventative\",E529+KPI!$P$5,\"\"))),\"\",IF(C529=\"corrective\",E529+KPI!$P$4,IF(C529=\"Preventative\",E529+KPI!$P$5,\"\")))","v":""},"Please select",null,null,null,null,null,"Please select",null,null,"",null,null,null,null,null,null,null,null,"TBD","","",null,null,0,0,1]
[null,"Please select",null,null,null,null,null,null,null,null,null,null,null,null,{"$f":"IF(ISERROR(IF(C530=\"corrective\",E530+KPI!$P$4,IF(C530=\"Preventative\",E530+KPI!$P$5,\"\"))),\"\",IF(C530=\"corrective\",E530+KPI!$P$4,IF(C530=\"Preventative\",E530+KPI!$P$5,\"\")))","v":""},"Please select",null,null,null,null,null,"Please select",null,null,"",null,null,null,null,null,null,null,null,"TBD","","",null,null,0,0,1]
[null,"Please select",null,null,null,null,null,null,null,null,null,null,null,null,{"$f":"IF(ISERROR(IF(C531=\"corrective\",E531+KPI!$P$4,IF(C531=\"Preventative\",E531+KPI!$P$5,\"\"))),\"\",IF(C531=\"corrective\",E531+KPI!$P$4,IF(C531=\"Preventative\",E531+KPI!$P$5,\"\")))","v":""},"Please select",null,null,null,null,null,"Please select",null,null,"",null,null,null,null,null,null,null,null,"TBD","","",null,null,0,0,1]
[null,"Please select",null,null,null,null,null,null,null,null,null,null,null,null,{"$f":"IF(ISERROR(IF(C532=\"corrective\",E532+KPI!$P$4,IF(C532=\"Preventative\",E532+KPI!$P$5,\"\"))),\"\",IF(C532=\"corrective\",E532+KPI!$P$4,IF(C532=\"Preventative\",E532+KPI!$P$5,\"\")))","v":""},"Please select",null,null,null,null,null,"Please select",null,null,"",null,null,null,null,null,null,null,null,"TBD","","",null,null,0,0,1]
[null,"Please select",null,null,null,null,null,null,null,null,null,null,null,null,{"$f":"IF(ISERROR(IF(C533=\"corrective\",E533+KPI!$P$4,IF(C533=\"Preventative\",E533+KPI!$P$5,\"\"))),\"\",IF(C533=\"corrective\",E533+KPI!$P$4,IF(C533=\"Preventative\",E533+KPI!$P$5,\"\")))","v":""},"Please select",null,null,null,null,null,"Please select",null,null,"",null,null,null,null,null,null,null,null,"TBD","","",null,null,0,0,1]
[null,"Please select",null,null,null,null,null,null,null,null,null,null,null,null,{"$f":"IF(ISERROR(IF(C534=\"corrective\",E534+KPI!$P$4,IF(C534=\"Preventative\",E534+KPI!$P$5,\"\"))),\"\",IF(C534=\"corrective\",E534+KPI!$P$4,IF(C534=\"Preventative\",E534+KPI!$P$5,\"\")))","v":""},"Please select",null,null,null,null,null,"Please select",null,null,"",null,null,null,null,null,null,null,null,"TBD","","",null,null,0,0,1]
[null,"Please select",null,null,null,null,null,null,null,null,null,null,null,null,{"$f":"IF(ISERROR(IF(C535=\"corrective\",E535+KPI!$P$4,IF(C535=\"Preventative\",E535+KPI!$P$5,\"\"))),\"\",IF(C535=\"corrective\",E535+KPI!$P$4,IF(C535=\"Preventative\",E535+KPI!$P$5,\"\")))","v":""},"Please select",null,null,null,null,null,"Please select",null,null,"",null,null,null,null,null,null,null,null,"TBD","","",null,null,0,0,1]
[null,"Please select",null,null,null,null,null,null,null,null,null,null,null,null,{"$f":"IF(ISERROR(IF(C536=\"corrective\",E536+KPI!$P$4,IF(C536=\"Preventative\",E536+KPI!$P$5,\"\"))),\"\",IF(C536=\"corrective\",E536+KPI!$P$4,IF(C536=\"Preventative\",E536+KPI!$P$5,\"\")))","v":""},"Please select",null,null,null,null,null,"Please select",null,null,"",null,null,null,null,null,null,null,null,"TBD","","",null,null,0,0,1]
[null,"Please select",null,null,null,null,null,null,null,null,null,null,null,null,{"$f":"IF(ISERROR(IF(C537=\"corrective\",E537+KPI!$P$4,IF(C537=\"Preventative\",E537+KPI!$P$5,\"\"))),\"\",IF(C537=\"corrective\",E537+KPI!$P$4,IF(C537=\"Preventative\",E537+KPI!$P$5,\"\")))","v":""},"Please select",null,null,null,null,null,"Please select",null,null,"",null,null,null,null,null,null,null,null,"TBD","","",null,null,0,0,1]
[null,"Please select",null,null,null,null,null,null,null,null,null,null,null,null,{"$f":"IF(ISERROR(IF(C538=\"corrective\",E538+KPI!$P$4,IF(C538=\"Preventative\",E538+KPI!$P$5,\"\"))),\"\",IF(C538=\"corrective\",E538+KPI!$P$4,IF(C538=\"Preventative\",E538+KPI!$P$5,\"\")))","v":""},"Please select",null,null,null,null,null,"Please select",null,null,"",null,null,null,null,null,null,null,null,"TBD","","",null,null,0,0,1]
[null,"Please select",null,null,null,null,null,null,null,null,null,null,null,null,{"$f":"IF(ISERROR(IF(C539=\"corrective\",E539+KPI!$P$4,IF(C539=\"Preventative\",E539+KPI!$P$5,\"\"))),\"\",IF(C539=\"corrective\",E539+KPI!$P$4,IF(C539=\"Preventative\",E539+KPI!$P$5,\"\")))","v":""},"Please select",null,null,null,null,null,"Please select",null,null,"",null,null,null,null,null,null,null,null,"TBD","","",null,null,0,0,1]
[null,"Please select",null,null,null,null,null,null,null,null,null,null,null,null,{"$f":"IF(ISERROR(IF(C540=\"corrective\",E540+KPI!$P$4,IF(C540=\"Preventative\",E540+KPI!$P$5,\"\"))),\"\",IF(C540=\"corrective\",E540+KPI!$P$4,IF(C540=\"Preventative\",E540+KPI!$P$5,\"\")))","v":""},"Please select",null,null,null,null,null,"Please select",null,null,"",null,null,null,null,null,null,null,null,"TBD","","",null,null,0,0,1]
[null,"Please select",null,null,null,null,null,null,null,null,null,null,null,null,{"$f":"IF(ISERROR(IF(C541=\"corrective\",E541+KPI!$P$4,IF(C541=\"Preventative\",E541+KPI!$P$5,\"\"))),\"\",IF(C541=\"corrective\",E541+KPI!$P$4,IF(C541=\"Preventative\",E541+KPI!$P$5,\"\")))","v":""},"Please select",null,null,null,null,null,"Please select",null,null,"",null,null,null,null,null,null,null,null,"TBD","","",null,null,0,0,1]
[null,"Please select",null,null,null,null,null,null,null,null,null,null,null,null,{"$f":"IF(ISERROR(IF(C542=\"corrective\",E542+KPI!$P$4,IF(C542=\"Preventative\",E542+KPI!$P$5,\"\"))),\"\",IF(C542=\"corrective\",E542+KPI!$P$4,IF(C542=\"Preventative\",E542+KPI!$P$5,\"\")))","v":""},"Please select",null,null,null,null,null,"Please select",null,null,"",null,null,null,null,null,null,null,null,"TBD","","",null,null,0,0,1]
[null,"Please select",null,null,null,null,null,null,null,null,null,null,null,null,{"$f":"IF(ISERROR(IF(C543=\"corrective\",E543+KPI!$P$4,IF(C543=\"Preventative\",E543+KPI!$P$5,\"\"))),\"\",IF(C543=\"corrective\",E543+KPI!$P$4,IF(C543=\"Preventative\",E543+KPI!$P$5,\"\")))","v":""},"Please select",null,null,null,null,null,"Please select",null,null,"",null,null,null,null,null,null,null,null,"TBD","","",null,null,0,0,1]
[null,"Please select",null,null,null,null,null,null,null,null,null,null,null,null,{"$f":"IF(ISERROR(IF(C544=\"corrective\",E544+KPI!$P$4,IF(C544=\"Preventative\",E544+KPI!$P$5,\"\"))),\"\",IF(C544=\"corrective\",E544+KPI!$P$4,IF(C544=\"Preventative\",E544+KPI!$P$5,\"\")))","v":""},"Please select",null,null,null,null,null,"Please select",null,null,"",null,null,null,null,null,null,null,null,"TBD","","",null,null,0,0,1]
[null,"Please select",null,null,null,null,null,null,null,null,null,null,null,null,{"$f":"IF(ISERROR(IF(C545=\"corrective\",E545+KPI!$P$4,IF(C545=\"Preventative\",E545+KPI!$P$5,\"\"))),\"\",IF(C545=\"corrective\",E545+KPI!$P$4,IF(C545=\"Preventative\",E545+KPI!$P$5,\"\")))","v":""},"Please select",null,null,null,null,null,"Please select",null,null,"",null,null,null,null,null,null,null,null,"TBD","","",null,null,0,0,1]
[null,"Please select",null,null,null,null,null,null,null,null,null,null,null,null,{"$f":"IF(ISERROR(IF(C546=\"corrective\",E546+KPI!$P$4,IF(C546=\"Preventative\",E546+KPI!$P$5,\"\"))),\"\",IF(C546=\"corrective\",E546+KPI!$P$4,IF(C546=\"Preventative\",E546+KPI!$P$5,\"\")))","v":""},"Please select",null,null,null,null,null,"Please select",null,null,"",null,null,null,null,null,null,null,null,"TBD","","",null,null,0,0,1]
[null,"Please select",null,null,null,null,null,null,null,null,null,null,null,null,{"$f":"IF(ISERROR(IF(C547=\"corrective\",E547+KPI!$P$4,IF(C547=\"Preventative\",E547+KPI!$P$5,\"\"))),\"\",IF(C547=\"corrective\",E547+KPI!$P$4,IF(C547=\"Preventative\",E547+KPI!$P$5,\"\")))","v":""},"Please select",null,null,null,null,null,"Please select",null,null,"",null,null,null,null,null,null,null,null,"TBD","","",null,null,0,0,1]
[null,"Please select",null,null,null,null,null,null,null,null,null,null,null,null,{"$f":"IF(ISERROR(IF(C548=\"corrective\",E548+KPI!$P$4,IF(C548=\"Preventative\",E548+KPI!$P$5,\"\"))),\"\",IF(C548=\"corrective\",E548+KPI!$P$4,IF(C548=\"Preventative\",E548+KPI!$P$5,\"\")))","v":""},"Please select",null,null,null,null,null,"Please select",null,null,"",null,null,null,null,null,null,null,null,"TBD","","",null,null,0,0,1]
[null,"Please select",null,null,null,null,null,null,null,null,null,null,null,null,{"$f":"IF(ISERROR(IF(C549=\"corrective\",E549+KPI!$P$4,IF(C549=\"Preventative\",E549+KPI!$P$5,\"\"))),\"\",IF(C549=\"corrective\",E549+KPI!$P$4,IF(C549=\"Preventative\",E549+KPI!$P$5,\"\")))","v":""},"Please select",null,null,null,null,null,"Please select",null,null,"",null,null,null,null,null,null,null,null,"TBD","","",null,null,0,0,1]
[null,"Please select",null,null,null,null,null,null,null,null,null,null,null,null,{"$f":"IF(ISERROR(IF(C550=\"corrective\",E550+KPI!$P$4,IF(C550=\"Preventative\",E550+KPI!$P$5,\"\"))),\"\",IF(C550=\"corrective\",E550+KPI!$P$4,IF(C550=\"Preventative\",E550+KPI!$P$5,\"\")))","v":""},"Please select",null,null,null,null,null,"Please select",null,null,"",null,null,null,null,null,null,null,null,"TBD","","",null,null,0,0,1]
[null,"Please select",null,null,null,null,null,null,null,null,null,null,null,null,{"$f":"IF(ISERROR(IF(C551=\"corrective\",E551+KPI!$P$4,IF(C551=\"Preventative\",E551+KPI!$P$5,\"\"))),\"\",IF(C551=\"corrective\",E551+KPI!$P$4,IF(C551=\"Preventative\",E551+KPI!$P$5,\"\")))","v":""},"Please select",null,null,null,null,null,"Please select",null,null,"",null,null,null,null,null,null,null,null,"TBD","","",null,null,0,0,1]
[null,"Please select",null,null,null,null,null,null,null,null,null,null,null,null,{"$f":"IF(ISERROR(IF(C552=\"corrective\",E552+KPI!$P$4,IF(C552=\"Preventative\",E552+KPI!$P$5,\"\"))),\"\",IF(C552=\"corrective\",E552+KPI!$P$4,IF(C552=\"Preventative\",E552+KPI!$P$5,\"\")))","v":""},"Please select",null,null,null,null,null,"Please select",null,null,"",null,null,null,null,null,null,null,null,"TBD","","",null,null,0,0,1]
[null,"Please select",null,null,null,null,null,null,null,null,null,null,null,null,{"$f":"IF(ISERROR(IF(C553=\"corrective\",E553+KPI!$P$4,IF(C553=\"Preventative\",E553+KPI!$P$5,\"\"))),\"\",IF(C553=\"corrective\",E553+KPI!$P$4,IF(C553=\"Preventative\",E553+KPI!$P$5,\"\")))","v":""},"Please select",null,null,null,null,null,"Please select",null,null,"",null,null,null,null,null,null,null,null,"TBD","","",null,null,0,0,1]
[null,"Please select",null,null,null,null,null,null,null,null,null,null,null,null,{"$f":"IF(ISERROR(IF(C554=\"corrective\",E554+KPI!$P$4,IF(C554=\"Preventative\",E554+KPI!$P$5,\"\"))),\"\",IF(C554=\"corrective\",E554+KPI!$P$4,IF(C554=\"Preventative\",E554+KPI!$P$5,\"\")))","v":""},"Please select",null,null,null,null,null,"Please select",null,null,"",null,null,null,null,null,null,null,null,"TBD","","",null,null,0,0,1]
[null,"Please select",null,null,null,null,null,null,null,null,null,null,null,null,{"$f":"IF(ISERROR(IF(C555=\"corrective\",E555+KPI!$P$4,IF(C555=\"Preventative\",E555+KPI!$P$5,\"\"))),\"\",IF(C555=\"corrective\",E555+KPI!$P$4,IF(C555=\"Preventative\",E555+KPI!$P$5,\"\")))","v":""},"Please select",null,null,null,null,null,"Please select",null,null,"",null,null,null,null,null,null,null,null,"TBD","","",null,null,0,0,1]
[null,"Please select",null,null,null,null,null,null,null,null,null,null,null,null,{"$f":"IF(ISERROR(IF(C556=\"corrective\",E556+KPI!$P$4,IF(C556=\"Preventative\",E556+KPI!$P$5,\"\"))),\"\",IF(C556=\"corrective\",E556+KPI!$P$4,IF(C556=\"Preventative\",E556+KPI!$P$5,\"\")))","v":""},"Please select",null,null,null,null,null,"Please select",null,null,"",null,null,null,null,null,null,null,null,"TBD","","",null,null,0,0,1]
[null,"Please select",null,null,null,null,null,null,null,null,null,null,null,null,{"$f":"IF(ISERROR(IF(C557=\"corrective\",E557+KPI!$P$4,IF(C557=\"Preventative\",E557+KPI!$P$5,\"\"))),\"\",IF(C557=\"corrective\",E557+KPI!$P$4,IF(C557=\"Preventative\",E557+KPI!$P$5,\"\")))","v":""},"Please select",null,null,null,null,null,"Please select",null,null,"",null,null,null,null,null,null,null,null,"TBD","","",null,null,0,0,1]
[null,"Please select",null,null,null,null,null,null,null,null,null,null,null,null,{"$f":"IF(ISERROR(IF(C558=\"corrective\",E558+KPI!$P$4,IF(C558=\"Preventative\",E558+KPI!$P$5,\"\"))),\"\",IF(C558=\"corrective\",E558+KPI!$P$4,IF(C558=\"Preventative\",E558+KPI!$P$5,\"\")))","v":""},"Please select",null,null,null,null,null,"Please select",null,null,"",null,null,null,null,null,null,null,null,"TBD","","",null,null,0,0,1]
[null,"Please select",null,null,null,null,null,null,null,null,null,null,null,null,{"$f":"IF(ISERROR(IF(C559=\"corrective\",E559+KPI!$P$4,IF(C559=\"Preventative\",E559+KPI!$P$5,\"\"))),\"\",IF(C559=\"corrective\",E559+KPI!$P$4,IF(C559=\"Preventative\",E559+KPI!$P$5,\"\")))","v":""},{"$f":"IF(AND(O559<TODAY(),B559=\"new\"),\"New - Overdue\",B559)","v":"Please select"},null,null,null,null,null,"Please select",null,null,{"$f":"Z559&AA559&AB559&AC559&AD559&AE559","v":""},null,null,null,null,null,null,null,null,"TBD",{"$f":"IF(ISERROR(AJ559-20),\"\",AJ559-20)","v":""},{"$f":"IF(ISERROR(IF(C559=\"corrective\",E559+AH559,\"\")),\"\",IF(C559=\"corrective\",E559+AH559,\"\"))","v":""},null,null,0,0,{"$f":"COUNTIF(AN559,\">400\")+COUNTIF(AN559,\"=0\")","v":1}]
[null,"Please select",null,null,null,null,null,null,null,null,null,null,null,null,{"$f":"IF(ISERROR(IF(C560=\"corrective\",E560+KPI!$P$4,IF(C560=\"Preventative\",E560+KPI!$P$5,\"\"))),\"\",IF(C560=\"corrective\",E560+KPI!$P$4,IF(C560=\"Preventative\",E560+KPI!$P$5,\"\")))","v":""},"Please select",null,null,null,null,null,"Please select",null,null,"",null,null,null,null,null,null,null,null,"TBD","","",null,null,0,0,1]
[null,"Please select",null,null,null,null,null,null,null,null,null,null,null,null,{"$f":"IF(ISERROR(IF(C561=\"corrective\",E561+KPI!$P$4,IF(C561=\"Preventative\",E561+KPI!$P$5,\"\"))),\"\",IF(C561=\"corrective\",E561+KPI!$P$4,IF(C561=\"Preventative\",E561+KPI!$P$5,\"\")))","v":""},"Please select",null,null,null,null,null,"Please select",null,null,"",null,null,null,null,null,null,null,null,"TBD","","",null,null,0,0,1]
[null,"Please select",null,null,null,null,null,null,null,null,null,null,null,null,{"$f":"IF(ISERROR(IF(C562=\"corrective\",E562+KPI!$P$4,IF(C562=\"Preventative\",E562+KPI!$P$5,\"\"))),\"\",IF(C562=\"corrective\",E562+KPI!$P$4,IF(C562=\"Preventative\",E562+KPI!$P$5,\"\")))","v":""},"Please select",null,null,null,null,null,"Please select",null,null,"",null,null,null,null,null,null,null,null,"TBD","","",null,null,0,0,1]
[null,"Please select",null,null,null,null,null,null,null,null,null,null,null,null,{"$f":"IF(ISERROR(IF(C563=\"corrective\",E563+KPI!$P$4,IF(C563=\"Preventative\",E563+KPI!$P$5,\"\"))),\"\",IF(C563=\"corrective\",E563+KPI!$P$4,IF(C563=\"Preventative\",E563+KPI!$P$5,\"\")))","v":""},"Please select",null,null,null,null,null,"Please select",null,null,"",null,null,null,null,null,null,null,null,"TBD","","",null,null,0,0,1]
[null,"Please select",null,null,null,null,null,null,null,null,null,null,null,null,{"$f":"IF(ISERROR(IF(C564=\"corrective\",E564+KPI!$P$4,IF(C564=\"Preventative\",E564+KPI!$P$5,\"\"))),\"\",IF(C564=\"corrective\",E564+KPI!$P$4,IF(C564=\"Preventative\",E564+KPI!$P$5,\"\")))","v":""},"Please select",null,null,null,null,null,"Please select",null,null,"",null,null,null,null,null,null,null,null,"TBD","","",null,null,0,0,1]
[null,"Please select",null,null,null,null,null,null,null,null,null,null,null,null,{"$f":"IF(ISERROR(IF(C565=\"corrective\",E565+KPI!$P$4,IF(C565=\"Preventative\",E565+KPI!$P$5,\"\"))),\"\",IF(C565=\"corrective\",E565+KPI!$P$4,IF(C565=\"Preventative\",E565+KPI!$P$5,\"\")))","v":""},"Please select",null,null,null,null,null,"Please select",null,null,"",null,null,null,null,null,null,null,null,"TBD","","",null,null,0,0,1]
[null,"Please select",null,null,null,null,null,null,null,null,null,null,null,null,{"$f":"IF(ISERROR(IF(C566=\"corrective\",E566+KPI!$P$4,IF(C566=\"Preventative\",E566+KPI!$P$5,\"\"))),\"\",IF(C566=\"corrective\",E566+KPI!$P$4,IF(C566=\"Preventative\",E566+KPI!$P$5,\"\")))","v":""},"Please select",null,null,null,null,null,"Please select",null,null,"",null,null,null,null,null,null,null,null,"TBD","","",null,null,0,0,1]
[null,"Please select",null,null,null,null,null,null,null,null,null,null,null,null,{"$f":"IF(ISERROR(IF(C567=\"corrective\",E567+KPI!$P$4,IF(C567=\"Preventative\",E567+KPI!$P$5,\"\"))),\"\",IF(C567=\"corrective\",E567+KPI!$P$4,IF(C567=\"Preventative\",E567+KPI!$P$5,\"\")))","v":""},"Please select",null,null,null,null,null,"Please select",null,null,"",null,null,null,null,null,null,null,null,"TBD","","",null,null,0,0,1]
[null,"Please select",null,null,null,null,null,null,null,null,null,null,null,null,{"$f":"IF(ISERROR(IF(C568=\"corrective\",E568+KPI!$P$4,IF(C568=\"Preventative\",E568+KPI!$P$5,\"\"))),\"\",IF(C568=\"corrective\",E568+KPI!$P$4,IF(C568=\"Preventative\",E568+KPI!$P$5,\"\")))","v":""},"Please select",null,null,null,null,null,"Please select",null,null,"",null,null,null,null,null,null,null,null,"TBD","","",null,null,0,0,1]
[null,"Please select",null,null,null,null,null,null,null,null,null,null,null,null,{"$f":"IF(ISERROR(IF(C569=\"corrective\",E569+KPI!$P$4,IF(C569=\"Preventative\",E569+KPI!$P$5,\"\"))),\"\",IF(C569=\"corrective\",E569+KPI!$P$4,IF(C569=\"Preventative\",E569+KPI!$P$5,\"\")))","v":""},"Please select",null,null,null,null,null,"Please select",null,null,"",null,null,null,null,null,null,null,null,"TBD","","",null,null,0,0,1]
[null,"Please select",null,null,null,null,null,null,null,null,null,null,null,null,{"$f":"IF(ISERROR(IF(C570=\"corrective\",E570+KPI!$P$4,IF(C570=\"Preventative\",E570+KPI!$P$5,\"\"))),\"\",IF(C570=\"corrective\",E570+KPI!$P$4,IF(C570=\"Preventative\",E570+KPI!$P$5,\"\")))","v":""},"Please select",null,null,null,null,null,"Please select",null,null,"",null,null,null,null,null,null,null,null,"TBD","","",null,null,0,0,1]
[null,"Please select",null,null,null,null,null,null,null,null,null,null,null,null,{"$f":"IF(ISERROR(IF(C571=\"corrective\",E571+KPI!$P$4,IF(C571=\"Preventative\",E571+KPI!$P$5,\"\"))),\"\",IF(C571=\"corrective\",E571+KPI!$P$4,IF(C571=\"Preventative\",E571+KPI!$P$5,\"\")))","v":""},"Please select",null,null,null,null,null,"Please select",null,null,"",null,null,null,null,null,null,null,null,"TBD","","",null,null,0,0,1]
[null,"Please select",null,null,null,null,null,null,null,null,null,null,null,null,{"$f":"IF(ISERROR(IF(C572=\"corrective\",E572+KPI!$P$4,IF(C572=\"Preventative\",E572+KPI!$P$5,\"\"))),\"\",IF(C572=\"corrective\",E572+KPI!$P$4,IF(C572=\"Preventative\",E572+KPI!$P$5,\"\")))","v":""},"Please select",null,null,null,null,null,"Please select",null,null,"",null,null,null,null,null,null,null,null,"TBD","","",null,null,0,0,1]
[null,"Please select",null,null,null,null,null,null,null,null,null,null,null,null,{"$f":"IF(ISERROR(IF(C573=\"corrective\",E573+KPI!$P$4,IF(C573=\"Preventative\",E573+KPI!$P$5,\"\"))),\"\",IF(C573=\"corrective\",E573+KPI!$P$4,IF(C573=\"Preventative\",E573+KPI!$P$5,\"\")))","v":""},"Please select",null,null,null,null,null,"Please select",null,null,"",null,null,null,null,null,null,null,null,"TBD","","",null,null,0,0,1]
[null,"Please select",null,null,null,null,null,null,null,null,null,null,null,null,{"$f":"IF(ISERROR(IF(C574=\"corrective\",E574+KPI!$P$4,IF(C574=\"Preventative\",E574+KPI!$P$5,\"\"))),\"\",IF(C574=\"corrective\",E574+KPI!$P$4,IF(C574=\"Preventative\",E574+KPI!$P$5,\"\")))","v":""},"Please select",null,null,null,null,null,"Please select",null,null,"",null,null,null,null,null,null,null,null,"TBD","","",null,null,0,0,1]
[null,"Please select",null,null,null,null,null,null,null,null,null,null,null,null,{"$f":"IF(ISERROR(IF(C575=\"corrective\",E575+KPI!$P$4,IF(C575=\"Preventative\",E575+KPI!$P$5,\"\"))),\"\",IF(C575=\"corrective\",E575+KPI!$P$4,IF(C575=\"Preventative\",E575+KPI!$P$5,\"\")))","v":""},"Please select",null,null,null,null,null,"Please select",null,null,"",null,null,null,null,null,null,null,null,"TBD","","",null,null,0,0,1]
[null,"Please select",null,null,null,null,null,null,null,null,null,null,null,null,{"$f":"IF(ISERROR(IF(C576=\"corrective\",E576+KPI!$P$4,IF(C576=\"Preventative\",E576+KPI!$P$5,\"\"))),\"\",IF(C576=\"corrective\",E576+KPI!$P$4,IF(C576=\"Preventative\",E576+KPI!$P$5,\"\")))","v":""},"Please select",null,null,null,null,null,"Please select",null,null,"",null,null,null,null,null,null,null,null,"TBD","","",null,null,0,0,1]
[null,"Please select",null,null,null,null,null,null,null,null,null,null,null,null,{"$f":"IF(ISERROR(IF(C577=\"corrective\",E577+KPI!$P$4,IF(C577=\"Preventative\",E577+KPI!$P$5,\"\"))),\"\",IF(C577=\"corrective\",E577+KPI!$P$4,IF(C577=\"Preventative\",E577+KPI!$P$5,\"\")))","v":""},"Please select",null,null,null,null,null,"Please select",null,null,"",null,null,null,null,null,null,null,null,"TBD","","",null,null,0,0,1]
[null,"Please select",null,null,null,null,null,null,null,null,null,null,null,null,{"$f":"IF(ISERROR(IF(C578=\"corrective\",E578+KPI!$P$4,IF(C578=\"Preventative\",E578+KPI!$P$5,\"\"))),\"\",IF(C578=\"corrective\",E578+KPI!$P$4,IF(C578=\"Preventative\",E578+KPI!$P$5,\"\")))","v":""},"Please select",null,null,null,null,null,"Please select",null,null,"",null,null,null,null,null,null,null,null,"TBD","","",null,null,{"$f":"IF(ISERROR(DATEDIF(E578,Q578,\"D\")),\"\",DATEDIF(E578,Q578,\"D\"))","v":0},{"$f":"IF(ISERROR(DATEDIF(Q578,X578,\"D\")),\"\",DATEDIF(Q578,X578,\"D\"))","v":0},1]
[null,"Please select",null,null,null,null,null,null,null,null,null,null,null,null,{"$f":"IF(ISERROR(IF(C579=\"corrective\",E579+KPI!$P$4,IF(C579=\"Preventative\",E579+KPI!$P$5,\"\"))),\"\",IF(C579=\"corrective\",E579+KPI!$P$4,IF(C579=\"Preventative\",E579+KPI!$P$5,\"\")))","v":""},"Please select",null,null,null,null,null,"Please select",null,null,"",null,null,null,null,null,null,null,null,"TBD","","",null,null,0,0,1]
[null,"Please select",null,null,null,null,null,null,null,null,null,null,null,null,{"$f":"IF(ISERROR(IF(C580=\"corrective\",E580+KPI!$P$4,IF(C580=\"Preventative\",E580+KPI!$P$5,\"\"))),\"\",IF(C580=\"corrective\",E580+KPI!$P$4,IF(C580=\"Preventative\",E580+KPI!$P$5,\"\")))","v":""},"Please select",null,null,null,null,null,"Please select",null,null,"",null,null,null,null,null,null,null,null,"TBD","","",null,null,0,0,1]
[null,"Please select",null,null,null,null,null,null,null,null,null,null,null,null,{"$f":"IF(ISERROR(IF(C581=\"corrective\",E581+KPI!$P$4,IF(C581=\"Preventative\",E581+KPI!$P$5,\"\"))),\"\",IF(C581=\"corrective\",E581+KPI!$P$4,IF(C581=\"Preventative\",E581+KPI!$P$5,\"\")))","v":""},"Please select",null,null,null,null,null,"Please select",null,null,"",null,null,null,null,null,null,null,null,"TBD","","",null,null,0,0,1]
[null,"Please select",null,null,null,null,null,null,null,null,null,null,null,null,{"$f":"IF(ISERROR(IF(C582=\"corrective\",E582+KPI!$P$4,IF(C582=\"Preventative\",E582+KPI!$P$5,\"\"))),\"\",IF(C582=\"corrective\",E582+KPI!$P$4,IF(C582=\"Preventative\",E582+KPI!$P$5,\"\")))","v":""},"Please select",null,null,null,null,null,"Please select",null,null,"",null,null,null,null,null,null,null,null,"TBD","","",null,null,0,0,1]
[null,"Please select",null,null,null,null,null,null,null,null,null,null,null,null,{"$f":"IF(ISERROR(IF(C583=\"corrective\",E583+KPI!$P$4,IF(C583=\"Preventative\",E583+KPI!$P$5,\"\"))),\"\",IF(C583=\"corrective\",E583+KPI!$P$4,IF(C583=\"Preventative\",E583+KPI!$P$5,\"\")))","v":""},"Please select",null,null,null,null,null,"Please select",null,null,"",null,null,null,null,null,null,null,null,"TBD","","",null,null,0,0,1]
[null,"Please select",null,null,null,null,null,null,null,null,null,null,null,null,{"$f":"IF(ISERROR(IF(C584=\"corrective\",E584+KPI!$P$4,IF(C584=\"Preventative\",E584+KPI!$P$5,\"\"))),\"\",IF(C584=\"corrective\",E584+KPI!$P$4,IF(C584=\"Preventative\",E584+KPI!$P$5,\"\")))","v":""},"Please select",null,null,null,null,null,"Please select",null,null,"",null,null,null,null,null,null,null,null,"TBD","","",null,null,0,0,1]
[null,"Please select",null,null,null,null,null,null,null,null,null,null,null,null,{"$f":"IF(ISERROR(IF(C585=\"corrective\",E585+KPI!$P$4,IF(C585=\"Preventative\",E585+KPI!$P$5,\"\"))),\"\",IF(C585=\"corrective\",E585+KPI!$P$4,IF(C585=\"Preventative\",E585+KPI!$P$5,\"\")))","v":""},"Please select",null,null,null,null,null,"Please select",null,null,"",null,null,null,null,null,null,null,null,"TBD","","",null,null,0,0,1]
[null,"Please select",null,null,null,null,null,null,null,null,null,null,null,null,{"$f":"IF(ISERROR(IF(C586=\"corrective\",E586+KPI!$P$4,IF(C586=\"Preventative\",E586+KPI!$P$5,\"\"))),\"\",IF(C586=\"corrective\",E586+KPI!$P$4,IF(C586=\"Preventative\",E586+KPI!$P$5,\"\")))","v":""},"Please select",null,null,null,null,null,"Please select",null,null,"",null,null,null,null,null,null,null,null,"TBD","","",null,null,0,0,1]
[null,"Please select",null,null,null,null,null,null,null,null,null,null,null,null,{"$f":"IF(ISERROR(IF(C587=\"corrective\",E587+KPI!$P$4,IF(C587=\"Preventative\",E587+KPI!$P$5,\"\"))),\"\",IF(C587=\"corrective\",E587+KPI!$P$4,IF(C587=\"Preventative\",E587+KPI!$P$5,\"\")))","v":""},"Please select",null,null,null,null,null,"Please select",null,null,"",null,null,null,null,null,null,null,null,"TBD","","",null,null,0,0,1]
[null,"Please select",null,null,null,null,null,null,null,null,null,null,null,null,{"$f":"IF(ISERROR(IF(C588=\"corrective\",E588+KPI!$P$4,IF(C588=\"Preventative\",E588+KPI!$P$5,\"\"))),\"\",IF(C588=\"corrective\",E588+KPI!$P$4,IF(C588=\"Preventative\",E588+KPI!$P$5,\"\")))","v":""},"Please select",null,null,null,null,null,"Please select",null,null,"",null,null,null,null,null,null,null,null,"TBD","","",null,null,0,0,1]
[null,"Please select",null,null,null,null,null,null,null,null,null,null,null,null,{"$f":"IF(ISERROR(IF(C589=\"corrective\",E589+KPI!$P$4,IF(C589=\"Preventative\",E589+KPI!$P$5,\"\"))),\"\",IF(C589=\"corrective\",E589+KPI!$P$4,IF(C589=\"Preventative\",E589+KPI!$P$5,\"\")))","v":""},"Please select",null,null,null,null,null,"Please select",null,null,"",null,null,null,null,null,null,null,null,"TBD","","",null,null,0,0,1]
[null,"Please select",null,null,null,null,null,null,null,null,null,null,null,null,{"$f":"IF(ISERROR(IF(C590=\"corrective\",E590+KPI!$P$4,IF(C590=\"Preventative\",E590+KPI!$P$5,\"\"))),\"\",IF(C590=\"corrective\",E590+KPI!$P$4,IF(C590=\"Preventative\",E590+KPI!$P$5,\"\")))","v":""},"Please select",null,null,null,null,null,"Please select",null,null,"",null,null,null,null,null,null,null,null,"TBD","","",null,null,0,0,1]
[null,"Please select",null,null,null,null,null,null,null,null,null,null,null,null,{"$f":"IF(ISERROR(IF(C591=\"corrective\",E591+KPI!$P$4,IF(C591=\"Preventative\",E591+KPI!$P$5,\"\"))),\"\",IF(C591=\"corrective\",E591+KPI!$P$4,IF(C591=\"Preventative\",E591+KPI!$P$5,\"\")))","v":""},"Please select",null,null,null,null,null,"Please select",null,null,"",null,null,null,null,null,null,null,null,"TBD","","",null,null,0,0,1]
[null,"Please select",null,null,null,null,null,null,null,null,null,null,null,null,{"$f":"IF(ISERROR(IF(C592=\"corrective\",E592+KPI!$P$4,IF(C592=\"Preventative\",E592+KPI!$P$5,\"\"))),\"\",IF(C592=\"corrective\",E592+KPI!$P$4,IF(C592=\"Preventative\",E592+KPI!$P$5,\"\")))","v":""},"Please select",null,null,null,null,null,"Please select",null,null,"",null,null,null,null,null,null,null,null,"TBD","","",null,null,0,0,1]
[null,"Please select",null,null,null,null,null,null,null,null,null,null,null,null,{"$f":"IF(ISERROR(IF(C593=\"corrective\",E593+KPI!$P$4,IF(C593=\"Preventative\",E593+KPI!$P$5,\"\"))),\"\",IF(C593=\"corrective\",E593+KPI!$P$4,IF(C593=\"Preventative\",E593+KPI!$P$5,\"\")))","v":""},"Please select",null,null,null,null,null,"Please select",null,null,"",null,null,null,null,null,null,null,null,"TBD","","",null,null,0,0,1]
[null,"Please select",null,null,null,null,null,null,null,null,null,null,null,null,{"$f":"IF(ISERROR(IF(C594=\"corrective\",E594+KPI!$P$4,IF(C594=\"Preventative\",E594+KPI!$P$5,\"\"))),\"\",IF(C594=\"corrective\",E594+KPI!$P$4,IF(C594=\"Preventative\",E594+KPI!$P$5,\"\")))","v":""},"Please select",null,null,null,null,null,"Please select",null,null,"",null,null,null,null,null,null,null,null,"TBD","","",null,null,0,0,1]
[null,"Please select",null,null,null,null,null,null,null,null,null,null,null,null,{"$f":"IF(ISERROR(IF(C595=\"corrective\",E595+KPI!$P$4,IF(C595=\"Preventative\",E595+KPI!$P$5,\"\"))),\"\",IF(C595=\"corrective\",E595+KPI!$P$4,IF(C595=\"Preventative\",E595+KPI!$P$5,\"\")))","v":""},"Please select",null,null,null,null,null,"Please select",null,null,"",null,null,null,null,null,null,null,null,"TBD","","",null,null,0,0,1]
[null,"Please select",null,null,null,null,null,null,null,null,null,null,null,null,{"$f":"IF(ISERROR(IF(C596=\"corrective\",E596+KPI!$P$4,IF(C596=\"Preventative\",E596+KPI!$P$5,\"\"))),\"\",IF(C596=\"corrective\",E596+KPI!$P$4,IF(C596=\"Preventative\",E596+KPI!$P$5,\"\")))","v":""},"Please select",null,null,null,null,null,"Please select",null,null,"",null,null,null,null,null,null,null,null,"TBD","","",null,null,0,0,1]
[null,"Please select",null,null,null,null,null,null,null,null,null,null,null,null,{"$f":"IF(ISERROR(IF(C597=\"corrective\",E597+KPI!$P$4,IF(C597=\"Preventative\",E597+KPI!$P$5,\"\"))),\"\",IF(C597=\"corrective\",E597+KPI!$P$4,IF(C597=\"Preventative\",E597+KPI!$P$5,\"\")))","v":""},"Please select",null,null,null,null,null,"Please select",null,null,"",null,null,null,null,null,null,null,null,"TBD","","",null,null,0,0,1]
[null,"Please select",null,null,null,null,null,null,null,null,null,null,null,null,{"$f":"IF(ISERROR(IF(C598=\"corrective\",E598+KPI!$P$4,IF(C598=\"Preventative\",E598+KPI!$P$5,\"\"))),\"\",IF(C598=\"corrective\",E598+KPI!$P$4,IF(C598=\"Preventative\",E598+KPI!$P$5,\"\")))","v":""},"Please select",null,null,null,null,null,"Please select",null,null,"",null,null,null,null,null,null,null,null,"TBD","","",null,null,0,0,1]
[null,"Please select",null,null,null,null,null,null,null,null,null,null,null,null,{"$f":"IF(ISERROR(IF(C599=\"corrective\",E599+KPI!$P$4,IF(C599=\"Preventative\",E599+KPI!$P$5,\"\"))),\"\",IF(C599=\"corrective\",E599+KPI!$P$4,IF(C599=\"Preventative\",E599+KPI!$P$5,\"\")))","v":""},"Please select",null,null,null,null,null,"Please select",null,null,"",null,null,null,null,null,null,null,null,"TBD","","",null,null,0,0,1]
[null,"Please select",null,null,null,null,null,null,null,null,null,null,null,null,{"$f":"IF(ISERROR(IF(C600=\"corrective\",E600+KPI!$P$4,IF(C600=\"Preventative\",E600+KPI!$P$5,\"\"))),\"\",IF(C600=\"corrective\",E600+KPI!$P$4,IF(C600=\"Preventative\",E600+KPI!$P$5,\"\")))","v":""},"Please select",null,null,null,null,null,"Please select",null,null,"",null,null,null,null,null,null,null,null,"TBD","","",null,null,0,0,1]
[null,"Please select",null,null,null,null,null,null,null,null,null,null,null,null,{"$f":"IF(ISERROR(IF(C601=\"corrective\",E601+KPI!$P$4,IF(C601=\"Preventative\",E601+KPI!$P$5,\"\"))),\"\",IF(C601=\"corrective\",E601+KPI!$P$4,IF(C601=\"Preventative\",E601+KPI!$P$5,\"\")))","v":""},"Please select",null,null,null,null,null,"Please select",null,null,"",null,null,null,null,null,null,null,null,"TBD","","",null,null,0,0,1]
[null,"Please select",null,null,null,null,null,null,null,null,null,null,null,null,{"$f":"IF(ISERROR(IF(C602=\"corrective\",E602+KPI!$P$4,IF(C602=\"Preventative\",E602+KPI!$P$5,\"\"))),\"\",IF(C602=\"corrective\",E602+KPI!$P$4,IF(C602=\"Preventative\",E602+KPI!$P$5,\"\")))","v":""},"Please select",null,null,null,null,null,"Please select",null,null,"",null,null,null,null,null,null,null,null,"TBD","","",null,null,0,0,1]
[null,"Please select",null,null,null,null,null,null,null,null,null,null,null,null,{"$f":"IF(ISERROR(IF(C603=\"corrective\",E603+KPI!$P$4,IF(C603=\"Preventative\",E603+KPI!$P$5,\"\"))),\"\",IF(C603=\"corrective\",E603+KPI!$P$4,IF(C603=\"Preventative\",E603+KPI!$P$5,\"\")))","v":""},"Please select",null,null,null,null,null,"Please select",null,null,"",null,null,null,null,null,null,null,null,"TBD","","",null,null,0,0,1]
[null,"Please select",null,null,null,null,null,null,null,null,null,null,null,null,{"$f":"IF(ISERROR(IF(C604=\"corrective\",E604+KPI!$P$4,IF(C604=\"Preventative\",E604+KPI!$P$5,\"\"))),\"\",IF(C604=\"corrective\",E604+KPI!$P$4,IF(C604=\"Preventative\",E604+KPI!$P$5,\"\")))","v":""},"Please select",null,null,null,null,null,"Please select",null,null,"",null,null,null,null,null,null,null,null,"TBD","","",null,null,0,0,1]
[null,"Please select",null,null,null,null,null,null,null,null,null,null,null,null,{"$f":"IF(ISERROR(IF(C605=\"corrective\",E605+KPI!$P$4,IF(C605=\"Preventative\",E605+KPI!$P$5,\"\"))),\"\",IF(C605=\"corrective\",E605+KPI!$P$4,IF(C605=\"Preventative\",E605+KPI!$P$5,\"\")))","v":""},"Please select",null,null,null,null,null,"Please select",null,null,"",null,null,null,null,null,null,null,null,"TBD","","",null,null,0,0,1]
[null,"Please select",null,null,null,null,null,null,null,null,null,null,null,null,{"$f":"IF(ISERROR(IF(C606=\"corrective\",E606+KPI!$P$4,IF(C606=\"Preventative\",E606+KPI!$P$5,\"\"))),\"\",IF(C606=\"corrective\",E606+KPI!$P$4,IF(C606=\"Preventative\",E606+KPI!$P$5,\"\")))","v":""},"Please select",null,null,null,null,null,"Please select",null,null,"",null,null,null,null,null,null,null,null,"TBD","","",null,null,0,0,1]
[null,"Please select",null,null,null,null,null,null,null,null,null,null,null,null,{"$f":"IF(ISERROR(IF(C607=\"corrective\",E607+KPI!$P$4,IF(C607=\"Preventative\",E607+KPI!$P$5,\"\"))),\"\",IF(C607=\"corrective\",E607+KPI!$P$4,IF(C607=\"Preventative\",E607+KPI!$P$5,\"\")))","v":""},"Please select",null,null,null,null,null,"Please select",null,null,"",null,null,null,null,null,null,null,null,"TBD","","",null,null,0,0,1]
[null,"Please select",null,null,null,null,null,null,null,null,null,null,null,null,{"$f":"IF(ISERROR(IF(C608=\"corrective\",E608+KPI!$P$4,IF(C608=\"Preventative\",E608+KPI!$P$5,\"\"))),\"\",IF(C608=\"corrective\",E608+KPI!$P$4,IF(C608=\"Preventative\",E608+KPI!$P$5,\"\")))","v":""},"Please select",null,null,null,null,null,"Please select",null,null,"",null,null,null,null,null,null,null,null,"TBD","","",null,null,0,0,1]
[null,"Please select",null,null,null,null,null,null,null,null,null,null,null,null,{"$f":"IF(ISERROR(IF(C609=\"corrective\",E609+KPI!$P$4,IF(C609=\"Preventative\",E609+KPI!$P$5,\"\"))),\"\",IF(C609=\"corrective\",E609+KPI!$P$4,IF(C609=\"Preventative\",E609+KPI!$P$5,\"\")))","v":""},"Please select",null,null,null,null,null,"Please select",null,null,"",null,null,null,null,null,null,null,null,"TBD","","",null,null,0,0,1]
[null,"Please select",null,null,null,null,null,null,null,null,null,null,null,null,{"$f":"IF(ISERROR(IF(C610=\"corrective\",E610+KPI!$P$4,IF(C610=\"Preventative\",E610+KPI!$P$5,\"\"))),\"\",IF(C610=\"corrective\",E610+KPI!$P$4,IF(C610=\"Preventative\",E610+KPI!$P$5,\"\")))","v":""},"Please select",null,null,null,null,null,"Please select",null,null,"",null,null,null,null,null,null,null,null,"TBD","","",null,null,0,0,1]
[null,"Please select",null,null,null,null,null,null,null,null,null,null,null,null,{"$f":"IF(ISERROR(IF(C611=\"corrective\",E611+KPI!$P$4,IF(C611=\"Preventative\",E611+KPI!$P$5,\"\"))),\"\",IF(C611=\"corrective\",E611+KPI!$P$4,IF(C611=\"Preventative\",E611+KPI!$P$5,\"\")))","v":""},"Please select",null,null,null,null,null,"Please select",null,null,"",null,null,null,null,null,null,null,null,"TBD","","",null,null,0,0,1]
[null,"Please select",null,null,null,null,null,null,null,null,null,null,null,null,{"$f":"IF(ISERROR(IF(C612=\"corrective\",E612+KPI!$P$4,IF(C612=\"Preventative\",E612+KPI!$P$5,\"\"))),\"\",IF(C612=\"corrective\",E612+KPI!$P$4,IF(C612=\"Preventative\",E612+KPI!$P$5,\"\")))","v":""},"Please select",null,null,null,null,null,"Please select",null,null,"",null,null,null,null,null,null,null,null,"TBD","","",null,null,0,0,1]
[null,"Please select",null,null,null,null,null,null,null,null,null,null,null,null,{"$f":"IF(ISERROR(IF(C613=\"corrective\",E613+KPI!$P$4,IF(C613=\"Preventative\",E613+KPI!$P$5,\"\"))),\"\",IF(C613=\"corrective\",E613+KPI!$P$4,IF(C613=\"Preventative\",E613+KPI!$P$5,\"\")))","v":""},"Please select",null,null,null,null,null,"Please select",null,null,"",null,null,null,null,null,null,null,null,"TBD","","",null,null,0,0,1]
[null,"Please select",null,null,null,null,null,null,null,null,null,null,null,null,{"$f":"IF(ISERROR(IF(C614=\"corrective\",E614+KPI!$P$4,IF(C614=\"Preventative\",E614+KPI!$P$5,\"\"))),\"\",IF(C614=\"corrective\",E614+KPI!$P$4,IF(C614=\"Preventative\",E614+KPI!$P$5,\"\")))","v":""},"Please select",null,null,null,null,null,"Please select",null,null,"",null,null,null,null,null,null,null,null,"TBD","","",null,null,0,0,1]
[null,"Please select",null,null,null,null,null,null,null,null,null,null,null,null,{"$f":"IF(ISERROR(IF(C615=\"corrective\",E615+KPI!$P$4,IF(C615=\"Preventative\",E615+KPI!$P$5,\"\"))),\"\",IF(C615=\"corrective\",E615+KPI!$P$4,IF(C615=\"Preventative\",E615+KPI!$P$5,\"\")))","v":""},"Please select",null,null,null,null,null,"Please select",null,null,"",null,null,null,null,null,null,null,null,"TBD","","",null,null,0,0,1]
[null,"Please select",null,null,null,null,null,null,null,null,null,null,null,null,{"$f":"IF(ISERROR(IF(C616=\"corrective\",E616+KPI!$P$4,IF(C616=\"Preventative\",E616+KPI!$P$5,\"\"))),\"\",IF(C616=\"corrective\",E616+KPI!$P$4,IF(C616=\"Preventative\",E616+KPI!$P$5,\"\")))","v":""},"Please select",null,null,null,null,null,"Please select",null,null,"",null,null,null,null,null,null,null,null,"TBD","","",null,null,0,0,1]
[null,"Please select",null,null,null,null,null,null,null,null,null,null,null,null,{"$f":"IF(ISERROR(IF(C617=\"corrective\",E617+KPI!$P$4,IF(C617=\"Preventative\",E617+KPI!$P$5,\"\"))),\"\",IF(C617=\"corrective\",E617+KPI!$P$4,IF(C617=\"Preventative\",E617+KPI!$P$5,\"\")))","v":""},"Please select",null,null,null,null,null,"Please select",null,null,"",null,null,null,null,null,null,null,null,"TBD","","",null,null,0,0,1]
[null,"Please select",null,null,null,null,null,null,null,null,null,null,null,null,{"$f":"IF(ISERROR(IF(C618=\"corrective\",E618+KPI!$P$4,IF(C618=\"Preventative\",E618+KPI!$P$5,\"\"))),\"\",IF(C618=\"corrective\",E618+KPI!$P$4,IF(C618=\"Preventative\",E618+KPI!$P$5,\"\")))","v":""},"Please select",null,null,null,null,null,"Please select",null,null,"",null,null,null,null,null,null,null,null,"TBD","","",null,null,0,0,1]
[null,"Please select",null,null,null,null,null,null,null,null,null,null,null,null,{"$f":"IF(ISERROR(IF(C619=\"corrective\",E619+KPI!$P$4,IF(C619=\"Preventative\",E619+KPI!$P$5,\"\"))),\"\",IF(C619=\"corrective\",E619+KPI!$P$4,IF(C619=\"Preventative\",E619+KPI!$P$5,\"\")))","v":""},"Please select",null,null,null,null,null,"Please select",null,null,"",null,null,null,null,null,null,null,null,"TBD","","",null,null,0,0,1]
[null,"Please select",null,null,null,null,null,null,null,null,null,null,null,null,{"$f":"IF(ISERROR(IF(C620=\"corrective\",E620+KPI!$P$4,IF(C620=\"Preventative\",E620+KPI!$P$5,\"\"))),\"\",IF(C620=\"corrective\",E620+KPI!$P$4,IF(C620=\"Preventative\",E620+KPI!$P$5,\"\")))","v":""},"Please select",null,null,null,null,null,"Please select",null,null,"",null,null,null,null,null,null,null,null,"TBD","","",null,null,0,0,1]
[null,"Please select",null,null,null,null,null,null,null,null,null,null,null,null,{"$f":"IF(ISERROR(IF(C621=\"corrective\",E621+KPI!$P$4,IF(C621=\"Preventative\",E621+KPI!$P$5,\"\"))),\"\",IF(C621=\"corrective\",E621+KPI!$P$4,IF(C621=\"Preventative\",E621+KPI!$P$5,\"\")))","v":""},"Please select",null,null,null,null,null,"Please select",null,null,"",null,null,null,null,null,null,null,null,"TBD","","",null,null,0,0,1]
[null,"Please select",null,null,null,null,null,null,null,null,null,null,null,null,{"$f":"IF(ISERROR(IF(C622=\"corrective\",E622+KPI!$P$4,IF(C622=\"Preventative\",E622+KPI!$P$5,\"\"))),\"\",IF(C622=\"corrective\",E622+KPI!$P$4,IF(C622=\"Preventative\",E622+KPI!$P$5,\"\")))","v":""},"Please select",null,null,null,null,null,"Please select",null,null,"",null,null,null,null,null,null,null,null,"TBD","","",null,null,0,0,1]
[null,"Please select",null,null,null,null,null,null,null,null,null,null,null,null,{"$f":"IF(ISERROR(IF(C623=\"corrective\",E623+KPI!$P$4,IF(C623=\"Preventative\",E623+KPI!$P$5,\"\"))),\"\",IF(C623=\"corrective\",E623+KPI!$P$4,IF(C623=\"Preventative\",E623+KPI!$P$5,\"\")))","v":""},{"$f":"IF(AND(O623<TODAY(),B623=\"new\"),\"New - Overdue\",B623)","v":"Please select"},null,null,null,null,null,"Please select",null,null,{"$f":"Z623&AA623&AB623&AC623&AD623&AE623","v":""},null,null,null,null,null,null,null,null,"TBD",{"$f":"IF(ISERROR(AJ623-20),\"\",AJ623-20)","v":""},{"$f":"IF(ISERROR(IF(C623=\"corrective\",E623+AH623,\"\")),\"\",IF(C623=\"corrective\",E623+AH623,\"\"))","v":""},null,null,0,0,{"$f":"COUNTIF(AN623,\">400\")+COUNTIF(AN623,\"=0\")","v":1}]
[null,"Please select",null,null,null,null,null,null,null,null,null,null,null,null,{"$f":"IF(ISERROR(IF(C624=\"corrective\",E624+KPI!$P$4,IF(C624=\"Preventative\",E624+KPI!$P$5,\"\"))),\"\",IF(C624=\"corrective\",E624+KPI!$P$4,IF(C624=\"Preventative\",E624+KPI!$P$5,\"\")))","v":""},"Please select",null,null,null,null,null,"Please select",null,null,"",null,null,null,null,null,null,null,null,"TBD","","",null,null,0,0,1]
[null,"Please select",null,null,null,null,null,null,null,null,null,null,null,null,{"$f":"IF(ISERROR(IF(C625=\"corrective\",E625+KPI!$P$4,IF(C625=\"Preventative\",E625+KPI!$P$5,\"\"))),\"\",IF(C625=\"corrective\",E625+KPI!$P$4,IF(C625=\"Preventative\",E625+KPI!$P$5,\"\")))","v":""},"Please select",null,null,null,null,null,"Please select",null,null,"",null,null,null,null,null,null,null,null,"TBD","","",null,null,0,0,1]
[null,"Please select",null,null,null,null,null,null,null,null,null,null,null,null,{"$f":"IF(ISERROR(IF(C626=\"corrective\",E626+KPI!$P$4,IF(C626=\"Preventative\",E626+KPI!$P$5,\"\"))),\"\",IF(C626=\"corrective\",E626+KPI!$P$4,IF(C626=\"Preventative\",E626+KPI!$P$5,\"\")))","v":""},"Please select",null,null,null,null,null,"Please select",null,null,"",null,null,null,null,null,null,null,null,"TBD","","",null,null,0,0,1]
[null,"Please select",null,null,null,null,null,null,null,null,null,null,null,null,{"$f":"IF(ISERROR(IF(C627=\"corrective\",E627+KPI!$P$4,IF(C627=\"Preventative\",E627+KPI!$P$5,\"\"))),\"\",IF(C627=\"corrective\",E627+KPI!$P$4,IF(C627=\"Preventative\",E627+KPI!$P$5,\"\")))","v":""},"Please select",null,null,null,null,null,"Please select",null,null,"",null,null,null,null,null,null,null,null,"TBD","","",null,null,0,0,1]
[null,"Please select",null,null,null,null,null,null,null,null,null,null,null,null,{"$f":"IF(ISERROR(IF(C628=\"corrective\",E628+KPI!$P$4,IF(C628=\"Preventative\",E628+KPI!$P$5,\"\"))),\"\",IF(C628=\"corrective\",E628+KPI!$P$4,IF(C628=\"Preventative\",E628+KPI!$P$5,\"\")))","v":""},"Please select",null,null,null,null,null,"Please select",null,null,"",null,null,null,null,null,null,null,null,"TBD","","",null,null,0,0,1]
[null,"Please select",null,null,null,null,null,null,null,null,null,null,null,null,{"$f":"IF(ISERROR(IF(C629=\"corrective\",E629+KPI!$P$4,IF(C629=\"Preventative\",E629+KPI!$P$5,\"\"))),\"\",IF(C629=\"corrective\",E629+KPI!$P$4,IF(C629=\"Preventative\",E629+KPI!$P$5,\"\")))","v":""},"Please select",null,null,null,null,null,"Please select",null,null,"",null,null,null,null,null,null,null,null,"TBD","","",null,null,0,0,1]
[null,"Please select",null,null,null,null,null,null,null,null,null,null,null,null,{"$f":"IF(ISERROR(IF(C630=\"corrective\",E630+KPI!$P$4,IF(C630=\"Preventative\",E630+KPI!$P$5,\"\"))),\"\",IF(C630=\"corrective\",E630+KPI!$P$4,IF(C630=\"Preventative\",E630+KPI!$P$5,\"\")))","v":""},"Please select",null,null,null,null,null,"Please select",null,null,"",null,null,null,null,null,null,null,null,"TBD","","",null,null,0,0,1]
[null,"Please select",null,null,null,null,null,null,null,null,null,null,null,null,{"$f":"IF(ISERROR(IF(C631=\"corrective\",E631+KPI!$P$4,IF(C631=\"Preventative\",E631+KPI!$P$5,\"\"))),\"\",IF(C631=\"corrective\",E631+KPI!$P$4,IF(C631=\"Preventative\",E631+KPI!$P$5,\"\")))","v":""},"Please select",null,null,null,null,null,"Please select",null,null,"",null,null,null,null,null,null,null,null,"TBD","","",null,null,0,0,1]
[null,"Please select",null,null,null,null,null,null,null,null,null,null,null,null,{"$f":"IF(ISERROR(IF(C632=\"corrective\",E632+KPI!$P$4,IF(C632=\"Preventative\",E632+KPI!$P$5,\"\"))),\"\",IF(C632=\"corrective\",E632+KPI!$P$4,IF(C632=\"Preventative\",E632+KPI!$P$5,\"\")))","v":""},"Please select",null,null,null,null,null,"Please select",null,null,"",null,null,null,null,null,null,null,null,"TBD","","",null,null,0,0,1]
[null,"Please select",null,null,null,null,null,null,null,null,null,null,null,null,{"$f":"IF(ISERROR(IF(C633=\"corrective\",E633+KPI!$P$4,IF(C633=\"Preventative\",E633+KPI!$P$5,\"\"))),\"\",IF(C633=\"corrective\",E633+KPI!$P$4,IF(C633=\"Preventative\",E633+KPI!$P$5,\"\")))","v":""},"Please select",null,null,null,null,null,"Please select",null,null,"",null,null,null,null,null,null,null,null,"TBD","","",null,null,0,0,1]
[null,"Please select",null,null,null,null,null,null,null,null,null,null,null,null,{"$f":"IF(ISERROR(IF(C634=\"corrective\",E634+KPI!$P$4,IF(C634=\"Preventative\",E634+KPI!$P$5,\"\"))),\"\",IF(C634=\"corrective\",E634+KPI!$P$4,IF(C634=\"Preventative\",E634+KPI!$P$5,\"\")))","v":""},"Please select",null,null,null,null,null,"Please select",null,null,"",null,null,null,null,null,null,null,null,"TBD","","",null,null,0,0,1]
[null,"Please select",null,null,null,null,null,null,null,null,null,null,null,null,{"$f":"IF(ISERROR(IF(C635=\"corrective\",E635+KPI!$P$4,IF(C635=\"Preventative\",E635+KPI!$P$5,\"\"))),\"\",IF(C635=\"corrective\",E635+KPI!$P$4,IF(C635=\"Preventative\",E635+KPI!$P$5,\"\")))","v":""},"Please select",null,null,null,null,null,"Please select",null,null,"",null,null,null,null,null,null,null,null,"TBD","","",null,null,0,0,1]
[null,"Please select",null,null,null,null,null,null,null,null,null,null,null,null,{"$f":"IF(ISERROR(IF(C636=\"corrective\",E636+KPI!$P$4,IF(C636=\"Preventative\",E636+KPI!$P$5,\"\"))),\"\",IF(C636=\"corrective\",E636+KPI!$P$4,IF(C636=\"Preventative\",E636+KPI!$P$5,\"\")))","v":""},"Please select",null,null,null,null,null,"Please select",null,null,"",null,null,null,null,null,null,null,null,"TBD","","",null,null,0,0,1]
[null,"Please select",null,null,null,null,null,null,null,null,null,null,null,null,{"$f":"IF(ISERROR(IF(C637=\"corrective\",E637+KPI!$P$4,IF(C637=\"Preventative\",E637+KPI!$P$5,\"\"))),\"\",IF(C637=\"corrective\",E637+KPI!$P$4,IF(C637=\"Preventative\",E637+KPI!$P$5,\"\")))","v":""},"Please select",null,null,null,null,null,"Please select",null,null,"",null,null,null,null,null,null,null,null,"TBD","","",null,null,0,0,1]
[null,"Please select",null,null,null,null,null,null,null,null,null,null,null,null,{"$f":"IF(ISERROR(IF(C638=\"corrective\",E638+KPI!$P$4,IF(C638=\"Preventative\",E638+KPI!$P$5,\"\"))),\"\",IF(C638=\"corrective\",E638+KPI!$P$4,IF(C638=\"Preventative\",E638+KPI!$P$5,\"\")))","v":""},"Please select",null,null,null,null,null,"Please select",null,null,"",null,null,null,null,null,null,null,null,"TBD","","",null,null,0,0,1]
[null,"Please select",null,null,null,null,null,null,null,null,null,null,null,null,{"$f":"IF(ISERROR(IF(C639=\"corrective\",E639+KPI!$P$4,IF(C639=\"Preventative\",E639+KPI!$P$5,\"\"))),\"\",IF(C639=\"corrective\",E639+KPI!$P$4,IF(C639=\"Preventative\",E639+KPI!$P$5,\"\")))","v":""},"Please select",null,null,null,null,null,"Please select",null,null,"",null,null,null,null,null,null,null,null,"TBD","","",null,null,0,0,1]
[null,"Please select",null,null,null,null,null,null,null,null,null,null,null,null,{"$f":"IF(ISERROR(IF(C640=\"corrective\",E640+KPI!$P$4,IF(C640=\"Preventative\",E640+KPI!$P$5,\"\"))),\"\",IF(C640=\"corrective\",E640+KPI!$P$4,IF(C640=\"Preventative\",E640+KPI!$P$5,\"\")))","v":""},"Please select",null,null,null,null,null,"Please select",null,null,"",null,null,null,null,null,null,null,null,"TBD","","",null,null,0,0,1]
[null,"Please select",null,null,null,null,null,null,null,null,null,null,null,null,{"$f":"IF(ISERROR(IF(C641=\"corrective\",E641+KPI!$P$4,IF(C641=\"Preventative\",E641+KPI!$P$5,\"\"))),\"\",IF(C641=\"corrective\",E641+KPI!$P$4,IF(C641=\"Preventative\",E641+KPI!$P$5,\"\")))","v":""},"Please select",null,null,null,null,null,"Please select",null,null,"",null,null,null,null,null,null,null,null,"TBD","","",null,null,0,0,1]
[null,"Please select",null,null,null,null,null,null,null,null,null,null,null,null,{"$f":"IF(ISERROR(IF(C642=\"corrective\",E642+KPI!$P$4,IF(C642=\"Preventative\",E642+KPI!$P$5,\"\"))),\"\",IF(C642=\"corrective\",E642+KPI!$P$4,IF(C642=\"Preventative\",E642+KPI!$P$5,\"\")))","v":""},"Please select",null,null,null,null,null,"Please select",null,null,"",null,null,null,null,null,null,null,null,"TBD","","",null,null,{"$f":"IF(ISERROR(DATEDIF(E642,Q642,\"D\")),\"\",DATEDIF(E642,Q642,\"D\"))","v":0},{"$f":"IF(ISERROR(DATEDIF(Q642,X642,\"D\")),\"\",DATEDIF(Q642,X642,\"D\"))","v":0},1]
[null,"Please select",null,null,null,null,null,null,null,null,null,null,null,null,{"$f":"IF(ISERROR(IF(C643=\"corrective\",E643+KPI!$P$4,IF(C643=\"Preventative\",E643+KPI!$P$5,\"\"))),\"\",IF(C643=\"corrective\",E643+KPI!$P$4,IF(C643=\"Preventative\",E643+KPI!$P$5,\"\")))","v":""},"Please select",null,null,null,null,null,"Please select",null,null,"",null,null,null,null,null,null,null,null,"TBD","","",null,null,0,0,1]
[null,"Please select",null,null,null,null,null,null,null,null,null,null,null,null,{"$f":"IF(ISERROR(IF(C644=\"corrective\",E644+KPI!$P$4,IF(C644=\"Preventative\",E644+KPI!$P$5,\"\"))),\"\",IF(C644=\"corrective\",E644+KPI!$P$4,IF(C644=\"Preventative\",E644+KPI!$P$5,\"\")))","v":""},"Please select",null,null,null,null,null,"Please select",null,null,"",null,null,null,null,null,null,null,null,"TBD","","",null,null,0,0,1]
[null,"Please select",null,null,null,null,null,null,null,null,null,null,null,null,{"$f":"IF(ISERROR(IF(C645=\"corrective\",E645+KPI!$P$4,IF(C645=\"Preventative\",E645+KPI!$P$5,\"\"))),\"\",IF(C645=\"corrective\",E645+KPI!$P$4,IF(C645=\"Preventative\",E645+KPI!$P$5,\"\")))","v":""},"Please select",null,null,null,null,null,"Please select",null,null,"",null,null,null,null,null,null,null,null,"TBD","","",null,null,0,0,1]
[null,"Please select",null,null,null,null,null,null,null,null,null,null,null,null,{"$f":"IF(ISERROR(IF(C646=\"corrective\",E646+KPI!$P$4,IF(C646=\"Preventative\",E646+KPI!$P$5,\"\"))),\"\",IF(C646=\"corrective\",E646+KPI!$P$4,IF(C646=\"Preventative\",E646+KPI!$P$5,\"\")))","v":""},"Please select",null,null,null,null,null,"Please select",null,null,"",null,null,null,null,null,null,null,null,"TBD","","",null,null,0,0,1]
[null,"Please select",null,null,null,null,null,null,null,null,null,null,null,null,{"$f":"IF(ISERROR(IF(C647=\"corrective\",E647+KPI!$P$4,IF(C647=\"Preventative\",E647+KPI!$P$5,\"\"))),\"\",IF(C647=\"corrective\",E647+KPI!$P$4,IF(C647=\"Preventative\",E647+KPI!$P$5,\"\")))","v":""},"Please select",null,null,null,null,null,"Please select",null,null,"",null,null,null,null,null,null,null,null,"TBD","","",null,null,0,0,1]
[null,"Please select",null,null,null,null,null,null,null,null,null,null,null,null,{"$f":"IF(ISERROR(IF(C648=\"corrective\",E648+KPI!$P$4,IF(C648=\"Preventative\",E648+KPI!$P$5,\"\"))),\"\",IF(C648=\"corrective\",E648+KPI!$P$4,IF(C648=\"Preventative\",E648+KPI!$P$5,\"\")))","v":""},"Please select",null,null,null,null,null,"Please select",null,null,"",null,null,null,null,null,null,null,null,"TBD","","",null,null,0,0,1]
[null,"Please select",null,null,null,null,null,null,null,null,null,null,null,null,{"$f":"IF(ISERROR(IF(C649=\"corrective\",E649+KPI!$P$4,IF(C649=\"Preventative\",E649+KPI!$P$5,\"\"))),\"\",IF(C649=\"corrective\",E649+KPI!$P$4,IF(C649=\"Preventative\",E649+KPI!$P$5,\"\")))","v":""},"Please select",null,null,null,null,null,"Please select",null,null,"",null,null,null,null,null,null,null,null,"TBD","","",null,null,0,0,1]
[null,"Please select",null,null,null,null,null,null,null,null,null,null,null,null,{"$f":"IF(ISERROR(IF(C650=\"corrective\",E650+KPI!$P$4,IF(C650=\"Preventative\",E650+KPI!$P$5,\"\"))),\"\",IF(C650=\"corrective\",E650+KPI!$P$4,IF(C650=\"Preventative\",E650+KPI!$P$5,\"\")))","v":""},"Please select",null,null,null,null,null,"Please select",null,null,"",null,null,null,null,null,null,null,null,"TBD","","",null,null,0,0,1]
[null,"Please select",null,null,null,null,null,null,null,null,null,null,null,null,{"$f":"IF(ISERROR(IF(C651=\"corrective\",E651+KPI!$P$4,IF(C651=\"Preventative\",E651+KPI!$P$5,\"\"))),\"\",IF(C651=\"corrective\",E651+KPI!$P$4,IF(C651=\"Preventative\",E651+KPI!$P$5,\"\")))","v":""},"Please select",null,null,null,null,null,"Please select",null,null,"",null,null,null,null,null,null,null,null,"TBD","","",null,null,0,0,1]
[null,"Please select",null,null,null,null,null,null,null,null,null,null,null,null,{"$f":"IF(ISERROR(IF(C652=\"corrective\",E652+KPI!$P$4,IF(C652=\"Preventative\",E652+KPI!$P$5,\"\"))),\"\",IF(C652=\"corrective\",E652+KPI!$P$4,IF(C652=\"Preventative\",E652+KPI!$P$5,\"\")))","v":""},"Please select",null,null,null,null,null,"Please select",null,null,"",null,null,null,null,null,null,null,null,"TBD","","",null,null,0,0,1]
[null,"Please select",null,null,null,null,null,null,null,null,null,null,null,null,{"$f":"IF(ISERROR(IF(C653=\"corrective\",E653+KPI!$P$4,IF(C653=\"Preventative\",E653+KPI!$P$5,\"\"))),\"\",IF(C653=\"corrective\",E653+KPI!$P$4,IF(C653=\"Preventative\",E653+KPI!$P$5,\"\")))","v":""},"Please select",null,null,null,null,null,"Please select",null,null,"",null,null,null,null,null,null,null,null,"TBD","","",null,null,0,0,1]
[null,"Please select",null,null,null,null,null,null,null,null,null,null,null,null,{"$f":"IF(ISERROR(IF(C654=\"corrective\",E654+KPI!$P$4,IF(C654=\"Preventative\",E654+KPI!$P$5,\"\"))),\"\",IF(C654=\"corrective\",E654+KPI!$P$4,IF(C654=\"Preventative\",E654+KPI!$P$5,\"\")))","v":""},"Please select",null,null,null,null,null,"Please select",null,null,"",null,null,null,null,null,null,null,null,"TBD","","",null,null,0,0,1]
[null,"Please select",null,null,null,null,null,null,null,null,null,null,null,null,{"$f":"IF(ISERROR(IF(C655=\"corrective\",E655+KPI!$P$4,IF(C655=\"Preventative\",E655+KPI!$P$5,\"\"))),\"\",IF(C655=\"corrective\",E655+KPI!$P$4,IF(C655=\"Preventative\",E655+KPI!$P$5,\"\")))","v":""},"Please select",null,null,null,null,null,"Please select",null,null,"",null,null,null,null,null,null,null,null,"TBD","","",null,null,0,0,1]
[null,"Please select",null,null,null,null,null,null,null,null,null,null,null,null,{"$f":"IF(ISERROR(IF(C656=\"corrective\",E656+KPI!$P$4,IF(C656=\"Preventative\",E656+KPI!$P$5,\"\"))),\"\",IF(C656=\"corrective\",E656+KPI!$P$4,IF(C656=\"Preventative\",E656+KPI!$P$5,\"\")))","v":""},"Please select",null,null,null,null,null,"Please select",null,null,"",null,null,null,null,null,null,null,null,"TBD","","",null,null,0,0,1]
[null,"Please select",null,null,null,null,null,null,null,null,null,null,null,null,{"$f":"IF(ISERROR(IF(C657=\"corrective\",E657+KPI!$P$4,IF(C657=\"Preventative\",E657+KPI!$P$5,\"\"))),\"\",IF(C657=\"corrective\",E657+KPI!$P$4,IF(C657=\"Preventative\",E657+KPI!$P$5,\"\")))","v":""},"Please select",null,null,null,null,null,"Please select",null,null,"",null,null,null,null,null,null,null,null,"TBD","","",null,null,0,0,1]
[null,"Please select",null,null,null,null,null,null,null,null,null,null,null,null,{"$f":"IF(ISERROR(IF(C658=\"corrective\",E658+KPI!$P$4,IF(C658=\"Preventative\",E658+KPI!$P$5,\"\"))),\"\",IF(C658=\"corrective\",E658+KPI!$P$4,IF(C658=\"Preventative\",E658+KPI!$P$5,\"\")))","v":""},"Please select",null,null,null,null,null,"Please select",null,null,"",null,null,null,null,null,null,null,null,"TBD","","",null,null,0,0,1]
[null,"Please select",null,null,null,null,null,null,null,null,null,null,null,null,{"$f":"IF(ISERROR(IF(C659=\"corrective\",E659+KPI!$P$4,IF(C659=\"Preventative\",E659+KPI!$P$5,\"\"))),\"\",IF(C659=\"corrective\",E659+KPI!$P$4,IF(C659=\"Preventative\",E659+KPI!$P$5,\"\")))","v":""},"Please select",null,null,null,null,null,"Please select",null,null,"",null,null,null,null,null,null,null,null,"TBD","","",null,null,0,0,1]
[null,"Please select",null,null,null,null,null,null,null,null,null,null,null,null,{"$f":"IF(ISERROR(IF(C660=\"corrective\",E660+KPI!$P$4,IF(C660=\"Preventative\",E660+KPI!$P$5,\"\"))),\"\",IF(C660=\"corrective\",E660+KPI!$P$4,IF(C660=\"Preventative\",E660+KPI!$P$5,\"\")))","v":""},"Please select",null,null,null,null,null,"Please select",null,null,"",null,null,null,null,null,null,null,null,"TBD","","",null,null,0,0,1]
[null,"Please select",null,null,null,null,null,null,null,null,null,null,null,null,{"$f":"IF(ISERROR(IF(C661=\"corrective\",E661+KPI!$P$4,IF(C661=\"Preventative\",E661+KPI!$P$5,\"\"))),\"\",IF(C661=\"corrective\",E661+KPI!$P$4,IF(C661=\"Preventative\",E661+KPI!$P$5,\"\")))","v":""},"Please select",null,null,null,null,null,"Please select",null,null,"",null,null,null,null,null,null,null,null,"TBD","","",null,null,0,0,1]
[null,"Please select",null,null,null,null,null,null,null,null,null,null,null,null,{"$f":"IF(ISERROR(IF(C662=\"corrective\",E662+KPI!$P$4,IF(C662=\"Preventative\",E662+KPI!$P$5,\"\"))),\"\",IF(C662=\"corrective\",E662+KPI!$P$4,IF(C662=\"Preventative\",E662+KPI!$P$5,\"\")))","v":""},"Please select",null,null,null,null,null,"Please select",null,null,"",null,null,null,null,null,null,null,null,"TBD","","",null,null,0,0,1]
[null,"Please select",null,null,null,null,null,null,null,null,null,null,null,null,{"$f":"IF(ISERROR(IF(C663=\"corrective\",E663+KPI!$P$4,IF(C663=\"Preventative\",E663+KPI!$P$5,\"\"))),\"\",IF(C663=\"corrective\",E663+KPI!$P$4,IF(C663=\"Preventative\",E663+KPI!$P$5,\"\")))","v":""},"Please select",null,null,null,null,null,"Please select",null,null,"",null,null,null,null,null,null,null,null,"TBD","","",null,null,0,0,1]
[null,"Please select",null,null,null,null,null,null,null,null,null,null,null,null,{"$f":"IF(ISERROR(IF(C664=\"corrective\",E664+KPI!$P$4,IF(C664=\"Preventative\",E664+KPI!$P$5,\"\"))),\"\",IF(C664=\"corrective\",E664+KPI!$P$4,IF(C664=\"Preventative\",E664+KPI!$P$5,\"\")))","v":""},"Please select",null,null,null,null,null,"Please select",null,null,"",null,null,null,null,null,null,null,null,"TBD","","",null,null,0,0,1]
[null,"Please select",null,null,null,null,null,null,null,null,null,null,null,null,{"$f":"IF(ISERROR(IF(C665=\"corrective\",E665+KPI!$P$4,IF(C665=\"Preventative\",E665+KPI!$P$5,\"\"))),\"\",IF(C665=\"corrective\",E665+KPI!$P$4,IF(C665=\"Preventative\",E665+KPI!$P$5,\"\")))","v":""},"Please select",null,null,null,null,null,"Please select",null,null,"",null,null,null,null,null,null,null,null,"TBD","","",null,null,0,0,1]
[null,"Please select",null,null,null,null,null,null,null,null,null,null,null,null,{"$f":"IF(ISERROR(IF(C666=\"corrective\",E666+KPI!$P$4,IF(C666=\"Preventative\",E666+KPI!$P$5,\"\"))),\"\",IF(C666=\"corrective\",E666+KPI!$P$4,IF(C666=\"Preventative\",E666+KPI!$P$5,\"\")))","v":""},"Please select",null,null,null,null,null,"Please select",null,null,"",null,null,null,null,null,null,null,null,"TBD","","",null,null,0,0,1]
[null,"Please select",null,null,null,null,null,null,null,null,null,null,null,null,{"$f":"IF(ISERROR(IF(C667=\"corrective\",E667+KPI!$P$4,IF(C667=\"Preventative\",E667+KPI!$P$5,\"\"))),\"\",IF(C667=\"corrective\",E667+KPI!$P$4,IF(C667=\"Preventative\",E667+KPI!$P$5,\"\")))","v":""},"Please select",null,null,null,null,null,"Please select",null,null,"",null,null,null,null,null,null,null,null,"TBD","","",null,null,0,0,1]
[null,"Please select",null,null,null,null,null,null,null,null,null,null,null,null,{"$f":"IF(ISERROR(IF(C668=\"corrective\",E668+KPI!$P$4,IF(C668=\"Preventative\",E668+KPI!$P$5,\"\"))),\"\",IF(C668=\"corrective\",E668+KPI!$P$4,IF(C668=\"Preventative\",E668+KPI!$P$5,\"\")))","v":""},"Please select",null,null,null,null,null,"Please select",null,null,"",null,null,null,null,null,null,null,null,"TBD","","",null,null,0,0,1]
[null,"Please select",null,null,null,null,null,null,null,null,null,null,null,null,{"$f":"IF(ISERROR(IF(C669=\"corrective\",E669+KPI!$P$4,IF(C669=\"Preventative\",E669+KPI!$P$5,\"\"))),\"\",IF(C669=\"corrective\",E669+KPI!$P$4,IF(C669=\"Preventative\",E669+KPI!$P$5,\"\")))","v":""},"Please select",null,null,null,null,null,"Please select",null,null,"",null,null,null,null,null,null,null,null,"TBD","","",null,null,0,0,1]
[null,"Please select",null,null,null,null,null,null,null,null,null,null,null,null,{"$f":"IF(ISERROR(IF(C670=\"corrective\",E670+KPI!$P$4,IF(C670=\"Preventative\",E670+KPI!$P$5,\"\"))),\"\",IF(C670=\"corrective\",E670+KPI!$P$4,IF(C670=\"Preventative\",E670+KPI!$P$5,\"\")))","v":""},"Please select",null,null,null,null,null,"Please select",null,null,"",null,null,null,null,null,null,null,null,"TBD","","",null,null,0,0,1]
[null,"Please select",null,null,null,null,null,null,null,null,null,null,null,null,{"$f":"IF(ISERROR(IF(C671=\"corrective\",E671+KPI!$P$4,IF(C671=\"Preventative\",E671+KPI!$P$5,\"\"))),\"\",IF(C671=\"corrective\",E671+KPI!$P$4,IF(C671=\"Preventative\",E671+KPI!$P$5,\"\")))","v":""},"Please select",null,null,null,null,null,"Please select",null,null,"",null,null,null,null,null,null,null,null,"TBD","","",null,null,0,0,1]
[null,"Please select",null,null,null,null,null,null,null,null,null,null,null,null,{"$f":"IF(ISERROR(IF(C672=\"corrective\",E672+KPI!$P$4,IF(C672=\"Preventative\",E672+KPI!$P$5,\"\"))),\"\",IF(C672=\"corrective\",E672+KPI!$P$4,IF(C672=\"Preventative\",E672+KPI!$P$5,\"\")))","v":""},"Please select",null,null,null,null,null,"Please select",null,null,"",null,null,null,null,null,null,null,null,"TBD","","",null,null,0,0,1]
[null,"Please select",null,null,null,null,null,null,null,null,null,null,null,null,{"$f":"IF(ISERROR(IF(C673=\"corrective\",E673+KPI!$P$4,IF(C673=\"Preventative\",E673+KPI!$P$5,\"\"))),\"\",IF(C673=\"corrective\",E673+KPI!$P$4,IF(C673=\"Preventative\",E673+KPI!$P$5,\"\")))","v":""},"Please select",null,null,null,null,null,"Please select",null,null,"",null,null,null,null,null,null,null,null,"TBD","","",null,null,0,0,1]
[null,"Please select",null,null,null,null,null,null,null,null,null,null,null,null,{"$f":"IF(ISERROR(IF(C674=\"corrective\",E674+KPI!$P$4,IF(C674=\"Preventative\",E674+KPI!$P$5,\"\"))),\"\",IF(C674=\"corrective\",E674+KPI!$P$4,IF(C674=\"Preventative\",E674+KPI!$P$5,\"\")))","v":""},"Please select",null,null,null,null,null,"Please select",null,null,"",null,null,null,null,null,null,null,null,"TBD","","",null,null,0,0,1]
[null,"Please select",null,null,null,null,null,null,null,null,null,null,null,null,{"$f":"IF(ISERROR(IF(C675=\"corrective\",E675+KPI!$P$4,IF(C675=\"Preventative\",E675+KPI!$P$5,\"\"))),\"\",IF(C675=\"corrective\",E675+KPI!$P$4,IF(C675=\"Preventative\",E675+KPI!$P$5,\"\")))","v":""},"Please select",null,null,null,null,null,"Please select",null,null,"",null,null,null,null,null,null,null,null,"TBD","","",null,null,0,0,1]
[null,"Please select",null,null,null,null,null,null,null,null,null,null,null,null,{"$f":"IF(ISERROR(IF(C676=\"corrective\",E676+KPI!$P$4,IF(C676=\"Preventative\",E676+KPI!$P$5,\"\"))),\"\",IF(C676=\"corrective\",E676+KPI!$P$4,IF(C676=\"Preventative\",E676+KPI!$P$5,\"\")))","v":""},"Please select",null,null,null,null,null,"Please select",null,null,"",null,null,null,null,null,null,null,null,"TBD","","",null,null,0,0,1]
[null,"Please select",null,null,null,null,null,null,null,null,null,null,null,null,{"$f":"IF(ISERROR(IF(C677=\"corrective\",E677+KPI!$P$4,IF(C677=\"Preventative\",E677+KPI!$P$5,\"\"))),\"\",IF(C677=\"corrective\",E677+KPI!$P$4,IF(C677=\"Preventative\",E677+KPI!$P$5,\"\")))","v":""},"Please select",null,null,null,null,null,"Please select",null,null,"",null,null,null,null,null,null,null,null,"TBD","","",null,null,0,0,1]
[null,"Please select",null,null,null,null,null,null,null,null,null,null,null,null,{"$f":"IF(ISERROR(IF(C678=\"corrective\",E678+KPI!$P$4,IF(C678=\"Preventative\",E678+KPI!$P$5,\"\"))),\"\",IF(C678=\"corrective\",E678+KPI!$P$4,IF(C678=\"Preventative\",E678+KPI!$P$5,\"\")))","v":""},"Please select",null,null,null,null,null,"Please select",null,null,"",null,null,null,null,null,null,null,null,"TBD","","",null,null,0,0,1]
[null,"Please select",null,null,null,null,null,null,null,null,null,null,null,null,{"$f":"IF(ISERROR(IF(C679=\"corrective\",E679+KPI!$P$4,IF(C679=\"Preventative\",E679+KPI!$P$5,\"\"))),\"\",IF(C679=\"corrective\",E679+KPI!$P$4,IF(C679=\"Preventative\",E679+KPI!$P$5,\"\")))","v":""},"Please select",null,null,null,null,null,"Please select",null,null,"",null,null,null,null,null,null,null,null,"TBD","","",null,null,0,0,1]
[null,"Please select",null,null,null,null,null,null,null,null,null,null,null,null,{"$f":"IF(ISERROR(IF(C680=\"corrective\",E680+KPI!$P$4,IF(C680=\"Preventative\",E680+KPI!$P$5,\"\"))),\"\",IF(C680=\"corrective\",E680+KPI!$P$4,IF(C680=\"Preventative\",E680+KPI!$P$5,\"\")))","v":""},"Please select",null,null,null,null,null,"Please select",null,null,"",null,null,null,null,null,null,null,null,"TBD","","",null,null,0,0,1]
[null,"Please select",null,null,null,null,null,null,null,null,null,null,null,null,{"$f":"IF(ISERROR(IF(C681=\"corrective\",E681+KPI!$P$4,IF(C681=\"Preventative\",E681+KPI!$P$5,\"\"))),\"\",IF(C681=\"corrective\",E681+KPI!$P$4,IF(C681=\"Preventative\",E681+KPI!$P$5,\"\")))","v":""},"Please select",null,null,null,null,null,"Please select",null,null,"",null,null,null,null,null,null,null,null,"TBD","","",null,null,0,0,1]
[null,"Please select",null,null,null,null,null,null,null,null,null,null,null,null,{"$f":"IF(ISERROR(IF(C682=\"corrective\",E682+KPI!$P$4,IF(C682=\"Preventative\",E682+KPI!$P$5,\"\"))),\"\",IF(C682=\"corrective\",E682+KPI!$P$4,IF(C682=\"Preventative\",E682+KPI!$P$5,\"\")))","v":""},"Please select",null,null,null,null,null,"Please select",null,null,"",null,null,null,null,null,null,null,null,"TBD","","",null,null,0,0,1]
[null,"Please select",null,null,null,null,null,null,null,null,null,null,null,null,{"$f":"IF(ISERROR(IF(C683=\"corrective\",E683+KPI!$P$4,IF(C683=\"Preventative\",E683+KPI!$P$5,\"\"))),\"\",IF(C683=\"corrective\",E683+KPI!$P$4,IF(C683=\"Preventative\",E683+KPI!$P$5,\"\")))","v":""},"Please select",null,null,null,null,null,"Please select",null,null,"",null,null,null,null,null,null,null,null,"TBD","","",null,null,0,0,1]
[null,"Please select",null,null,null,null,null,null,null,null,null,null,null,null,{"$f":"IF(ISERROR(IF(C684=\"corrective\",E684+KPI!$P$4,IF(C684=\"Preventative\",E684+KPI!$P$5,\"\"))),\"\",IF(C684=\"corrective\",E684+KPI!$P$4,IF(C684=\"Preventative\",E684+KPI!$P$5,\"\")))","v":""},"Please select",null,null,null,null,null,"Please select",null,null,"",null,null,null,null,null,null,null,null,"TBD","","",null,null,0,0,1]
[null,"Please select",null,null,null,null,null,null,null,null,null,null,null,null,{"$f":"IF(ISERROR(IF(C685=\"corrective\",E685+KPI!$P$4,IF(C685=\"Preventative\",E685+KPI!$P$5,\"\"))),\"\",IF(C685=\"corrective\",E685+KPI!$P$4,IF(C685=\"Preventative\",E685+KPI!$P$5,\"\")))","v":""},"Please select",null,null,null,null,null,"Please select",null,null,"",null,null,null,null,null,null,null,null,"TBD","","",null,null,0,0,1]
[null,"Please select",null,null,null,null,null,null,null,null,null,null,null,null,{"$f":"IF(ISERROR(IF(C686=\"corrective\",E686+KPI!$P$4,IF(C686=\"Preventative\",E686+KPI!$P$5,\"\"))),\"\",IF(C686=\"corrective\",E686+KPI!$P$4,IF(C686=\"Preventative\",E686+KPI!$P$5,\"\")))","v":""},"Please select",null,null,null,null,null,"Please select",null,null,"",null,null,null,null,null,null,null,null,"TBD","","",null,null,0,0,1]
[null,"Please select",null,null,null,null,null,null,null,null,null,null,null,null,{"$f":"IF(ISERROR(IF(C687=\"corrective\",E687+KPI!$P$4,IF(C687=\"Preventative\",E687+KPI!$P$5,\"\"))),\"\",IF(C687=\"corrective\",E687+KPI!$P$4,IF(C687=\"Preventative\",E687+KPI!$P$5,\"\")))","v":""},{"$f":"IF(AND(O687<TODAY(),B687=\"new\"),\"New - Overdue\",B687)","v":"Please select"},null,null,null,null,null,"Please select",null,null,{"$f":"Z687&AA687&AB687&AC687&AD687&AE687","v":""},null,null,null,null,null,null,null,null,"TBD",{"$f":"IF(ISERROR(AJ687-20),\"\",AJ687-20)","v":""},{"$f":"IF(ISERROR(IF(C687=\"corrective\",E687+AH687,\"\")),\"\",IF(C687=\"corrective\",E687+AH687,\"\"))","v":""},null,null,0,0,{"$f":"COUNTIF(AN687,\">400\")+COUNTIF(AN687,\"=0\")","v":1}]
[null,"Please select",null,null,null,null,null,null,null,null,null,null,null,null,{"$f":"IF(ISERROR(IF(C688=\"corrective\",E688+KPI!$P$4,IF(C688=\"Preventative\",E688+KPI!$P$5,\"\"))),\"\",IF(C688=\"corrective\",E688+KPI!$P$4,IF(C688=\"Preventative\",E688+KPI!$P$5,\"\")))","v":""},"Please select",null,null,null,null,null,"Please select",null,null,"",null,null,null,null,null,null,null,null,"TBD","","",null,null,0,0,1]
[null,"Please select",null,null,null,null,null,null,null,null,null,null,null,null,{"$f":"IF(ISERROR(IF(C689=\"corrective\",E689+KPI!$P$4,IF(C689=\"Preventative\",E689+KPI!$P$5,\"\"))),\"\",IF(C689=\"corrective\",E689+KPI!$P$4,IF(C689=\"Preventative\",E689+KPI!$P$5,\"\")))","v":""},"Please select",null,null,null,null,null,"Please select",null,null,"",null,null,null,null,null,null,null,null,"TBD","","",null,null,0,0,1]
[null,"Please select",null,null,null,null,null,null,null,null,null,null,null,null,{"$f":"IF(ISERROR(IF(C690=\"corrective\",E690+KPI!$P$4,IF(C690=\"Preventative\",E690+KPI!$P$5,\"\"))),\"\",IF(C690=\"corrective\",E690+KPI!$P$4,IF(C690=\"Preventative\",E690+KPI!$P$5,\"\")))","v":""},"Please select",null,null,null,null,null,"Please select",null,null,"",null,null,null,null,null,null,null,null,"TBD","","",null,null,0,0,1]
[null,"Please select",null,null,null,null,null,null,null,null,null,null,null,null,{"$f":"IF(ISERROR(IF(C691=\"corrective\",E691+KPI!$P$4,IF(C691=\"Preventative\",E691+KPI!$P$5,\"\"))),\"\",IF(C691=\"corrective\",E691+KPI!$P$4,IF(C691=\"Preventative\",E691+KPI!$P$5,\"\")))","v":""},"Please select",null,null,null,null,null,"Please select",null,null,"",null,null,null,null,null,null,null,null,"TBD","","",null,null,0,0,1]
[null,"Please select",null,null,null,null,null,null,null,null,null,null,null,null,{"$f":"IF(ISERROR(IF(C692=\"corrective\",E692+KPI!$P$4,IF(C692=\"Preventative\",E692+KPI!$P$5,\"\"))),\"\",IF(C692=\"corrective\",E692+KPI!$P$4,IF(C692=\"Preventative\",E692+KPI!$P$5,\"\")))","v":""},"Please select",null,null,null,null,null,"Please select",null,null,"",null,null,null,null,null,null,null,null,"TBD","","",null,null,0,0,1]
[null,"Please select",null,null,null,null,null,null,null,null,null,null,null,null,{"$f":"IF(ISERROR(IF(C693=\"corrective\",E693+KPI!$P$4,IF(C693=\"Preventative\",E693+KPI!$P$5,\"\"))),\"\",IF(C693=\"corrective\",E693+KPI!$P$4,IF(C693=\"Preventative\",E693+KPI!$P$5,\"\")))","v":""},"Please select",null,null,null,null,null,"Please select",null,null,"",null,null,null,null,null,null,null,null,"TBD","","",null,null,0,0,1]
[null,"Please select",null,null,null,null,null,null,null,null,null,null,null,null,{"$f":"IF(ISERROR(IF(C694=\"corrective\",E694+KPI!$P$4,IF(C694=\"Preventative\",E694+KPI!$P$5,\"\"))),\"\",IF(C694=\"corrective\",E694+KPI!$P$4,IF(C694=\"Preventative\",E694+KPI!$P$5,\"\")))","v":""},"Please select",null,null,null,null,null,"Please select",null,null,"",null,null,null,null,null,null,null,null,"TBD","","",null,null,0,0,1]
[null,"Please select",null,null,null,null,null,null,null,null,null,null,null,null,{"$f":"IF(ISERROR(IF(C695=\"corrective\",E695+KPI!$P$4,IF(C695=\"Preventative\",E695+KPI!$P$5,\"\"))),\"\",IF(C695=\"corrective\",E695+KPI!$P$4,IF(C695=\"Preventative\",E695+KPI!$P$5,\"\")))","v":""},"Please select",null,null,null,null,null,"Please select",null,null,"",null,null,null,null,null,null,null,null,"TBD","","",null,null,0,0,1]
[null,"Please select",null,null,null,null,null,null,null,null,null,null,null,null,{"$f":"IF(ISERROR(IF(C696=\"corrective\",E696+KPI!$P$4,IF(C696=\"Preventative\",E696+KPI!$P$5,\"\"))),\"\",IF(C696=\"corrective\",E696+KPI!$P$4,IF(C696=\"Preventative\",E696+KPI!$P$5,\"\")))","v":""},"Please select",null,null,null,null,null,"Please select",null,null,"",null,null,null,null,null,null,null,null,"TBD","","",null,null,0,0,1]
[null,"Please select",null,null,null,null,null,null,null,null,null,null,null,null,{"$f":"IF(ISERROR(IF(C697=\"corrective\",E697+KPI!$P$4,IF(C697=\"Preventative\",E697+KPI!$P$5,\"\"))),\"\",IF(C697=\"corrective\",E697+KPI!$P$4,IF(C697=\"Preventative\",E697+KPI!$P$5,\"\")))","v":""},"Please select",null,null,null,null,null,"Please select",null,null,"",null,null,null,null,null,null,null,null,"TBD","","",null,null,0,0,1]
[null,"Please select",null,null,null,null,null,null,null,null,null,null,null,null,{"$f":"IF(ISERROR(IF(C698=\"corrective\",E698+KPI!$P$4,IF(C698=\"Preventative\",E698+KPI!$P$5,\"\"))),\"\",IF(C698=\"corrective\",E698+KPI!$P$4,IF(C698=\"Preventative\",E698+KPI!$P$5,\"\")))","v":""},"Please select",null,null,null,null,null,"Please select",null,null,"",null,null,null,null,null,null,null,null,"TBD","","",null,null,0,0,1]
[null,"Please select",null,null,null,null,null,null,null,null,null,null,null,null,{"$f":"IF(ISERROR(IF(C699=\"corrective\",E699+KPI!$P$4,IF(C699=\"Preventative\",E699+KPI!$P$5,\"\"))),\"\",IF(C699=\"corrective\",E699+KPI!$P$4,IF(C699=\"Preventative\",E699+KPI!$P$5,\"\")))","v":""},"Please select",null,null,null,null,null,"Please select",null,null,"",null,null,null,null,null,null,null,null,"TBD","","",null,null,0,0,1]
[null,"Please select",null,null,null,null,null,null,null,null,null,null,null,null,{"$f":"IF(ISERROR(IF(C700=\"corrective\",E700+KPI!$P$4,IF(C700=\"Preventative\",E700+KPI!$P$5,\"\"))),\"\",IF(C700=\"corrective\",E700+KPI!$P$4,IF(C700=\"Preventative\",E700+KPI!$P$5,\"\")))","v":""},"Please select",null,null,null,null,null,"Please select",null,null,"",null,null,null,null,null,null,null,null,"TBD","","",null,null,0,0,1]
[null,"Please select",null,null,null,null,null,null,null,null,null,null,null,null,{"$f":"IF(ISERROR(IF(C701=\"corrective\",E701+KPI!$P$4,IF(C701=\"Preventative\",E701+KPI!$P$5,\"\"))),\"\",IF(C701=\"corrective\",E701+KPI!$P$4,IF(C701=\"Preventative\",E701+KPI!$P$5,\"\")))","v":""},"Please select",null,null,null,null,null,"Please select",null,null,"",null,null,null,null,null,null,null,null,"TBD","","",null,null,0,0,1]
[null,"Please select",null,null,null,null,null,null,null,null,null,null,null,null,{"$f":"IF(ISERROR(IF(C702=\"corrective\",E702+KPI!$P$4,IF(C702=\"Preventative\",E702+KPI!$P$5,\"\"))),\"\",IF(C702=\"corrective\",E702+KPI!$P$4,IF(C702=\"Preventative\",E702+KPI!$P$5,\"\")))","v":""},"Please select",null,null,null,null,null,"Please select",null,null,"",null,null,null,null,null,null,null,null,"TBD","","",null,null,0,0,1]
[null,"Please select",null,null,null,null,null,null,null,null,null,null,null,null,{"$f":"IF(ISERROR(IF(C703=\"corrective\",E703+KPI!$P$4,IF(C703=\"Preventative\",E703+KPI!$P$5,\"\"))),\"\",IF(C703=\"corrective\",E703+KPI!$P$4,IF(C703=\"Preventative\",E703+KPI!$P$5,\"\")))","v":""},"Please select",null,null,null,null,null,"Please select",null,null,"",null,null,null,null,null,null,null,null,"TBD","","",null,null,0,0,1]
[null,"Please select",null,null,null,null,null,null,null,null,null,null,null,null,{"$f":"IF(ISERROR(IF(C704=\"corrective\",E704+KPI!$P$4,IF(C704=\"Preventative\",E704+KPI!$P$5,\"\"))),\"\",IF(C704=\"corrective\",E704+KPI!$P$4,IF(C704=\"Preventative\",E704+KPI!$P$5,\"\")))","v":""},"Please select",null,null,null,null,null,"Please select",null,null,"",null,null,null,null,null,null,null,null,"TBD","","",null,null,0,0,1]
[null,"Please select",null,null,null,null,null,null,null,null,null,null,null,null,{"$f":"IF(ISERROR(IF(C705=\"corrective\",E705+KPI!$P$4,IF(C705=\"Preventative\",E705+KPI!$P$5,\"\"))),\"\",IF(C705=\"corrective\",E705+KPI!$P$4,IF(C705=\"Preventative\",E705+KPI!$P$5,\"\")))","v":""},"Please select",null,null,null,null,null,"Please select",null,null,"",null,null,null,null,null,null,null,null,"TBD","","",null,null,0,0,1]
[null,"Please select",null,null,null,null,null,null,null,null,null,null,null,null,{"$f":"IF(ISERROR(IF(C706=\"corrective\",E706+KPI!$P$4,IF(C706=\"Preventative\",E706+KPI!$P$5,\"\"))),\"\",IF(C706=\"corrective\",E706+KPI!$P$4,IF(C706=\"Preventative\",E706+KPI!$P$5,\"\")))","v":""},"Please select",null,null,null,null,null,"Please select",null,null,"",null,null,null,null,null,null,null,null,"TBD","","",null,null,{"$f":"IF(ISERROR(DATEDIF(E706,Q706,\"D\")),\"\",DATEDIF(E706,Q706,\"D\"))","v":0},{"$f":"IF(ISERROR(DATEDIF(Q706,X706,\"D\")),\"\",DATEDIF(Q706,X706,\"D\"))","v":0},1]
[null,"Please select",null,null,null,null,null,null,null,null,null,null,null,null,{"$f":"IF(ISERROR(IF(C707=\"corrective\",E707+KPI!$P$4,IF(C707=\"Preventative\",E707+KPI!$P$5,\"\"))),\"\",IF(C707=\"corrective\",E707+KPI!$P$4,IF(C707=\"Preventative\",E707+KPI!$P$5,\"\")))","v":""},"Please select",null,null,null,null,null,"Please select",null,null,"",null,null,null,null,null,null,null,null,"TBD","","",null,null,0,0,1]
[null,"Please select",null,null,null,null,null,null,null,null,null,null,null,null,{"$f":"IF(ISERROR(IF(C708=\"corrective\",E708+KPI!$P$4,IF(C708=\"Preventative\",E708+KPI!$P$5,\"\"))),\"\",IF(C708=\"corrective\",E708+KPI!$P$4,IF(C708=\"Preventative\",E708+KPI!$P$5,\"\")))","v":""},"Please select",null,null,null,null,null,"Please select",null,null,"",null,null,null,null,null,null,null,null,"TBD","","",null,null,0,0,1]
[null,"Please select",null,null,null,null,null,null,null,null,null,null,null,null,{"$f":"IF(ISERROR(IF(C709=\"corrective\",E709+KPI!$P$4,IF(C709=\"Preventative\",E709+KPI!$P$5,\"\"))),\"\",IF(C709=\"corrective\",E709+KPI!$P$4,IF(C709=\"Preventative\",E709+KPI!$P$5,\"\")))","v":""},"Please select",null,null,null,null,null,"Please select",null,null,"",null,null,null,null,null,null,null,null,"TBD","","",null,null,0,0,1]
[null,"Please select",null,null,null,null,null,null,null,null,null,null,null,null,{"$f":"IF(ISERROR(IF(C710=\"corrective\",E710+KPI!$P$4,IF(C710=\"Preventative\",E710+KPI!$P$5,\"\"))),\"\",IF(C710=\"corrective\",E710+KPI!$P$4,IF(C710=\"Preventative\",E710+KPI!$P$5,\"\")))","v":""},"Please select",null,null,null,null,null,"Please select",null,null,"",null,null,null,null,null,null,null,null,"TBD","","",null,null,0,0,1]
[null,"Please select",null,null,null,null,null,null,null,null,null,null,null,null,{"$f":"IF(ISERROR(IF(C711=\"corrective\",E711+KPI!$P$4,IF(C711=\"Preventative\",E711+KPI!$P$5,\"\"))),\"\",IF(C711=\"corrective\",E711+KPI!$P$4,IF(C711=\"Preventative\",E711+KPI!$P$5,\"\")))","v":""},"Please select",null,null,null,null,null,"Please select",null,null,"",null,null,null,null,null,null,null,null,"TBD","","",null,null,0,0,1]
[null,"Please select",null,null,null,null,null,null,null,null,null,null,null,null,{"$f":"IF(ISERROR(IF(C712=\"corrective\",E712+KPI!$P$4,IF(C712=\"Preventative\",E712+KPI!$P$5,\"\"))),\"\",IF(C712=\"corrective\",E712+KPI!$P$4,IF(C712=\"Preventative\",E712+KPI!$P$5,\"\")))","v":""},"Please select",null,null,null,null,null,"Please select",null,null,"",null,null,null,null,null,null,null,null,"TBD","","",null,null,0,0,1]
[null,"Please select",null,null,null,null,null,null,null,null,null,null,null,null,{"$f":"IF(ISERROR(IF(C713=\"corrective\",E713+KPI!$P$4,IF(C713=\"Preventative\",E713+KPI!$P$5,\"\"))),\"\",IF(C713=\"corrective\",E713+KPI!$P$4,IF(C713=\"Preventative\",E713+KPI!$P$5,\"\")))","v":""},"Please select",null,null,null,null,null,"Please select",null,null,"",null,null,null,null,null,null,null,null,"TBD","","",null,null,0,0,1]
[null,"Please select",null,null,null,null,null,null,null,null,null,null,null,null,{"$f":"IF(ISERROR(IF(C714=\"corrective\",E714+KPI!$P$4,IF(C714=\"Preventative\",E714+KPI!$P$5,\"\"))),\"\",IF(C714=\"corrective\",E714+KPI!$P$4,IF(C714=\"Preventative\",E714+KPI!$P$5,\"\")))","v":""},"Please select",null,null,null,null,null,"Please select",null,null,"",null,null,null,null,null,null,null,null,"TBD","","",null,null,0,0,1]
[null,"Please select",null,null,null,null,null,null,null,null,null,null,null,null,{"$f":"IF(ISERROR(IF(C715=\"corrective\",E715+KPI!$P$4,IF(C715=\"Preventative\",E715+KPI!$P$5,\"\"))),\"\",IF(C715=\"corrective\",E715+KPI!$P$4,IF(C715=\"Preventative\",E715+KPI!$P$5,\"\")))","v":""},"Please select",null,null,null,null,null,"Please select",null,null,"",null,null,null,null,null,null,null,null,"TBD","","",null,null,0,0,1]
[null,"Please select",null,null,null,null,null,null,null,null,null,null,null,null,{"$f":"IF(ISERROR(IF(C716=\"corrective\",E716+KPI!$P$4,IF(C716=\"Preventative\",E716+KPI!$P$5,\"\"))),\"\",IF(C716=\"corrective\",E716+KPI!$P$4,IF(C716=\"Preventative\",E716+KPI!$P$5,\"\")))","v":""},"Please select",null,null,null,null,null,"Please select",null,null,"",null,null,null,null,null,null,null,null,"TBD","","",null,null,0,0,1]
[null,"Please select",null,null,null,null,null,null,null,null,null,null,null,null,{"$f":"IF(ISERROR(IF(C717=\"corrective\",E717+KPI!$P$4,IF(C717=\"Preventative\",E717+KPI!$P$5,\"\"))),\"\",IF(C717=\"corrective\",E717+KPI!$P$4,IF(C717=\"Preventative\",E717+KPI!$P$5,\"\")))","v":""},"Please select",null,null,null,null,null,"Please select",null,null,"",null,null,null,null,null,null,null,null,"TBD","","",null,null,0,0,1]
[null,"Please select",null,null,null,null,null,null,null,null,null,null,null,null,{"$f":"IF(ISERROR(IF(C718=\"corrective\",E718+KPI!$P$4,IF(C718=\"Preventative\",E718+KPI!$P$5,\"\"))),\"\",IF(C718=\"corrective\",E718+KPI!$P$4,IF(C718=\"Preventative\",E718+KPI!$P$5,\"\")))","v":""},"Please select",null,null,null,null,null,"Please select",null,null,"",null,null,null,null,null,null,null,null,"TBD","","",null,null,0,0,1]
[null,"Please select",null,null,null,null,null,null,null,null,null,null,null,null,{"$f":"IF(ISERROR(IF(C719=\"corrective\",E719+KPI!$P$4,IF(C719=\"Preventative\",E719+KPI!$P$5,\"\"))),\"\",IF(C719=\"corrective\",E719+KPI!$P$4,IF(C719=\"Preventative\",E719+KPI!$P$5,\"\")))","v":""},"Please select",null,null,null,null,null,"Please select",null,null,"",null,null,null,null,null,null,null,null,"TBD","","",null,null,0,0,1]
[null,"Please select",null,null,null,null,null,null,null,null,null,null,null,null,{"$f":"IF(ISERROR(IF(C720=\"corrective\",E720+KPI!$P$4,IF(C720=\"Preventative\",E720+KPI!$P$5,\"\"))),\"\",IF(C720=\"corrective\",E720+KPI!$P$4,IF(C720=\"Preventative\",E720+KPI!$P$5,\"\")))","v":""},"Please select",null,null,null,null,null,"Please select",null,null,"",null,null,null,null,null,null,null,null,"TBD","","",null,null,0,0,1]
[null,"Please select",null,null,null,null,null,null,null,null,null,null,null,null,{"$f":"IF(ISERROR(IF(C721=\"corrective\",E721+KPI!$P$4,IF(C721=\"Preventative\",E721+KPI!$P$5,\"\"))),\"\",IF(C721=\"corrective\",E721+KPI!$P$4,IF(C721=\"Preventative\",E721+KPI!$P$5,\"\")))","v":""},"Please select",null,null,null,null,null,"Please select",null,null,"",null,null,null,null,null,null,null,null,"TBD","","",null,null,0,0,1]
[null,"Please select",null,null,null,null,null,null,null,null,null,null,null,null,{"$f":"IF(ISERROR(IF(C722=\"corrective\",E722+KPI!$P$4,IF(C722=\"Preventative\",E722+KPI!$P$5,\"\"))),\"\",IF(C722=\"corrective\",E722+KPI!$P$4,IF(C722=\"Preventative\",E722+KPI!$P$5,\"\")))","v":""},"Please select",null,null,null,null,null,"Please select",null,null,"",null,null,null,null,null,null,null,null,"TBD","","",null,null,0,0,1]
[null,"Please select",null,null,null,null,null,null,null,null,null,null,null,null,{"$f":"IF(ISERROR(IF(C723=\"corrective\",E723+KPI!$P$4,IF(C723=\"Preventative\",E723+KPI!$P$5,\"\"))),\"\",IF(C723=\"corrective\",E723+KPI!$P$4,IF(C723=\"Preventative\",E723+KPI!$P$5,\"\")))","v":""},"Please select",null,null,null,null,null,"Please select",null,null,"",null,null,null,null,null,null,null,null,"TBD","","",null,null,0,0,1]
[null,"Please select",null,null,null,null,null,null,null,null,null,null,null,null,{"$f":"IF(ISERROR(IF(C724=\"corrective\",E724+KPI!$P$4,IF(C724=\"Preventative\",E724+KPI!$P$5,\"\"))),\"\",IF(C724=\"corrective\",E724+KPI!$P$4,IF(C724=\"Preventative\",E724+KPI!$P$5,\"\")))","v":""},"Please select",null,null,null,null,null,"Please select",null,null,"",null,null,null,null,null,null,null,null,"TBD","","",null,null,0,0,1]
[null,"Please select",null,null,null,null,null,null,null,null,null,null,null,null,{"$f":"IF(ISERROR(IF(C725=\"corrective\",E725+KPI!$P$4,IF(C725=\"Preventative\",E725+KPI!$P$5,\"\"))),\"\",IF(C725=\"corrective\",E725+KPI!$P$4,IF(C725=\"Preventative\",E725+KPI!$P$5,\"\")))","v":""},"Please select",null,null,null,null,null,"Please select",null,null,"",null,null,null,null,null,null,null,null,"TBD","","",null,null,0,0,1]
[null,"Please select",null,null,null,null,null,null,null,null,null,null,null,null,{"$f":"IF(ISERROR(IF(C726=\"corrective\",E726+KPI!$P$4,IF(C726=\"Preventative\",E726+KPI!$P$5,\"\"))),\"\",IF(C726=\"corrective\",E726+KPI!$P$4,IF(C726=\"Preventative\",E726+KPI!$P$5,\"\")))","v":""},"Please select",null,null,null,null,null,"Please select",null,null,"",null,null,null,null,null,null,null,null,"TBD","","",null,null,0,0,1]
[null,"Please select",null,null,null,null,null,null,null,null,null,null,null,null,{"$f":"IF(ISERROR(IF(C727=\"corrective\",E727+KPI!$P$4,IF(C727=\"Preventative\",E727+KPI!$P$5,\"\"))),\"\",IF(C727=\"corrective\",E727+KPI!$P$4,IF(C727=\"Preventative\",E727+KPI!$P$5,\"\")))","v":""},"Please select",null,null,null,null,null,"Please select",null,null,"",null,null,null,null,null,null,null,null,"TBD","","",null,null,0,0,1]
[null,"Please select",null,null,null,null,null,null,null,null,null,null,null,null,{"$f":"IF(ISERROR(IF(C728=\"corrective\",E728+KPI!$P$4,IF(C728=\"Preventative\",E728+KPI!$P$5,\"\"))),\"\",IF(C728=\"corrective\",E728+KPI!$P$4,IF(C728=\"Preventative\",E728+KPI!$P$5,\"\")))","v":""},"Please select",null,null,null,null,null,"Please select",null,null,"",null,null,null,null,null,null,null,null,"TBD","","",null,null,0,0,1]
[null,"Please select",null,null,null,null,null,null,null,null,null,null,null,null,{"$f":"IF(ISERROR(IF(C729=\"corrective\",E729+KPI!$P$4,IF(C729=\"Preventative\",E729+KPI!$P$5,\"\"))),\"\",IF(C729=\"corrective\",E729+KPI!$P$4,IF(C729=\"Preventative\",E729+KPI!$P$5,\"\")))","v":""},"Please select",null,null,null,null,null,"Please select",null,null,"",null,null,null,null,null,null,null,null,"TBD","","",null,null,0,0,1]
[null,"Please select",null,null,null,null,null,null,null,null,null,null,null,null,{"$f":"IF(ISERROR(IF(C730=\"corrective\",E730+KPI!$P$4,IF(C730=\"Preventative\",E730+KPI!$P$5,\"\"))),\"\",IF(C730=\"corrective\",E730+KPI!$P$4,IF(C730=\"Preventative\",E730+KPI!$P$5,\"\")))","v":""},"Please select",null,null,null,null,null,"Please select",null,null,"",null,null,null,null,null,null,null,null,"TBD","","",null,null,0,0,1]
[null,"Please select",null,null,null,null,null,null,null,null,null,null,null,null,{"$f":"IF(ISERROR(IF(C731=\"corrective\",E731+KPI!$P$4,IF(C731=\"Preventative\",E731+KPI!$P$5,\"\"))),\"\",IF(C731=\"corrective\",E731+KPI!$P$4,IF(C731=\"Preventative\",E731+KPI!$P$5,\"\")))","v":""},"Please select",null,null,null,null,null,"Please select",null,null,"",null,null,null,null,null,null,null,null,"TBD","","",null,null,0,0,1]
[null,"Please select",null,null,null,null,null,null,null,null,null,null,null,null,{"$f":"IF(ISERROR(IF(C732=\"corrective\",E732+KPI!$P$4,IF(C732=\"Preventative\",E732+KPI!$P$5,\"\"))),\"\",IF(C732=\"corrective\",E732+KPI!$P$4,IF(C732=\"Preventative\",E732+KPI!$P$5,\"\")))","v":""},"Please select",null,null,null,null,null,"Please select",null,null,"",null,null,null,null,null,null,null,null,"TBD","","",null,null,0,0,1]
[null,"Please select",null,null,null,null,null,null,null,null,null,null,null,null,{"$f":"IF(ISERROR(IF(C733=\"corrective\",E733+KPI!$P$4,IF(C733=\"Preventative\",E733+KPI!$P$5,\"\"))),\"\",IF(C733=\"corrective\",E733+KPI!$P$4,IF(C733=\"Preventative\",E733+KPI!$P$5,\"\")))","v":""},"Please select",null,null,null,null,null,"Please select",null,null,"",null,null,null,null,null,null,null,null,"TBD","","",null,null,0,0,1]
[null,"Please select",null,null,null,null,null,null,null,null,null,null,null,null,{"$f":"IF(ISERROR(IF(C734=\"corrective\",E734+KPI!$P$4,IF(C734=\"Preventative\",E734+KPI!$P$5,\"\"))),\"\",IF(C734=\"corrective\",E734+KPI!$P$4,IF(C734=\"Preventative\",E734+KPI!$P$5,\"\")))","v":""},"Please select",null,null,null,null,null,"Please select",null,null,"",null,null,null,null,null,null,null,null,"TBD","","",null,null,0,0,1]
[null,"Please select",null,null,null,null,null,null,null,null,null,null,null,null,{"$f":"IF(ISERROR(IF(C735=\"corrective\",E735+KPI!$P$4,IF(C735=\"Preventative\",E735+KPI!$P$5,\"\"))),\"\",IF(C735=\"corrective\",E735+KPI!$P$4,IF(C735=\"Preventative\",E735+KPI!$P$5,\"\")))","v":""},"Please select",null,null,null,null,null,"Please select",null,null,"",null,null,null,null,null,null,null,null,"TBD","","",null,null,0,0,1]
[null,"Please select",null,null,null,null,null,null,null,null,null,null,null,null,{"$f":"IF(ISERROR(IF(C736=\"corrective\",E736+KPI!$P$4,IF(C736=\"Preventative\",E736+KPI!$P$5,\"\"))),\"\",IF(C736=\"corrective\",E736+KPI!$P$4,IF(C736=\"Preventative\",E736+KPI!$P$5,\"\")))","v":""},"Please select",null,null,null,null,null,"Please select",null,null,"",null,null,null,null,null,null,null,null,"TBD","","",null,null,0,0,1]
[null,"Please select",null,null,null,null,null,null,null,null,null,null,null,null,{"$f":"IF(ISERROR(IF(C737=\"corrective\",E737+KPI!$P$4,IF(C737=\"Preventative\",E737+KPI!$P$5,\"\"))),\"\",IF(C737=\"corrective\",E737+KPI!$P$4,IF(C737=\"Preventative\",E737+KPI!$P$5,\"\")))","v":""},"Please select",null,null,null,null,null,"Please select",null,null,"",null,null,null,null,null,null,null,null,"TBD","","",null,null,0,0,1]
[null,"Please select",null,null,null,null,null,null,null,null,null,null,null,null,{"$f":"IF(ISERROR(IF(C738=\"corrective\",E738+KPI!$P$4,IF(C738=\"Preventative\",E738+KPI!$P$5,\"\"))),\"\",IF(C738=\"corrective\",E738+KPI!$P$4,IF(C738=\"Preventative\",E738+KPI!$P$5,\"\")))","v":""},"Please select",null,null,null,null,null,"Please select",null,null,"",null,null,null,null,null,null,null,null,"TBD","","",null,null,0,0,1]
[null,"Please select",null,null,null,null,null,null,null,null,null,null,null,null,{"$f":"IF(ISERROR(IF(C739=\"corrective\",E739+KPI!$P$4,IF(C739=\"Preventative\",E739+KPI!$P$5,\"\"))),\"\",IF(C739=\"corrective\",E739+KPI!$P$4,IF(C739=\"Preventative\",E739+KPI!$P$5,\"\")))","v":""},"Please select",null,null,null,null,null,"Please select",null,null,"",null,null,null,null,null,null,null,null,"TBD","","",null,null,0,0,1]
[null,"Please select",null,null,null,null,null,null,null,null,null,null,null,null,{"$f":"IF(ISERROR(IF(C740=\"corrective\",E740+KPI!$P$4,IF(C740=\"Preventative\",E740+KPI!$P$5,\"\"))),\"\",IF(C740=\"corrective\",E740+KPI!$P$4,IF(C740=\"Preventative\",E740+KPI!$P$5,\"\")))","v":""},"Please select",null,null,null,null,null,"Please select",null,null,"",null,null,null,null,null,null,null,null,"TBD","","",null,null,0,0,1]
[null,"Please select",null,null,null,null,null,null,null,null,null,null,null,null,{"$f":"IF(ISERROR(IF(C741=\"corrective\",E741+KPI!$P$4,IF(C741=\"Preventative\",E741+KPI!$P$5,\"\"))),\"\",IF(C741=\"corrective\",E741+KPI!$P$4,IF(C741=\"Preventative\",E741+KPI!$P$5,\"\")))","v":""},"Please select",null,null,null,null,null,"Please select",null,null,"",null,null,null,null,null,null,null,null,"TBD","","",null,null,0,0,1]
[null,"Please select",null,null,null,null,null,null,null,null,null,null,null,null,{"$f":"IF(ISERROR(IF(C742=\"corrective\",E742+KPI!$P$4,IF(C742=\"Preventative\",E742+KPI!$P$5,\"\"))),\"\",IF(C742=\"corrective\",E742+KPI!$P$4,IF(C742=\"Preventative\",E742+KPI!$P$5,\"\")))","v":""},"Please select",null,null,null,null,null,"Please select",null,null,"",null,null,null,null,null,null,null,null,"TBD","","",null,null,0,0,1]
[null,"Please select",null,null,null,null,null,null,null,null,null,null,null,null,{"$f":"IF(ISERROR(IF(C743=\"corrective\",E743+KPI!$P$4,IF(C743=\"Preventative\",E743+KPI!$P$5,\"\"))),\"\",IF(C743=\"corrective\",E743+KPI!$P$4,IF(C743=\"Preventative\",E743+KPI!$P$5,\"\")))","v":""},"Please select",null,null,null,null,null,"Please select",null,null,"",null,null,null,null,null,null,null,null,"TBD","","",null,null,0,0,1]
[null,"Please select",null,null,null,null,null,null,null,null,null,null,null,null,{"$f":"IF(ISERROR(IF(C744=\"corrective\",E744+KPI!$P$4,IF(C744=\"Preventative\",E744+KPI!$P$5,\"\"))),\"\",IF(C744=\"corrective\",E744+KPI!$P$4,IF(C744=\"Preventative\",E744+KPI!$P$5,\"\")))","v":""},"Please select",null,null,null,null,null,"Please select",null,null,"",null,null,null,null,null,null,null,null,"TBD","","",null,null,0,0,1]
[null,"Please select",null,null,null,null,null,null,null,null,null,null,null,null,{"$f":"IF(ISERROR(IF(C745=\"corrective\",E745+KPI!$P$4,IF(C745=\"Preventative\",E745+KPI!$P$5,\"\"))),\"\",IF(C745=\"corrective\",E745+KPI!$P$4,IF(C745=\"Preventative\",E745+KPI!$P$5,\"\")))","v":""},"Please select",null,null,null,null,null,"Please select",null,null,"",null,null,null,null,null,null,null,null,"TBD","","",null,null,0,0,1]
[null,"Please select",null,null,null,null,null,null,null,null,null,null,null,null,{"$f":"IF(ISERROR(IF(C746=\"corrective\",E746+KPI!$P$4,IF(C746=\"Preventative\",E746+KPI!$P$5,\"\"))),\"\",IF(C746=\"corrective\",E746+KPI!$P$4,IF(C746=\"Preventative\",E746+KPI!$P$5,\"\")))","v":""},"Please select",null,null,null,null,null,"Please select",null,null,"",null,null,null,null,null,null,null,null,"TBD","","",null,null,0,0,1]
[null,"Please select",null,null,null,null,null,null,null,null,null,null,null,null,{"$f":"IF(ISERROR(IF(C747=\"corrective\",E747+KPI!$P$4,IF(C747=\"Preventative\",E747+KPI!$P$5,\"\"))),\"\",IF(C747=\"corrective\",E747+KPI!$P$4,IF(C747=\"Preventative\",E747+KPI!$P$5,\"\")))","v":""},"Please select",null,null,null,null,null,"Please select",null,null,"",null,null,null,null,null,null,null,null,"TBD","","",null,null,0,0,1]
[null,"Please select",null,null,null,null,null,null,null,null,null,null,null,null,{"$f":"IF(ISERROR(IF(C748=\"corrective\",E748+KPI!$P$4,IF(C748=\"Preventative\",E748+KPI!$P$5,\"\"))),\"\",IF(C748=\"corrective\",E748+KPI!$P$4,IF(C748=\"Preventative\",E748+KPI!$P$5,\"\")))","v":""},"Please select",null,null,null,null,null,"Please select",null,null,"",null,null,null,null,null,null,null,null,"TBD","","",null,null,0,0,1]
[null,"Please select",null,null,null,null,null,null,null,null,null,null,null,null,{"$f":"IF(ISERROR(IF(C749=\"corrective\",E749+KPI!$P$4,IF(C749=\"Preventative\",E749+KPI!$P$5,\"\"))),\"\",IF(C749=\"corrective\",E749+KPI!$P$4,IF(C749=\"Preventative\",E749+KPI!$P$5,\"\")))","v":""},"Please select",null,null,null,null,null,"Please select",null,null,"",null,null,null,null,null,null,null,null,"TBD","","",null,null,0,0,1]
[null,"Please select",null,null,null,null,null,null,null,null,null,null,null,null,{"$f":"IF(ISERROR(IF(C750=\"corrective\",E750+KPI!$P$4,IF(C750=\"Preventative\",E750+KPI!$P$5,\"\"))),\"\",IF(C750=\"corrective\",E750+KPI!$P$4,IF(C750=\"Preventative\",E750+KPI!$P$5,\"\")))","v":""},"Please select",null,null,null,null,null,"Please select",null,null,"",null,null,null,null,null,null,null,null,"TBD","","",null,null,0,0,1]
[null,"Please select",null,null,null,null,null,null,null,null,null,null,null,null,{"$f":"IF(ISERROR(IF(C751=\"corrective\",E751+KPI!$P$4,IF(C751=\"Preventative\",E751+KPI!$P$5,\"\"))),\"\",IF(C751=\"corrective\",E751+KPI!$P$4,IF(C751=\"Preventative\",E751+KPI!$P$5,\"\")))","v":""},{"$f":"IF(AND(O751<TODAY(),B751=\"new\"),\"New - Overdue\",B751)","v":"Please select"},null,null,null,null,null,"Please select",null,null,{"$f":"Z751&AA751&AB751&AC751&AD751&AE751","v":""},null,null,null,null,null,null,null,null,"TBD",{"$f":"IF(ISERROR(AJ751-20),\"\",AJ751-20)","v":""},{"$f":"IF(ISERROR(IF(C751=\"corrective\",E751+AH751,\"\")),\"\",IF(C751=\"corrective\",E751+AH751,\"\"))","v":""},null,null,0,0,{"$f":"COUNTIF(AN751,\">400\")+COUNTIF(AN751,\"=0\")","v":1}]
[null,"Please select",null,null,null,null,null,null,null,null,null,null,null,null,{"$f":"IF(ISERROR(IF(C752=\"corrective\",E752+KPI!$P$4,IF(C752=\"Preventative\",E752+KPI!$P$5,\"\"))),\"\",IF(C752=\"corrective\",E752+KPI!$P$4,IF(C752=\"Preventative\",E752+KPI!$P$5,\"\")))","v":""},"Please select",null,null,null,null,null,"Please select",null,null,"",null,null,null,null,null,null,null,null,"TBD","","",null,null,0,0,1]
[null,"Please select",null,null,null,null,null,null,null,null,null,null,null,null,{"$f":"IF(ISERROR(IF(C753=\"corrective\",E753+KPI!$P$4,IF(C753=\"Preventative\",E753+KPI!$P$5,\"\"))),\"\",IF(C753=\"corrective\",E753+KPI!$P$4,IF(C753=\"Preventative\",E753+KPI!$P$5,\"\")))","v":""},"Please select",null,null,null,null,null,"Please select",null,null,"",null,null,null,null,null,null,null,null,"TBD","","",null,null,0,0,1]
[null,"Please select",null,null,null,null,null,null,null,null,null,null,null,null,{"$f":"IF(ISERROR(IF(C754=\"corrective\",E754+KPI!$P$4,IF(C754=\"Preventative\",E754+KPI!$P$5,\"\"))),\"\",IF(C754=\"corrective\",E754+KPI!$P$4,IF(C754=\"Preventative\",E754+KPI!$P$5,\"\")))","v":""},"Please select",null,null,null,null,null,"Please select",null,null,"",null,null,null,null,null,null,null,null,"TBD","","",null,null,0,0,1]
[null,"Please select",null,null,null,null,null,null,null,null,null,null,null,null,{"$f":"IF(ISERROR(IF(C755=\"corrective\",E755+KPI!$P$4,IF(C755=\"Preventative\",E755+KPI!$P$5,\"\"))),\"\",IF(C755=\"corrective\",E755+KPI!$P$4,IF(C755=\"Preventative\",E755+KPI!$P$5,\"\")))","v":""},"Please select",null,null,null,null,null,"Please select",null,null,"",null,null,null,null,null,null,null,null,"TBD","","",null,null,0,0,1]
[null,"Please select",null,null,null,null,null,null,null,null,null,null,null,null,{"$f":"IF(ISERROR(IF(C756=\"corrective\",E756+KPI!$P$4,IF(C756=\"Preventative\",E756+KPI!$P$5,\"\"))),\"\",IF(C756=\"corrective\",E756+KPI!$P$4,IF(C756=\"Preventative\",E756+KPI!$P$5,\"\")))","v":""},"Please select",null,null,null,null,null,"Please select",null,null,"",null,null,null,null,null,null,null,null,"TBD","","",null,null,0,0,1]
[null,"Please select",null,null,null,null,null,null,null,null,null,null,null,null,{"$f":"IF(ISERROR(IF(C757=\"corrective\",E757+KPI!$P$4,IF(C757=\"Preventative\",E757+KPI!$P$5,\"\"))),\"\",IF(C757=\"corrective\",E757+KPI!$P$4,IF(C757=\"Preventative\",E757+KPI!$P$5,\"\")))","v":""},"Please select",null,null,null,null,null,"Please select",null,null,"",null,null,null,null,null,null,null,null,"TBD","","",null,null,0,0,1]
[null,"Please select",null,null,null,null,null,null,null,null,null,null,null,null,{"$f":"IF(ISERROR(IF(C758=\"corrective\",E758+KPI!$P$4,IF(C758=\"Preventative\",E758+KPI!$P$5,\"\"))),\"\",IF(C758=\"corrective\",E758+KPI!$P$4,IF(C758=\"Preventative\",E758+KPI!$P$5,\"\")))","v":""},"Please select",null,null,null,null,null,"Please select",null,null,"",null,null,null,null,null,null,null,null,"TBD","","",null,null,0,0,1]
[null,"Please select",null,null,null,null,null,null,null,null,null,null,null,null,{"$f":"IF(ISERROR(IF(C759=\"corrective\",E759+KPI!$P$4,IF(C759=\"Preventative\",E759+KPI!$P$5,\"\"))),\"\",IF(C759=\"corrective\",E759+KPI!$P$4,IF(C759=\"Preventative\",E759+KPI!$P$5,\"\")))","v":""},"Please select",null,null,null,null,null,"Please select",null,null,"",null,null,null,null,null,null,null,null,"TBD","","",null,null,0,0,1]
[null,"Please select",null,null,null,null,null,null,null,null,null,null,null,null,{"$f":"IF(ISERROR(IF(C760=\"corrective\",E760+KPI!$P$4,IF(C760=\"Preventative\",E760+KPI!$P$5,\"\"))),\"\",IF(C760=\"corrective\",E760+KPI!$P$4,IF(C760=\"Preventative\",E760+KPI!$P$5,\"\")))","v":""},"Please select",null,null,null,null,null,"Please select",null,null,"",null,null,null,null,null,null,null,null,"TBD","","",null,null,0,0,1]
[null,"Please select",null,null,null,null,null,null,null,null,null,null,null,null,{"$f":"IF(ISERROR(IF(C761=\"corrective\",E761+KPI!$P$4,IF(C761=\"Preventative\",E761+KPI!$P$5,\"\"))),\"\",IF(C761=\"corrective\",E761+KPI!$P$4,IF(C761=\"Preventative\",E761+KPI!$P$5,\"\")))","v":""},"Please select",null,null,null,null,null,"Please select",null,null,"",null,null,null,null,null,null,null,null,"TBD","","",null,null,0,0,1]
[null,"Please select",null,null,null,null,null,null,null,null,null,null,null,null,{"$f":"IF(ISERROR(IF(C762=\"corrective\",E762+KPI!$P$4,IF(C762=\"Preventative\",E762+KPI!$P$5,\"\"))),\"\",IF(C762=\"corrective\",E762+KPI!$P$4,IF(C762=\"Preventative\",E762+KPI!$P$5,\"\")))","v":""},"Please select",null,null,null,null,null,"Please select",null,null,"",null,null,null,null,null,null,null,null,"TBD","","",null,null,0,0,1]
[null,"Please select",null,null,null,null,null,null,null,null,null,null,null,null,{"$f":"IF(ISERROR(IF(C763=\"corrective\",E763+KPI!$P$4,IF(C763=\"Preventative\",E763+KPI!$P$5,\"\"))),\"\",IF(C763=\"corrective\",E763+KPI!$P$4,IF(C763=\"Preventative\",E763+KPI!$P$5,\"\")))","v":""},"Please select",null,null,null,null,null,"Please select",null,null,"",null,null,null,null,null,null,null,null,"TBD","","",null,null,0,0,1]
[null,"Please select",null,null,null,null,null,null,null,null,null,null,null,null,{"$f":"IF(ISERROR(IF(C764=\"corrective\",E764+KPI!$P$4,IF(C764=\"Preventative\",E764+KPI!$P$5,\"\"))),\"\",IF(C764=\"corrective\",E764+KPI!$P$4,IF(C764=\"Preventative\",E764+KPI!$P$5,\"\")))","v":""},"Please select",null,null,null,null,null,"Please select",null,null,"",null,null,null,null,null,null,null,null,"TBD","","",null,null,0,0,1]
[null,"Please select",null,null,null,null,null,null,null,null,null,null,null,null,{"$f":"IF(ISERROR(IF(C765=\"corrective\",E765+KPI!$P$4,IF(C765=\"Preventative\",E765+KPI!$P$5,\"\"))),\"\",IF(C765=\"corrective\",E765+KPI!$P$4,IF(C765=\"Preventative\",E765+KPI!$P$5,\"\")))","v":""},"Please select",null,null,null,null,null,"Please select",null,null,"",null,null,null,null,null,null,null,null,"TBD","","",null,null,0,0,1]
[null,"Please select",null,null,null,null,null,null,null,null,null,null,null,null,{"$f":"IF(ISERROR(IF(C766=\"corrective\",E766+KPI!$P$4,IF(C766=\"Preventative\",E766+KPI!$P$5,\"\"))),\"\",IF(C766=\"corrective\",E766+KPI!$P$4,IF(C766=\"Preventative\",E766+KPI!$P$5,\"\")))","v":""},"Please select",null,null,null,null,null,"Please select",null,null,"",null,null,null,null,null,null,null,null,"TBD","","",null,null,0,0,1]
[null,"Please select",null,null,null,null,null,null,null,null,null,null,null,null,{"$f":"IF(ISERROR(IF(C767=\"corrective\",E767+KPI!$P$4,IF(C767=\"Preventative\",E767+KPI!$P$5,\"\"))),\"\",IF(C767=\"corrective\",E767+KPI!$P$4,IF(C767=\"Preventative\",E767+KPI!$P$5,\"\")))","v":""},"Please select",null,null,null,null,null,"Please select",null,null,"",null,null,null,null,null,null,null,null,"TBD","","",null,null,0,0,1]
[null,"Please select",null,null,null,null,null,null,null,null,null,null,null,null,{"$f":"IF(ISERROR(IF(C768=\"corrective\",E768+KPI!$P$4,IF(C768=\"Preventative\",E768+KPI!$P$5,\"\"))),\"\",IF(C768=\"corrective\",E768+KPI!$P$4,IF(C768=\"Preventative\",E768+KPI!$P$5,\"\")))","v":""},"Please select",null,null,null,null,null,"Please select",null,null,"",null,null,null,null,null,null,null,null,"TBD","","",null,null,0,0,1]
[null,"Please select",null,null,null,null,null,null,null,null,null,null,null,null,{"$f":"IF(ISERROR(IF(C769=\"corrective\",E769+KPI!$P$4,IF(C769=\"Preventative\",E769+KPI!$P$5,\"\"))),\"\",IF(C769=\"corrective\",E769+KPI!$P$4,IF(C769=\"Preventative\",E769+KPI!$P$5,\"\")))","v":""},"Please select",null,null,null,null,null,"Please select",null,null,"",null,null,null,null,null,null,null,null,"TBD","","",null,null,0,0,1]
[null,"Please select",null,null,null,null,null,null,null,null,null,null,null,null,{"$f":"IF(ISERROR(IF(C770=\"corrective\",E770+KPI!$P$4,IF(C770=\"Preventative\",E770+KPI!$P$5,\"\"))),\"\",IF(C770=\"corrective\",E770+KPI!$P$4,IF(C770=\"Preventative\",E770+KPI!$P$5,\"\")))","v":""},"Please select",null,null,null,null,null,"Please select",null,null,"",null,null,null,null,null,null,null,null,"TBD","","",null,null,{"$f":"IF(ISERROR(DATEDIF(E770,Q770,\"D\")),\"\",DATEDIF(E770,Q770,\"D\"))","v":0},{"$f":"IF(ISERROR(DATEDIF(Q770,X770,\"D\")),\"\",DATEDIF(Q770,X770,\"D\"))","v":0},1]
[null,"Please select",null,null,null,null,null,null,null,null,null,null,null,null,{"$f":"IF(ISERROR(IF(C771=\"corrective\",E771+KPI!$P$4,IF(C771=\"Preventative\",E771+KPI!$P$5,\"\"))),\"\",IF(C771=\"corrective\",E771+KPI!$P$4,IF(C771=\"Preventative\",E771+KPI!$P$5,\"\")))","v":""},"Please select",null,null,null,null,null,"Please select",null,null,"",null,null,null,null,null,null,null,null,"TBD","","",null,null,0,0,1]
[null,"Please select",null,null,null,null,null,null,null,null,null,null,null,null,{"$f":"IF(ISERROR(IF(C772=\"corrective\",E772+KPI!$P$4,IF(C772=\"Preventative\",E772+KPI!$P$5,\"\"))),\"\",IF(C772=\"corrective\",E772+KPI!$P$4,IF(C772=\"Preventative\",E772+KPI!$P$5,\"\")))","v":""},"Please select",null,null,null,null,null,"Please select",null,null,"",null,null,null,null,null,null,null,null,"TBD","","",null,null,0,0,1]
[null,"Please select",null,null,null,null,null,null,null,null,null,null,null,null,{"$f":"IF(ISERROR(IF(C773=\"corrective\",E773+KPI!$P$4,IF(C773=\"Preventative\",E773+KPI!$P$5,\"\"))),\"\",IF(C773=\"corrective\",E773+KPI!$P$4,IF(C773=\"Preventative\",E773+KPI!$P$5,\"\")))","v":""},"Please select",null,null,null,null,null,"Please select",null,null,"",null,null,null,null,null,null,null,null,"TBD","","",null,null,0,0,1]
[null,"Please select",null,null,null,null,null,null,null,null,null,null,null,null,{"$f":"IF(ISERROR(IF(C774=\"corrective\",E774+KPI!$P$4,IF(C774=\"Preventative\",E774+KPI!$P$5,\"\"))),\"\",IF(C774=\"corrective\",E774+KPI!$P$4,IF(C774=\"Preventative\",E774+KPI!$P$5,\"\")))","v":""},"Please select",null,null,null,null,null,"Please select",null,null,"",null,null,null,null,null,null,null,null,"TBD","","",null,null,0,0,1]
[null,"Please select",null,null,null,null,null,null,null,null,null,null,null,null,{"$f":"IF(ISERROR(IF(C775=\"corrective\",E775+KPI!$P$4,IF(C775=\"Preventative\",E775+KPI!$P$5,\"\"))),\"\",IF(C775=\"corrective\",E775+KPI!$P$4,IF(C775=\"Preventative\",E775+KPI!$P$5,\"\")))","v":""},"Please select",null,null,null,null,null,"Please select",null,null,"",null,null,null,null,null,null,null,null,"TBD","","",null,null,0,0,1]
[null,"Please select",null,null,null,null,null,null,null,null,null,null,null,null,{"$f":"IF(ISERROR(IF(C776=\"corrective\",E776+KPI!$P$4,IF(C776=\"Preventative\",E776+KPI!$P$5,\"\"))),\"\",IF(C776=\"corrective\",E776+KPI!$P$4,IF(C776=\"Preventative\",E776+KPI!$P$5,\"\")))","v":""},"Please select",null,null,null,null,null,"Please select",null,null,"",null,null,null,null,null,null,null,null,"TBD","","",null,null,0,0,1]
[null,"Please select",null,null,null,null,null,null,null,null,null,null,null,null,{"$f":"IF(ISERROR(IF(C777=\"corrective\",E777+KPI!$P$4,IF(C777=\"Preventative\",E777+KPI!$P$5,\"\"))),\"\",IF(C777=\"corrective\",E777+KPI!$P$4,IF(C777=\"Preventative\",E777+KPI!$P$5,\"\")))","v":""},"Please select",null,null,null,null,null,"Please select",null,null,"",null,null,null,null,null,null,null,null,"TBD","","",null,null,0,0,1]
[null,"Please select",null,null,null,null,null,null,null,null,null,null,null,null,{"$f":"IF(ISERROR(IF(C778=\"corrective\",E778+KPI!$P$4,IF(C778=\"Preventative\",E778+KPI!$P$5,\"\"))),\"\",IF(C778=\"corrective\",E778+KPI!$P$4,IF(C778=\"Preventative\",E778+KPI!$P$5,\"\")))","v":""},"Please select",null,null,null,null,null,"Please select",null,null,"",null,null,null,null,null,null,null,null,"TBD","","",null,null,0,0,1]
[null,"Please select",null,null,null,null,null,null,null,null,null,null,null,null,{"$f":"IF(ISERROR(IF(C779=\"corrective\",E779+KPI!$P$4,IF(C779=\"Preventative\",E779+KPI!$P$5,\"\"))),\"\",IF(C779=\"corrective\",E779+KPI!$P$4,IF(C779=\"Preventative\",E779+KPI!$P$5,\"\")))","v":""},"Please select",null,null,null,null,null,"Please select",null,null,"",null,null,null,null,null,null,null,null,"TBD","","",null,null,0,0,1]
[null,"Please select",null,null,null,null,null,null,null,null,null,null,null,null,{"$f":"IF(ISERROR(IF(C780=\"corrective\",E780+KPI!$P$4,IF(C780=\"Preventative\",E780+KPI!$P$5,\"\"))),\"\",IF(C780=\"corrective\",E780+KPI!$P$4,IF(C780=\"Preventative\",E780+KPI!$P$5,\"\")))","v":""},"Please select",null,null,null,null,null,"Please select",null,null,"",null,null,null,null,null,null,null,null,"TBD","","",null,null,0,0,1]
[null,"Please select",null,null,null,null,null,null,null,null,null,null,null,null,{"$f":"IF(ISERROR(IF(C781=\"corrective\",E781+KPI!$P$4,IF(C781=\"Preventative\",E781+KPI!$P$5,\"\"))),\"\",IF(C781=\"corrective\",E781+KPI!$P$4,IF(C781=\"Preventative\",E781+KPI!$P$5,\"\")))","v":""},"Please select",null,null,null,null,null,"Please select",null,null,"",null,null,null,null,null,null,null,null,"TBD","","",null,null,0,0,1]
[null,"Please select",null,null,null,null,null,null,null,null,null,null,null,null,{"$f":"IF(ISERROR(IF(C782=\"corrective\",E782+KPI!$P$4,IF(C782=\"Preventative\",E782+KPI!$P$5,\"\"))),\"\",IF(C782=\"corrective\",E782+KPI!$P$4,IF(C782=\"Preventative\",E782+KPI!$P$5,\"\")))","v":""},"Please select",null,null,null,null,null,"Please select",null,null,"",null,null,null,null,null,null,null,null,"TBD","","",null,null,0,0,1]
[null,"Please select",null,null,null,null,null,null,null,null,null,null,null,null,{"$f":"IF(ISERROR(IF(C783=\"corrective\",E783+KPI!$P$4,IF(C783=\"Preventative\",E783+KPI!$P$5,\"\"))),\"\",IF(C783=\"corrective\",E783+KPI!$P$4,IF(C783=\"Preventative\",E783+KPI!$P$5,\"\")))","v":""},"Please select",null,null,null,null,null,"Please select",null,null,"",null,null,null,null,null,null,null,null,"TBD","","",null,null,0,0,1]
[null,"Please select",null,null,null,null,null,null,null,null,null,null,null,null,{"$f":"IF(ISERROR(IF(C784=\"corrective\",E784+KPI!$P$4,IF(C784=\"Preventative\",E784+KPI!$P$5,\"\"))),\"\",IF(C784=\"corrective\",E784+KPI!$P$4,IF(C784=\"Preventative\",E784+KPI!$P$5,\"\")))","v":""},"Please select",null,null,null,null,null,"Please select",null,null,"",null,null,null,null,null,null,null,null,"TBD","","",null,null,0,0,1]
[null,"Please select",null,null,null,null,null,null,null,null,null,null,null,null,{"$f":"IF(ISERROR(IF(C785=\"corrective\",E785+KPI!$P$4,IF(C785=\"Preventative\",E785+KPI!$P$5,\"\"))),\"\",IF(C785=\"corrective\",E785+KPI!$P$4,IF(C785=\"Preventative\",E785+KPI!$P$5,\"\")))","v":""},"Please select",null,null,null,null,null,"Please select",null,null,"",null,null,null,null,null,null,null,null,"TBD","","",null,null,0,0,1]
[null,"Please select",null,null,null,null,null,null,null,null,null,null,null,null,{"$f":"IF(ISERROR(IF(C786=\"corrective\",E786+KPI!$P$4,IF(C786=\"Preventative\",E786+KPI!$P$5,\"\"))),\"\",IF(C786=\"corrective\",E786+KPI!$P$4,IF(C786=\"Preventative\",E786+KPI!$P$5,\"\")))","v":""},"Please select",null,null,null,null,null,"Please select",null,null,"",null,null,null,null,null,null,null,null,"TBD","","",null,null,0,0,1]
[null,"Please select",null,null,null,null,null,null,null,null,null,null,null,null,{"$f":"IF(ISERROR(IF(C787=\"corrective\",E787+KPI!$P$4,IF(C787=\"Preventative\",E787+KPI!$P$5,\"\"))),\"\",IF(C787=\"corrective\",E787+KPI!$P$4,IF(C787=\"Preventative\",E787+KPI!$P$5,\"\")))","v":""},"Please select",null,null,null,null,null,"Please select",null,null,"",null,null,null,null,null,null,null,null,"TBD","","",null,null,0,0,1]
[null,"Please select",null,null,null,null,null,null,null,null,null,null,null,null,{"$f":"IF(ISERROR(IF(C788=\"corrective\",E788+KPI!$P$4,IF(C788=\"Preventative\",E788+KPI!$P$5,\"\"))),\"\",IF(C788=\"corrective\",E788+KPI!$P$4,IF(C788=\"Preventative\",E788+KPI!$P$5,\"\")))","v":""},"Please select",null,null,null,null,null,"Please select",null,null,"",null,null,null,null,null,null,null,null,"TBD","","",null,null,0,0,1]
[null,"Please select",null,null,null,null,null,null,null,null,null,null,null,null,{"$f":"IF(ISERROR(IF(C789=\"corrective\",E789+KPI!$P$4,IF(C789=\"Preventative\",E789+KPI!$P$5,\"\"))),\"\",IF(C789=\"corrective\",E789+KPI!$P$4,IF(C789=\"Preventative\",E789+KPI!$P$5,\"\")))","v":""},"Please select",null,null,null,null,null,"Please select",null,null,"",null,null,null,null,null,null,null,null,"TBD","","",null,null,0,0,1]
[null,"Please select",null,null,null,null,null,null,null,null,null,null,null,null,{"$f":"IF(ISERROR(IF(C790=\"corrective\",E790+KPI!$P$4,IF(C790=\"Preventative\",E790+KPI!$P$5,\"\"))),\"\",IF(C790=\"corrective\",E790+KPI!$P$4,IF(C790=\"Preventative\",E790+KPI!$P$5,\"\")))","v":""},"Please select",null,null,null,null,null,"Please select",null,null,"",null,null,null,null,null,null,null,null,"TBD","","",null,null,0,0,1]
[null,"Please select",null,null,null,null,null,null,null,null,null,null,null,null,{"$f":"IF(ISERROR(IF(C791=\"corrective\",E791+KPI!$P$4,IF(C791=\"Preventative\",E791+KPI!$P$5,\"\"))),\"\",IF(C791=\"corrective\",E791+KPI!$P$4,IF(C791=\"Preventative\",E791+KPI!$P$5,\"\")))","v":""},"Please select",null,null,null,null,null,"Please select",null,null,"",null,null,null,null,null,null,null,null,"TBD","","",null,null,0,0,1]
[null,"Please select",null,null,null,null,null,null,null,null,null,null,null,null,{"$f":"IF(ISERROR(IF(C792=\"corrective\",E792+KPI!$P$4,IF(C792=\"Preventative\",E792+KPI!$P$5,\"\"))),\"\",IF(C792=\"corrective\",E792+KPI!$P$4,IF(C792=\"Preventative\",E792+KPI!$P$5,\"\")))","v":""},"Please select",null,null,null,null,null,"Please select",null,null,"",null,null,null,null,null,null,null,null,"TBD","","",null,null,0,0,1]
[null,"Please select",null,null,null,null,null,null,null,null,null,null,null,null,{"$f":"IF(ISERROR(IF(C793=\"corrective\",E793+KPI!$P$4,IF(C793=\"Preventative\",E793+KPI!$P$5,\"\"))),\"\",IF(C793=\"corrective\",E793+KPI!$P$4,IF(C793=\"Preventative\",E793+KPI!$P$5,\"\")))","v":""},"Please select",null,null,null,null,null,"Please select",null,null,"",null,null,null,null,null,null,null,null,"TBD","","",null,null,0,0,1]
[null,"Please select",null,null,null,null,null,null,null,null,null,null,null,null,{"$f":"IF(ISERROR(IF(C794=\"corrective\",E794+KPI!$P$4,IF(C794=\"Preventative\",E794+KPI!$P$5,\"\"))),\"\",IF(C794=\"corrective\",E794+KPI!$P$4,IF(C794=\"Preventative\",E794+KPI!$P$5,\"\")))","v":""},"Please select",null,null,null,null,null,"Please select",null,null,"",null,null,null,null,null,null,null,null,"TBD","","",null,null,0,0,1]
[null,"Please select",null,null,null,null,null,null,null,null,null,null,null,null,{"$f":"IF(ISERROR(IF(C795=\"corrective\",E795+KPI!$P$4,IF(C795=\"Preventative\",E795+KPI!$P$5,\"\"))),\"\",IF(C795=\"corrective\",E795+KPI!$P$4,IF(C795=\"Preventative\",E795+KPI!$P$5,\"\")))","v":""},"Please select",null,null,null,null,null,"Please select",null,null,"",null,null,null,null,null,null,null,null,"TBD","","",null,null,0,0,1]
[null,"Please select",null,null,null,null,null,null,null,null,null,null,null,null,{"$f":"IF(ISERROR(IF(C796=\"corrective\",E796+KPI!$P$4,IF(C796=\"Preventative\",E796+KPI!$P$5,\"\"))),\"\",IF(C796=\"corrective\",E796+KPI!$P$4,IF(C796=\"Preventative\",E796+KPI!$P$5,\"\")))","v":""},"Please select",null,null,null,null,null,"Please select",null,null,"",null,null,null,null,null,null,null,null,"TBD","","",null,null,0,0,1]
[null,"Please select",null,null,null,null,null,null,null,null,null,null,null,null,{"$f":"IF(ISERROR(IF(C797=\"corrective\",E797+KPI!$P$4,IF(C797=\"Preventative\",E797+KPI!$P$5,\"\"))),\"\",IF(C797=\"corrective\",E797+KPI!$P$4,IF(C797=\"Preventative\",E797+KPI!$P$5,\"\")))","v":""},"Please select",null,null,null,null,null,"Please select",null,null,"",null,null,null,null,null,null,null,null,"TBD","","",null,null,0,0,1]
[null,"Please select",null,null,null,null,null,null,null,null,null,null,null,null,{"$f":"IF(ISERROR(IF(C798=\"corrective\",E798+KPI!$P$4,IF(C798=\"Preventative\",E798+KPI!$P$5,\"\"))),\"\",IF(C798=\"corrective\",E798+KPI!$P$4,IF(C798=\"Preventative\",E798+KPI!$P$5,\"\")))","v":""},"Please select",null,null,null,null,null,"Please select",null,null,"",null,null,null,null,null,null,null,null,"TBD","","",null,null,0,0,1]
[null,"Please select",null,null,null,null,null,null,null,null,null,null,null,null,{"$f":"IF(ISERROR(IF(C799=\"corrective\",E799+KPI!$P$4,IF(C799=\"Preventative\",E799+KPI!$P$5,\"\"))),\"\",IF(C799=\"corrective\",E799+KPI!$P$4,IF(C799=\"Preventative\",E799+KPI!$P$5,\"\")))","v":""},"Please select",null,null,null,null,null,"Please select",null,null,"",null,null,null,null,null,null,null,null,"TBD","","",null,null,0,0,1]
[null,"Please select",null,null,null,null,null,null,null,null,null,null,null,null,{"$f":"IF(ISERROR(IF(C800=\"corrective\",E800+KPI!$P$4,IF(C800=\"Preventative\",E800+KPI!$P$5,\"\"))),\"\",IF(C800=\"corrective\",E800+KPI!$P$4,IF(C800=\"Preventative\",E800+KPI!$P$5,\"\")))","v":""},"Please select",null,null,null,null,null,"Please select",null,null,"",null,null,null,null,null,null,null,null,"TBD","","",null,null,0,0,1]
[null,"Please select",null,null,null,null,null,null,null,null,null,null,null,null,{"$f":"IF(ISERROR(IF(C801=\"corrective\",E801+KPI!$P$4,IF(C801=\"Preventative\",E801+KPI!$P$5,\"\"))),\"\",IF(C801=\"corrective\",E801+KPI!$P$4,IF(C801=\"Preventative\",E801+KPI!$P$5,\"\")))","v":""},"Please select",null,null,null,null,null,"Please select",null,null,"",null,null,null,null,null,null,null,null,"TBD","","",null,null,0,0,1]
[null,"Please select",null,null,null,null,null,null,null,null,null,null,null,null,{"$f":"IF(ISERROR(IF(C802=\"corrective\",E802+KPI!$P$4,IF(C802=\"Preventative\",E802+KPI!$P$5,\"\"))),\"\",IF(C802=\"corrective\",E802+KPI!$P$4,IF(C802=\"Preventative\",E802+KPI!$P$5,\"\")))","v":""},"Please select",null,null,null,null,null,"Please select",null,null,"",null,null,null,null,null,null,null,null,"TBD","","",null,null,0,0,1]
[null,"Please select",null,null,null,null,null,null,null,null,null,null,null,null,{"$f":"IF(ISERROR(IF(C803=\"corrective\",E803+KPI!$P$4,IF(C803=\"Preventative\",E803+KPI!$P$5,\"\"))),\"\",IF(C803=\"corrective\",E803+KPI!$P$4,IF(C803=\"Preventative\",E803+KPI!$P$5,\"\")))","v":""},"Please select",null,null,null,null,null,"Please select",null,null,"",null,null,null,null,null,null,null,null,"TBD","","",null,null,0,0,1]
[null,"Please select",null,null,null,null,null,null,null,null,null,null,null,null,{"$f":"IF(ISERROR(IF(C804=\"corrective\",E804+KPI!$P$4,IF(C804=\"Preventative\",E804+KPI!$P$5,\"\"))),\"\",IF(C804=\"corrective\",E804+KPI!$P$4,IF(C804=\"Preventative\",E804+KPI!$P$5,\"\")))","v":""},"Please select",null,null,null,null,null,"Please select",null,null,"",null,null,null,null,null,null,null,null,"TBD","","",null,null,0,0,1]
[null,"Please select",null,null,null,null,null,null,null,null,null,null,null,null,{"$f":"IF(ISERROR(IF(C805=\"corrective\",E805+KPI!$P$4,IF(C805=\"Preventative\",E805+KPI!$P$5,\"\"))),\"\",IF(C805=\"corrective\",E805+KPI!$P$4,IF(C805=\"Preventative\",E805+KPI!$P$5,\"\")))","v":""},"Please select",null,null,null,null,null,"Please select",null,null,"",null,null,null,null,null,null,null,null,"TBD","","",null,null,0,0,1]
[null,"Please select",null,null,null,null,null,null,null,null,null,null,null,null,{"$f":"IF(ISERROR(IF(C806=\"corrective\",E806+KPI!$P$4,IF(C806=\"Preventative\",E806+KPI!$P$5,\"\"))),\"\",IF(C806=\"corrective\",E806+KPI!$P$4,IF(C806=\"Preventative\",E806+KPI!$P$5,\"\")))","v":""},"Please select",null,null,null,null,null,"Please select",null,null,"",null,null,null,null,null,null,null,null,"TBD","","",null,null,0,0,1]
[null,"Please select",null,null,null,null,null,null,null,null,null,null,null,null,{"$f":"IF(ISERROR(IF(C807=\"corrective\",E807+KPI!$P$4,IF(C807=\"Preventative\",E807+KPI!$P$5,\"\"))),\"\",IF(C807=\"corrective\",E807+KPI!$P$4,IF(C807=\"Preventative\",E807+KPI!$P$5,\"\")))","v":""},"Please select",null,null,null,null,null,"Please select",null,null,"",null,null,null,null,null,null,null,null,"TBD","","",null,null,0,0,1]
[null,"Please select",null,null,null,null,null,null,null,null,null,null,null,null,{"$f":"IF(ISERROR(IF(C808=\"corrective\",E808+KPI!$P$4,IF(C808=\"Preventative\",E808+KPI!$P$5,\"\"))),\"\",IF(C808=\"corrective\",E808+KPI!$P$4,IF(C808=\"Preventative\",E808+KPI!$P$5,\"\")))","v":""},"Please select",null,null,null,null,null,"Please select",null,null,"",null,null,null,null,null,null,null,null,"TBD","","",null,null,0,0,1]
[null,"Please select",null,null,null,null,null,null,null,null,null,null,null,null,{"$f":"IF(ISERROR(IF(C809=\"corrective\",E809+KPI!$P$4,IF(C809=\"Preventative\",E809+KPI!$P$5,\"\"))),\"\",IF(C809=\"corrective\",E809+KPI!$P$4,IF(C809=\"Preventative\",E809+KPI!$P$5,\"\")))","v":""},"Please select",null,null,null,null,null,"Please select",null,null,"",null,null,null,null,null,null,null,null,"TBD","","",null,null,0,0,1]
[null,"Please select",null,null,null,null,null,null,null,null,null,null,null,null,{"$f":"IF(ISERROR(IF(C810=\"corrective\",E810+KPI!$P$4,IF(C810=\"Preventative\",E810+KPI!$P$5,\"\"))),\"\",IF(C810=\"corrective\",E810+KPI!$P$4,IF(C810=\"Preventative\",E810+KPI!$P$5,\"\")))","v":""},"Please select",null,null,null,null,null,"Please select",null,null,"",null,null,null,null,null,null,null,null,"TBD","","",null,null,0,0,1]
[null,"Please select",null,null,null,null,null,null,null,null,null,null,null,null,{"$f":"IF(ISERROR(IF(C811=\"corrective\",E811+KPI!$P$4,IF(C811=\"Preventative\",E811+KPI!$P$5,\"\"))),\"\",IF(C811=\"corrective\",E811+KPI!$P$4,IF(C811=\"Preventative\",E811+KPI!$P$5,\"\")))","v":""},"Please select",null,null,null,null,null,"Please select",null,null,"",null,null,null,null,null,null,null,null,"TBD","","",null,null,0,0,1]
[null,"Please select",null,null,null,null,null,null,null,null,null,null,null,null,{"$f":"IF(ISERROR(IF(C812=\"corrective\",E812+KPI!$P$4,IF(C812=\"Preventative\",E812+KPI!$P$5,\"\"))),\"\",IF(C812=\"corrective\",E812+KPI!$P$4,IF(C812=\"Preventative\",E812+KPI!$P$5,\"\")))","v":""},"Please select",null,null,null,null,null,"Please select",null,null,"",null,null,null,null,null,null,null,null,"TBD","","",null,null,0,0,1]
[null,"Please select",null,null,null,null,null,null,null,null,null,null,null,null,{"$f":"IF(ISERROR(IF(C813=\"corrective\",E813+KPI!$P$4,IF(C813=\"Preventative\",E813+KPI!$P$5,\"\"))),\"\",IF(C813=\"corrective\",E813+KPI!$P$4,IF(C813=\"Preventative\",E813+KPI!$P$5,\"\")))","v":""},"Please select",null,null,null,null,null,"Please select",null,null,"",null,null,null,null,null,null,null,null,"TBD","","",null,null,0,0,1]
[null,"Please select",null,null,null,null,null,null,null,null,null,null,null,null,{"$f":"IF(ISERROR(IF(C814=\"corrective\",E814+KPI!$P$4,IF(C814=\"Preventative\",E814+KPI!$P$5,\"\"))),\"\",IF(C814=\"corrective\",E814+KPI!$P$4,IF(C814=\"Preventative\",E814+KPI!$P$5,\"\")))","v":""},"Please select",null,null,null,null,null,"Please select",null,null,"",null,null,null,null,null,null,null,null,"TBD","","",null,null,0,0,1]
[null,"Please select",null,null,null,null,null,null,null,null,null,null,null,null,{"$f":"IF(ISERROR(IF(C815=\"corrective\",E815+KPI!$P$4,IF(C815=\"Preventative\",E815+KPI!$P$5,\"\"))),\"\",IF(C815=\"corrective\",E815+KPI!$P$4,IF(C815=\"Preventative\",E815+KPI!$P$5,\"\")))","v":""},{"$f":"IF(AND(O815<TODAY(),B815=\"new\"),\"New - Overdue\",B815)","v":"Please select"},null,null,null,null,null,"Please select",null,null,{"$f":"Z815&AA815&AB815&AC815&AD815&AE815","v":""},null,null,null,null,null,null,null,null,"TBD",{"$f":"IF(ISERROR(AJ815-20),\"\",AJ815-20)","v":""},{"$f":"IF(ISERROR(IF(C815=\"corrective\",E815+AH815,\"\")),\"\",IF(C815=\"corrective\",E815+AH815,\"\"))","v":""},null,null,0,0,{"$f":"COUNTIF(AN815,\">400\")+COUNTIF(AN815,\"=0\")","v":1}]
[null,"Please select",null,null,null,null,null,null,null,null,null,null,null,null,{"$f":"IF(ISERROR(IF(C816=\"corrective\",E816+KPI!$P$4,IF(C816=\"Preventative\",E816+KPI!$P$5,\"\"))),\"\",IF(C816=\"corrective\",E816+KPI!$P$4,IF(C816=\"Preventative\",E816+KPI!$P$5,\"\")))","v":""},"Please select",null,null,null,null,null,"Please select",null,null,"",null,null,null,null,null,null,null,null,"TBD","","",null,null,0,0,1]
[null,"Please select",null,null,null,null,null,null,null,null,null,null,null,null,{"$f":"IF(ISERROR(IF(C817=\"corrective\",E817+KPI!$P$4,IF(C817=\"Preventative\",E817+KPI!$P$5,\"\"))),\"\",IF(C817=\"corrective\",E817+KPI!$P$4,IF(C817=\"Preventative\",E817+KPI!$P$5,\"\")))","v":""},"Please select",null,null,null,null,null,"Please select",null,null,"",null,null,null,null,null,null,null,null,"TBD","","",null,null,0,0,1]
[null,"Please select",null,null,null,null,null,null,null,null,null,null,null,null,{"$f":"IF(ISERROR(IF(C818=\"corrective\",E818+KPI!$P$4,IF(C818=\"Preventative\",E818+KPI!$P$5,\"\"))),\"\",IF(C818=\"corrective\",E818+KPI!$P$4,IF(C818=\"Preventative\",E818+KPI!$P$5,\"\")))","v":""},"Please select",null,null,null,null,null,"Please select",null,null,"",null,null,null,null,null,null,null,null,"TBD","","",null,null,0,0,1]
[null,"Please select",null,null,null,null,null,null,null,null,null,null,null,null,{"$f":"IF(ISERROR(IF(C819=\"corrective\",E819+KPI!$P$4,IF(C819=\"Preventative\",E819+KPI!$P$5,\"\"))),\"\",IF(C819=\"corrective\",E819+KPI!$P$4,IF(C819=\"Preventative\",E819+KPI!$P$5,\"\")))","v":""},"Please select",null,null,null,null,null,"Please select",null,null,"",null,null,null,null,null,null,null,null,"TBD","","",null,null,0,0,1]
[null,"Please select",null,null,null,null,null,null,null,null,null,null,null,null,{"$f":"IF(ISERROR(IF(C820=\"corrective\",E820+KPI!$P$4,IF(C820=\"Preventative\",E820+KPI!$P$5,\"\"))),\"\",IF(C820=\"corrective\",E820+KPI!$P$4,IF(C820=\"Preventative\",E820+KPI!$P$5,\"\")))","v":""},"Please select",null,null,null,null,null,"Please select",null,null,"",null,null,null,null,null,null,null,null,"TBD","","",null,null,0,0,1]
[null,"Please select",null,null,null,null,null,null,null,null,null,null,null,null,{"$f":"IF(ISERROR(IF(C821=\"corrective\",E821+KPI!$P$4,IF(C821=\"Preventative\",E821+KPI!$P$5,\"\"))),\"\",IF(C821=\"corrective\",E821+KPI!$P$4,IF(C821=\"Preventative\",E821+KPI!$P$5,\"\")))","v":""},"Please select",null,null,null,null,null,"Please select",null,null,"",null,null,null,null,null,null,null,null,"TBD","","",null,null,0,0,1]
[null,"Please select",null,null,null,null,null,null,null,null,null,null,null,null,{"$f":"IF(ISERROR(IF(C822=\"corrective\",E822+KPI!$P$4,IF(C822=\"Preventative\",E822+KPI!$P$5,\"\"))),\"\",IF(C822=\"corrective\",E822+KPI!$P$4,IF(C822=\"Preventative\",E822+KPI!$P$5,\"\")))","v":""},"Please select",null,null,null,null,null,"Please select",null,null,"",null,null,null,null,null,null,null,null,"TBD","","",null,null,0,0,1]
[null,"Please select",null,null,null,null,null,null,null,null,null,null,null,null,{"$f":"IF(ISERROR(IF(C823=\"corrective\",E823+KPI!$P$4,IF(C823=\"Preventative\",E823+KPI!$P$5,\"\"))),\"\",IF(C823=\"corrective\",E823+KPI!$P$4,IF(C823=\"Preventative\",E823+KPI!$P$5,\"\")))","v":""},"Please select",null,null,null,null,null,"Please select",null,null,"",null,null,null,null,null,null,null,null,"TBD","","",null,null,0,0,1]
[null,"Please select",null,null,null,null,null,null,null,null,null,null,null,null,{"$f":"IF(ISERROR(IF(C824=\"corrective\",E824+KPI!$P$4,IF(C824=\"Preventative\",E824+KPI!$P$5,\"\"))),\"\",IF(C824=\"corrective\",E824+KPI!$P$4,IF(C824=\"Preventative\",E824+KPI!$P$5,\"\")))","v":""},"Please select",null,null,null,null,null,"Please select",null,null,"",null,null,null,null,null,null,null,null,"TBD","","",null,null,0,0,1]
[null,"Please select",null,null,null,null,null,null,null,null,null,null,null,null,{"$f":"IF(ISERROR(IF(C825=\"corrective\",E825+KPI!$P$4,IF(C825=\"Preventative\",E825+KPI!$P$5,\"\"))),\"\",IF(C825=\"corrective\",E825+KPI!$P$4,IF(C825=\"Preventative\",E825+KPI!$P$5,\"\")))","v":""},"Please select",null,null,null,null,null,"Please select",null,null,"",null,null,null,null,null,null,null,null,"TBD","","",null,null,0,0,1]
[null,"Please select",null,null,null,null,null,null,null,null,null,null,null,null,{"$f":"IF(ISERROR(IF(C826=\"corrective\",E826+KPI!$P$4,IF(C826=\"Preventative\",E826+KPI!$P$5,\"\"))),\"\",IF(C826=\"corrective\",E826+KPI!$P$4,IF(C826=\"Preventative\",E826+KPI!$P$5,\"\")))","v":""},"Please select",null,null,null,null,null,"Please select",null,null,"",null,null,null,null,null,null,null,null,"TBD","","",null,null,0,0,1]
[null,"Please select",null,null,null,null,null,null,null,null,null,null,null,null,{"$f":"IF(ISERROR(IF(C827=\"corrective\",E827+KPI!$P$4,IF(C827=\"Preventative\",E827+KPI!$P$5,\"\"))),\"\",IF(C827=\"corrective\",E827+KPI!$P$4,IF(C827=\"Preventative\",E827+KPI!$P$5,\"\")))","v":""},"Please select",null,null,null,null,null,"Please select",null,null,"",null,null,null,null,null,null,null,null,"TBD","","",null,null,0,0,1]
[null,"Please select",null,null,null,null,null,null,null,null,null,null,null,null,{"$f":"IF(ISERROR(IF(C828=\"corrective\",E828+KPI!$P$4,IF(C828=\"Preventative\",E828+KPI!$P$5,\"\"))),\"\",IF(C828=\"corrective\",E828+KPI!$P$4,IF(C828=\"Preventative\",E828+KPI!$P$5,\"\")))","v":""},"Please select",null,null,null,null,null,"Please select",null,null,"",null,null,null,null,null,null,null,null,"TBD","","",null,null,0,0,1]
[null,"Please select",null,null,null,null,null,null,null,null,null,null,null,null,{"$f":"IF(ISERROR(IF(C829=\"corrective\",E829+KPI!$P$4,IF(C829=\"Preventative\",E829+KPI!$P$5,\"\"))),\"\",IF(C829=\"corrective\",E829+KPI!$P$4,IF(C829=\"Preventative\",E829+KPI!$P$5,\"\")))","v":""},"Please select",null,null,null,null,null,"Please select",null,null,"",null,null,null,null,null,null,null,null,"TBD","","",null,null,0,0,1]
[null,"Please select",null,null,null,null,null,null,null,null,null,null,null,null,{"$f":"IF(ISERROR(IF(C830=\"corrective\",E830+KPI!$P$4,IF(C830=\"Preventative\",E830+KPI!$P$5,\"\"))),\"\",IF(C830=\"corrective\",E830+KPI!$P$4,IF(C830=\"Preventative\",E830+KPI!$P$5,\"\")))","v":""},"Please select",null,null,null,null,null,"Please select",null,null,"",null,null,null,null,null,null,null,null,"TBD","","",null,null,0,0,1]
[null,"Please select",null,null,null,null,null,null,null,null,null,null,null,null,{"$f":"IF(ISERROR(IF(C831=\"corrective\",E831+KPI!$P$4,IF(C831=\"Preventative\",E831+KPI!$P$5,\"\"))),\"\",IF(C831=\"corrective\",E831+KPI!$P$4,IF(C831=\"Preventative\",E831+KPI!$P$5,\"\")))","v":""},"Please select",null,null,null,null,null,"Please select",null,null,"",null,null,null,null,null,null,null,null,"TBD","","",null,null,0,0,1]
[null,"Please select",null,null,null,null,null,null,null,null,null,null,null,null,{"$f":"IF(ISERROR(IF(C832=\"corrective\",E832+KPI!$P$4,IF(C832=\"Preventative\",E832+KPI!$P$5,\"\"))),\"\",IF(C832=\"corrective\",E832+KPI!$P$4,IF(C832=\"Preventative\",E832+KPI!$P$5,\"\")))","v":""},"Please select",null,null,null,null,null,"Please select",null,null,"",null,null,null,null,null,null,null,null,"TBD","","",null,null,0,0,1]
[null,"Please select",null,null,null,null,null,null,null,null,null,null,null,null,{"$f":"IF(ISERROR(IF(C833=\"corrective\",E833+KPI!$P$4,IF(C833=\"Preventative\",E833+KPI!$P$5,\"\"))),\"\",IF(C833=\"corrective\",E833+KPI!$P$4,IF(C833=\"Preventative\",E833+KPI!$P$5,\"\")))","v":""},"Please select",null,null,null,null,null,"Please select",null,null,"",null,null,null,null,null,null,null,null,"TBD","","",null,null,0,0,1]
[null,"Please select",null,null,null,null,null,null,null,null,null,null,null,null,{"$f":"IF(ISERROR(IF(C834=\"corrective\",E834+KPI!$P$4,IF(C834=\"Preventative\",E834+KPI!$P$5,\"\"))),\"\",IF(C834=\"corrective\",E834+KPI!$P$4,IF(C834=\"Preventative\",E834+KPI!$P$5,\"\")))","v":""},"Please select",null,null,null,null,null,"Please select",null,null,"",null,null,null,null,null,null,null,null,"TBD","","",null,null,{"$f":"IF(ISERROR(DATEDIF(E834,Q834,\"D\")),\"\",DATEDIF(E834,Q834,\"D\"))","v":0},{"$f":"IF(ISERROR(DATEDIF(Q834,X834,\"D\")),\"\",DATEDIF(Q834,X834,\"D\"))","v":0},1]
[null,"Please select",null,null,null,null,null,null,null,null,null,null,null,null,{"$f":"IF(ISERROR(IF(C835=\"corrective\",E835+KPI!$P$4,IF(C835=\"Preventative\",E835+KPI!$P$5,\"\"))),\"\",IF(C835=\"corrective\",E835+KPI!$P$4,IF(C835=\"Preventative\",E835+KPI!$P$5,\"\")))","v":""},"Please select",null,null,null,null,null,"Please select",null,null,"",null,null,null,null,null,null,null,null,"TBD","","",null,null,0,0,1]
[null,"Please select",null,null,null,null,null,null,null,null,null,null,null,null,{"$f":"IF(ISERROR(IF(C836=\"corrective\",E836+KPI!$P$4,IF(C836=\"Preventative\",E836+KPI!$P$5,\"\"))),\"\",IF(C836=\"corrective\",E836+KPI!$P$4,IF(C836=\"Preventative\",E836+KPI!$P$5,\"\")))","v":""},"Please select",null,null,null,null,null,"Please select",null,null,"",null,null,null,null,null,null,null,null,"TBD","","",null,null,0,0,1]
[null,"Please select",null,null,null,null,null,null,null,null,null,null,null,null,{"$f":"IF(ISERROR(IF(C837=\"corrective\",E837+KPI!$P$4,IF(C837=\"Preventative\",E837+KPI!$P$5,\"\"))),\"\",IF(C837=\"corrective\",E837+KPI!$P$4,IF(C837=\"Preventative\",E837+KPI!$P$5,\"\")))","v":""},"Please select",null,null,null,null,null,"Please select",null,null,"",null,null,null,null,null,null,null,null,"TBD","","",null,null,0,0,1]
[null,"Please select",null,null,null,null,null,null,null,null,null,null,null,null,{"$f":"IF(ISERROR(IF(C838=\"corrective\",E838+KPI!$P$4,IF(C838=\"Preventative\",E838+KPI!$P$5,\"\"))),\"\",IF(C838=\"corrective\",E838+KPI!$P$4,IF(C838=\"Preventative\",E838+KPI!$P$5,\"\")))","v":""},"Please select",null,null,null,null,null,"Please select",null,null,"",null,null,null,null,null,null,null,null,"TBD","","",null,null,0,0,1]
[null,"Please select",null,null,null,null,null,null,null,null,null,null,null,null,{"$f":"IF(ISERROR(IF(C839=\"corrective\",E839+KPI!$P$4,IF(C839=\"Preventative\",E839+KPI!$P$5,\"\"))),\"\",IF(C839=\"corrective\",E839+KPI!$P$4,IF(C839=\"Preventative\",E839+KPI!$P$5,\"\")))","v":""},"Please select",null,null,null,null,null,"Please select",null,null,"",null,null,null,null,null,null,null,null,"TBD","","",null,null,0,0,1]
[null,"Please select",null,null,null,null,null,null,null,null,null,null,null,null,{"$f":"IF(ISERROR(IF(C840=\"corrective\",E840+KPI!$P$4,IF(C840=\"Preventative\",E840+KPI!$P$5,\"\"))),\"\",IF(C840=\"corrective\",E840+KPI!$P$4,IF(C840=\"Preventative\",E840+KPI!$P$5,\"\")))","v":""},"Please select",null,null,null,null,null,"Please select",null,null,"",null,null,null,null,null,null,null,null,"TBD","","",null,null,0,0,1]
[null,"Please select",null,null,null,null,null,null,null,null,null,null,null,null,{"$f":"IF(ISERROR(IF(C841=\"corrective\",E841+KPI!$P$4,IF(C841=\"Preventative\",E841+KPI!$P$5,\"\"))),\"\",IF(C841=\"corrective\",E841+KPI!$P$4,IF(C841=\"Preventative\",E841+KPI!$P$5,\"\")))","v":""},"Please select",null,null,null,null,null,"Please select",null,null,"",null,null,null,null,null,null,null,null,"TBD","","",null,null,0,0,1]
[null,"Please select",null,null,null,null,null,null,null,null,null,null,null,null,{"$f":"IF(ISERROR(IF(C842=\"corrective\",E842+KPI!$P$4,IF(C842=\"Preventative\",E842+KPI!$P$5,\"\"))),\"\",IF(C842=\"corrective\",E842+KPI!$P$4,IF(C842=\"Preventative\",E842+KPI!$P$5,\"\")))","v":""},"Please select",null,null,null,null,null,"Please select",null,null,"",null,null,null,null,null,null,null,null,"TBD","","",null,null,0,0,1]
[null,"Please select",null,null,null,null,null,null,null,null,null,null,null,null,{"$f":"IF(ISERROR(IF(C843=\"corrective\",E843+KPI!$P$4,IF(C843=\"Preventative\",E843+KPI!$P$5,\"\"))),\"\",IF(C843=\"corrective\",E843+KPI!$P$4,IF(C843=\"Preventative\",E843+KPI!$P$5,\"\")))","v":""},"Please select",null,null,null,null,null,"Please select",null,null,"",null,null,null,null,null,null,null,null,"TBD","","",null,null,0,0,1]
[null,"Please select",null,null,null,null,null,null,null,null,null,null,null,null,{"$f":"IF(ISERROR(IF(C844=\"corrective\",E844+KPI!$P$4,IF(C844=\"Preventative\",E844+KPI!$P$5,\"\"))),\"\",IF(C844=\"corrective\",E844+KPI!$P$4,IF(C844=\"Preventative\",E844+KPI!$P$5,\"\")))","v":""},"Please select",null,null,null,null,null,"Please select",null,null,"",null,null,null,null,null,null,null,null,"TBD","","",null,null,0,0,1]
[null,"Please select",null,null,null,null,null,null,null,null,null,null,null,null,{"$f":"IF(ISERROR(IF(C845=\"corrective\",E845+KPI!$P$4,IF(C845=\"Preventative\",E845+KPI!$P$5,\"\"))),\"\",IF(C845=\"corrective\",E845+KPI!$P$4,IF(C845=\"Preventative\",E845+KPI!$P$5,\"\")))","v":""},"Please select",null,null,null,null,null,"Please select",null,null,"",null,null,null,null,null,null,null,null,"TBD","","",null,null,0,0,1]
[null,"Please select",null,null,null,null,null,null,null,null,null,null,null,null,{"$f":"IF(ISERROR(IF(C846=\"corrective\",E846+KPI!$P$4,IF(C846=\"Preventative\",E846+KPI!$P$5,\"\"))),\"\",IF(C846=\"corrective\",E846+KPI!$P$4,IF(C846=\"Preventative\",E846+KPI!$P$5,\"\")))","v":""},"Please select",null,null,null,null,null,"Please select",null,null,"",null,null,null,null,null,null,null,null,"TBD","","",null,null,0,0,1]
[null,"Please select",null,null,null,null,null,null,null,null,null,null,null,null,{"$f":"IF(ISERROR(IF(C847=\"corrective\",E847+KPI!$P$4,IF(C847=\"Preventative\",E847+KPI!$P$5,\"\"))),\"\",IF(C847=\"corrective\",E847+KPI!$P$4,IF(C847=\"Preventative\",E847+KPI!$P$5,\"\")))","v":""},"Please select",null,null,null,null,null,"Please select",null,null,"",null,null,null,null,null,null,null,null,"TBD","","",null,null,0,0,1]
[null,"Please select",null,null,null,null,null,null,null,null,null,null,null,null,{"$f":"IF(ISERROR(IF(C848=\"corrective\",E848+KPI!$P$4,IF(C848=\"Preventative\",E848+KPI!$P$5,\"\"))),\"\",IF(C848=\"corrective\",E848+KPI!$P$4,IF(C848=\"Preventative\",E848+KPI!$P$5,\"\")))","v":""},"Please select",null,null,null,null,null,"Please select",null,null,"",null,null,null,null,null,null,null,null,"TBD","","",null,null,0,0,1]
[null,"Please select",null,null,null,null,null,null,null,null,null,null,null,null,{"$f":"IF(ISERROR(IF(C849=\"corrective\",E849+KPI!$P$4,IF(C849=\"Preventative\",E849+KPI!$P$5,\"\"))),\"\",IF(C849=\"corrective\",E849+KPI!$P$4,IF(C849=\"Preventative\",E849+KPI!$P$5,\"\")))","v":""},"Please select",null,null,null,null,null,"Please select",null,null,"",null,null,null,null,null,null,null,null,"TBD","","",null,null,0,0,1]
[null,"Please select",null,null,null,null,null,null,null,null,null,null,null,null,{"$f":"IF(ISERROR(IF(C850=\"corrective\",E850+KPI!$P$4,IF(C850=\"Preventative\",E850+KPI!$P$5,\"\"))),\"\",IF(C850=\"corrective\",E850+KPI!$P$4,IF(C850=\"Preventative\",E850+KPI!$P$5,\"\")))","v":""},"Please select",null,null,null,null,null,"Please select",null,null,"",null,null,null,null,null,null,null,null,"TBD","","",null,null,0,0,1]
[null,"Please select",null,null,null,null,null,null,null,null,null,null,null,null,{"$f":"IF(ISERROR(IF(C851=\"corrective\",E851+KPI!$P$4,IF(C851=\"Preventative\",E851+KPI!$P$5,\"\"))),\"\",IF(C851=\"corrective\",E851+KPI!$P$4,IF(C851=\"Preventative\",E851+KPI!$P$5,\"\")))","v":""},"Please select",null,null,null,null,null,"Please select",null,null,"",null,null,null,null,null,null,null,null,"TBD","","",null,null,0,0,1]
[null,"Please select",null,null,null,null,null,null,null,null,null,null,null,null,{"$f":"IF(ISERROR(IF(C852=\"corrective\",E852+KPI!$P$4,IF(C852=\"Preventative\",E852+KPI!$P$5,\"\"))),\"\",IF(C852=\"corrective\",E852+KPI!$P$4,IF(C852=\"Preventative\",E852+KPI!$P$5,\"\")))","v":""},"Please select",null,null,null,null,null,"Please select",null,null,"",null,null,null,null,null,null,null,null,"TBD","","",null,null,0,0,1]
[null,"Please select",null,null,null,null,null,null,null,null,null,null,null,null,{"$f":"IF(ISERROR(IF(C853=\"corrective\",E853+KPI!$P$4,IF(C853=\"Preventative\",E853+KPI!$P$5,\"\"))),\"\",IF(C853=\"corrective\",E853+KPI!$P$4,IF(C853=\"Preventative\",E853+KPI!$P$5,\"\")))","v":""},"Please select",null,null,null,null,null,"Please select",null,null,"",null,null,null,null,null,null,null,null,"TBD","","",null,null,0,0,1]
[null,"Please select",null,null,null,null,null,null,null,null,null,null,null,null,{"$f":"IF(ISERROR(IF(C854=\"corrective\",E854+KPI!$P$4,IF(C854=\"Preventative\",E854+KPI!$P$5,\"\"))),\"\",IF(C854=\"corrective\",E854+KPI!$P$4,IF(C854=\"Preventative\",E854+KPI!$P$5,\"\")))","v":""},"Please select",null,null,null,null,null,"Please select",null,null,"",null,null,null,null,null,null,null,null,"TBD","","",null,null,0,0,1]
[null,"Please select",null,null,null,null,null,null,null,null,null,null,null,null,{"$f":"IF(ISERROR(IF(C855=\"corrective\",E855+KPI!$P$4,IF(C855=\"Preventative\",E855+KPI!$P$5,\"\"))),\"\",IF(C855=\"corrective\",E855+KPI!$P$4,IF(C855=\"Preventative\",E855+KPI!$P$5,\"\")))","v":""},"Please select",null,null,null,null,null,"Please select",null,null,"",null,null,null,null,null,null,null,null,"TBD","","",null,null,0,0,1]
[null,"Please select",null,null,null,null,null,null,null,null,null,null,null,null,{"$f":"IF(ISERROR(IF(C856=\"corrective\",E856+KPI!$P$4,IF(C856=\"Preventative\",E856+KPI!$P$5,\"\"))),\"\",IF(C856=\"corrective\",E856+KPI!$P$4,IF(C856=\"Preventative\",E856+KPI!$P$5,\"\")))","v":""},"Please select",null,null,null,null,null,"Please select",null,null,"",null,null,null,null,null,null,null,null,"TBD","","",null,null,0,0,1]
[null,"Please select",null,null,null,null,null,null,null,null,null,null,null,null,{"$f":"IF(ISERROR(IF(C857=\"corrective\",E857+KPI!$P$4,IF(C857=\"Preventative\",E857+KPI!$P$5,\"\"))),\"\",IF(C857=\"corrective\",E857+KPI!$P$4,IF(C857=\"Preventative\",E857+KPI!$P$5,\"\")))","v":""},"Please select",null,null,null,null,null,"Please select",null,null,"",null,null,null,null,null,null,null,null,"TBD","","",null,null,0,0,1]
[null,"Please select",null,null,null,null,null,null,null,null,null,null,null,null,{"$f":"IF(ISERROR(IF(C858=\"corrective\",E858+KPI!$P$4,IF(C858=\"Preventative\",E858+KPI!$P$5,\"\"))),\"\",IF(C858=\"corrective\",E858+KPI!$P$4,IF(C858=\"Preventative\",E858+KPI!$P$5,\"\")))","v":""},"Please select",null,null,null,null,null,"Please select",null,null,"",null,null,null,null,null,null,null,null,"TBD","","",null,null,0,0,1]
[null,"Please select",null,null,null,null,null,null,null,null,null,null,null,null,{"$f":"IF(ISERROR(IF(C859=\"corrective\",E859+KPI!$P$4,IF(C859=\"Preventative\",E859+KPI!$P$5,\"\"))),\"\",IF(C859=\"corrective\",E859+KPI!$P$4,IF(C859=\"Preventative\",E859+KPI!$P$5,\"\")))","v":""},"Please select",null,null,null,null,null,"Please select",null,null,"",null,null,null,null,null,null,null,null,"TBD","","",null,null,0,0,1]
[null,"Please select",null,null,null,null,null,null,null,null,null,null,null,null,{"$f":"IF(ISERROR(IF(C860=\"corrective\",E860+KPI!$P$4,IF(C860=\"Preventative\",E860+KPI!$P$5,\"\"))),\"\",IF(C860=\"corrective\",E860+KPI!$P$4,IF(C860=\"Preventative\",E860+KPI!$P$5,\"\")))","v":""},"Please select",null,null,null,null,null,"Please select",null,null,"",null,null,null,null,null,null,null,null,"TBD","","",null,null,0,0,1]
[null,"Please select",null,null,null,null,null,null,null,null,null,null,null,null,{"$f":"IF(ISERROR(IF(C861=\"corrective\",E861+KPI!$P$4,IF(C861=\"Preventative\",E861+KPI!$P$5,\"\"))),\"\",IF(C861=\"corrective\",E861+KPI!$P$4,IF(C861=\"Preventative\",E861+KPI!$P$5,\"\")))","v":""},"Please select",null,null,null,null,null,"Please select",null,null,"",null,null,null,null,null,null,null,null,"TBD","","",null,null,0,0,1]
[null,"Please select",null,null,null,null,null,null,null,null,null,null,null,null,{"$f":"IF(ISERROR(IF(C862=\"corrective\",E862+KPI!$P$4,IF(C862=\"Preventative\",E862+KPI!$P$5,\"\"))),\"\",IF(C862=\"corrective\",E862+KPI!$P$4,IF(C862=\"Preventative\",E862+KPI!$P$5,\"\")))","v":""},"Please select",null,null,null,null,null,"Please select",null,null,"",null,null,null,null,null,null,null,null,"TBD","","",null,null,0,0,1]
[null,"Please select",null,null,null,null,null,null,null,null,null,null,null,null,{"$f":"IF(ISERROR(IF(C863=\"corrective\",E863+KPI!$P$4,IF(C863=\"Preventative\",E863+KPI!$P$5,\"\"))),\"\",IF(C863=\"corrective\",E863+KPI!$P$4,IF(C863=\"Preventative\",E863+KPI!$P$5,\"\")))","v":""},"Please select",null,null,null,null,null,"Please select",null,null,"",null,null,null,null,null,null,null,null,"TBD","","",null,null,0,0,1]
[null,"Please select",null,null,null,null,null,null,null,null,null,null,null,null,{"$f":"IF(ISERROR(IF(C864=\"corrective\",E864+KPI!$P$4,IF(C864=\"Preventative\",E864+KPI!$P$5,\"\"))),\"\",IF(C864=\"corrective\",E864+KPI!$P$4,IF(C864=\"Preventative\",E864+KPI!$P$5,\"\")))","v":""},"Please select",null,null,null,null,null,"Please select",null,null,"",null,null,null,null,null,null,null,null,"TBD","","",null,null,0,0,1]
[null,"Please select",null,null,null,null,null,null,null,null,null,null,null,null,{"$f":"IF(ISERROR(IF(C865=\"corrective\",E865+KPI!$P$4,IF(C865=\"Preventative\",E865+KPI!$P$5,\"\"))),\"\",IF(C865=\"corrective\",E865+KPI!$P$4,IF(C865=\"Preventative\",E865+KPI!$P$5,\"\")))","v":""},"Please select",null,null,null,null,null,"Please select",null,null,"",null,null,null,null,null,null,null,null,"TBD","","",null,null,0,0,1]
[null,"Please select",null,null,null,null,null,null,null,null,null,null,null,null,{"$f":"IF(ISERROR(IF(C866=\"corrective\",E866+KPI!$P$4,IF(C866=\"Preventative\",E866+KPI!$P$5,\"\"))),\"\",IF(C866=\"corrective\",E866+KPI!$P$4,IF(C866=\"Preventative\",E866+KPI!$P$5,\"\")))","v":""},"Please select",null,null,null,null,null,"Please select",null,null,"",null,null,null,null,null,null,null,null,"TBD","","",null,null,0,0,1]
[null,"Please select",null,null,null,null,null,null,null,null,null,null,null,null,{"$f":"IF(ISERROR(IF(C867=\"corrective\",E867+KPI!$P$4,IF(C867=\"Preventative\",E867+KPI!$P$5,\"\"))),\"\",IF(C867=\"corrective\",E867+KPI!$P$4,IF(C867=\"Preventative\",E867+KPI!$P$5,\"\")))","v":""},"Please select",null,null,null,null,null,"Please select",null,null,"",null,null,null,null,null,null,null,null,"TBD","","",null,null,0,0,1]
[null,"Please select",null,null,null,null,null,null,null,null,null,null,null,null,{"$f":"IF(ISERROR(IF(C868=\"corrective\",E868+KPI!$P$4,IF(C868=\"Preventative\",E868+KPI!$P$5,\"\"))),\"\",IF(C868=\"corrective\",E868+KPI!$P$4,IF(C868=\"Preventative\",E868+KPI!$P$5,\"\")))","v":""},"Please select",null,null,null,null,null,"Please select",null,null,"",null,null,null,null,null,null,null,null,"TBD","","",null,null,0,0,1]
[null,"Please select",null,null,null,null,null,null,null,null,null,null,null,null,{"$f":"IF(ISERROR(IF(C869=\"corrective\",E869+KPI!$P$4,IF(C869=\"Preventative\",E869+KPI!$P$5,\"\"))),\"\",IF(C869=\"corrective\",E869+KPI!$P$4,IF(C869=\"Preventative\",E869+KPI!$P$5,\"\")))","v":""},"Please select",null,null,null,null,null,"Please select",null,null,"",null,null,null,null,null,null,null,null,"TBD","","",null,null,0,0,1]
[null,"Please select",null,null,null,null,null,null,null,null,null,null,null,null,{"$f":"IF(ISERROR(IF(C870=\"corrective\",E870+KPI!$P$4,IF(C870=\"Preventative\",E870+KPI!$P$5,\"\"))),\"\",IF(C870=\"corrective\",E870+KPI!$P$4,IF(C870=\"Preventative\",E870+KPI!$P$5,\"\")))","v":""},"Please select",null,null,null,null,null,"Please select",null,null,"",null,null,null,null,null,null,null,null,"TBD","","",null,null,0,0,1]
[null,"Please select",null,null,null,null,null,null,null,null,null,null,null,null,{"$f":"IF(ISERROR(IF(C871=\"corrective\",E871+KPI!$P$4,IF(C871=\"Preventative\",E871+KPI!$P$5,\"\"))),\"\",IF(C871=\"corrective\",E871+KPI!$P$4,IF(C871=\"Preventative\",E871+KPI!$P$5,\"\")))","v":""},"Please select",null,null,null,null,null,"Please select",null,null,"",null,null,null,null,null,null,null,null,"TBD","","",null,null,0,0,1]
[null,"Please select",null,null,null,null,null,null,null,null,null,null,null,null,{"$f":"IF(ISERROR(IF(C872=\"corrective\",E872+KPI!$P$4,IF(C872=\"Preventative\",E872+KPI!$P$5,\"\"))),\"\",IF(C872=\"corrective\",E872+KPI!$P$4,IF(C872=\"Preventative\",E872+KPI!$P$5,\"\")))","v":""},"Please select",null,null,null,null,null,"Please select",null,null,"",null,null,null,null,null,null,null,null,"TBD","","",null,null,0,0,1]
[null,"Please select",null,null,null,null,null,null,null,null,null,null,null,null,{"$f":"IF(ISERROR(IF(C873=\"corrective\",E873+KPI!$P$4,IF(C873=\"Preventative\",E873+KPI!$P$5,\"\"))),\"\",IF(C873=\"corrective\",E873+KPI!$P$4,IF(C873=\"Preventative\",E873+KPI!$P$5,\"\")))","v":""},"Please select",null,null,null,null,null,"Please select",null,null,"",null,null,null,null,null,null,null,null,"TBD","","",null,null,0,0,1]
[null,"Please select",null,null,null,null,null,null,null,null,null,null,null,null,{"$f":"IF(ISERROR(IF(C874=\"corrective\",E874+KPI!$P$4,IF(C874=\"Preventative\",E874+KPI!$P$5,\"\"))),\"\",IF(C874=\"corrective\",E874+KPI!$P$4,IF(C874=\"Preventative\",E874+KPI!$P$5,\"\")))","v":""},"Please select",null,null,null,null,null,"Please select",null,null,"",null,null,null,null,null,null,null,null,"TBD","","",null,null,0,0,1]
[null,"Please select",null,null,null,null,null,null,null,null,null,null,null,null,{"$f":"IF(ISERROR(IF(C875=\"corrective\",E875+KPI!$P$4,IF(C875=\"Preventative\",E875+KPI!$P$5,\"\"))),\"\",IF(C875=\"corrective\",E875+KPI!$P$4,IF(C875=\"Preventative\",E875+KPI!$P$5,\"\")))","v":""},"Please select",null,null,null,null,null,"Please select",null,null,"",null,null,null,null,null,null,null,null,"TBD","","",null,null,0,0,1]
[null,"Please select",null,null,null,null,null,null,null,null,null,null,null,null,{"$f":"IF(ISERROR(IF(C876=\"corrective\",E876+KPI!$P$4,IF(C876=\"Preventative\",E876+KPI!$P$5,\"\"))),\"\",IF(C876=\"corrective\",E876+KPI!$P$4,IF(C876=\"Preventative\",E876+KPI!$P$5,\"\")))","v":""},"Please select",null,null,null,null,null,"Please select",null,null,"",null,null,null,null,null,null,null,null,"TBD","","",null,null,0,0,1]
[null,"Please select",null,null,null,null,null,null,null,null,null,null,null,null,{"$f":"IF(ISERROR(IF(C877=\"corrective\",E877+KPI!$P$4,IF(C877=\"Preventative\",E877+KPI!$P$5,\"\"))),\"\",IF(C877=\"corrective\",E877+KPI!$P$4,IF(C877=\"Preventative\",E877+KPI!$P$5,\"\")))","v":""},"Please select",null,null,null,null,null,"Please select",null,null,"",null,null,null,null,null,null,null,null,"TBD","","",null,null,0,0,1]
[null,"Please select",null,null,null,null,null,null,null,null,null,null,null,null,{"$f":"IF(ISERROR(IF(C878=\"corrective\",E878+KPI!$P$4,IF(C878=\"Preventative\",E878+KPI!$P$5,\"\"))),\"\",IF(C878=\"corrective\",E878+KPI!$P$4,IF(C878=\"Preventative\",E878+KPI!$P$5,\"\")))","v":""},"Please select",null,null,null,null,null,"Please select",null,null,"",null,null,null,null,null,null,null,null,"TBD","","",null,null,0,0,1]
[null,"Please select",null,null,null,null,null,null,null,null,null,null,null,null,{"$f":"IF(ISERROR(IF(C879=\"corrective\",E879+KPI!$P$4,IF(C879=\"Preventative\",E879+KPI!$P$5,\"\"))),\"\",IF(C879=\"corrective\",E879+KPI!$P$4,IF(C879=\"Preventative\",E879+KPI!$P$5,\"\")))","v":""},{"$f":"IF(AND(O879<TODAY(),B879=\"new\"),\"New - Overdue\",B879)","v":"Please select"},null,null,null,null,null,"Please select",null,null,{"$f":"Z879&AA879&AB879&AC879&AD879&AE879","v":""},null,null,null,null,null,null,null,null,"TBD",{"$f":"IF(ISERROR(AJ879-20),\"\",AJ879-20)","v":""},{"$f":"IF(ISERROR(IF(C879=\"corrective\",E879+AH879,\"\")),\"\",IF(C879=\"corrective\",E879+AH879,\"\"))","v":""},null,null,0,0,{"$f":"COUNTIF(AN879,\">400\")+COUNTIF(AN879,\"=0\")","v":1}]
[null,"Please select",null,null,null,null,null,null,null,null,null,null,null,null,{"$f":"IF(ISERROR(IF(C880=\"corrective\",E880+KPI!$P$4,IF(C880=\"Preventative\",E880+KPI!$P$5,\"\"))),\"\",IF(C880=\"corrective\",E880+KPI!$P$4,IF(C880=\"Preventative\",E880+KPI!$P$5,\"\")))","v":""},"Please select",null,null,null,null,null,"Please select",null,null,"",null,null,null,null,null,null,null,null,"TBD","","",null,null,0,0,1]
[null,"Please select",null,null,null,null,null,null,null,null,null,null,null,null,{"$f":"IF(ISERROR(IF(C881=\"corrective\",E881+KPI!$P$4,IF(C881=\"Preventative\",E881+KPI!$P$5,\"\"))),\"\",IF(C881=\"corrective\",E881+KPI!$P$4,IF(C881=\"Preventative\",E881+KPI!$P$5,\"\")))","v":""},"Please select",null,null,null,null,null,"Please select",null,null,"",null,null,null,null,null,null,null,null,"TBD","","",null,null,0,0,1]
[null,"Please select",null,null,null,null,null,null,null,null,null,null,null,null,{"$f":"IF(ISERROR(IF(C882=\"corrective\",E882+KPI!$P$4,IF(C882=\"Preventative\",E882+KPI!$P$5,\"\"))),\"\",IF(C882=\"corrective\",E882+KPI!$P$4,IF(C882=\"Preventative\",E882+KPI!$P$5,\"\")))","v":""},"Please select",null,null,null,null,null,"Please select",null,null,"",null,null,null,null,null,null,null,null,"TBD","","",null,null,0,0,1]
[null,"Please select",null,null,null,null,null,null,null,null,null,null,null,null,{"$f":"IF(ISERROR(IF(C883=\"corrective\",E883+KPI!$P$4,IF(C883=\"Preventative\",E883+KPI!$P$5,\"\"))),\"\",IF(C883=\"corrective\",E883+KPI!$P$4,IF(C883=\"Preventative\",E883+KPI!$P$5,\"\")))","v":""},"Please select",null,null,null,null,null,"Please select",null,null,"",null,null,null,null,null,null,null,null,"TBD","","",null,null,0,0,1]
[null,"Please select",null,null,null,null,null,null,null,null,null,null,null,null,{"$f":"IF(ISERROR(IF(C884=\"corrective\",E884+KPI!$P$4,IF(C884=\"Preventative\",E884+KPI!$P$5,\"\"))),\"\",IF(C884=\"corrective\",E884+KPI!$P$4,IF(C884=\"Preventative\",E884+KPI!$P$5,\"\")))","v":""},"Please select",null,null,null,null,null,"Please select",null,null,"",null,null,null,null,null,null,null,null,"TBD","","",null,null,0,0,1]
[null,"Please select",null,null,null,null,null,null,null,null,null,null,null,null,{"$f":"IF(ISERROR(IF(C885=\"corrective\",E885+KPI!$P$4,IF(C885=\"Preventative\",E885+KPI!$P$5,\"\"))),\"\",IF(C885=\"corrective\",E885+KPI!$P$4,IF(C885=\"Preventative\",E885+KPI!$P$5,\"\")))","v":""},"Please select",null,null,null,null,null,"Please select",null,null,"",null,null,null,null,null,null,null,null,"TBD","","",null,null,0,0,1]
[null,"Please select",null,null,null,null,null,null,null,null,null,null,null,null,{"$f":"IF(ISERROR(IF(C886=\"corrective\",E886+KPI!$P$4,IF(C886=\"Preventative\",E886+KPI!$P$5,\"\"))),\"\",IF(C886=\"corrective\",E886+KPI!$P$4,IF(C886=\"Preventative\",E886+KPI!$P$5,\"\")))","v":""},"Please select",null,null,null,null,null,"Please select",null,null,"",null,null,null,null,null,null,null,null,"TBD","","",null,null,0,0,1]
[null,"Please select",null,null,null,null,null,null,null,null,null,null,null,null,{"$f":"IF(ISERROR(IF(C887=\"corrective\",E887+KPI!$P$4,IF(C887=\"Preventative\",E887+KPI!$P$5,\"\"))),\"\",IF(C887=\"corrective\",E887+KPI!$P$4,IF(C887=\"Preventative\",E887+KPI!$P$5,\"\")))","v":""},"Please select",null,null,null,null,null,"Please select",null,null,"",null,null,null,null,null,null,null,null,"TBD","","",null,null,0,0,1]
[null,"Please select",null,null,null,null,null,null,null,null,null,null,null,null,{"$f":"IF(ISERROR(IF(C888=\"corrective\",E888+KPI!$P$4,IF(C888=\"Preventative\",E888+KPI!$P$5,\"\"))),\"\",IF(C888=\"corrective\",E888+KPI!$P$4,IF(C888=\"Preventative\",E888+KPI!$P$5,\"\")))","v":""},"Please select",null,null,null,null,null,"Please select",null,null,"",null,null,null,null,null,null,null,null,"TBD","","",null,null,0,0,1]
[null,"Please select",null,null,null,null,null,null,null,null,null,null,null,null,{"$f":"IF(ISERROR(IF(C889=\"corrective\",E889+KPI!$P$4,IF(C889=\"Preventative\",E889+KPI!$P$5,\"\"))),\"\",IF(C889=\"corrective\",E889+KPI!$P$4,IF(C889=\"Preventative\",E889+KPI!$P$5,\"\")))","v":""},"Please select",null,null,null,null,null,"Please select",null,null,"",null,null,null,null,null,null,null,null,"TBD","","",null,null,0,0,1]
[null,"Please select",null,null,null,null,null,null,null,null,null,null,null,null,{"$f":"IF(ISERROR(IF(C890=\"corrective\",E890+KPI!$P$4,IF(C890=\"Preventative\",E890+KPI!$P$5,\"\"))),\"\",IF(C890=\"corrective\",E890+KPI!$P$4,IF(C890=\"Preventative\",E890+KPI!$P$5,\"\")))","v":""},"Please select",null,null,null,null,null,"Please select",null,null,"",null,null,null,null,null,null,null,null,"TBD","","",null,null,0,0,1]
[null,"Please select",null,null,null,null,null,null,null,null,null,null,null,null,{"$f":"IF(ISERROR(IF(C891=\"corrective\",E891+KPI!$P$4,IF(C891=\"Preventative\",E891+KPI!$P$5,\"\"))),\"\",IF(C891=\"corrective\",E891+KPI!$P$4,IF(C891=\"Preventative\",E891+KPI!$P$5,\"\")))","v":""},"Please select",null,null,null,null,null,"Please select",null,null,"",null,null,null,null,null,null,null,null,"TBD","","",null,null,0,0,1]
[null,"Please select",null,null,null,null,null,null,null,null,null,null,null,null,{"$f":"IF(ISERROR(IF(C892=\"corrective\",E892+KPI!$P$4,IF(C892=\"Preventative\",E892+KPI!$P$5,\"\"))),\"\",IF(C892=\"corrective\",E892+KPI!$P$4,IF(C892=\"Preventative\",E892+KPI!$P$5,\"\")))","v":""},"Please select",null,null,null,null,null,"Please select",null,null,"",null,null,null,null,null,null,null,null,"TBD","","",null,null,0,0,1]
[null,"Please select",null,null,null,null,null,null,null,null,null,null,null,null,{"$f":"IF(ISERROR(IF(C893=\"corrective\",E893+KPI!$P$4,IF(C893=\"Preventative\",E893+KPI!$P$5,\"\"))),\"\",IF(C893=\"corrective\",E893+KPI!$P$4,IF(C893=\"Preventative\",E893+KPI!$P$5,\"\")))","v":""},"Please select",null,null,null,null,null,"Please select",null,null,"",null,null,null,null,null,null,null,null,"TBD","","",null,null,0,0,1]
[null,"Please select",null,null,null,null,null,null,null,null,null,null,null,null,{"$f":"IF(ISERROR(IF(C894=\"corrective\",E894+KPI!$P$4,IF(C894=\"Preventative\",E894+KPI!$P$5,\"\"))),\"\",IF(C894=\"corrective\",E894+KPI!$P$4,IF(C894=\"Preventative\",E894+KPI!$P$5,\"\")))","v":""},"Please select",null,null,null,null,null,"Please select",null,null,"",null,null,null,null,null,null,null,null,"TBD","","",null,null,0,0,1]
[null,"Please select",null,null,null,null,null,null,null,null,null,null,null,null,{"$f":"IF(ISERROR(IF(C895=\"corrective\",E895+KPI!$P$4,IF(C895=\"Preventative\",E895+KPI!$P$5,\"\"))),\"\",IF(C895=\"corrective\",E895+KPI!$P$4,IF(C895=\"Preventative\",E895+KPI!$P$5,\"\")))","v":""},"Please select",null,null,null,null,null,"Please select",null,null,"",null,null,null,null,null,null,null,null,"TBD","","",null,null,0,0,1]
[null,"Please select",null,null,null,null,null,null,null,null,null,null,null,null,{"$f":"IF(ISERROR(IF(C896=\"corrective\",E896+KPI!$P$4,IF(C896=\"Preventative\",E896+KPI!$P$5,\"\"))),\"\",IF(C896=\"corrective\",E896+KPI!$P$4,IF(C896=\"Preventative\",E896+KPI!$P$5,\"\")))","v":""},"Please select",null,null,null,null,null,"Please select",null,null,"",null,null,null,null,null,null,null,null,"TBD","","",null,null,0,0,1]
[null,"Please select",null,null,null,null,null,null,null,null,null,null,null,null,{"$f":"IF(ISERROR(IF(C897=\"corrective\",E897+KPI!$P$4,IF(C897=\"Preventative\",E897+KPI!$P$5,\"\"))),\"\",IF(C897=\"corrective\",E897+KPI!$P$4,IF(C897=\"Preventative\",E897+KPI!$P$5,\"\")))","v":""},"Please select",null,null,null,null,null,"Please select",null,null,"",null,null,null,null,null,null,null,null,"TBD","","",null,null,0,0,1]
[null,"Please select",null,null,null,null,null,null,null,null,null,null,null,null,{"$f":"IF(ISERROR(IF(C898=\"corrective\",E898+KPI!$P$4,IF(C898=\"Preventative\",E898+KPI!$P$5,\"\"))),\"\",IF(C898=\"corrective\",E898+KPI!$P$4,IF(C898=\"Preventative\",E898+KPI!$P$5,\"\")))","v":""},"Please select",null,null,null,null,null,"Please select",null,null,"",null,null,null,null,null,null,null,null,"TBD","","",null,null,{"$f":"IF(ISERROR(DATEDIF(E898,Q898,\"D\")),\"\",DATEDIF(E898,Q898,\"D\"))","v":0},{"$f":"IF(ISERROR(DATEDIF(Q898,X898,\"D\")),\"\",DATEDIF(Q898,X898,\"D\"))","v":0},1]
[null,"Please select",null,null,null,null,null,null,null,null,null,null,null,null,{"$f":"IF(ISERROR(IF(C899=\"corrective\",E899+KPI!$P$4,IF(C899=\"Preventative\",E899+KPI!$P$5,\"\"))),\"\",IF(C899=\"corrective\",E899+KPI!$P$4,IF(C899=\"Preventative\",E899+KPI!$P$5,\"\")))","v":""},"Please select",null,null,null,null,null,"Please select",null,null,"",null,null,null,null,null,null,null,null,"TBD","","",null,null,0,0,1]
[null,"Please select",null,null,null,null,null,null,null,null,null,null,null,null,{"$f":"IF(ISERROR(IF(C900=\"corrective\",E900+KPI!$P$4,IF(C900=\"Preventative\",E900+KPI!$P$5,\"\"))),\"\",IF(C900=\"corrective\",E900+KPI!$P$4,IF(C900=\"Preventative\",E900+KPI!$P$5,\"\")))","v":""},"Please select",null,null,null,null,null,"Please select",null,null,"",null,null,null,null,null,null,null,null,"TBD","","",null,null,0,0,1]
[null,"Please select",null,null,null,null,null,null,null,null,null,null,null,null,{"$f":"IF(ISERROR(IF(C901=\"corrective\",E901+KPI!$P$4,IF(C901=\"Preventative\",E901+KPI!$P$5,\"\"))),\"\",IF(C901=\"corrective\",E901+KPI!$P$4,IF(C901=\"Preventative\",E901+KPI!$P$5,\"\")))","v":""},"Please select",null,null,null,null,null,"Please select",null,null,"",null,null,null,null,null,null,null,null,"TBD","","",null,null,0,0,1]
[null,"Please select",null,null,null,null,null,null,null,null,null,null,null,null,{"$f":"IF(ISERROR(IF(C902=\"corrective\",E902+KPI!$P$4,IF(C902=\"Preventative\",E902+KPI!$P$5,\"\"))),\"\",IF(C902=\"corrective\",E902+KPI!$P$4,IF(C902=\"Preventative\",E902+KPI!$P$5,\"\")))","v":""},"Please select",null,null,null,null,null,"Please select",null,null,"",null,null,null,null,null,null,null,null,"TBD","","",null,null,0,0,1]
[null,"Please select",null,null,null,null,null,null,null,null,null,null,null,null,{"$f":"IF(ISERROR(IF(C903=\"corrective\",E903+KPI!$P$4,IF(C903=\"Preventative\",E903+KPI!$P$5,\"\"))),\"\",IF(C903=\"corrective\",E903+KPI!$P$4,IF(C903=\"Preventative\",E903+KPI!$P$5,\"\")))","v":""},"Please select",null,null,null,null,null,"Please select",null,null,"",null,null,null,null,null,null,null,null,"TBD","","",null,null,0,0,1]
[null,"Please select",null,null,null,null,null,null,null,null,null,null,null,null,{"$f":"IF(ISERROR(IF(C904=\"corrective\",E904+KPI!$P$4,IF(C904=\"Preventative\",E904+KPI!$P$5,\"\"))),\"\",IF(C904=\"corrective\",E904+KPI!$P$4,IF(C904=\"Preventative\",E904+KPI!$P$5,\"\")))","v":""},"Please select",null,null,null,null,null,"Please select",null,null,"",null,null,null,null,null,null,null,null,"TBD","","",null,null,0,0,1]
[null,"Please select",null,null,null,null,null,null,null,null,null,null,null,null,{"$f":"IF(ISERROR(IF(C905=\"corrective\",E905+KPI!$P$4,IF(C905=\"Preventative\",E905+KPI!$P$5,\"\"))),\"\",IF(C905=\"corrective\",E905+KPI!$P$4,IF(C905=\"Preventative\",E905+KPI!$P$5,\"\")))","v":""},"Please select",null,null,null,null,null,"Please select",null,null,"",null,null,null,null,null,null,null,null,"TBD","","",null,null,0,0,1]
[null,"Please select",null,null,null,null,null,null,null,null,null,null,null,null,{"$f":"IF(ISERROR(IF(C906=\"corrective\",E906+KPI!$P$4,IF(C906=\"Preventative\",E906+KPI!$P$5,\"\"))),\"\",IF(C906=\"corrective\",E906+KPI!$P$4,IF(C906=\"Preventative\",E906+KPI!$P$5,\"\")))","v":""},"Please select",null,null,null,null,null,"Please select",null,null,"",null,null,null,null,null,null,null,null,"TBD","","",null,null,0,0,1]
[null,"Please select",null,null,null,null,null,null,null,null,null,null,null,null,{"$f":"IF(ISERROR(IF(C907=\"corrective\",E907+KPI!$P$4,IF(C907=\"Preventative\",E907+KPI!$P$5,\"\"))),\"\",IF(C907=\"corrective\",E907+KPI!$P$4,IF(C907=\"Preventative\",E907+KPI!$P$5,\"\")))","v":""},"Please select",null,null,null,null,null,"Please select",null,null,"",null,null,null,null,null,null,null,null,"TBD","","",null,null,0,0,1]
[null,"Please select",null,null,null,null,null,null,null,null,null,null,null,null,{"$f":"IF(ISERROR(IF(C908=\"corrective\",E908+KPI!$P$4,IF(C908=\"Preventative\",E908+KPI!$P$5,\"\"))),\"\",IF(C908=\"corrective\",E908+KPI!$P$4,IF(C908=\"Preventative\",E908+KPI!$P$5,\"\")))","v":""},"Please select",null,null,null,null,null,"Please select",null,null,"",null,null,null,null,null,null,null,null,"TBD","","",null,null,0,0,1]
[null,"Please select",null,null,null,null,null,null,null,null,null,null,null,null,{"$f":"IF(ISERROR(IF(C909=\"corrective\",E909+KPI!$P$4,IF(C909=\"Preventative\",E909+KPI!$P$5,\"\"))),\"\",IF(C909=\"corrective\",E909+KPI!$P$4,IF(C909=\"Preventative\",E909+KPI!$P$5,\"\")))","v":""},"Please select",null,null,null,null,null,"Please select",null,null,"",null,null,null,null,null,null,null,null,"TBD","","",null,null,0,0,1]
[null,"Please select",null,null,null,null,null,null,null,null,null,null,null,null,{"$f":"IF(ISERROR(IF(C910=\"corrective\",E910+KPI!$P$4,IF(C910=\"Preventative\",E910+KPI!$P$5,\"\"))),\"\",IF(C910=\"corrective\",E910+KPI!$P$4,IF(C910=\"Preventative\",E910+KPI!$P$5,\"\")))","v":""},"Please select",null,null,null,null,null,"Please select",null,null,"",null,null,null,null,null,null,null,null,"TBD","","",null,null,0,0,1]
[null,"Please select",null,null,null,null,null,null,null,null,null,null,null,null,{"$f":"IF(ISERROR(IF(C911=\"corrective\",E911+KPI!$P$4,IF(C911=\"Preventative\",E911+KPI!$P$5,\"\"))),\"\",IF(C911=\"corrective\",E911+KPI!$P$4,IF(C911=\"Preventative\",E911+KPI!$P$5,\"\")))","v":""},"Please select",null,null,null,null,null,"Please select",null,null,"",null,null,null,null,null,null,null,null,"TBD","","",null,null,0,0,1]
[null,"Please select",null,null,null,null,null,null,null,null,null,null,null,null,{"$f":"IF(ISERROR(IF(C912=\"corrective\",E912+KPI!$P$4,IF(C912=\"Preventative\",E912+KPI!$P$5,\"\"))),\"\",IF(C912=\"corrective\",E912+KPI!$P$4,IF(C912=\"Preventative\",E912+KPI!$P$5,\"\")))","v":""},"Please select",null,null,null,null,null,"Please select",null,null,"",null,null,null,null,null,null,null,null,"TBD","","",null,null,0,0,1]
[null,"Please select",null,null,null,null,null,null,null,null,null,null,null,null,{"$f":"IF(ISERROR(IF(C913=\"corrective\",E913+KPI!$P$4,IF(C913=\"Preventative\",E913+KPI!$P$5,\"\"))),\"\",IF(C913=\"corrective\",E913+KPI!$P$4,IF(C913=\"Preventative\",E913+KPI!$P$5,\"\")))","v":""},"Please select",null,null,null,null,null,"Please select",null,null,"",null,null,null,null,null,null,null,null,"TBD","","",null,null,0,0,1]
[null,"Please select",null,null,null,null,null,null,null,null,null,null,null,null,{"$f":"IF(ISERROR(IF(C914=\"corrective\",E914+KPI!$P$4,IF(C914=\"Preventative\",E914+KPI!$P$5,\"\"))),\"\",IF(C914=\"corrective\",E914+KPI!$P$4,IF(C914=\"Preventative\",E914+KPI!$P$5,\"\")))","v":""},"Please select",null,null,null,null,null,"Please select",null,null,"",null,null,null,null,null,null,null,null,"TBD","","",null,null,0,0,1]
[null,"Please select",null,null,null,null,null,null,null,null,null,null,null,null,{"$f":"IF(ISERROR(IF(C915=\"corrective\",E915+KPI!$P$4,IF(C915=\"Preventative\",E915+KPI!$P$5,\"\"))),\"\",IF(C915=\"corrective\",E915+KPI!$P$4,IF(C915=\"Preventative\",E915+KPI!$P$5,\"\")))","v":""},"Please select",null,null,null,null,null,"Please select",null,null,"",null,null,null,null,null,null,null,null,"TBD","","",null,null,0,0,1]
[null,"Please select",null,null,null,null,null,null,null,null,null,null,null,null,{"$f":"IF(ISERROR(IF(C916=\"corrective\",E916+KPI!$P$4,IF(C916=\"Preventative\",E916+KPI!$P$5,\"\"))),\"\",IF(C916=\"corrective\",E916+KPI!$P$4,IF(C916=\"Preventative\",E916+KPI!$P$5,\"\")))","v":""},"Please select",null,null,null,null,null,"Please select",null,null,"",null,null,null,null,null,null,null,null,"TBD","","",null,null,0,0,1]
[null,"Please select",null,null,null,null,null,null,null,null,null,null,null,null,{"$f":"IF(ISERROR(IF(C917=\"corrective\",E917+KPI!$P$4,IF(C917=\"Preventative\",E917+KPI!$P$5,\"\"))),\"\",IF(C917=\"corrective\",E917+KPI!$P$4,IF(C917=\"Preventative\",E917+KPI!$P$5,\"\")))","v":""},"Please select",null,null,null,null,null,"Please select",null,null,"",null,null,null,null,null,null,null,null,"TBD","","",null,null,0,0,1]
[null,"Please select",null,null,null,null,null,null,null,null,null,null,null,null,{"$f":"IF(ISERROR(IF(C918=\"corrective\",E918+KPI!$P$4,IF(C918=\"Preventative\",E918+KPI!$P$5,\"\"))),\"\",IF(C918=\"corrective\",E918+KPI!$P$4,IF(C918=\"Preventative\",E918+KPI!$P$5,\"\")))","v":""},"Please select",null,null,null,null,null,"Please select",null,null,"",null,null,null,null,null,null,null,null,"TBD","","",null,null,0,0,1]
[null,"Please select",null,null,null,null,null,null,null,null,null,null,null,null,{"$f":"IF(ISERROR(IF(C919=\"corrective\",E919+KPI!$P$4,IF(C919=\"Preventative\",E919+KPI!$P$5,\"\"))),\"\",IF(C919=\"corrective\",E919+KPI!$P$4,IF(C919=\"Preventative\",E919+KPI!$P$5,\"\")))","v":""},"Please select",null,null,null,null,null,"Please select",null,null,"",null,null,null,null,null,null,null,null,"TBD","","",null,null,0,0,1]
[null,"Please select",null,null,null,null,null,null,null,null,null,null,null,null,{"$f":"IF(ISERROR(IF(C920=\"corrective\",E920+KPI!$P$4,IF(C920=\"Preventative\",E920+KPI!$P$5,\"\"))),\"\",IF(C920=\"corrective\",E920+KPI!$P$4,IF(C920=\"Preventative\",E920+KPI!$P$5,\"\")))","v":""},"Please select",null,null,null,null,null,"Please select",null,null,"",null,null,null,null,null,null,null,null,"TBD","","",null,null,0,0,1]
[null,"Please select",null,null,null,null,null,null,null,null,null,null,null,null,{"$f":"IF(ISERROR(IF(C921=\"corrective\",E921+KPI!$P$4,IF(C921=\"Preventative\",E921+KPI!$P$5,\"\"))),\"\",IF(C921=\"corrective\",E921+KPI!$P$4,IF(C921=\"Preventative\",E921+KPI!$P$5,\"\")))","v":""},"Please select",null,null,null,null,null,"Please select",null,null,"",null,null,null,null,null,null,null,null,"TBD","","",null,null,0,0,1]
[null,"Please select",null,null,null,null,null,null,null,null,null,null,null,null,{"$f":"IF(ISERROR(IF(C922=\"corrective\",E922+KPI!$P$4,IF(C922=\"Preventative\",E922+KPI!$P$5,\"\"))),\"\",IF(C922=\"corrective\",E922+KPI!$P$4,IF(C922=\"Preventative\",E922+KPI!$P$5,\"\")))","v":""},"Please select",null,null,null,null,null,"Please select",null,null,"",null,null,null,null,null,null,null,null,"TBD","","",null,null,0,0,1]
[null,"Please select",null,null,null,null,null,null,null,null,null,null,null,null,{"$f":"IF(ISERROR(IF(C923=\"corrective\",E923+KPI!$P$4,IF(C923=\"Preventative\",E923+KPI!$P$5,\"\"))),\"\",IF(C923=\"corrective\",E923+KPI!$P$4,IF(C923=\"Preventative\",E923+KPI!$P$5,\"\")))","v":""},"Please select",null,null,null,null,null,"Please select",null,null,"",null,null,null,null,null,null,null,null,"TBD","","",null,null,0,0,1]
[null,"Please select",null,null,null,null,null,null,null,null,null,null,null,null,{"$f":"IF(ISERROR(IF(C924=\"corrective\",E924+KPI!$P$4,IF(C924=\"Preventative\",E924+KPI!$P$5,\"\"))),\"\",IF(C924=\"corrective\",E924+KPI!$P$4,IF(C924=\"Preventative\",E924+KPI!$P$5,\"\")))","v":""},"Please select",null,null,null,null,null,"Please select",null,null,"",null,null,null,null,null,null,null,null,"TBD","","",null,null,0,0,1]
[null,"Please select",null,null,null,null,null,null,null,null,null,null,null,null,{"$f":"IF(ISERROR(IF(C925=\"corrective\",E925+KPI!$P$4,IF(C925=\"Preventative\",E925+KPI!$P$5,\"\"))),\"\",IF(C925=\"corrective\",E925+KPI!$P$4,IF(C925=\"Preventative\",E925+KPI!$P$5,\"\")))","v":""},"Please select",null,null,null,null,null,"Please select",null,null,"",null,null,null,null,null,null,null,null,"TBD","","",null,null,0,0,1]
[null,"Please select",null,null,null,null,null,null,null,null,null,null,null,null,{"$f":"IF(ISERROR(IF(C926=\"corrective\",E926+KPI!$P$4,IF(C926=\"Preventative\",E926+KPI!$P$5,\"\"))),\"\",IF(C926=\"corrective\",E926+KPI!$P$4,IF(C926=\"Preventative\",E926+KPI!$P$5,\"\")))","v":""},"Please select",null,null,null,null,null,"Please select",null,null,"",null,null,null,null,null,null,null,null,"TBD","","",null,null,0,0,1]
[null,"Please select",null,null,null,null,null,null,null,null,null,null,null,null,{"$f":"IF(ISERROR(IF(C927=\"corrective\",E927+KPI!$P$4,IF(C927=\"Preventative\",E927+KPI!$P$5,\"\"))),\"\",IF(C927=\"corrective\",E927+KPI!$P$4,IF(C927=\"Preventative\",E927+KPI!$P$5,\"\")))","v":""},"Please select",null,null,null,null,null,"Please select",null,null,"",null,null,null,null,null,null,null,null,"TBD","","",null,null,0,0,1]
[null,"Please select",null,null,null,null,null,null,null,null,null,null,null,null,{"$f":"IF(ISERROR(IF(C928=\"corrective\",E928+KPI!$P$4,IF(C928=\"Preventative\",E928+KPI!$P$5,\"\"))),\"\",IF(C928=\"corrective\",E928+KPI!$P$4,IF(C928=\"Preventative\",E928+KPI!$P$5,\"\")))","v":""},"Please select",null,null,null,null,null,"Please select",null,null,"",null,null,null,null,null,null,null,null,"TBD","","",null,null,0,0,1]
[null,"Please select",null,null,null,null,null,null,null,null,null,null,null,null,{"$f":"IF(ISERROR(IF(C929=\"corrective\",E929+KPI!$P$4,IF(C929=\"Preventative\",E929+KPI!$P$5,\"\"))),\"\",IF(C929=\"corrective\",E929+KPI!$P$4,IF(C929=\"Preventative\",E929+KPI!$P$5,\"\")))","v":""},"Please select",null,null,null,null,null,"Please select",null,null,"",null,null,null,null,null,null,null,null,"TBD","","",null,null,0,0,1]
[null,"Please select",null,null,null,null,null,null,null,null,null,null,null,null,{"$f":"IF(ISERROR(IF(C930=\"corrective\",E930+KPI!$P$4,IF(C930=\"Preventative\",E930+KPI!$P$5,\"\"))),\"\",IF(C930=\"corrective\",E930+KPI!$P$4,IF(C930=\"Preventative\",E930+KPI!$P$5,\"\")))","v":""},"Please select",null,null,null,null,null,"Please select",null,null,"",null,null,null,null,null,null,null,null,"TBD","","",null,null,0,0,1]
[null,"Please select",null,null,null,null,null,null,null,null,null,null,null,null,{"$f":"IF(ISERROR(IF(C931=\"corrective\",E931+KPI!$P$4,IF(C931=\"Preventative\",E931+KPI!$P$5,\"\"))),\"\",IF(C931=\"corrective\",E931+KPI!$P$4,IF(C931=\"Preventative\",E931+KPI!$P$5,\"\")))","v":""},"Please select",null,null,null,null,null,"Please select",null,null,"",null,null,null,null,null,null,null,null,"TBD","","",null,null,0,0,1]
[null,"Please select",null,null,null,null,null,null,null,null,null,null,null,null,{"$f":"IF(ISERROR(IF(C932=\"corrective\",E932+KPI!$P$4,IF(C932=\"Preventative\",E932+KPI!$P$5,\"\"))),\"\",IF(C932=\"corrective\",E932+KPI!$P$4,IF(C932=\"Preventative\",E932+KPI!$P$5,\"\")))","v":""},"Please select",null,null,null,null,null,"Please select",null,null,"",null,null,null,null,null,null,null,null,"TBD","","",null,null,0,0,1]
[null,"Please select",null,null,null,null,null,null,null,null,null,null,null,null,{"$f":"IF(ISERROR(IF(C933=\"corrective\",E933+KPI!$P$4,IF(C933=\"Preventative\",E933+KPI!$P$5,\"\"))),\"\",IF(C933=\"corrective\",E933+KPI!$P$4,IF(C933=\"Preventative\",E933+KPI!$P$5,\"\")))","v":""},"Please select",null,null,null,null,null,"Please select",null,null,"",null,null,null,null,null,null,null,null,"TBD","","",null,null,0,0,1]
[null,"Please select",null,null,null,null,null,null,null,null,null,null,null,null,{"$f":"IF(ISERROR(IF(C934=\"corrective\",E934+KPI!$P$4,IF(C934=\"Preventative\",E934+KPI!$P$5,\"\"))),\"\",IF(C934=\"corrective\",E934+KPI!$P$4,IF(C934=\"Preventative\",E934+KPI!$P$5,\"\")))","v":""},"Please select",null,null,null,null,null,"Please select",null,null,"",null,null,null,null,null,null,null,null,"TBD","","",null,null,0,0,1]
[null,"Please select",null,null,null,null,null,null,null,null,null,null,null,null,{"$f":"IF(ISERROR(IF(C935=\"corrective\",E935+KPI!$P$4,IF(C935=\"Preventative\",E935+KPI!$P$5,\"\"))),\"\",IF(C935=\"corrective\",E935+KPI!$P$4,IF(C935=\"Preventative\",E935+KPI!$P$5,\"\")))","v":""},"Please select",null,null,null,null,null,"Please select",null,null,"",null,null,null,null,null,null,null,null,"TBD","","",null,null,0,0,1]
[null,"Please select",null,null,null,null,null,null,null,null,null,null,null,null,{"$f":"IF(ISERROR(IF(C936=\"corrective\",E936+KPI!$P$4,IF(C936=\"Preventative\",E936+KPI!$P$5,\"\"))),\"\",IF(C936=\"corrective\",E936+KPI!$P$4,IF(C936=\"Preventative\",E936+KPI!$P$5,\"\")))","v":""},"Please select",null,null,null,null,null,"Please select",null,null,"",null,null,null,null,null,null,null,null,"TBD","","",null,null,0,0,1]
[null,"Please select",null,null,null,null,null,null,null,null,null,null,null,null,{"$f":"IF(ISERROR(IF(C937=\"corrective\",E937+KPI!$P$4,IF(C937=\"Preventative\",E937+KPI!$P$5,\"\"))),\"\",IF(C937=\"corrective\",E937+KPI!$P$4,IF(C937=\"Preventative\",E937+KPI!$P$5,\"\")))","v":""},"Please select",null,null,null,null,null,"Please select",null,null,"",null,null,null,null,null,null,null,null,"TBD","","",null,null,0,0,1]
[null,"Please select",null,null,null,null,null,null,null,null,null,null,null,null,{"$f":"IF(ISERROR(IF(C938=\"corrective\",E938+KPI!$P$4,IF(C938=\"Preventative\",E938+KPI!$P$5,\"\"))),\"\",IF(C938=\"corrective\",E938+KPI!$P$4,IF(C938=\"Preventative\",E938+KPI!$P$5,\"\")))","v":""},"Please select",null,null,null,null,null,"Please select",null,null,"",null,null,null,null,null,null,null,null,"TBD","","",null,null,0,0,1]
[null,"Please select",null,null,null,null,null,null,null,null,null,null,null,null,{"$f":"IF(ISERROR(IF(C939=\"corrective\",E939+KPI!$P$4,IF(C939=\"Preventative\",E939+KPI!$P$5,\"\"))),\"\",IF(C939=\"corrective\",E939+KPI!$P$4,IF(C939=\"Preventative\",E939+KPI!$P$5,\"\")))","v":""},"Please select",null,null,null,null,null,"Please select",null,null,"",null,null,null,null,null,null,null,null,"TBD","","",null,null,0,0,1]
[null,"Please select",null,null,null,null,null,null,null,null,null,null,null,null,{"$f":"IF(ISERROR(IF(C940=\"corrective\",E940+KPI!$P$4,IF(C940=\"Preventative\",E940+KPI!$P$5,\"\"))),\"\",IF(C940=\"corrective\",E940+KPI!$P$4,IF(C940=\"Preventative\",E940+KPI!$P$5,\"\")))","v":""},"Please select",null,null,null,null,null,"Please select",null,null,"",null,null,null,null,null,null,null,null,"TBD","","",null,null,0,0,1]
[null,"Please select",null,null,null,null,null,null,null,null,null,null,null,null,{"$f":"IF(ISERROR(IF(C941=\"corrective\",E941+KPI!$P$4,IF(C941=\"Preventative\",E941+KPI!$P$5,\"\"))),\"\",IF(C941=\"corrective\",E941+KPI!$P$4,IF(C941=\"Preventative\",E941+KPI!$P$5,\"\")))","v":""},"Please select",null,null,null,null,null,"Please select",null,null,"",null,null,null,null,null,null,null,null,"TBD","","",null,null,0,0,1]
[null,"Please select",null,null,null,null,null,null,null,null,null,null,null,null,{"$f":"IF(ISERROR(IF(C942=\"corrective\",E942+KPI!$P$4,IF(C942=\"Preventative\",E942+KPI!$P$5,\"\"))),\"\",IF(C942=\"corrective\",E942+KPI!$P$4,IF(C942=\"Preventative\",E942+KPI!$P$5,\"\")))","v":""},"Please select",null,null,null,null,null,"Please select",null,null,"",null,null,null,null,null,null,null,null,"TBD","","",null,null,0,0,1]
[null,"Please select",null,null,null,null,null,null,null,null,null,null,null,null,{"$f":"IF(ISERROR(IF(C943=\"corrective\",E943+KPI!$P$4,IF(C943=\"Preventative\",E943+KPI!$P$5,\"\"))),\"\",IF(C943=\"corrective\",E943+KPI!$P$4,IF(C943=\"Preventative\",E943+KPI!$P$5,\"\")))","v":""},{"$f":"IF(AND(O943<TODAY(),B943=\"new\"),\"New - Overdue\",B943)","v":"Please select"},null,null,null,null,null,"Please select",null,null,{"$f":"Z943&AA943&AB943&AC943&AD943&AE943","v":""},null,null,null,null,null,null,null,null,"TBD",{"$f":"IF(ISERROR(AJ943-20),\"\",AJ943-20)","v":""},{"$f":"IF(ISERROR(IF(C943=\"corrective\",E943+AH943,\"\")),\"\",IF(C943=\"corrective\",E943+AH943,\"\"))","v":""},null,null,0,0,{"$f":"COUNTIF(AN943,\">400\")+COUNTIF(AN943,\"=0\")","v":1}]
[null,"Please select",null,null,null,null,null,null,null,null,null,null,null,null,{"$f":"IF(ISERROR(IF(C944=\"corrective\",E944+KPI!$P$4,IF(C944=\"Preventative\",E944+KPI!$P$5,\"\"))),\"\",IF(C944=\"corrective\",E944+KPI!$P$4,IF(C944=\"Preventative\",E944+KPI!$P$5,\"\")))","v":""},"Please select",null,null,null,null,null,"Please select",null,null,"",null,null,null,null,null,null,null,null,"TBD","","",null,null,0,0,1]
[null,"Please select",null,null,null,null,null,null,null,null,null,null,null,null,{"$f":"IF(ISERROR(IF(C945=\"corrective\",E945+KPI!$P$4,IF(C945=\"Preventative\",E945+KPI!$P$5,\"\"))),\"\",IF(C945=\"corrective\",E945+KPI!$P$4,IF(C945=\"Preventative\",E945+KPI!$P$5,\"\")))","v":""},"Please select",null,null,null,null,null,"Please select",null,null,"",null,null,null,null,null,null,null,null,"TBD","","",null,null,0,0,1]
[null,"Please select",null,null,null,null,null,null,null,null,null,null,null,null,{"$f":"IF(ISERROR(IF(C946=\"corrective\",E946+KPI!$P$4,IF(C946=\"Preventative\",E946+KPI!$P$5,\"\"))),\"\",IF(C946=\"corrective\",E946+KPI!$P$4,IF(C946=\"Preventative\",E946+KPI!$P$5,\"\")))","v":""},"Please select",null,null,null,null,null,"Please select",null,null,"",null,null,null,null,null,null,null,null,"TBD","","",null,null,0,0,1]
[null,"Please select",null,null,null,null,null,null,null,null,null,null,null,null,{"$f":"IF(ISERROR(IF(C947=\"corrective\",E947+KPI!$P$4,IF(C947=\"Preventative\",E947+KPI!$P$5,\"\"))),\"\",IF(C947=\"corrective\",E947+KPI!$P$4,IF(C947=\"Preventative\",E947+KPI!$P$5,\"\")))","v":""},"Please select",null,null,null,null,null,"Please select",null,null,"",null,null,null,null,null,null,null,null,"TBD","","",null,null,0,0,1]
[null,"Please select",null,null,null,null,null,null,null,null,null,null,null,null,{"$f":"IF(ISERROR(IF(C948=\"corrective\",E948+KPI!$P$4,IF(C948=\"Preventative\",E948+KPI!$P$5,\"\"))),\"\",IF(C948=\"corrective\",E948+KPI!$P$4,IF(C948=\"Preventative\",E948+KPI!$P$5,\"\")))","v":""},"Please select",null,null,null,null,null,"Please select",null,null,"",null,null,null,null,null,null,null,null,"TBD","","",null,null,0,0,1]
[null,"Please select",null,null,null,null,null,null,null,null,null,null,null,null,{"$f":"IF(ISERROR(IF(C949=\"corrective\",E949+KPI!$P$4,IF(C949=\"Preventative\",E949+KPI!$P$5,\"\"))),\"\",IF(C949=\"corrective\",E949+KPI!$P$4,IF(C949=\"Preventative\",E949+KPI!$P$5,\"\")))","v":""},"Please select",null,null,null,null,null,"Please select",null,null,"",null,null,null,null,null,null,null,null,"TBD","","",null,null,0,0,1]
[null,"Please select",null,null,null,null,null,null,null,null,null,null,null,null,{"$f":"IF(ISERROR(IF(C950=\"corrective\",E950+KPI!$P$4,IF(C950=\"Preventative\",E950+KPI!$P$5,\"\"))),\"\",IF(C950=\"corrective\",E950+KPI!$P$4,IF(C950=\"Preventative\",E950+KPI!$P$5,\"\")))","v":""},"Please select",null,null,null,null,null,"Please select",null,null,"",null,null,null,null,null,null,null,null,"TBD","","",null,null,0,0,1]
[null,"Please select",null,null,null,null,null,null,null,null,null,null,null,null,{"$f":"IF(ISERROR(IF(C951=\"corrective\",E951+KPI!$P$4,IF(C951=\"Preventative\",E951+KPI!$P$5,\"\"))),\"\",IF(C951=\"corrective\",E951+KPI!$P$4,IF(C951=\"Preventative\",E951+KPI!$P$5,\"\")))","v":""},"Please select",null,null,null,null,null,"Please select",null,null,"",null,null,null,null,null,null,null,null,"TBD","","",null,null,0,0,1]
[null,"Please select",null,null,null,null,null,null,null,null,null,null,null,null,{"$f":"IF(ISERROR(IF(C952=\"corrective\",E952+KPI!$P$4,IF(C952=\"Preventative\",E952+KPI!$P$5,\"\"))),\"\",IF(C952=\"corrective\",E952+KPI!$P$4,IF(C952=\"Preventative\",E952+KPI!$P$5,\"\")))","v":""},"Please select",null,null,null,null,null,"Please select",null,null,"",null,null,null,null,null,null,null,null,"TBD","","",null,null,0,0,1]
[null,"Please select",null,null,null,null,null,null,null,null,null,null,null,null,{"$f":"IF(ISERROR(IF(C953=\"corrective\",E953+KPI!$P$4,IF(C953=\"Preventative\",E953+KPI!$P$5,\"\"))),\"\",IF(C953=\"corrective\",E953+KPI!$P$4,IF(C953=\"Preventative\",E953+KPI!$P$5,\"\")))","v":""},"Please select",null,null,null,null,null,"Please select",null,null,"",null,null,null,null,null,null,null,null,"TBD","","",null,null,0,0,1]
[null,"Please select",null,null,null,null,null,null,null,null,null,null,null,null,{"$f":"IF(ISERROR(IF(C954=\"corrective\",E954+KPI!$P$4,IF(C954=\"Preventative\",E954+KPI!$P$5,\"\"))),\"\",IF(C954=\"corrective\",E954+KPI!$P$4,IF(C954=\"Preventative\",E954+KPI!$P$5,\"\")))","v":""},"Please select",null,null,null,null,null,"Please select",null,null,"",null,null,null,null,null,null,null,null,"TBD","","",null,null,0,0,1]
[null,"Please select",null,null,null,null,null,null,null,null,null,null,null,null,{"$f":"IF(ISERROR(IF(C955=\"corrective\",E955+KPI!$P$4,IF(C955=\"Preventative\",E955+KPI!$P$5,\"\"))),\"\",IF(C955=\"corrective\",E955+KPI!$P$4,IF(C955=\"Preventative\",E955+KPI!$P$5,\"\")))","v":""},"Please select",null,null,null,null,null,"Please select",null,null,"",null,null,null,null,null,null,null,null,"TBD","","",null,null,0,0,1]
[null,"Please select",null,null,null,null,null,null,null,null,null,null,null,null,{"$f":"IF(ISERROR(IF(C956=\"corrective\",E956+KPI!$P$4,IF(C956=\"Preventative\",E956+KPI!$P$5,\"\"))),\"\",IF(C956=\"corrective\",E956+KPI!$P$4,IF(C956=\"Preventative\",E956+KPI!$P$5,\"\")))","v":""},"Please select",null,null,null,null,null,"Please select",null,null,"",null,null,null,null,null,null,null,null,"TBD","","",null,null,0,0,1]
[null,"Please select",null,null,null,null,null,null,null,null,null,null,null,null,{"$f":"IF(ISERROR(IF(C957=\"corrective\",E957+KPI!$P$4,IF(C957=\"Preventative\",E957+KPI!$P$5,\"\"))),\"\",IF(C957=\"corrective\",E957+KPI!$P$4,IF(C957=\"Preventative\",E957+KPI!$P$5,\"\")))","v":""},"Please select",null,null,null,null,null,"Please select",null,null,"",null,null,null,null,null,null,null,null,"TBD","","",null,null,0,0,1]
[null,"Please select",null,null,null,null,null,null,null,null,null,null,null,null,{"$f":"IF(ISERROR(IF(C958=\"corrective\",E958+KPI!$P$4,IF(C958=\"Preventative\",E958+KPI!$P$5,\"\"))),\"\",IF(C958=\"corrective\",E958+KPI!$P$4,IF(C958=\"Preventative\",E958+KPI!$P$5,\"\")))","v":""},"Please select",null,null,null,null,null,"Please select",null,null,"",null,null,null,null,null,null,null,null,"TBD","","",null,null,0,0,1]
[null,"Please select",null,null,null,null,null,null,null,null,null,null,null,null,{"$f":"IF(ISERROR(IF(C959=\"corrective\",E959+KPI!$P$4,IF(C959=\"Preventative\",E959+KPI!$P$5,\"\"))),\"\",IF(C959=\"corrective\",E959+KPI!$P$4,IF(C959=\"Preventative\",E959+KPI!$P$5,\"\")))","v":""},"Please select",null,null,null,null,null,"Please select",null,null,"",null,null,null,null,null,null,null,null,"TBD","","",null,null,0,0,1]
[null,"Please select",null,null,null,null,null,null,null,null,null,null,null,null,{"$f":"IF(ISERROR(IF(C960=\"corrective\",E960+KPI!$P$4,IF(C960=\"Preventative\",E960+KPI!$P$5,\"\"))),\"\",IF(C960=\"corrective\",E960+KPI!$P$4,IF(C960=\"Preventative\",E960+KPI!$P$5,\"\")))","v":""},"Please select",null,null,null,null,null,"Please select",null,null,"",null,null,null,null,null,null,null,null,"TBD","","",null,null,0,0,1]
[null,"Please select",null,null,null,null,null,null,null,null,null,null,null,null,{"$f":"IF(ISERROR(IF(C961=\"corrective\",E961+KPI!$P$4,IF(C961=\"Preventative\",E961+KPI!$P$5,\"\"))),\"\",IF(C961=\"corrective\",E961+KPI!$P$4,IF(C961=\"Preventative\",E961+KPI!$P$5,\"\")))","v":""},"Please select",null,null,null,null,null,"Please select",null,null,"",null,null,null,null,null,null,null,null,"TBD","","",null,null,0,0,1]
[null,"Please select",null,null,null,null,null,null,null,null,null,null,null,null,{"$f":"IF(ISERROR(IF(C962=\"corrective\",E962+KPI!$P$4,IF(C962=\"Preventative\",E962+KPI!$P$5,\"\"))),\"\",IF(C962=\"corrective\",E962+KPI!$P$4,IF(C962=\"Preventative\",E962+KPI!$P$5,\"\")))","v":""},"Please select",null,null,null,null,null,"Please select",null,null,"",null,null,null,null,null,null,null,null,"TBD","","",null,null,{"$f":"IF(ISERROR(DATEDIF(E962,Q962,\"D\")),\"\",DATEDIF(E962,Q962,\"D\"))","v":0},{"$f":"IF(ISERROR(DATEDIF(Q962,X962,\"D\")),\"\",DATEDIF(Q962,X962,\"D\"))","v":0},1]
[null,"Please select",null,null,null,null,null,null,null,null,null,null,null,null,{"$f":"IF(ISERROR(IF(C963=\"corrective\",E963+KPI!$P$4,IF(C963=\"Preventative\",E963+KPI!$P$5,\"\"))),\"\",IF(C963=\"corrective\",E963+KPI!$P$4,IF(C963=\"Preventative\",E963+KPI!$P$5,\"\")))","v":""},"Please select",null,null,null,null,null,"Please select",null,null,"",null,null,null,null,null,null,null,null,"TBD","","",null,null,0,0,1]
[null,"Please select",null,null,null,null,null,null,null,null,null,null,null,null,{"$f":"IF(ISERROR(IF(C964=\"corrective\",E964+KPI!$P$4,IF(C964=\"Preventative\",E964+KPI!$P$5,\"\"))),\"\",IF(C964=\"corrective\",E964+KPI!$P$4,IF(C964=\"Preventative\",E964+KPI!$P$5,\"\")))","v":""},"Please select",null,null,null,null,null,"Please select",null,null,"",null,null,null,null,null,null,null,null,"TBD","","",null,null,0,0,1]
[null,"Please select",null,null,null,null,null,null,null,null,null,null,null,null,{"$f":"IF(ISERROR(IF(C965=\"corrective\",E965+KPI!$P$4,IF(C965=\"Preventative\",E965+KPI!$P$5,\"\"))),\"\",IF(C965=\"corrective\",E965+KPI!$P$4,IF(C965=\"Preventative\",E965+KPI!$P$5,\"\")))","v":""},"Please select",null,null,null,null,null,"Please select",null,null,"",null,null,null,null,null,null,null,null,"TBD","","",null,null,0,0,1]
[null,"Please select",null,null,null,null,null,null,null,null,null,null,null,null,{"$f":"IF(ISERROR(IF(C966=\"corrective\",E966+KPI!$P$4,IF(C966=\"Preventative\",E966+KPI!$P$5,\"\"))),\"\",IF(C966=\"corrective\",E966+KPI!$P$4,IF(C966=\"Preventative\",E966+KPI!$P$5,\"\")))","v":""},"Please select",null,null,null,null,null,"Please select",null,null,"",null,null,null,null,null,null,null,null,"TBD","","",null,null,0,0,1]
[null,"Please select",null,null,null,null,null,null,null,null,null,null,null,null,{"$f":"IF(ISERROR(IF(C967=\"corrective\",E967+KPI!$P$4,IF(C967=\"Preventative\",E967+KPI!$P$5,\"\"))),\"\",IF(C967=\"corrective\",E967+KPI!$P$4,IF(C967=\"Preventative\",E967+KPI!$P$5,\"\")))","v":""},"Please select",null,null,null,null,null,"Please select",null,null,"",null,null,null,null,null,null,null,null,"TBD","","",null,null,0,0,1]
[null,"Please select",null,null,null,null,null,null,null,null,null,null,null,null,{"$f":"IF(ISERROR(IF(C968=\"corrective\",E968+KPI!$P$4,IF(C968=\"Preventative\",E968+KPI!$P$5,\"\"))),\"\",IF(C968=\"corrective\",E968+KPI!$P$4,IF(C968=\"Preventative\",E968+KPI!$P$5,\"\")))","v":""},"Please select",null,null,null,null,null,"Please select",null,null,"",null,null,null,null,null,null,null,null,"TBD","","",null,null,0,0,1]
[null,"Please select",null,null,null,null,null,null,null,null,null,null,null,null,{"$f":"IF(ISERROR(IF(C969=\"corrective\",E969+KPI!$P$4,IF(C969=\"Preventative\",E969+KPI!$P$5,\"\"))),\"\",IF(C969=\"corrective\",E969+KPI!$P$4,IF(C969=\"Preventative\",E969+KPI!$P$5,\"\")))","v":""},"Please select",null,null,null,null,null,"Please select",null,null,"",null,null,null,null,null,null,null,null,"TBD","","",null,null,0,0,1]
[null,"Please select",null,null,null,null,null,null,null,null,null,null,null,null,{"$f":"IF(ISERROR(IF(C970=\"corrective\",E970+KPI!$P$4,IF(C970=\"Preventative\",E970+KPI!$P$5,\"\"))),\"\",IF(C970=\"corrective\",E970+KPI!$P$4,IF(C970=\"Preventative\",E970+KPI!$P$5,\"\")))","v":""},"Please select",null,null,null,null,null,"Please select",null,null,"",null,null,null,null,null,null,null,null,"TBD","","",null,null,0,0,1]
[null,"Please select",null,null,null,null,null,null,null,null,null,null,null,null,{"$f":"IF(ISERROR(IF(C971=\"corrective\",E971+KPI!$P$4,IF(C971=\"Preventative\",E971+KPI!$P$5,\"\"))),\"\",IF(C971=\"corrective\",E971+KPI!$P$4,IF(C971=\"Preventative\",E971+KPI!$P$5,\"\")))","v":""},"Please select",null,null,null,null,null,"Please select",null,null,"",null,null,null,null,null,null,null,null,"TBD","","",null,null,0,0,1]
[null,"Please select",null,null,null,null,null,null,null,null,null,null,null,null,{"$f":"IF(ISERROR(IF(C972=\"corrective\",E972+KPI!$P$4,IF(C972=\"Preventative\",E972+KPI!$P$5,\"\"))),\"\",IF(C972=\"corrective\",E972+KPI!$P$4,IF(C972=\"Preventative\",E972+KPI!$P$5,\"\")))","v":""},"Please select",null,null,null,null,null,"Please select",null,null,"",null,null,null,null,null,null,null,null,"TBD","","",null,null,0,0,1]
[null,"Please select",null,null,null,null,null,null,null,null,null,null,null,null,{"$f":"IF(ISERROR(IF(C973=\"corrective\",E973+KPI!$P$4,IF(C973=\"Preventative\",E973+KPI!$P$5,\"\"))),\"\",IF(C973=\"corrective\",E973+KPI!$P$4,IF(C973=\"Preventative\",E973+KPI!$P$5,\"\")))","v":""},"Please select",null,null,null,null,null,"Please select",null,null,"",null,null,null,null,null,null,null,null,"TBD","","",null,null,0,0,1]
[null,"Please select",null,null,null,null,null,null,null,null,null,null,null,null,{"$f":"IF(ISERROR(IF(C974=\"corrective\",E974+KPI!$P$4,IF(C974=\"Preventative\",E974+KPI!$P$5,\"\"))),\"\",IF(C974=\"corrective\",E974+KPI!$P$4,IF(C974=\"Preventative\",E974+KPI!$P$5,\"\")))","v":""},"Please select",null,null,null,null,null,"Please select",null,null,"",null,null,null,null,null,null,null,null,"TBD","","",null,null,0,0,1]
[null,"Please select",null,null,null,null,null,null,null,null,null,null,null,null,{"$f":"IF(ISERROR(IF(C975=\"corrective\",E975+KPI!$P$4,IF(C975=\"Preventative\",E975+KPI!$P$5,\"\"))),\"\",IF(C975=\"corrective\",E975+KPI!$P$4,IF(C975=\"Preventative\",E975+KPI!$P$5,\"\")))","v":""},"Please select",null,null,null,null,null,"Please select",null,null,"",null,null,null,null,null,null,null,null,"TBD","","",null,null,0,0,1]
[null,"Please select",null,null,null,null,null,null,null,null,null,null,null,null,{"$f":"IF(ISERROR(IF(C976=\"corrective\",E976+KPI!$P$4,IF(C976=\"Preventative\",E976+KPI!$P$5,\"\"))),\"\",IF(C976=\"corrective\",E976+KPI!$P$4,IF(C976=\"Preventative\",E976+KPI!$P$5,\"\")))","v":""},"Please select",null,null,null,null,null,"Please select",null,null,"",null,null,null,null,null,null,null,null,"TBD","","",null,null,0,0,1]
[null,"Please select",null,null,null,null,null,null,null,null,null,null,null,null,{"$f":"IF(ISERROR(IF(C977=\"corrective\",E977+KPI!$P$4,IF(C977=\"Preventative\",E977+KPI!$P$5,\"\"))),\"\",IF(C977=\"corrective\",E977+KPI!$P$4,IF(C977=\"Preventative\",E977+KPI!$P$5,\"\")))","v":""},"Please select",null,null,null,null,null,"Please select",null,null,"",null,null,null,null,null,null,null,null,"TBD","","",null,null,0,0,1]
[null,"Please select",null,null,null,null,null,null,null,null,null,null,null,null,{"$f":"IF(ISERROR(IF(C978=\"corrective\",E978+KPI!$P$4,IF(C978=\"Preventative\",E978+KPI!$P$5,\"\"))),\"\",IF(C978=\"corrective\",E978+KPI!$P$4,IF(C978=\"Preventative\",E978+KPI!$P$5,\"\")))","v":""},"Please select",null,null,null,null,null,"Please select",null,null,"",null,null,null,null,null,null,null,null,"TBD","","",null,null,0,0,1]
[null,"Please select",null,null,null,null,null,null,null,null,null,null,null,null,{"$f":"IF(ISERROR(IF(C979=\"corrective\",E979+KPI!$P$4,IF(C979=\"Preventative\",E979+KPI!$P$5,\"\"))),\"\",IF(C979=\"corrective\",E979+KPI!$P$4,IF(C979=\"Preventative\",E979+KPI!$P$5,\"\")))","v":""},"Please select",null,null,null,null,null,"Please select",null,null,"",null,null,null,null,null,null,null,null,"TBD","","",null,null,0,0,1]
[null,"Please select",null,null,null,null,null,null,null,null,null,null,null,null,{"$f":"IF(ISERROR(IF(C980=\"corrective\",E980+KPI!$P$4,IF(C980=\"Preventative\",E980+KPI!$P$5,\"\"))),\"\",IF(C980=\"corrective\",E980+KPI!$P$4,IF(C980=\"Preventative\",E980+KPI!$P$5,\"\")))","v":""},"Please select",null,null,null,null,null,"Please select",null,null,"",null,null,null,null,null,null,null,null,"TBD","","",null,null,0,0,1]
[null,"Please select",null,null,null,null,null,null,null,null,null,null,null,null,{"$f":"IF(ISERROR(IF(C981=\"corrective\",E981+KPI!$P$4,IF(C981=\"Preventative\",E981+KPI!$P$5,\"\"))),\"\",IF(C981=\"corrective\",E981+KPI!$P$4,IF(C981=\"Preventative\",E981+KPI!$P$5,\"\")))","v":""},"Please select",null,null,null,null,null,"Please select",null,null,"",null,null,null,null,null,null,null,null,"TBD","","",null,null,0,0,1]
[null,"Please select",null,null,null,null,null,null,null,null,null,null,null,null,{"$f":"IF(ISERROR(IF(C982=\"corrective\",E982+KPI!$P$4,IF(C982=\"Preventative\",E982+KPI!$P$5,\"\"))),\"\",IF(C982=\"corrective\",E982+KPI!$P$4,IF(C982=\"Preventative\",E982+KPI!$P$5,\"\")))","v":""},"Please select",null,null,null,null,null,"Please select",null,null,"",null,null,null,null,null,null,null,null,"TBD","","",null,null,0,0,1]
[null,"Please select",null,null,null,null,null,null,null,null,null,null,null,null,{"$f":"IF(ISERROR(IF(C983=\"corrective\",E983+KPI!$P$4,IF(C983=\"Preventative\",E983+KPI!$P$5,\"\"))),\"\",IF(C983=\"corrective\",E983+KPI!$P$4,IF(C983=\"Preventative\",E983+KPI!$P$5,\"\")))","v":""},"Please select",null,null,null,null,null,"Please select",null,null,"",null,null,null,null,null,null,null,null,"TBD","","",null,null,0,0,1]
[null,"Please select",null,null,null,null,null,null,null,null,null,null,null,null,{"$f":"IF(ISERROR(IF(C984=\"corrective\",E984+KPI!$P$4,IF(C984=\"Preventative\",E984+KPI!$P$5,\"\"))),\"\",IF(C984=\"corrective\",E984+KPI!$P$4,IF(C984=\"Preventative\",E984+KPI!$P$5,\"\")))","v":""},"Please select",null,null,null,null,null,"Please select",null,null,"",null,null,null,null,null,null,null,null,"TBD","","",null,null,0,0,1]
[null,"Please select",null,null,null,null,null,null,null,null,null,null,null,null,{"$f":"IF(ISERROR(IF(C985=\"corrective\",E985+KPI!$P$4,IF(C985=\"Preventative\",E985+KPI!$P$5,\"\"))),\"\",IF(C985=\"corrective\",E985+KPI!$P$4,IF(C985=\"Preventative\",E985+KPI!$P$5,\"\")))","v":""},"Please select",null,null,null,null,null,"Please select",null,null,"",null,null,null,null,null,null,null,null,"TBD","","",null,null,0,0,1]
[null,"Please select",null,null,null,null,null,null,null,null,null,null,null,null,{"$f":"IF(ISERROR(IF(C986=\"corrective\",E986+KPI!$P$4,IF(C986=\"Preventative\",E986+KPI!$P$5,\"\"))),\"\",IF(C986=\"corrective\",E986+KPI!$P$4,IF(C986=\"Preventative\",E986+KPI!$P$5,\"\")))","v":""},"Please select",null,null,null,null,null,"Please select",null,null,"",null,null,null,null,null,null,null,null,"TBD","","",null,null,0,0,1]
[null,"Please select",null,null,null,null,null,null,null,null,null,null,null,null,{"$f":"IF(ISERROR(IF(C987=\"corrective\",E987+KPI!$P$4,IF(C987=\"Preventative\",E987+KPI!$P$5,\"\"))),\"\",IF(C987=\"corrective\",E987+KPI!$P$4,IF(C987=\"Preventative\",E987+KPI!$P$5,\"\")))","v":""},"Please select",null,null,null,null,null,"Please select",null,null,"",null,null,null,null,null,null,null,null,"TBD","","",null,null,0,0,1]
[null,"Please select",null,null,null,null,null,null,null,null,null,null,null,null,{"$f":"IF(ISERROR(IF(C988=\"corrective\",E988+KPI!$P$4,IF(C988=\"Preventative\",E988+KPI!$P$5,\"\"))),\"\",IF(C988=\"corrective\",E988+KPI!$P$4,IF(C988=\"Preventative\",E988+KPI!$P$5,\"\")))","v":""},"Please select",null,null,null,null,null,"Please select",null,null,"",null,null,null,null,null,null,null,null,"TBD","","",null,null,0,0,1]
[null,"Please select",null,null,null,null,null,null,null,null,null,null,null,null,{"$f":"IF(ISERROR(IF(C989=\"corrective\",E989+KPI!$P$4,IF(C989=\"Preventative\",E989+KPI!$P$5,\"\"))),\"\",IF(C989=\"corrective\",E989+KPI!$P$4,IF(C989=\"Preventative\",E989+KPI!$P$5,\"\")))","v":""},"Please select",null,null,null,null,null,"Please select",null,null,"",null,null,null,null,null,null,null,null,"TBD","","",null,null,0,0,1]
[null,"Please select",null,null,null,null,null,null,null,null,null,null,null,null,{"$f":"IF(ISERROR(IF(C990=\"corrective\",E990+KPI!$P$4,IF(C990=\"Preventative\",E990+KPI!$P$5,\"\"))),\"\",IF(C990=\"corrective\",E990+KPI!$P$4,IF(C990=\"Preventative\",E990+KPI!$P$5,\"\")))","v":""},"Please select",null,null,null,null,null,"Please select",null,null,"",null,null,null,null,null,null,null,null,"TBD","","",null,null,0,0,1]
[null,"Please select",null,null,null,null,null,null,null,null,null,null,null,null,{"$f":"IF(ISERROR(IF(C991=\"corrective\",E991+KPI!$P$4,IF(C991=\"Preventative\",E991+KPI!$P$5,\"\"))),\"\",IF(C991=\"corrective\",E991+KPI!$P$4,IF(C991=\"Preventative\",E991+KPI!$P$5,\"\")))","v":""},"Please select",null,null,null,null,null,"Please select",null,null,"",null,null,null,null,null,null,null,null,"TBD","","",null,null,0,0,1]
[null,"Please select",null,null,null,null,null,null,null,null,null,null,null,null,{"$f":"IF(ISERROR(IF(C992=\"corrective\",E992+KPI!$P$4,IF(C992=\"Preventative\",E992+KPI!$P$5,\"\"))),\"\",IF(C992=\"corrective\",E992+KPI!$P$4,IF(C992=\"Preventative\",E992+KPI!$P$5,\"\")))","v":""},"Please select",null,null,null,null,null,"Please select",null,null,"",null,null,null,null,null,null,null,null,"TBD","","",null,null,0,0,1]
[null,"Please select",null,null,null,null,null,null,null,null,null,null,null,null,{"$f":"IF(ISERROR(IF(C993=\"corrective\",E993+KPI!$P$4,IF(C993=\"Preventative\",E993+KPI!$P$5,\"\"))),\"\",IF(C993=\"corrective\",E993+KPI!$P$4,IF(C993=\"Preventative\",E993+KPI!$P$5,\"\")))","v":""},"Please select",null,null,null,null,null,"Please select",null,null,"",null,null,null,null,null,null,null,null,"TBD","","",null,null,0,0,1]
[null,"Please select",null,null,null,null,null,null,null,null,null,null,null,null,{"$f":"IF(ISERROR(IF(C994=\"corrective\",E994+KPI!$P$4,IF(C994=\"Preventative\",E994+KPI!$P$5,\"\"))),\"\",IF(C994=\"corrective\",E994+KPI!$P$4,IF(C994=\"Preventative\",E994+KPI!$P$5,\"\")))","v":""},"Please select",null,null,null,null,null,"Please select",null,null,"",null,null,null,null,null,null,null,null,"TBD","","",null,null,0,0,1]
[null,"Please select",null,null,null,null,null,null,null,null,null,null,null,null,{"$f":"IF(ISERROR(IF(C995=\"corrective\",E995+KPI!$P$4,IF(C995=\"Preventative\",E995+KPI!$P$5,\"\"))),\"\",IF(C995=\"corrective\",E995+KPI!$P$4,IF(C995=\"Preventative\",E995+KPI!$P$5,\"\")))","v":""},"Please select",null,null,null,null,null,"Please select",null,null,"",null,null,null,null,null,null,null,null,"TBD","","",null,null,0,0,1]
[null,"Please select",null,null,null,null,null,null,null,null,null,null,null,null,{"$f":"IF(ISERROR(IF(C996=\"corrective\",E996+KPI!$P$4,IF(C996=\"Preventative\",E996+KPI!$P$5,\"\"))),\"\",IF(C996=\"corrective\",E996+KPI!$P$4,IF(C996=\"Preventative\",E996+KPI!$P$5,\"\")))","v":""},"Please select",null,null,null,null,null,"Please select",null,null,"",null,null,null,null,null,null,null,null,"TBD","","",null,null,0,0,1]
[null,"Please select",null,null,null,null,null,null,null,null,null,null,null,null,{"$f":"IF(ISERROR(IF(C997=\"corrective\",E997+KPI!$P$4,IF(C997=\"Preventative\",E997+KPI!$P$5,\"\"))),\"\",IF(C997=\"corrective\",E997+KPI!$P$4,IF(C997=\"Preventative\",E997+KPI!$P$5,\"\")))","v":""},"Please select",null,null,null,null,null,"Please select",null,null,"",null,null,null,null,null,null,null,null,"TBD","","",null,null,0,0,1]
[null,"Please select",null,null,null,null,null,null,null,null,null,null,null,null,{"$f":"IF(ISERROR(IF(C998=\"corrective\",E998+KPI!$P$4,IF(C998=\"Preventative\",E998+KPI!$P$5,\"\"))),\"\",IF(C998=\"corrective\",E998+KPI!$P$4,IF(C998=\"Preventative\",E998+KPI!$P$5,\"\")))","v":""},"Please select",null,null,null,null,null,"Please select",null,null,"",null,null,null,null,null,null,null,null,"TBD","","",null,null,0,0,1]
[null,"Please select",null,null,null,null,null,null,null,null,null,null,null,null,{"$f":"IF(ISERROR(IF(C999=\"corrective\",E999+KPI!$P$4,IF(C999=\"Preventative\",E999+KPI!$P$5,\"\"))),\"\",IF(C999=\"corrective\",E999+KPI!$P$4,IF(C999=\"Preventative\",E999+KPI!$P$5,\"\")))","v":""},"Please select",null,null,null,null,null,"Please select",null,null,"",null,null,null,null,null,null,null,null,"TBD","","",null,null,0,0,1]
[null,"Please select",null,null,null,null,null,null,null,null,null,null,null,null,{"$f":"IF(ISERROR(IF(C1000=\"corrective\",E1000+KPI!$P$4,IF(C1000=\"Preventative\",E1000+KPI!$P$5,\"\"))),\"\",IF(C1000=\"corrective\",E1000+KPI!$P$4,IF(C1000=\"Preventative\",E1000+KPI!$P$5,\"\")))","v":""},"Please select",null,null,null,null,null,"Please select",null,null,"",null,null,null,null,null,null,null,null,"TBD","","",null,null,0,0,1]
[null,"Please select",null,null,null,null,null,null,null,null,null,null,null,null,{"$f":"IF(ISERROR(IF(C1001=\"corrective\",E1001+KPI!$P$4,IF(C1001=\"Preventative\",E1001+KPI!$P$5,\"\"))),\"\",IF(C1001=\"corrective\",E1001+KPI!$P$4,IF(C1001=\"Preventative\",E1001+KPI!$P$5,\"\")))","v":""},"Please select",null,null,null,null,null,"Please select",null,null,"",null,null,null,null,null,null,null,null,"TBD","","",null,null,0,0,1]
[null,"Please select",null,null,null,null,null,null,null,null,null,null,null,null,{"$f":"IF(ISERROR(IF(C1002=\"corrective\",E1002+KPI!$P$4,IF(C1002=\"Preventative\",E1002+KPI!$P$5,\"\"))),\"\",IF(C1002=\"corrective\",E1002+KPI!$P$4,IF(C1002=\"Preventative\",E1002+KPI!$P$5,\"\")))","v":""},"Please select",null,null,null,null,null,"Please select",null,null,"",null,null,null,null,null,null,null,null,"TBD","","",null,null,0,0,1]
[null,"Please select",null,null,null,null,null,null,null,null,null,null,null,null,{"$f":"IF(ISERROR(IF(C1003=\"corrective\",E1003+KPI!$P$4,IF(C1003=\"Preventative\",E1003+KPI!$P$5,\"\"))),\"\",IF(C1003=\"corrective\",E1003+KPI!$P$4,IF(C1003=\"Preventative\",E1003+KPI!$P$5,\"\")))","v":""},"Please select",null,null,null,null,null,"Please select",null,null,"",null,null,null,null,null,null,null,null,"TBD","","",null,null,0,0,1]
[null,"Please select",null,null,null,null,null,null,null,null,null,null,null,null,{"$f":"IF(ISERROR(IF(C1004=\"corrective\",E1004+KPI!$P$4,IF(C1004=\"Preventative\",E1004+KPI!$P$5,\"\"))),\"\",IF(C1004=\"corrective\",E1004+KPI!$P$4,IF(C1004=\"Preventative\",E1004+KPI!$P$5,\"\")))","v":""},"Please select",null,null,null,null,null,"Please select",null,null,"",null,null,null,null,null,null,null,null,"TBD","","",null,null,0,0,1]
[null,"Please select",null,null,null,null,null,null,null,null,null,null,null,null,{"$f":"IF(ISERROR(IF(C1005=\"corrective\",E1005+KPI!$P$4,IF(C1005=\"Preventative\",E1005+KPI!$P$5,\"\"))),\"\",IF(C1005=\"corrective\",E1005+KPI!$P$4,IF(C1005=\"Preventative\",E1005+KPI!$P$5,\"\")))","v":""},"Please select",null,null,null,null,null,"Please select",null,null,"",null,null,null,null,null,null,null,null,"TBD","","",null,null,0,0,1]
[null,"Please select",null,null,null,null,null,null,null,null,null,null,null,null,{"$f":"IF(ISERROR(IF(C1006=\"corrective\",E1006+KPI!$P$4,IF(C1006=\"Preventative\",E1006+KPI!$P$5,\"\"))),\"\",IF(C1006=\"corrective\",E1006+KPI!$P$4,IF(C1006=\"Preventative\",E1006+KPI!$P$5,\"\")))","v":""},"Please select",null,null,null,null,null,"Please select",null,null,"",null,null,null,null,null,null,null,null,"TBD","","",null,null,0,0,1]
[null,"Please select",null,null,null,null,null,null,null,null,null,null,null,null,{"$f":"IF(ISERROR(IF(C1007=\"corrective\",E1007+KPI!$P$4,IF(C1007=\"Preventative\",E1007+KPI!$P$5,\"\"))),\"\",IF(C1007=\"corrective\",E1007+KPI!$P$4,IF(C1007=\"Preventative\",E1007+KPI!$P$5,\"\")))","v":""},{"$f":"IF(AND(O1007<TODAY(),B1007=\"new\"),\"New - Overdue\",B1007)","v":"Please select"},null,null,null,null,null,"Please select",null,null,{"$f":"Z1007&AA1007&AB1007&AC1007&AD1007&AE1007","v":""},null,null,null,null,null,null,null,null,"TBD",{"$f":"IF(ISERROR(AJ1007-20),\"\",AJ1007-20)","v":""},{"$f":"IF(ISERROR(IF(C1007=\"corrective\",E1007+AH1007,\"\")),\"\",IF(C1007=\"corrective\",E1007+AH1007,\"\"))","v":""},null,null,0,0,{"$f":"COUNTIF(AN1007,\">400\")+COUNTIF(AN1007,\"=0\")","v":1}]
[null,"Please select",null,null,null,null,null,null,null,null,null,null,null,null,{"$f":"IF(ISERROR(IF(C1008=\"corrective\",E1008+KPI!$P$4,IF(C1008=\"Preventative\",E1008+KPI!$P$5,\"\"))),\"\",IF(C1008=\"corrective\",E1008+KPI!$P$4,IF(C1008=\"Preventative\",E1008+KPI!$P$5,\"\")))","v":""},"Please select",null,null,null,null,null,"Please select",null,null,"",null,null,null,null,null,null,null,null,"TBD","","",null,null,0,0,1]
[null,"Please select",null,null,null,null,null,null,null,null,null,null,null,null,{"$f":"IF(ISERROR(IF(C1009=\"corrective\",E1009+KPI!$P$4,IF(C1009=\"Preventative\",E1009+KPI!$P$5,\"\"))),\"\",IF(C1009=\"corrective\",E1009+KPI!$P$4,IF(C1009=\"Preventative\",E1009+KPI!$P$5,\"\")))","v":""},"Please select",null,null,null,null,null,"Please select",null,null,"",null,null,null,null,null,null,null,null,"TBD","","",null,null,0,0,1]
[null,"Please select",null,null,null,null,null,null,null,null,null,null,null,null,{"$f":"IF(ISERROR(IF(C1010=\"corrective\",E1010+KPI!$P$4,IF(C1010=\"Preventative\",E1010+KPI!$P$5,\"\"))),\"\",IF(C1010=\"corrective\",E1010+KPI!$P$4,IF(C1010=\"Preventative\",E1010+KPI!$P$5,\"\")))","v":""},"Please select",null,null,null,null,null,"Please select",null,null,"",null,null,null,null,null,null,null,null,"TBD","","",null,null,0,0,1]
[null,"Please select",null,null,null,null,null,null,null,null,null,null,null,null,{"$f":"IF(ISERROR(IF(C1011=\"corrective\",E1011+KPI!$P$4,IF(C1011=\"Preventative\",E1011+KPI!$P$5,\"\"))),\"\",IF(C1011=\"corrective\",E1011+KPI!$P$4,IF(C1011=\"Preventative\",E1011+KPI!$P$5,\"\")))","v":""},"Please select",null,null,null,null,null,"Please select",null,null,"",null,null,null,null,null,null,null,null,"TBD","","",null,null,0,0,1]
[null,"Please select",null,null,null,null,null,null,null,null,null,null,null,null,{"$f":"IF(ISERROR(IF(C1012=\"corrective\",E1012+KPI!$P$4,IF(C1012=\"Preventative\",E1012+KPI!$P$5,\"\"))),\"\",IF(C1012=\"corrective\",E1012+KPI!$P$4,IF(C1012=\"Preventative\",E1012+KPI!$P$5,\"\")))","v":""},"Please select",null,null,null,null,null,"Please select",null,null,"",null,null,null,null,null,null,null,null,"TBD","","",null,null,0,0,1]
[null,"Please select",null,null,null,null,null,null,null,null,null,null,null,null,{"$f":"IF(ISERROR(IF(C1013=\"corrective\",E1013+KPI!$P$4,IF(C1013=\"Preventative\",E1013+KPI!$P$5,\"\"))),\"\",IF(C1013=\"corrective\",E1013+KPI!$P$4,IF(C1013=\"Preventative\",E1013+KPI!$P$5,\"\")))","v":""},"Please select",null,null,null,null,null,"Please select",null,null,"",null,null,null,null,null,null,null,null,"TBD","","",null,null,0,0,1]
[null,"Please select",null,null,null,null,null,null,null,null,null,null,null,null,{"$f":"IF(ISERROR(IF(C1014=\"corrective\",E1014+KPI!$P$4,IF(C1014=\"Preventative\",E1014+KPI!$P$5,\"\"))),\"\",IF(C1014=\"corrective\",E1014+KPI!$P$4,IF(C1014=\"Preventative\",E1014+KPI!$P$5,\"\")))","v":""},"Please select",null,null,null,null,null,"Please select",null,null,"",null,null,null,null,null,null,null,null,"TBD","","",null,null,0,0,1]
[null,"Please select",null,null,null,null,null,null,null,null,null,null,null,null,{"$f":"IF(ISERROR(IF(C1015=\"corrective\",E1015+KPI!$P$4,IF(C1015=\"Preventative\",E1015+KPI!$P$5,\"\"))),\"\",IF(C1015=\"corrective\",E1015+KPI!$P$4,IF(C1015=\"Preventative\",E1015+KPI!$P$5,\"\")))","v":""},"Please select",null,null,null,null,null,"Please select",null,null,"",null,null,null,null,null,null,null,null,"TBD","","",null,null,0,0,1]
[null,"Please select",null,null,null,null,null,null,null,null,null,null,null,null,{"$f":"IF(ISERROR(IF(C1016=\"corrective\",E1016+KPI!$P$4,IF(C1016=\"Preventative\",E1016+KPI!$P$5,\"\"))),\"\",IF(C1016=\"corrective\",E1016+KPI!$P$4,IF(C1016=\"Preventative\",E1016+KPI!$P$5,\"\")))","v":""},"Please select",null,null,null,null,null,"Please select",null,null,"",null,null,null,null,null,null,null,null,"TBD","","",null,null,0,0,1]
[null,"Please select",null,null,null,null,null,null,null,null,null,null,null,null,{"$f":"IF(ISERROR(IF(C1017=\"corrective\",E1017+KPI!$P$4,IF(C1017=\"Preventative\",E1017+KPI!$P$5,\"\"))),\"\",IF(C1017=\"corrective\",E1017+KPI!$P$4,IF(C1017=\"Preventative\",E1017+KPI!$P$5,\"\")))","v":""},"Please select",null,null,null,null,null,"Please select",null,null,"",null,null,null,null,null,null,null,null,"TBD","","",null,null,0,0,1]
[null,"Please select",null,null,null,null,null,null,null,null,null,null,null,null,{"$f":"IF(ISERROR(IF(C1018=\"corrective\",E1018+KPI!$P$4,IF(C1018=\"Preventative\",E1018+KPI!$P$5,\"\"))),\"\",IF(C1018=\"corrective\",E1018+KPI!$P$4,IF(C1018=\"Preventative\",E1018+KPI!$P$5,\"\")))","v":""},"Please select",null,null,null,null,null,"Please select",null,null,"",null,null,null,null,null,null,null,null,"TBD","","",null,null,0,0,1]
[null,"Please select",null,null,null,null,null,null,null,null,null,null,null,null,{"$f":"IF(ISERROR(IF(C1019=\"corrective\",E1019+KPI!$P$4,IF(C1019=\"Preventative\",E1019+KPI!$P$5,\"\"))),\"\",IF(C1019=\"corrective\",E1019+KPI!$P$4,IF(C1019=\"Preventative\",E1019+KPI!$P$5,\"\")))","v":""},"Please select",null,null,null,null,null,"Please select",null,null,"",null,null,null,null,null,null,null,null,"TBD","","",null,null,0,0,1]
[null,"Please select",null,null,null,null,null,null,null,null,null,null,null,null,{"$f":"IF(ISERROR(IF(C1020=\"corrective\",E1020+KPI!$P$4,IF(C1020=\"Preventative\",E1020+KPI!$P$5,\"\"))),\"\",IF(C1020=\"corrective\",E1020+KPI!$P$4,IF(C1020=\"Preventative\",E1020+KPI!$P$5,\"\")))","v":""},"Please select",null,null,null,null,null,"Please select",null,null,"",null,null,null,null,null,null,null,null,"TBD","","",null,null,0,0,1]
[null,"Please select",null,null,null,null,null,null,null,null,null,null,null,null,{"$f":"IF(ISERROR(IF(C1021=\"corrective\",E1021+KPI!$P$4,IF(C1021=\"Preventative\",E1021+KPI!$P$5,\"\"))),\"\",IF(C1021=\"corrective\",E1021+KPI!$P$4,IF(C1021=\"Preventative\",E1021+KPI!$P$5,\"\")))","v":""},"Please select",null,null,null,null,null,"Please select",null,null,"",null,null,null,null,null,null,null,null,"TBD","","",null,null,0,0,1]
[null,"Please select",null,null,null,null,null,null,null,null,null,null,null,null,{"$f":"IF(ISERROR(IF(C1022=\"corrective\",E1022+KPI!$P$4,IF(C1022=\"Preventative\",E1022+KPI!$P$5,\"\"))),\"\",IF(C1022=\"corrective\",E1022+KPI!$P$4,IF(C1022=\"Preventative\",E1022+KPI!$P$5,\"\")))","v":""},"Please select",null,null,null,null,null,"Please select",null,null,"",null,null,null,null,null,null,null,null,"TBD","","",null,null,0,0,1]
[null,"Please select",null,null,null,null,null,null,null,null,null,null,null,null,{"$f":"IF(ISERROR(IF(C1023=\"corrective\",E1023+KPI!$P$4,IF(C1023=\"Preventative\",E1023+KPI!$P$5,\"\"))),\"\",IF(C1023=\"corrective\",E1023+KPI!$P$4,IF(C1023=\"Preventative\",E1023+KPI!$P$5,\"\")))","v":""},"Please select",null,null,null,null,null,"Please select",null,null,"",null,null,null,null,null,null,null,null,"TBD","","",null,null,0,0,1]
[null,"Please select",null,null,null,null,null,null,null,null,null,null,null,null,{"$f":"IF(ISERROR(IF(C1024=\"corrective\",E1024+KPI!$P$4,IF(C1024=\"Preventative\",E1024+KPI!$P$5,\"\"))),\"\",IF(C1024=\"corrective\",E1024+KPI!$P$4,IF(C1024=\"Preventative\",E1024+KPI!$P$5,\"\")))","v":""},"Please select",null,null,null,null,null,"Please select",null,null,"",null,null,null,null,null,null,null,null,"TBD","","",null,null,0,0,1]
[null,"Please select",null,null,null,null,null,null,null,null,null,null,null,null,{"$f":"IF(ISERROR(IF(C1025=\"corrective\",E1025+KPI!$P$4,IF(C1025=\"Preventative\",E1025+KPI!$P$5,\"\"))),\"\",IF(C1025=\"corrective\",E1025+KPI!$P$4,IF(C1025=\"Preventative\",E1025+KPI!$P$5,\"\")))","v":""},"Please select",null,null,null,null,null,"Please select",null,null,"",null,null,null,null,null,null,null,null,"TBD","","",null,null,0,0,1]
[null,"Please select",null,null,null,null,null,null,null,null,null,null,null,null,{"$f":"IF(ISERROR(IF(C1026=\"corrective\",E1026+KPI!$P$4,IF(C1026=\"Preventative\",E1026+KPI!$P$5,\"\"))),\"\",IF(C1026=\"corrective\",E1026+KPI!$P$4,IF(C1026=\"Preventative\",E1026+KPI!$P$5,\"\")))","v":""},"Please select",null,null,null,null,null,"Please select",null,null,"",null,null,null,null,null,null,null,null,"TBD","","",null,null,{"$f":"IF(ISERROR(DATEDIF(E1026,Q1026,\"D\")),\"\",DATEDIF(E1026,Q1026,\"D\"))","v":0},{"$f":"IF(ISERROR(DATEDIF(Q1026,X1026,\"D\")),\"\",DATEDIF(Q1026,X1026,\"D\"))","v":0},1]
[null,"Please select",null,null,null,null,null,null,null,null,null,null,null,null,{"$f":"IF(ISERROR(IF(C1027=\"corrective\",E1027+KPI!$P$4,IF(C1027=\"Preventative\",E1027+KPI!$P$5,\"\"))),\"\",IF(C1027=\"corrective\",E1027+KPI!$P$4,IF(C1027=\"Preventative\",E1027+KPI!$P$5,\"\")))","v":""},"Please select",null,null,null,null,null,"Please select",null,null,"",null,null,null,null,null,null,null,null,"TBD","","",null,null,0,0,1]
[null,"Please select",null,null,null,null,null,null,null,null,null,null,null,null,{"$f":"IF(ISERROR(IF(C1028=\"corrective\",E1028+KPI!$P$4,IF(C1028=\"Preventative\",E1028+KPI!$P$5,\"\"))),\"\",IF(C1028=\"corrective\",E1028+KPI!$P$4,IF(C1028=\"Preventative\",E1028+KPI!$P$5,\"\")))","v":""},"Please select",null,null,null,null,null,"Please select",null,null,"",null,null,null,null,null,null,null,null,"TBD","","",null,null,0,0,1]
[null,"Please select",null,null,null,null,null,null,null,null,null,null,null,null,{"$f":"IF(ISERROR(IF(C1029=\"corrective\",E1029+KPI!$P$4,IF(C1029=\"Preventative\",E1029+KPI!$P$5,\"\"))),\"\",IF(C1029=\"corrective\",E1029+KPI!$P$4,IF(C1029=\"Preventative\",E1029+KPI!$P$5,\"\")))","v":""},"Please select",null,null,null,null,null,"Please select",null,null,"",null,null,null,null,null,null,null,null,"TBD","","",null,null,0,0,1]
[null,"Please select",null,null,null,null,null,null,null,null,null,null,null,null,{"$f":"IF(ISERROR(IF(C1030=\"corrective\",E1030+KPI!$P$4,IF(C1030=\"Preventative\",E1030+KPI!$P$5,\"\"))),\"\",IF(C1030=\"corrective\",E1030+KPI!$P$4,IF(C1030=\"Preventative\",E1030+KPI!$P$5,\"\")))","v":""},"Please select",null,null,null,null,null,"Please select",null,null,"",null,null,null,null,null,null,null,null,"TBD","","",null,null,0,0,1]
[null,"Please select",null,null,null,null,null,null,null,null,null,null,null,null,{"$f":"IF(ISERROR(IF(C1031=\"corrective\",E1031+KPI!$P$4,IF(C1031=\"Preventative\",E1031+KPI!$P$5,\"\"))),\"\",IF(C1031=\"corrective\",E1031+KPI!$P$4,IF(C1031=\"Preventative\",E1031+KPI!$P$5,\"\")))","v":""},"Please select",null,null,null,null,null,"Please select",null,null,"",null,null,null,null,null,null,null,null,"TBD","","",null,null,0,0,1]
[null,"Please select",null,null,null,null,null,null,null,null,null,null,null,null,{"$f":"IF(ISERROR(IF(C1032=\"corrective\",E1032+KPI!$P$4,IF(C1032=\"Preventative\",E1032+KPI!$P$5,\"\"))),\"\",IF(C1032=\"corrective\",E1032+KPI!$P$4,IF(C1032=\"Preventative\",E1032+KPI!$P$5,\"\")))","v":""},"Please select",null,null,null,null,null,"Please select",null,null,"",null,null,null,null,null,null,null,null,"TBD","","",null,null,0,0,1]
[null,"Please select",null,null,null,null,null,null,null,null,null,null,null,null,{"$f":"IF(ISERROR(IF(C1033=\"corrective\",E1033+KPI!$P$4,IF(C1033=\"Preventative\",E1033+KPI!$P$5,\"\"))),\"\",IF(C1033=\"corrective\",E1033+KPI!$P$4,IF(C1033=\"Preventative\",E1033+KPI!$P$5,\"\")))","v":""},"Please select",null,null,null,null,null,"Please select",null,null,"",null,null,null,null,null,null,null,null,"TBD","","",null,null,0,0,1]
[null,"Please select",null,null,null,null,null,null,null,null,null,null,null,null,{"$f":"IF(ISERROR(IF(C1034=\"corrective\",E1034+KPI!$P$4,IF(C1034=\"Preventative\",E1034+KPI!$P$5,\"\"))),\"\",IF(C1034=\"corrective\",E1034+KPI!$P$4,IF(C1034=\"Preventative\",E1034+KPI!$P$5,\"\")))","v":""},"Please select",null,null,null,null,null,"Please select",null,null,"",null,null,null,null,null,null,null,null,"TBD","","",null,null,0,0,1]
[null,"Please select",null,null,null,null,null,null,null,null,null,null,null,null,{"$f":"IF(ISERROR(IF(C1035=\"corrective\",E1035+KPI!$P$4,IF(C1035=\"Preventative\",E1035+KPI!$P$5,\"\"))),\"\",IF(C1035=\"corrective\",E1035+KPI!$P$4,IF(C1035=\"Preventative\",E1035+KPI!$P$5,\"\")))","v":""},"Please select",null,null,null,null,null,"Please select",null,null,"",null,null,null,null,null,null,null,null,"TBD","","",null,null,0,0,1]
[null,"Please select",null,null,null,null,null,null,null,null,null,null,null,null,{"$f":"IF(ISERROR(IF(C1036=\"corrective\",E1036+KPI!$P$4,IF(C1036=\"Preventative\",E1036+KPI!$P$5,\"\"))),\"\",IF(C1036=\"corrective\",E1036+KPI!$P$4,IF(C1036=\"Preventative\",E1036+KPI!$P$5,\"\")))","v":""},"Please select",null,null,null,null,null,"Please select",null,null,"",null,null,null,null,null,null,null,null,"TBD","","",null,null,0,0,1]
[null,"Please select",null,null,null,null,null,null,null,null,null,null,null,null,{"$f":"IF(ISERROR(IF(C1037=\"corrective\",E1037+KPI!$P$4,IF(C1037=\"Preventative\",E1037+KPI!$P$5,\"\"))),\"\",IF(C1037=\"corrective\",E1037+KPI!$P$4,IF(C1037=\"Preventative\",E1037+KPI!$P$5,\"\")))","v":""},"Please select",null,null,null,null,null,"Please select",null,null,"",null,null,null,null,null,null,null,null,"TBD","","",null,null,0,0,1]
[null,"Please select",null,null,null,null,null,null,null,null,null,null,null,null,{"$f":"IF(ISERROR(IF(C1038=\"corrective\",E1038+KPI!$P$4,IF(C1038=\"Preventative\",E1038+KPI!$P$5,\"\"))),\"\",IF(C1038=\"corrective\",E1038+KPI!$P$4,IF(C1038=\"Preventative\",E1038+KPI!$P$5,\"\")))","v":""},"Please select",null,null,null,null,null,"Please select",null,null,"",null,null,null,null,null,null,null,null,"TBD","","",null,null,0,0,1]
[null,"Please select",null,null,null,null,null,null,null,null,null,null,null,null,{"$f":"IF(ISERROR(IF(C1039=\"corrective\",E1039+KPI!$P$4,IF(C1039=\"Preventative\",E1039+KPI!$P$5,\"\"))),\"\",IF(C1039=\"corrective\",E1039+KPI!$P$4,IF(C1039=\"Preventative\",E1039+KPI!$P$5,\"\")))","v":""},"Please select",null,null,null,null,null,"Please select",null,null,"",null,null,null,null,null,null,null,null,"TBD","","",null,null,0,0,1]
[null,"Please select",null,null,null,null,null,null,null,null,null,null,null,null,{"$f":"IF(ISERROR(IF(C1040=\"corrective\",E1040+KPI!$P$4,IF(C1040=\"Preventative\",E1040+KPI!$P$5,\"\"))),\"\",IF(C1040=\"corrective\",E1040+KPI!$P$4,IF(C1040=\"Preventative\",E1040+KPI!$P$5,\"\")))","v":""},"Please select",null,null,null,null,null,"Please select",null,null,"",null,null,null,null,null,null,null,null,"TBD","","",null,null,0,0,1]
[null,"Please select",null,null,null,null,null,null,null,null,null,null,null,null,{"$f":"IF(ISERROR(IF(C1041=\"corrective\",E1041+KPI!$P$4,IF(C1041=\"Preventative\",E1041+KPI!$P$5,\"\"))),\"\",IF(C1041=\"corrective\",E1041+KPI!$P$4,IF(C1041=\"Preventative\",E1041+KPI!$P$5,\"\")))","v":""},"Please select",null,null,null,null,null,"Please select",null,null,"",null,null,null,null,null,null,null,null,"TBD","","",null,null,0,0,1]
[null,"Please select",null,null,null,null,null,null,null,null,null,null,null,null,{"$f":"IF(ISERROR(IF(C1042=\"corrective\",E1042+KPI!$P$4,IF(C1042=\"Preventative\",E1042+KPI!$P$5,\"\"))),\"\",IF(C1042=\"corrective\",E1042+KPI!$P$4,IF(C1042=\"Preventative\",E1042+KPI!$P$5,\"\")))","v":""},"Please select",null,null,null,null,null,"Please select",null,null,"",null,null,null,null,null,null,null,null,"TBD","","",null,null,0,0,1]
[null,"Please select",null,null,null,null,null,null,null,null,null,null,null,null,{"$f":"IF(ISERROR(IF(C1043=\"corrective\",E1043+KPI!$P$4,IF(C1043=\"Preventative\",E1043+KPI!$P$5,\"\"))),\"\",IF(C1043=\"corrective\",E1043+KPI!$P$4,IF(C1043=\"Preventative\",E1043+KPI!$P$5,\"\")))","v":""},"Please select",null,null,null,null,null,"Please select",null,null,"",null,null,null,null,null,null,null,null,"TBD","","",null,null,0,0,1]
[null,"Please select",null,null,null,null,null,null,null,null,null,null,null,null,{"$f":"IF(ISERROR(IF(C1044=\"corrective\",E1044+KPI!$P$4,IF(C1044=\"Preventative\",E1044+KPI!$P$5,\"\"))),\"\",IF(C1044=\"corrective\",E1044+KPI!$P$4,IF(C1044=\"Preventative\",E1044+KPI!$P$5,\"\")))","v":""},"Please select",null,null,null,null,null,"Please select",null,null,"",null,null,null,null,null,null,null,null,"TBD","","",null,null,0,0,1]
[null,"Please select",null,null,null,null,null,null,null,null,null,null,null,null,{"$f":"IF(ISERROR(IF(C1045=\"corrective\",E1045+KPI!$P$4,IF(C1045=\"Preventative\",E1045+KPI!$P$5,\"\"))),\"\",IF(C1045=\"corrective\",E1045+KPI!$P$4,IF(C1045=\"Preventative\",E1045+KPI!$P$5,\"\")))","v":""},"Please select",null,null,null,null,null,"Please select",null,null,"",null,null,null,null,null,null,null,null,"TBD","","",null,null,0,0,1]
[null,"Please select",null,null,null,null,null,null,null,null,null,null,null,null,{"$f":"IF(ISERROR(IF(C1046=\"corrective\",E1046+KPI!$P$4,IF(C1046=\"Preventative\",E1046+KPI!$P$5,\"\"))),\"\",IF(C1046=\"corrective\",E1046+KPI!$P$4,IF(C1046=\"Preventative\",E1046+KPI!$P$5,\"\")))","v":""},"Please select",null,null,null,null,null,"Please select",null,null,"",null,null,null,null,null,null,null,null,"TBD","","",null,null,0,0,1]
[null,"Please select",null,null,null,null,null,null,null,null,null,null,null,null,{"$f":"IF(ISERROR(IF(C1047=\"corrective\",E1047+KPI!$P$4,IF(C1047=\"Preventative\",E1047+KPI!$P$5,\"\"))),\"\",IF(C1047=\"corrective\",E1047+KPI!$P$4,IF(C1047=\"Preventative\",E1047+KPI!$P$5,\"\")))","v":""},"Please select",null,null,null,null,null,"Please select",null,null,"",null,null,null,null,null,null,null,null,"TBD","","",null,null,0,0,1]
[null,"Please select",null,null,null,null,null,null,null,null,null,null,null,null,{"$f":"IF(ISERROR(IF(C1048=\"corrective\",E1048+KPI!$P$4,IF(C1048=\"Preventative\",E1048+KPI!$P$5,\"\"))),\"\",IF(C1048=\"corrective\",E1048+KPI!$P$4,IF(C1048=\"Preventative\",E1048+KPI!$P$5,\"\")))","v":""},"Please select",null,null,null,null,null,"Please select",null,null,"",null,null,null,null,null,null,null,null,"TBD","","",null,null,0,0,1]
[null,"Please select",null,null,null,null,null,null,null,null,null,null,null,null,{"$f":"IF(ISERROR(IF(C1049=\"corrective\",E1049+KPI!$P$4,IF(C1049=\"Preventative\",E1049+KPI!$P$5,\"\"))),\"\",IF(C1049=\"corrective\",E1049+KPI!$P$4,IF(C1049=\"Preventative\",E1049+KPI!$P$5,\"\")))","v":""},"Please select",null,null,null,null,null,"Please select",null,null,"",null,null,null,null,null,null,null,null,"TBD","","",null,null,0,0,1]
[null,"Please select",null,null,null,null,null,null,null,null,null,null,null,null,{"$f":"IF(ISERROR(IF(C1050=\"corrective\",E1050+KPI!$P$4,IF(C1050=\"Preventative\",E1050+KPI!$P$5,\"\"))),\"\",IF(C1050=\"corrective\",E1050+KPI!$P$4,IF(C1050=\"Preventative\",E1050+KPI!$P$5,\"\")))","v":""},"Please select",null,null,null,null,null,"Please select",null,null,"",null,null,null,null,null,null,null,null,"TBD","","",null,null,0,0,1]
[null,"Please select",null,null,null,null,null,null,null,null,null,null,null,null,{"$f":"IF(ISERROR(IF(C1051=\"corrective\",E1051+KPI!$P$4,IF(C1051=\"Preventative\",E1051+KPI!$P$5,\"\"))),\"\",IF(C1051=\"corrective\",E1051+KPI!$P$4,IF(C1051=\"Preventative\",E1051+KPI!$P$5,\"\")))","v":""},"Please select",null,null,null,null,null,"Please select",null,null,"",null,null,null,null,null,null,null,null,"TBD","","",null,null,0,0,1]
[null,"Please select",null,null,null,null,null,null,null,null,null,null,null,null,{"$f":"IF(ISERROR(IF(C1052=\"corrective\",E1052+KPI!$P$4,IF(C1052=\"Preventative\",E1052+KPI!$P$5,\"\"))),\"\",IF(C1052=\"corrective\",E1052+KPI!$P$4,IF(C1052=\"Preventative\",E1052+KPI!$P$5,\"\")))","v":""},"Please select",null,null,null,null,null,"Please select",null,null,"",null,null,null,null,null,null,null,null,"TBD","","",null,null,0,0,1]
[null,"Please select",null,null,null,null,null,null,null,null,null,null,null,null,{"$f":"IF(ISERROR(IF(C1053=\"corrective\",E1053+KPI!$P$4,IF(C1053=\"Preventative\",E1053+KPI!$P$5,\"\"))),\"\",IF(C1053=\"corrective\",E1053+KPI!$P$4,IF(C1053=\"Preventative\",E1053+KPI!$P$5,\"\")))","v":""},"Please select",null,null,null,null,null,"Please select",null,null,"",null,null,null,null,null,null,null,null,"TBD","","",null,null,0,0,1]
[null,"Please select",null,null,null,null,null,null,null,null,null,null,null,null,{"$f":"IF(ISERROR(IF(C1054=\"corrective\",E1054+KPI!$P$4,IF(C1054=\"Preventative\",E1054+KPI!$P$5,\"\"))),\"\",IF(C1054=\"corrective\",E1054+KPI!$P$4,IF(C1054=\"Preventative\",E1054+KPI!$P$5,\"\")))","v":""},"Please select",null,null,null,null,null,"Please select",null,null,"",null,null,null,null,null,null,null,null,"TBD","","",null,null,0,0,1]
[null,"Please select",null,null,null,null,null,null,null,null,null,null,null,null,{"$f":"IF(ISERROR(IF(C1055=\"corrective\",E1055+KPI!$P$4,IF(C1055=\"Preventative\",E1055+KPI!$P$5,\"\"))),\"\",IF(C1055=\"corrective\",E1055+KPI!$P$4,IF(C1055=\"Preventative\",E1055+KPI!$P$5,\"\")))","v":""},"Please select",null,null,null,null,null,"Please select",null,null,"",null,null,null,null,null,null,null,null,"TBD","","",null,null,0,0,1]
[null,"Please select",null,null,null,null,null,null,null,null,null,null,null,null,{"$f":"IF(ISERROR(IF(C1056=\"corrective\",E1056+KPI!$P$4,IF(C1056=\"Preventative\",E1056+KPI!$P$5,\"\"))),\"\",IF(C1056=\"corrective\",E1056+KPI!$P$4,IF(C1056=\"Preventative\",E1056+KPI!$P$5,\"\")))","v":""},"Please select",null,null,null,null,null,"Please select",null,null,"",null,null,null,null,null,null,null,null,"TBD","","",null,null,0,0,1]
[null,"Please select",null,null,null,null,null,null,null,null,null,null,null,null,{"$f":"IF(ISERROR(IF(C1057=\"corrective\",E1057+KPI!$P$4,IF(C1057=\"Preventative\",E1057+KPI!$P$5,\"\"))),\"\",IF(C1057=\"corrective\",E1057+KPI!$P$4,IF(C1057=\"Preventative\",E1057+KPI!$P$5,\"\")))","v":""},"Please select",null,null,null,null,null,"Please select",null,null,"",null,null,null,null,null,null,null,null,"TBD","","",null,null,0,0,1]
[null,"Please select",null,null,null,null,null,null,null,null,null,null,null,null,{"$f":"IF(ISERROR(IF(C1058=\"corrective\",E1058+KPI!$P$4,IF(C1058=\"Preventative\",E1058+KPI!$P$5,\"\"))),\"\",IF(C1058=\"corrective\",E1058+KPI!$P$4,IF(C1058=\"Preventative\",E1058+KPI!$P$5,\"\")))","v":""},"Please select",null,null,null,null,null,"Please select",null,null,"",null,null,null,null,null,null,null,null,"TBD","","",null,null,0,0,1]
[null,"Please select",null,null,null,null,null,null,null,null,null,null,null,null,{"$f":"IF(ISERROR(IF(C1059=\"corrective\",E1059+KPI!$P$4,IF(C1059=\"Preventative\",E1059+KPI!$P$5,\"\"))),\"\",IF(C1059=\"corrective\",E1059+KPI!$P$4,IF(C1059=\"Preventative\",E1059+KPI!$P$5,\"\")))","v":""},"Please select",null,null,null,null,null,"Please select",null,null,"",null,null,null,null,null,null,null,null,"TBD","","",null,null,0,0,1]
[null,"Please select",null,null,null,null,null,null,null,null,null,null,null,null,{"$f":"IF(ISERROR(IF(C1060=\"corrective\",E1060+KPI!$P$4,IF(C1060=\"Preventative\",E1060+KPI!$P$5,\"\"))),\"\",IF(C1060=\"corrective\",E1060+KPI!$P$4,IF(C1060=\"Preventative\",E1060+KPI!$P$5,\"\")))","v":""},"Please select",null,null,null,null,null,"Please select",null,null,"",null,null,null,null,null,null,null,null,"TBD","","",null,null,0,0,1]
[null,"Please select",null,null,null,null,null,null,null,null,null,null,null,null,{"$f":"IF(ISERROR(IF(C1061=\"corrective\",E1061+KPI!$P$4,IF(C1061=\"Preventative\",E1061+KPI!$P$5,\"\"))),\"\",IF(C1061=\"corrective\",E1061+KPI!$P$4,IF(C1061=\"Preventative\",E1061+KPI!$P$5,\"\")))","v":""},"Please select",null,null,null,null,null,"Please select",null,null,"",null,null,null,null,null,null,null,null,"TBD","","",null,null,0,0,1]
[null,"Please select",null,null,null,null,null,null,null,null,null,null,null,null,{"$f":"IF(ISERROR(IF(C1062=\"corrective\",E1062+KPI!$P$4,IF(C1062=\"Preventative\",E1062+KPI!$P$5,\"\"))),\"\",IF(C1062=\"corrective\",E1062+KPI!$P$4,IF(C1062=\"Preventative\",E1062+KPI!$P$5,\"\")))","v":""},"Please select",null,null,null,null,null,"Please select",null,null,"",null,null,null,null,null,null,null,null,"TBD","","",null,null,0,0,1]
[null,"Please select",null,null,null,null,null,null,null,null,null,null,null,null,{"$f":"IF(ISERROR(IF(C1063=\"corrective\",E1063+KPI!$P$4,IF(C1063=\"Preventative\",E1063+KPI!$P$5,\"\"))),\"\",IF(C1063=\"corrective\",E1063+KPI!$P$4,IF(C1063=\"Preventative\",E1063+KPI!$P$5,\"\")))","v":""},"Please select",null,null,null,null,null,"Please select",null,null,"",null,null,null,null,null,null,null,null,"TBD","","",null,null,0,0,1]
[null,"Please select",null,null,null,null,null,null,null,null,null,null,null,null,{"$f":"IF(ISERROR(IF(C1064=\"corrective\",E1064+KPI!$P$4,IF(C1064=\"Preventative\",E1064+KPI!$P$5,\"\"))),\"\",IF(C1064=\"corrective\",E1064+KPI!$P$4,IF(C1064=\"Preventative\",E1064+KPI!$P$5,\"\")))","v":""},"Please select",null,null,null,null,null,"Please select",null,null,"",null,null,null,null,null,null,null,null,"TBD","","",null,null,0,0,1]
[null,"Please select",null,null,null,null,null,null,null,null,null,null,null,null,{"$f":"IF(ISERROR(IF(C1065=\"corrective\",E1065+KPI!$P$4,IF(C1065=\"Preventative\",E1065+KPI!$P$5,\"\"))),\"\",IF(C1065=\"corrective\",E1065+KPI!$P$4,IF(C1065=\"Preventative\",E1065+KPI!$P$5,\"\")))","v":""},"Please select",null,null,null,null,null,"Please select",null,null,"",null,null,null,null,null,null,null,null,"TBD","","",null,null,0,0,1]
[null,"Please select",null,null,null,null,null,null,null,null,null,null,null,null,{"$f":"IF(ISERROR(IF(C1066=\"corrective\",E1066+KPI!$P$4,IF(C1066=\"Preventative\",E1066+KPI!$P$5,\"\"))),\"\",IF(C1066=\"corrective\",E1066+KPI!$P$4,IF(C1066=\"Preventative\",E1066+KPI!$P$5,\"\")))","v":""},"Please select",null,null,null,null,null,"Please select",null,null,"",null,null,null,null,null,null,null,null,"TBD","","",null,null,0,0,1]
[null,"Please select",null,null,null,null,null,null,null,null,null,null,null,null,{"$f":"IF(ISERROR(IF(C1067=\"corrective\",E1067+KPI!$P$4,IF(C1067=\"Preventative\",E1067+KPI!$P$5,\"\"))),\"\",IF(C1067=\"corrective\",E1067+KPI!$P$4,IF(C1067=\"Preventative\",E1067+KPI!$P$5,\"\")))","v":""},"Please select",null,null,null,null,null,"Please select",null,null,"",null,null,null,null,null,null,null,null,"TBD","","",null,null,0,0,1]
[null,"Please select",null,null,null,null,null,null,null,null,null,null,null,null,{"$f":"IF(ISERROR(IF(C1068=\"corrective\",E1068+KPI!$P$4,IF(C1068=\"Preventative\",E1068+KPI!$P$5,\"\"))),\"\",IF(C1068=\"corrective\",E1068+KPI!$P$4,IF(C1068=\"Preventative\",E1068+KPI!$P$5,\"\")))","v":""},"Please select",null,null,null,null,null,"Please select",null,null,"",null,null,null,null,null,null,null,null,"TBD","","",null,null,0,0,1]
[null,"Please select",null,null,null,null,null,null,null,null,null,null,null,null,{"$f":"IF(ISERROR(IF(C1069=\"corrective\",E1069+KPI!$P$4,IF(C1069=\"Preventative\",E1069+KPI!$P$5,\"\"))),\"\",IF(C1069=\"corrective\",E1069+KPI!$P$4,IF(C1069=\"Preventative\",E1069+KPI!$P$5,\"\")))","v":""},"Please select",null,null,null,null,null,"Please select",null,null,"",null,null,null,null,null,null,null,null,"TBD","","",null,null,0,0,1]
[null,"Please select",null,null,null,null,null,null,null,null,null,null,null,null,{"$f":"IF(ISERROR(IF(C1070=\"corrective\",E1070+KPI!$P$4,IF(C1070=\"Preventative\",E1070+KPI!$P$5,\"\"))),\"\",IF(C1070=\"corrective\",E1070+KPI!$P$4,IF(C1070=\"Preventative\",E1070+KPI!$P$5,\"\")))","v":""},"Please select",null,null,null,null,null,"Please select",null,null,"",null,null,null,null,null,null,null,null,"TBD","","",null,null,0,0,1]
[null,"Please select",null,null,null,null,null,null,null,null,null,null,null,null,{"$f":"IF(ISERROR(IF(C1071=\"corrective\",E1071+KPI!$P$4,IF(C1071=\"Preventative\",E1071+KPI!$P$5,\"\"))),\"\",IF(C1071=\"corrective\",E1071+KPI!$P$4,IF(C1071=\"Preventative\",E1071+KPI!$P$5,\"\")))","v":""},{"$f":"IF(AND(O1071<TODAY(),B1071=\"new\"),\"New - Overdue\",B1071)","v":"Please select"},null,null,null,null,null,"Please select",null,null,{"$f":"Z1071&AA1071&AB1071&AC1071&AD1071&AE1071","v":""},null,null,null,null,null,null,null,null,"TBD",{"$f":"IF(ISERROR(AJ1071-20),\"\",AJ1071-20)","v":""},{"$f":"IF(ISERROR(IF(C1071=\"corrective\",E1071+AH1071,\"\")),\"\",IF(C1071=\"corrective\",E1071+AH1071,\"\"))","v":""},null,null,0,0,{"$f":"COUNTIF(AN1071,\">400\")+COUNTIF(AN1071,\"=0\")","v":1}]
[null,"Please select",null,null,null,null,null,null,null,null,null,null,null,null,{"$f":"IF(ISERROR(IF(C1072=\"corrective\",E1072+KPI!$P$4,IF(C1072=\"Preventative\",E1072+KPI!$P$5,\"\"))),\"\",IF(C1072=\"corrective\",E1072+KPI!$P$4,IF(C1072=\"Preventative\",E1072+KPI!$P$5,\"\")))","v":""},"Please select",null,null,null,null,null,"Please select",null,null,"",null,null,null,null,null,null,null,null,"TBD","","",null,null,0,0,1]
[null,"Please select",null,null,null,null,null,null,null,null,null,null,null,null,{"$f":"IF(ISERROR(IF(C1073=\"corrective\",E1073+KPI!$P$4,IF(C1073=\"Preventative\",E1073+KPI!$P$5,\"\"))),\"\",IF(C1073=\"corrective\",E1073+KPI!$P$4,IF(C1073=\"Preventative\",E1073+KPI!$P$5,\"\")))","v":""},"Please select",null,null,null,null,null,"Please select",null,null,"",null,null,null,null,null,null,null,null,"TBD","","",null,null,0,0,1]
[null,"Please select",null,null,null,null,null,null,null,null,null,null,null,null,{"$f":"IF(ISERROR(IF(C1074=\"corrective\",E1074+KPI!$P$4,IF(C1074=\"Preventative\",E1074+KPI!$P$5,\"\"))),\"\",IF(C1074=\"corrective\",E1074+KPI!$P$4,IF(C1074=\"Preventative\",E1074+KPI!$P$5,\"\")))","v":""},"Please select",null,null,null,null,null,"Please select",null,null,"",null,null,null,null,null,null,null,null,"TBD","","",null,null,0,0,1]
[null,"Please select",null,null,null,null,null,null,null,null,null,null,null,null,{"$f":"IF(ISERROR(IF(C1075=\"corrective\",E1075+KPI!$P$4,IF(C1075=\"Preventative\",E1075+KPI!$P$5,\"\"))),\"\",IF(C1075=\"corrective\",E1075+KPI!$P$4,IF(C1075=\"Preventative\",E1075+KPI!$P$5,\"\")))","v":""},"Please select",null,null,null,null,null,"Please select",null,null,"",null,null,null,null,null,null,null,null,"TBD","","",null,null,0,0,1]
[null,"Please select",null,null,null,null,null,null,null,null,null,null,null,null,{"$f":"IF(ISERROR(IF(C1076=\"corrective\",E1076+KPI!$P$4,IF(C1076=\"Preventative\",E1076+KPI!$P$5,\"\"))),\"\",IF(C1076=\"corrective\",E1076+KPI!$P$4,IF(C1076=\"Preventative\",E1076+KPI!$P$5,\"\")))","v":""},"Please select",null,null,null,null,null,"Please select",null,null,"",null,null,null,null,null,null,null,null,"TBD","","",null,null,0,0,1]
[null,"Please select",null,null,null,null,null,null,null,null,null,null,null,null,{"$f":"IF(ISERROR(IF(C1077=\"corrective\",E1077+KPI!$P$4,IF(C1077=\"Preventative\",E1077+KPI!$P$5,\"\"))),\"\",IF(C1077=\"corrective\",E1077+KPI!$P$4,IF(C1077=\"Preventative\",E1077+KPI!$P$5,\"\")))","v":""},"Please select",null,null,null,null,null,"Please select",null,null,"",null,null,null,null,null,null,null,null,"TBD","","",null,null,0,0,1]
[null,"Please select",null,null,null,null,null,null,null,null,null,null,null,null,{"$f":"IF(ISERROR(IF(C1078=\"corrective\",E1078+KPI!$P$4,IF(C1078=\"Preventative\",E1078+KPI!$P$5,\"\"))),\"\",IF(C1078=\"corrective\",E1078+KPI!$P$4,IF(C1078=\"Preventative\",E1078+KPI!$P$5,\"\")))","v":""},"Please select",null,null,null,null,null,"Please select",null,null,"",null,null,null,null,null,null,null,null,"TBD","","",null,null,0,0,1]
[null,"Please select",null,null,null,null,null,null,null,null,null,null,null,null,{"$f":"IF(ISERROR(IF(C1079=\"corrective\",E1079+KPI!$P$4,IF(C1079=\"Preventative\",E1079+KPI!$P$5,\"\"))),\"\",IF(C1079=\"corrective\",E1079+KPI!$P$4,IF(C1079=\"Preventative\",E1079+KPI!$P$5,\"\")))","v":""},"Please select",null,null,null,null,null,"Please select",null,null,"",null,null,null,null,null,null,null,null,"TBD","","",null,null,0,0,1]
[null,"Please select",null,null,null,null,null,null,null,null,null,null,null,null,{"$f":"IF(ISERROR(IF(C1080=\"corrective\",E1080+KPI!$P$4,IF(C1080=\"Preventative\",E1080+KPI!$P$5,\"\"))),\"\",IF(C1080=\"corrective\",E1080+KPI!$P$4,IF(C1080=\"Preventative\",E1080+KPI!$P$5,\"\")))","v":""},"Please select",null,null,null,null,null,"Please select",null,null,"",null,null,null,null,null,null,null,null,"TBD","","",null,null,0,0,1]
[null,"Please select",null,null,null,null,null,null,null,null,null,null,null,null,{"$f":"IF(ISERROR(IF(C1081=\"corrective\",E1081+KPI!$P$4,IF(C1081=\"Preventative\",E1081+KPI!$P$5,\"\"))),\"\",IF(C1081=\"corrective\",E1081+KPI!$P$4,IF(C1081=\"Preventative\",E1081+KPI!$P$5,\"\")))","v":""},"Please select",null,null,null,null,null,"Please select",null,null,"",null,null,null,null,null,null,null,null,"TBD","","",null,null,0,0,1]
[null,"Please select",null,null,null,null,null,null,null,null,null,null,null,null,{"$f":"IF(ISERROR(IF(C1082=\"corrective\",E1082+KPI!$P$4,IF(C1082=\"Preventative\",E1082+KPI!$P$5,\"\"))),\"\",IF(C1082=\"corrective\",E1082+KPI!$P$4,IF(C1082=\"Preventative\",E1082+KPI!$P$5,\"\")))","v":""},"Please select",null,null,null,null,null,"Please select",null,null,"",null,null,null,null,null,null,null,null,"TBD","","",null,null,0,0,1]
[null,"Please select",null,null,null,null,null,null,null,null,null,null,null,null,{"$f":"IF(ISERROR(IF(C1083=\"corrective\",E1083+KPI!$P$4,IF(C1083=\"Preventative\",E1083+KPI!$P$5,\"\"))),\"\",IF(C1083=\"corrective\",E1083+KPI!$P$4,IF(C1083=\"Preventative\",E1083+KPI!$P$5,\"\")))","v":""},"Please select",null,null,null,null,null,"Please select",null,null,"",null,null,null,null,null,null,null,null,"TBD","","",null,null,0,0,1]
[null,"Please select",null,null,null,null,null,null,null,null,null,null,null,null,{"$f":"IF(ISERROR(IF(C1084=\"corrective\",E1084+KPI!$P$4,IF(C1084=\"Preventative\",E1084+KPI!$P$5,\"\"))),\"\",IF(C1084=\"corrective\",E1084+KPI!$P$4,IF(C1084=\"Preventative\",E1084+KPI!$P$5,\"\")))","v":""},"Please select",null,null,null,null,null,"Please select",null,null,"",null,null,null,null,null,null,null,null,"TBD","","",null,null,0,0,1]
[null,"Please select",null,null,null,null,null,null,null,null,null,null,null,null,{"$f":"IF(ISERROR(IF(C1085=\"corrective\",E1085+KPI!$P$4,IF(C1085=\"Preventative\",E1085+KPI!$P$5,\"\"))),\"\",IF(C1085=\"corrective\",E1085+KPI!$P$4,IF(C1085=\"Preventative\",E1085+KPI!$P$5,\"\")))","v":""},"Please select",null,null,null,null,null,"Please select",null,null,"",null,null,null,null,null,null,null,null,"TBD","","",null,null,0,0,1]
[null,"Please select",null,null,null,null,null,null,null,null,null,null,null,null,{"$f":"IF(ISERROR(IF(C1086=\"corrective\",E1086+KPI!$P$4,IF(C1086=\"Preventative\",E1086+KPI!$P$5,\"\"))),\"\",IF(C1086=\"corrective\",E1086+KPI!$P$4,IF(C1086=\"Preventative\",E1086+KPI!$P$5,\"\")))","v":""},"Please select",null,null,null,null,null,"Please select",null,null,"",null,null,null,null,null,null,null,null,"TBD","","",null,null,0,0,1]
[null,"Please select",null,null,null,null,null,null,null,null,null,null,null,null,{"$f":"IF(ISERROR(IF(C1087=\"corrective\",E1087+KPI!$P$4,IF(C1087=\"Preventative\",E1087+KPI!$P$5,\"\"))),\"\",IF(C1087=\"corrective\",E1087+KPI!$P$4,IF(C1087=\"Preventative\",E1087+KPI!$P$5,\"\")))","v":""},"Please select",null,null,null,null,null,"Please select",null,null,"",null,null,null,null,null,null,null,null,"TBD","","",null,null,0,0,1]
[null,"Please select",null,null,null,null,null,null,null,null,null,null,null,null,{"$f":"IF(ISERROR(IF(C1088=\"corrective\",E1088+KPI!$P$4,IF(C1088=\"Preventative\",E1088+KPI!$P$5,\"\"))),\"\",IF(C1088=\"corrective\",E1088+KPI!$P$4,IF(C1088=\"Preventative\",E1088+KPI!$P$5,\"\")))","v":""},"Please select",null,null,null,null,null,"Please select",null,null,"",null,null,null,null,null,null,null,null,"TBD","","",null,null,0,0,1]
[null,"Please select",null,null,null,null,null,null,null,null,null,null,null,null,{"$f":"IF(ISERROR(IF(C1089=\"corrective\",E1089+KPI!$P$4,IF(C1089=\"Preventative\",E1089+KPI!$P$5,\"\"))),\"\",IF(C1089=\"corrective\",E1089+KPI!$P$4,IF(C1089=\"Preventative\",E1089+KPI!$P$5,\"\")))","v":""},"Please select",null,null,null,null,null,"Please select",null,null,"",null,null,null,null,null,null,null,null,"TBD","","",null,null,0,0,1]
[null,"Please select",null,null,null,null,null,null,null,null,null,null,null,null,{"$f":"IF(ISERROR(IF(C1090=\"corrective\",E1090+KPI!$P$4,IF(C1090=\"Preventative\",E1090+KPI!$P$5,\"\"))),\"\",IF(C1090=\"corrective\",E1090+KPI!$P$4,IF(C1090=\"Preventative\",E1090+KPI!$P$5,\"\")))","v":""},"Please select",null,null,null,null,null,"Please select",null,null,"",null,null,null,null,null,null,null,null,"TBD","","",null,null,{"$f":"IF(ISERROR(DATEDIF(E1090,Q1090,\"D\")),\"\",DATEDIF(E1090,Q1090,\"D\"))","v":0},{"$f":"IF(ISERROR(DATEDIF(Q1090,X1090,\"D\")),\"\",DATEDIF(Q1090,X1090,\"D\"))","v":0},1]
[null,"Please select",null,null,null,null,null,null,null,null,null,null,null,null,{"$f":"IF(ISERROR(IF(C1091=\"corrective\",E1091+KPI!$P$4,IF(C1091=\"Preventative\",E1091+KPI!$P$5,\"\"))),\"\",IF(C1091=\"corrective\",E1091+KPI!$P$4,IF(C1091=\"Preventative\",E1091+KPI!$P$5,\"\")))","v":""},"Please select",null,null,null,null,null,"Please select",null,null,"",null,null,null,null,null,null,null,null,"TBD","","",null,null,0,0,1]
[null,"Please select",null,null,null,null,null,null,null,null,null,null,null,null,{"$f":"IF(ISERROR(IF(C1092=\"corrective\",E1092+KPI!$P$4,IF(C1092=\"Preventative\",E1092+KPI!$P$5,\"\"))),\"\",IF(C1092=\"corrective\",E1092+KPI!$P$4,IF(C1092=\"Preventative\",E1092+KPI!$P$5,\"\")))","v":""},"Please select",null,null,null,null,null,"Please select",null,null,"",null,null,null,null,null,null,null,null,"TBD","","",null,null,0,0,1]
[null,"Please select",null,null,null,null,null,null,null,null,null,null,null,null,{"$f":"IF(ISERROR(IF(C1093=\"corrective\",E1093+KPI!$P$4,IF(C1093=\"Preventative\",E1093+KPI!$P$5,\"\"))),\"\",IF(C1093=\"corrective\",E1093+KPI!$P$4,IF(C1093=\"Preventative\",E1093+KPI!$P$5,\"\")))","v":""},"Please select",null,null,null,null,null,"Please select",null,null,"",null,null,null,null,null,null,null,null,"TBD","","",null,null,0,0,1]
[null,"Please select",null,null,null,null,null,null,null,null,null,null,null,null,{"$f":"IF(ISERROR(IF(C1094=\"corrective\",E1094+KPI!$P$4,IF(C1094=\"Preventative\",E1094+KPI!$P$5,\"\"))),\"\",IF(C1094=\"corrective\",E1094+KPI!$P$4,IF(C1094=\"Preventative\",E1094+KPI!$P$5,\"\")))","v":""},"Please select",null,null,null,null,null,"Please select",null,null,"",null,null,null,null,null,null,null,null,"TBD","","",null,null,0,0,1]
[null,"Please select",null,null,null,null,null,null,null,null,null,null,null,null,{"$f":"IF(ISERROR(IF(C1095=\"corrective\",E1095+KPI!$P$4,IF(C1095=\"Preventative\",E1095+KPI!$P$5,\"\"))),\"\",IF(C1095=\"corrective\",E1095+KPI!$P$4,IF(C1095=\"Preventative\",E1095+KPI!$P$5,\"\")))","v":""},"Please select",null,null,null,null,null,"Please select",null,null,"",null,null,null,null,null,null,null,null,"TBD","","",null,null,0,0,1]
[null,"Please select",null,null,null,null,null,null,null,null,null,null,null,null,{"$f":"IF(ISERROR(IF(C1096=\"corrective\",E1096+KPI!$P$4,IF(C1096=\"Preventative\",E1096+KPI!$P$5,\"\"))),\"\",IF(C1096=\"corrective\",E1096+KPI!$P$4,IF(C1096=\"Preventative\",E1096+KPI!$P$5,\"\")))","v":""},"Please select",null,null,null,null,null,"Please select",null,null,"",null,null,null,null,null,null,null,null,"TBD","","",null,null,0,0,1]
[null,"Please select",null,null,null,null,null,null,null,null,null,null,null,null,{"$f":"IF(ISERROR(IF(C1097=\"corrective\",E1097+KPI!$P$4,IF(C1097=\"Preventative\",E1097+KPI!$P$5,\"\"))),\"\",IF(C1097=\"corrective\",E1097+KPI!$P$4,IF(C1097=\"Preventative\",E1097+KPI!$P$5,\"\")))","v":""},"Please select",null,null,null,null,null,"Please select",null,null,"",null,null,null,null,null,null,null,null,"TBD","","",null,null,0,0,1]
[null,"Please select",null,null,null,null,null,null,null,null,null,null,null,null,{"$f":"IF(ISERROR(IF(C1098=\"corrective\",E1098+KPI!$P$4,IF(C1098=\"Preventative\",E1098+KPI!$P$5,\"\"))),\"\",IF(C1098=\"corrective\",E1098+KPI!$P$4,IF(C1098=\"Preventative\",E1098+KPI!$P$5,\"\")))","v":""},"Please select",null,null,null,null,null,"Please select",null,null,"",null,null,null,null,null,null,null,null,"TBD","","",null,null,0,0,1]
[null,"Please select",null,null,null,null,null,null,null,null,null,null,null,null,{"$f":"IF(ISERROR(IF(C1099=\"corrective\",E1099+KPI!$P$4,IF(C1099=\"Preventative\",E1099+KPI!$P$5,\"\"))),\"\",IF(C1099=\"corrective\",E1099+KPI!$P$4,IF(C1099=\"Preventative\",E1099+KPI!$P$5,\"\")))","v":""},"Please select",null,null,null,null,null,"Please select",null,null,"",null,null,null,null,null,null,null,null,"TBD","","",null,null,0,0,1]
[null,"Please select",null,null,null,null,null,null,null,null,null,null,null,null,{"$f":"IF(ISERROR(IF(C1100=\"corrective\",E1100+KPI!$P$4,IF(C1100=\"Preventative\",E1100+KPI!$P$5,\"\"))),\"\",IF(C1100=\"corrective\",E1100+KPI!$P$4,IF(C1100=\"Preventative\",E1100+KPI!$P$5,\"\")))","v":""},"Please select",null,null,null,null,null,"Please select",null,null,"",null,null,null,null,null,null,null,null,"TBD","","",null,null,0,0,1]
[null,"Please select",null,null,null,null,null,null,null,null,null,null,null,null,{"$f":"IF(ISERROR(IF(C1101=\"corrective\",E1101+KPI!$P$4,IF(C1101=\"Preventative\",E1101+KPI!$P$5,\"\"))),\"\",IF(C1101=\"corrective\",E1101+KPI!$P$4,IF(C1101=\"Preventative\",E1101+KPI!$P$5,\"\")))","v":""},"Please select",null,null,null,null,null,"Please select",null,null,"",null,null,null,null,null,null,null,null,"TBD","","",null,null,0,0,1]
[null,"Please select",null,null,null,null,null,null,null,null,null,null,null,null,{"$f":"IF(ISERROR(IF(C1102=\"corrective\",E1102+KPI!$P$4,IF(C1102=\"Preventative\",E1102+KPI!$P$5,\"\"))),\"\",IF(C1102=\"corrective\",E1102+KPI!$P$4,IF(C1102=\"Preventative\",E1102+KPI!$P$5,\"\")))","v":""},"Please select",null,null,null,null,null,"Please select",null,null,"",null,null,null,null,null,null,null,null,"TBD","","",null,null,0,0,1]
[null,"Please select",null,null,null,null,null,null,null,null,null,null,null,null,{"$f":"IF(ISERROR(IF(C1103=\"corrective\",E1103+KPI!$P$4,IF(C1103=\"Preventative\",E1103+KPI!$P$5,\"\"))),\"\",IF(C1103=\"corrective\",E1103+KPI!$P$4,IF(C1103=\"Preventative\",E1103+KPI!$P$5,\"\")))","v":""},"Please select",null,null,null,null,null,"Please select",null,null,"",null,null,null,null,null,null,null,null,"TBD","","",null,null,0,0,1]
[null,"Please select",null,null,null,null,null,null,null,null,null,null,null,null,{"$f":"IF(ISERROR(IF(C1104=\"corrective\",E1104+KPI!$P$4,IF(C1104=\"Preventative\",E1104+KPI!$P$5,\"\"))),\"\",IF(C1104=\"corrective\",E1104+KPI!$P$4,IF(C1104=\"Preventative\",E1104+KPI!$P$5,\"\")))","v":""},"Please select",null,null,null,null,null,"Please select",null,null,"",null,null,null,null,null,null,null,null,"TBD","","",null,null,0,0,1]
[null,"Please select",null,null,null,null,null,null,null,null,null,null,null,null,{"$f":"IF(ISERROR(IF(C1105=\"corrective\",E1105+KPI!$P$4,IF(C1105=\"Preventative\",E1105+KPI!$P$5,\"\"))),\"\",IF(C1105=\"corrective\",E1105+KPI!$P$4,IF(C1105=\"Preventative\",E1105+KPI!$P$5,\"\")))","v":""},"Please select",null,null,null,null,null,"Please select",null,null,"",null,null,null,null,null,null,null,null,"TBD","","",null,null,0,0,1]
[null,"Please select",null,null,null,null,null,null,null,null,null,null,null,null,{"$f":"IF(ISERROR(IF(C1106=\"corrective\",E1106+KPI!$P$4,IF(C1106=\"Preventative\",E1106+KPI!$P$5,\"\"))),\"\",IF(C1106=\"corrective\",E1106+KPI!$P$4,IF(C1106=\"Preventative\",E1106+KPI!$P$5,\"\")))","v":""},"Please select",null,null,null,null,null,"Please select",null,null,"",null,null,null,null,null,null,null,null,"TBD","","",null,null,0,0,1]
[null,"Please select",null,null,null,null,null,null,null,null,null,null,null,null,{"$f":"IF(ISERROR(IF(C1107=\"corrective\",E1107+KPI!$P$4,IF(C1107=\"Preventative\",E1107+KPI!$P$5,\"\"))),\"\",IF(C1107=\"corrective\",E1107+KPI!$P$4,IF(C1107=\"Preventative\",E1107+KPI!$P$5,\"\")))","v":""},"Please select",null,null,null,null,null,"Please select",null,null,"",null,null,null,null,null,null,null,null,"TBD","","",null,null,0,0,1]
[null,"Please select",null,null,null,null,null,null,null,null,null,null,null,null,{"$f":"IF(ISERROR(IF(C1108=\"corrective\",E1108+KPI!$P$4,IF(C1108=\"Preventative\",E1108+KPI!$P$5,\"\"))),\"\",IF(C1108=\"corrective\",E1108+KPI!$P$4,IF(C1108=\"Preventative\",E1108+KPI!$P$5,\"\")))","v":""},"Please select",null,null,null,null,null,"Please select",null,null,"",null,null,null,null,null,null,null,null,"TBD","","",null,null,0,0,1]
[null,"Please select",null,null,null,null,null,null,null,null,null,null,null,null,{"$f":"IF(ISERROR(IF(C1109=\"corrective\",E1109+KPI!$P$4,IF(C1109=\"Preventative\",E1109+KPI!$P$5,\"\"))),\"\",IF(C1109=\"corrective\",E1109+KPI!$P$4,IF(C1109=\"Preventative\",E1109+KPI!$P$5,\"\")))","v":""},"Please select",null,null,null,null,null,"Please select",null,null,"",null,null,null,null,null,null,null,null,"TBD","","",null,null,0,0,1]
[null,"Please select",null,null,null,null,null,null,null,null,null,null,null,null,{"$f":"IF(ISERROR(IF(C1110=\"corrective\",E1110+KPI!$P$4,IF(C1110=\"Preventative\",E1110+KPI!$P$5,\"\"))),\"\",IF(C1110=\"corrective\",E1110+KPI!$P$4,IF(C1110=\"Preventative\",E1110+KPI!$P$5,\"\")))","v":""},"Please select",null,null,null,null,null,"Please select",null,null,"",null,null,null,null,null,null,null,null,"TBD","","",null,null,0,0,1]
[null,"Please select",null,null,null,null,null,null,null,null,null,null,null,null,{"$f":"IF(ISERROR(IF(C1111=\"corrective\",E1111+KPI!$P$4,IF(C1111=\"Preventative\",E1111+KPI!$P$5,\"\"))),\"\",IF(C1111=\"corrective\",E1111+KPI!$P$4,IF(C1111=\"Preventative\",E1111+KPI!$P$5,\"\")))","v":""},"Please select",null,null,null,null,null,"Please select",null,null,"",null,null,null,null,null,null,null,null,"TBD","","",null,null,0,0,1]
[null,"Please select",null,null,null,null,null,null,null,null,null,null,null,null,{"$f":"IF(ISERROR(IF(C1112=\"corrective\",E1112+KPI!$P$4,IF(C1112=\"Preventative\",E1112+KPI!$P$5,\"\"))),\"\",IF(C1112=\"corrective\",E1112+KPI!$P$4,IF(C1112=\"Preventative\",E1112+KPI!$P$5,\"\")))","v":""},"Please select",null,null,null,null,null,"Please select",null,null,"",null,null,null,null,null,null,null,null,"TBD","","",null,null,0,0,1]
[null,"Please select",null,null,null,null,null,null,null,null,null,null,null,null,{"$f":"IF(ISERROR(IF(C1113=\"corrective\",E1113+KPI!$P$4,IF(C1113=\"Preventative\",E1113+KPI!$P$5,\"\"))),\"\",IF(C1113=\"corrective\",E1113+KPI!$P$4,IF(C1113=\"Preventative\",E1113+KPI!$P$5,\"\")))","v":""},"Please select",null,null,null,null,null,"Please select",null,null,"",null,null,null,null,null,null,null,null,"TBD","","",null,null,0,0,1]
[null,"Please select",null,null,null,null,null,null,null,null,null,null,null,null,{"$f":"IF(ISERROR(IF(C1114=\"corrective\",E1114+KPI!$P$4,IF(C1114=\"Preventative\",E1114+KPI!$P$5,\"\"))),\"\",IF(C1114=\"corrective\",E1114+KPI!$P$4,IF(C1114=\"Preventative\",E1114+KPI!$P$5,\"\")))","v":""},"Please select",null,null,null,null,null,"Please select",null,null,"",null,null,null,null,null,null,null,null,"TBD","","",null,null,0,0,1]
[null,"Please select",null,null,null,null,null,null,null,null,null,null,null,null,{"$f":"IF(ISERROR(IF(C1115=\"corrective\",E1115+KPI!$P$4,IF(C1115=\"Preventative\",E1115+KPI!$P$5,\"\"))),\"\",IF(C1115=\"corrective\",E1115+KPI!$P$4,IF(C1115=\"Preventative\",E1115+KPI!$P$5,\"\")))","v":""},"Please select",null,null,null,null,null,"Please select",null,null,"",null,null,null,null,null,null,null,null,"TBD","","",null,null,0,0,1]
[null,"Please select",null,null,null,null,null,null,null,null,null,null,null,null,{"$f":"IF(ISERROR(IF(C1116=\"corrective\",E1116+KPI!$P$4,IF(C1116=\"Preventative\",E1116+KPI!$P$5,\"\"))),\"\",IF(C1116=\"corrective\",E1116+KPI!$P$4,IF(C1116=\"Preventative\",E1116+KPI!$P$5,\"\")))","v":""},"Please select",null,null,null,null,null,"Please select",null,null,"",null,null,null,null,null,null,null,null,"TBD","","",null,null,0,0,1]
[null,"Please select",null,null,null,null,null,null,null,null,null,null,null,null,{"$f":"IF(ISERROR(IF(C1117=\"corrective\",E1117+KPI!$P$4,IF(C1117=\"Preventative\",E1117+KPI!$P$5,\"\"))),\"\",IF(C1117=\"corrective\",E1117+KPI!$P$4,IF(C1117=\"Preventative\",E1117+KPI!$P$5,\"\")))","v":""},"Please select",null,null,null,null,null,"Please select",null,null,"",null,null,null,null,null,null,null,null,"TBD","","",null,null,0,0,1]
[null,"Please select",null,null,null,null,null,null,null,null,null,null,null,null,{"$f":"IF(ISERROR(IF(C1118=\"corrective\",E1118+KPI!$P$4,IF(C1118=\"Preventative\",E1118+KPI!$P$5,\"\"))),\"\",IF(C1118=\"corrective\",E1118+KPI!$P$4,IF(C1118=\"Preventative\",E1118+KPI!$P$5,\"\")))","v":""},"Please select",null,null,null,null,null,"Please select",null,null,"",null,null,null,null,null,null,null,null,"TBD","","",null,null,0,0,1]
[null,"Please select",null,null,null,null,null,null,null,null,null,null,null,null,{"$f":"IF(ISERROR(IF(C1119=\"corrective\",E1119+KPI!$P$4,IF(C1119=\"Preventative\",E1119+KPI!$P$5,\"\"))),\"\",IF(C1119=\"corrective\",E1119+KPI!$P$4,IF(C1119=\"Preventative\",E1119+KPI!$P$5,\"\")))","v":""},"Please select",null,null,null,null,null,"Please select",null,null,"",null,null,null,null,null,null,null,null,"TBD","","",null,null,0,0,1]
[null,"Please select",null,null,null,null,null,null,null,null,null,null,null,null,{"$f":"IF(ISERROR(IF(C1120=\"corrective\",E1120+KPI!$P$4,IF(C1120=\"Preventative\",E1120+KPI!$P$5,\"\"))),\"\",IF(C1120=\"corrective\",E1120+KPI!$P$4,IF(C1120=\"Preventative\",E1120+KPI!$P$5,\"\")))","v":""},"Please select",null,null,null,null,null,"Please select",null,null,"",null,null,null,null,null,null,null,null,"TBD","","",null,null,0,0,1]
[null,"Please select",null,null,null,null,null,null,null,null,null,null,null,null,{"$f":"IF(ISERROR(IF(C1121=\"corrective\",E1121+KPI!$P$4,IF(C1121=\"Preventative\",E1121+KPI!$P$5,\"\"))),\"\",IF(C1121=\"corrective\",E1121+KPI!$P$4,IF(C1121=\"Preventative\",E1121+KPI!$P$5,\"\")))","v":""},"Please select",null,null,null,null,null,"Please select",null,null,"",null,null,null,null,null,null,null,null,"TBD","","",null,null,0,0,1]
[null,"Please select",null,null,null,null,null,null,null,null,null,null,null,null,{"$f":"IF(ISERROR(IF(C1122=\"corrective\",E1122+KPI!$P$4,IF(C1122=\"Preventative\",E1122+KPI!$P$5,\"\"))),\"\",IF(C1122=\"corrective\",E1122+KPI!$P$4,IF(C1122=\"Preventative\",E1122+KPI!$P$5,\"\")))","v":""},"Please select",null,null,null,null,null,"Please select",null,null,"",null,null,null,null,null,null,null,null,"TBD","","",null,null,0,0,1]
[null,"Please select",null,null,null,null,null,null,null,null,null,null,null,null,{"$f":"IF(ISERROR(IF(C1123=\"corrective\",E1123+KPI!$P$4,IF(C1123=\"Preventative\",E1123+KPI!$P$5,\"\"))),\"\",IF(C1123=\"corrective\",E1123+KPI!$P$4,IF(C1123=\"Preventative\",E1123+KPI!$P$5,\"\")))","v":""},"Please select",null,null,null,null,null,"Please select",null,null,"",null,null,null,null,null,null,null,null,"TBD","","",null,null,0,0,1]
[null,"Please select",null,null,null,null,null,null,null,null,null,null,null,null,{"$f":"IF(ISERROR(IF(C1124=\"corrective\",E1124+KPI!$P$4,IF(C1124=\"Preventative\",E1124+KPI!$P$5,\"\"))),\"\",IF(C1124=\"corrective\",E1124+KPI!$P$4,IF(C1124=\"Preventative\",E1124+KPI!$P$5,\"\")))","v":""},"Please select",null,null,null,null,null,"Please select",null,null,"",null,null,null,null,null,null,null,null,"TBD","","",null,null,0,0,1]
[null,"Please select",null,null,null,null,null,null,null,null,null,null,null,null,{"$f":"IF(ISERROR(IF(C1125=\"corrective\",E1125+KPI!$P$4,IF(C1125=\"Preventative\",E1125+KPI!$P$5,\"\"))),\"\",IF(C1125=\"corrective\",E1125+KPI!$P$4,IF(C1125=\"Preventative\",E1125+KPI!$P$5,\"\")))","v":""},"Please select",null,null,null,null,null,"Please select",null,null,"",null,null,null,null,null,null,null,null,"TBD","","",null,null,0,0,1]
[null,"Please select",null,null,null,null,null,null,null,null,null,null,null,null,{"$f":"IF(ISERROR(IF(C1126=\"corrective\",E1126+KPI!$P$4,IF(C1126=\"Preventative\",E1126+KPI!$P$5,\"\"))),\"\",IF(C1126=\"corrective\",E1126+KPI!$P$4,IF(C1126=\"Preventative\",E1126+KPI!$P$5,\"\")))","v":""},"Please select",null,null,null,null,null,"Please select",null,null,"",null,null,null,null,null,null,null,null,"TBD","","",null,null,0,0,1]
[null,"Please select",null,null,null,null,null,null,null,null,null,null,null,null,{"$f":"IF(ISERROR(IF(C1127=\"corrective\",E1127+KPI!$P$4,IF(C1127=\"Preventative\",E1127+KPI!$P$5,\"\"))),\"\",IF(C1127=\"corrective\",E1127+KPI!$P$4,IF(C1127=\"Preventative\",E1127+KPI!$P$5,\"\")))","v":""},"Please select",null,null,null,null,null,"Please select",null,null,"",null,null,null,null,null,null,null,null,"TBD","","",null,null,0,0,1]
[null,"Please select",null,null,null,null,null,null,null,null,null,null,null,null,{"$f":"IF(ISERROR(IF(C1128=\"corrective\",E1128+KPI!$P$4,IF(C1128=\"Preventative\",E1128+KPI!$P$5,\"\"))),\"\",IF(C1128=\"corrective\",E1128+KPI!$P$4,IF(C1128=\"Preventative\",E1128+KPI!$P$5,\"\")))","v":""},"Please select",null,null,null,null,null,"Please select",null,null,"",null,null,null,null,null,null,null,null,"TBD","","",null,null,0,0,1]
[null,"Please select",null,null,null,null,null,null,null,null,null,null,null,null,{"$f":"IF(ISERROR(IF(C1129=\"corrective\",E1129+KPI!$P$4,IF(C1129=\"Preventative\",E1129+KPI!$P$5,\"\"))),\"\",IF(C1129=\"corrective\",E1129+KPI!$P$4,IF(C1129=\"Preventative\",E1129+KPI!$P$5,\"\")))","v":""},"Please select",null,null,null,null,null,"Please select",null,null,"",null,null,null,null,null,null,null,null,"TBD","","",null,null,0,0,1]
[null,"Please select",null,null,null,null,null,null,null,null,null,null,null,null,{"$f":"IF(ISERROR(IF(C1130=\"corrective\",E1130+KPI!$P$4,IF(C1130=\"Preventative\",E1130+KPI!$P$5,\"\"))),\"\",IF(C1130=\"corrective\",E1130+KPI!$P$4,IF(C1130=\"Preventative\",E1130+KPI!$P$5,\"\")))","v":""},"Please select",null,null,null,null,null,"Please select",null,null,"",null,null,null,null,null,null,null,null,"TBD","","",null,null,0,0,1]
[null,"Please select",null,null,null,null,null,null,null,null,null,null,null,null,{"$f":"IF(ISERROR(IF(C1131=\"corrective\",E1131+KPI!$P$4,IF(C1131=\"Preventative\",E1131+KPI!$P$5,\"\"))),\"\",IF(C1131=\"corrective\",E1131+KPI!$P$4,IF(C1131=\"Preventative\",E1131+KPI!$P$5,\"\")))","v":""},"Please select",null,null,null,null,null,"Please select",null,null,"",null,null,null,null,null,null,null,null,"TBD","","",null,null,0,0,1]
[null,"Please select",null,null,null,null,null,null,null,null,null,null,null,null,{"$f":"IF(ISERROR(IF(C1132=\"corrective\",E1132+KPI!$P$4,IF(C1132=\"Preventative\",E1132+KPI!$P$5,\"\"))),\"\",IF(C1132=\"corrective\",E1132+KPI!$P$4,IF(C1132=\"Preventative\",E1132+KPI!$P$5,\"\")))","v":""},"Please select",null,null,null,null,null,"Please select",null,null,"",null,null,null,null,null,null,null,null,"TBD","","",null,null,0,0,1]
[null,"Please select",null,null,null,null,null,null,null,null,null,null,null,null,{"$f":"IF(ISERROR(IF(C1133=\"corrective\",E1133+KPI!$P$4,IF(C1133=\"Preventative\",E1133+KPI!$P$5,\"\"))),\"\",IF(C1133=\"corrective\",E1133+KPI!$P$4,IF(C1133=\"Preventative\",E1133+KPI!$P$5,\"\")))","v":""},"Please select",null,null,null,null,null,"Please select",null,null,"",null,null,null,null,null,null,null,null,"TBD","","",null,null,0,0,1]
[null,"Please select",null,null,null,null,null,null,null,null,null,null,null,null,{"$f":"IF(ISERROR(IF(C1134=\"corrective\",E1134+KPI!$P$4,IF(C1134=\"Preventative\",E1134+KPI!$P$5,\"\"))),\"\",IF(C1134=\"corrective\",E1134+KPI!$P$4,IF(C1134=\"Preventative\",E1134+KPI!$P$5,\"\")))","v":""},"Please select",null,null,null,null,null,"Please select",null,null,"",null,null,null,null,null,null,null,null,"TBD","","",null,null,0,0,1]
[null,"Please select",null,null,null,null,null,null,null,null,null,null,null,null,{"$f":"IF(ISERROR(IF(C1135=\"corrective\",E1135+KPI!$P$4,IF(C1135=\"Preventative\",E1135+KPI!$P$5,\"\"))),\"\",IF(C1135=\"corrective\",E1135+KPI!$P$4,IF(C1135=\"Preventative\",E1135+KPI!$P$5,\"\")))","v":""},{"$f":"IF(AND(O1135<TODAY(),B1135=\"new\"),\"New - Overdue\",B1135)","v":"Please select"},null,null,null,null,null,"Please select",null,null,{"$f":"Z1135&AA1135&AB1135&AC1135&AD1135&AE1135","v":""},null,null,null,null,null,null,null,null,"TBD",{"$f":"IF(ISERROR(AJ1135-20),\"\",AJ1135-20)","v":""},{"$f":"IF(ISERROR(IF(C1135=\"corrective\",E1135+AH1135,\"\")),\"\",IF(C1135=\"corrective\",E1135+AH1135,\"\"))","v":""},null,null,0,0,{"$f":"COUNTIF(AN1135,\">400\")+COUNTIF(AN1135,\"=0\")","v":1}]
[null,"Please select",null,null,null,null,null,null,null,null,null,null,null,null,{"$f":"IF(ISERROR(IF(C1136=\"corrective\",E1136+KPI!$P$4,IF(C1136=\"Preventative\",E1136+KPI!$P$5,\"\"))),\"\",IF(C1136=\"corrective\",E1136+KPI!$P$4,IF(C1136=\"Preventative\",E1136+KPI!$P$5,\"\")))","v":""},"Please select",null,null,null,null,null,"Please select",null,null,"",null,null,null,null,null,null,null,null,"TBD","","",null,null,0,0,1]
[null,"Please select",null,null,null,null,null,null,null,null,null,null,null,null,{"$f":"IF(ISERROR(IF(C1137=\"corrective\",E1137+KPI!$P$4,IF(C1137=\"Preventative\",E1137+KPI!$P$5,\"\"))),\"\",IF(C1137=\"corrective\",E1137+KPI!$P$4,IF(C1137=\"Preventative\",E1137+KPI!$P$5,\"\")))","v":""},"Please select",null,null,null,null,null,"Please select",null,null,"",null,null,null,null,null,null,null,null,"TBD","","",null,null,0,0,1]
[null,"Please select",null,null,null,null,null,null,null,null,null,null,null,null,{"$f":"IF(ISERROR(IF(C1138=\"corrective\",E1138+KPI!$P$4,IF(C1138=\"Preventative\",E1138+KPI!$P$5,\"\"))),\"\",IF(C1138=\"corrective\",E1138+KPI!$P$4,IF(C1138=\"Preventative\",E1138+KPI!$P$5,\"\")))","v":""},"Please select",null,null,null,null,null,"Please select",null,null,"",null,null,null,null,null,null,null,null,"TBD","","",null,null,0,0,1]
[null,"Please select",null,null,null,null,null,null,null,null,null,null,null,null,{"$f":"IF(ISERROR(IF(C1139=\"corrective\",E1139+KPI!$P$4,IF(C1139=\"Preventative\",E1139+KPI!$P$5,\"\"))),\"\",IF(C1139=\"corrective\",E1139+KPI!$P$4,IF(C1139=\"Preventative\",E1139+KPI!$P$5,\"\")))","v":""},"Please select",null,null,null,null,null,"Please select",null,null,"",null,null,null,null,null,null,null,null,"TBD","","",null,null,0,0,1]
[null,"Please select",null,null,null,null,null,null,null,null,null,null,null,null,{"$f":"IF(ISERROR(IF(C1140=\"corrective\",E1140+KPI!$P$4,IF(C1140=\"Preventative\",E1140+KPI!$P$5,\"\"))),\"\",IF(C1140=\"corrective\",E1140+KPI!$P$4,IF(C1140=\"Preventative\",E1140+KPI!$P$5,\"\")))","v":""},"Please select",null,null,null,null,null,"Please select",null,null,"",null,null,null,null,null,null,null,null,"TBD","","",null,null,0,0,1]
[null,"Please select",null,null,null,null,null,null,null,null,null,null,null,null,{"$f":"IF(ISERROR(IF(C1141=\"corrective\",E1141+KPI!$P$4,IF(C1141=\"Preventative\",E1141+KPI!$P$5,\"\"))),\"\",IF(C1141=\"corrective\",E1141+KPI!$P$4,IF(C1141=\"Preventative\",E1141+KPI!$P$5,\"\")))","v":""},"Please select",null,null,null,null,null,"Please select",null,null,"",null,null,null,null,null,null,null,null,"TBD","","",null,null,0,0,1]
[null,"Please select",null,null,null,null,null,null,null,null,null,null,null,null,{"$f":"IF(ISERROR(IF(C1142=\"corrective\",E1142+KPI!$P$4,IF(C1142=\"Preventative\",E1142+KPI!$P$5,\"\"))),\"\",IF(C1142=\"corrective\",E1142+KPI!$P$4,IF(C1142=\"Preventative\",E1142+KPI!$P$5,\"\")))","v":""},"Please select",null,null,null,null,null,"Please select",null,null,"",null,null,null,null,null,null,null,null,"TBD","","",null,null,0,0,1]
[null,"Please select",null,null,null,null,null,null,null,null,null,null,null,null,{"$f":"IF(ISERROR(IF(C1143=\"corrective\",E1143+KPI!$P$4,IF(C1143=\"Preventative\",E1143+KPI!$P$5,\"\"))),\"\",IF(C1143=\"corrective\",E1143+KPI!$P$4,IF(C1143=\"Preventative\",E1143+KPI!$P$5,\"\")))","v":""},"Please select",null,null,null,null,null,"Please select",null,null,"",null,null,null,null,null,null,null,null,"TBD","","",null,null,0,0,1]
[null,"Please select",null,null,null,null,null,null,null,null,null,null,null,null,{"$f":"IF(ISERROR(IF(C1144=\"corrective\",E1144+KPI!$P$4,IF(C1144=\"Preventative\",E1144+KPI!$P$5,\"\"))),\"\",IF(C1144=\"corrective\",E1144+KPI!$P$4,IF(C1144=\"Preventative\",E1144+KPI!$P$5,\"\")))","v":""},"Please select",null,null,null,null,null,"Please select",null,null,"",null,null,null,null,null,null,null,null,"TBD","","",null,null,0,0,1]
[null,"Please select",null,null,null,null,null,null,null,null,null,null,null,null,{"$f":"IF(ISERROR(IF(C1145=\"corrective\",E1145+KPI!$P$4,IF(C1145=\"Preventative\",E1145+KPI!$P$5,\"\"))),\"\",IF(C1145=\"corrective\",E1145+KPI!$P$4,IF(C1145=\"Preventative\",E1145+KPI!$P$5,\"\")))","v":""},"Please select",null,null,null,null,null,"Please select",null,null,"",null,null,null,null,null,null,null,null,"TBD","","",null,null,0,0,1]
[null,"Please select",null,null,null,null,null,null,null,null,null,null,null,null,{"$f":"IF(ISERROR(IF(C1146=\"corrective\",E1146+KPI!$P$4,IF(C1146=\"Preventative\",E1146+KPI!$P$5,\"\"))),\"\",IF(C1146=\"corrective\",E1146+KPI!$P$4,IF(C1146=\"Preventative\",E1146+KPI!$P$5,\"\")))","v":""},"Please select",null,null,null,null,null,"Please select",null,null,"",null,null,null,null,null,null,null,null,"TBD","","",null,null,0,0,1]
[null,"Please select",null,null,null,null,null,null,null,null,null,null,null,null,{"$f":"IF(ISERROR(IF(C1147=\"corrective\",E1147+KPI!$P$4,IF(C1147=\"Preventative\",E1147+KPI!$P$5,\"\"))),\"\",IF(C1147=\"corrective\",E1147+KPI!$P$4,IF(C1147=\"Preventative\",E1147+KPI!$P$5,\"\")))","v":""},"Please select",null,null,null,null,null,"Please select",null,null,"",null,null,null,null,null,null,null,null,"TBD","","",null,null,0,0,1]
[null,"Please select",null,null,null,null,null,null,null,null,null,null,null,null,{"$f":"IF(ISERROR(IF(C1148=\"corrective\",E1148+KPI!$P$4,IF(C1148=\"Preventative\",E1148+KPI!$P$5,\"\"))),\"\",IF(C1148=\"corrective\",E1148+KPI!$P$4,IF(C1148=\"Preventative\",E1148+KPI!$P$5,\"\")))","v":""},"Please select",null,null,null,null,null,"Please select",null,null,"",null,null,null,null,null,null,null,null,"TBD","","",null,null,0,0,1]
[null,"Please select",null,null,null,null,null,null,null,null,null,null,null,null,{"$f":"IF(ISERROR(IF(C1149=\"corrective\",E1149+KPI!$P$4,IF(C1149=\"Preventative\",E1149+KPI!$P$5,\"\"))),\"\",IF(C1149=\"corrective\",E1149+KPI!$P$4,IF(C1149=\"Preventative\",E1149+KPI!$P$5,\"\")))","v":""},"Please select",null,null,null,null,null,"Please select",null,null,"",null,null,null,null,null,null,null,null,"TBD","","",null,null,0,0,1]
[null,"Please select",null,null,null,null,null,null,null,null,null,null,null,null,{"$f":"IF(ISERROR(IF(C1150=\"corrective\",E1150+KPI!$P$4,IF(C1150=\"Preventative\",E1150+KPI!$P$5,\"\"))),\"\",IF(C1150=\"corrective\",E1150+KPI!$P$4,IF(C1150=\"Preventative\",E1150+KPI!$P$5,\"\")))","v":""},"Please select",null,null,null,null,null,"Please select",null,null,"",null,null,null,null,null,null,null,null,"TBD","","",null,null,0,0,1]
[null,"Please select",null,null,null,null,null,null,null,null,null,null,null,null,{"$f":"IF(ISERROR(IF(C1151=\"corrective\",E1151+KPI!$P$4,IF(C1151=\"Preventative\",E1151+KPI!$P$5,\"\"))),\"\",IF(C1151=\"corrective\",E1151+KPI!$P$4,IF(C1151=\"Preventative\",E1151+KPI!$P$5,\"\")))","v":""},"Please select",null,null,null,null,null,"Please select",null,null,"",null,null,null,null,null,null,null,null,"TBD","","",null,null,0,0,1]
[null,"Please select",null,null,null,null,null,null,null,null,null,null,null,null,{"$f":"IF(ISERROR(IF(C1152=\"corrective\",E1152+KPI!$P$4,IF(C1152=\"Preventative\",E1152+KPI!$P$5,\"\"))),\"\",IF(C1152=\"corrective\",E1152+KPI!$P$4,IF(C1152=\"Preventative\",E1152+KPI!$P$5,\"\")))","v":""},"Please select",null,null,null,null,null,"Please select",null,null,"",null,null,null,null,null,null,null,null,"TBD","","",null,null,0,0,1]
[null,"Please select",null,null,null,null,null,null,null,null,null,null,null,null,{"$f":"IF(ISERROR(IF(C1153=\"corrective\",E1153+KPI!$P$4,IF(C1153=\"Preventative\",E1153+KPI!$P$5,\"\"))),\"\",IF(C1153=\"corrective\",E1153+KPI!$P$4,IF(C1153=\"Preventative\",E1153+KPI!$P$5,\"\")))","v":""},"Please select",null,null,null,null,null,"Please select",null,null,"",null,null,null,null,null,null,null,null,"TBD","","",null,null,0,0,1]
[null,"Please select",null,null,null,null,null,null,null,null,null,null,null,null,{"$f":"IF(ISERROR(IF(C1154=\"corrective\",E1154+KPI!$P$4,IF(C1154=\"Preventative\",E1154+KPI!$P$5,\"\"))),\"\",IF(C1154=\"corrective\",E1154+KPI!$P$4,IF(C1154=\"Preventative\",E1154+KPI!$P$5,\"\")))","v":""},"Please select",null,null,null,null,null,"Please select",null,null,"",null,null,null,null,null,null,null,null,"TBD","","",null,null,{"$f":"IF(ISERROR(DATEDIF(E1154,Q1154,\"D\")),\"\",DATEDIF(E1154,Q1154,\"D\"))","v":0},{"$f":"IF(ISERROR(DATEDIF(Q1154,X1154,\"D\")),\"\",DATEDIF(Q1154,X1154,\"D\"))","v":0},1]
[null,"Please select",null,null,null,null,null,null,null,null,null,null,null,null,{"$f":"IF(ISERROR(IF(C1155=\"corrective\",E1155+KPI!$P$4,IF(C1155=\"Preventative\",E1155+KPI!$P$5,\"\"))),\"\",IF(C1155=\"corrective\",E1155+KPI!$P$4,IF(C1155=\"Preventative\",E1155+KPI!$P$5,\"\")))","v":""},"Please select",null,null,null,null,null,"Please select",null,null,"",null,null,null,null,null,null,null,null,"TBD","","",null,null,0,0,1]
[null,"Please select",null,null,null,null,null,null,null,null,null,null,null,null,{"$f":"IF(ISERROR(IF(C1156=\"corrective\",E1156+KPI!$P$4,IF(C1156=\"Preventative\",E1156+KPI!$P$5,\"\"))),\"\",IF(C1156=\"corrective\",E1156+KPI!$P$4,IF(C1156=\"Preventative\",E1156+KPI!$P$5,\"\")))","v":""},"Please select",null,null,null,null,null,"Please select",null,null,"",null,null,null,null,null,null,null,null,"TBD","","",null,null,0,0,1]
[null,"Please select",null,null,null,null,null,null,null,null,null,null,null,null,{"$f":"IF(ISERROR(IF(C1157=\"corrective\",E1157+KPI!$P$4,IF(C1157=\"Preventative\",E1157+KPI!$P$5,\"\"))),\"\",IF(C1157=\"corrective\",E1157+KPI!$P$4,IF(C1157=\"Preventative\",E1157+KPI!$P$5,\"\")))","v":""},"Please select",null,null,null,null,null,"Please select",null,null,"",null,null,null,null,null,null,null,null,"TBD","","",null,null,0,0,1]
[null,"Please select",null,null,null,null,null,null,null,null,null,null,null,null,{"$f":"IF(ISERROR(IF(C1158=\"corrective\",E1158+KPI!$P$4,IF(C1158=\"Preventative\",E1158+KPI!$P$5,\"\"))),\"\",IF(C1158=\"corrective\",E1158+KPI!$P$4,IF(C1158=\"Preventative\",E1158+KPI!$P$5,\"\")))","v":""},"Please select",null,null,null,null,null,"Please select",null,null,"",null,null,null,null,null,null,null,null,"TBD","","",null,null,0,0,1]
[null,"Please select",null,null,null,null,null,null,null,null,null,null,null,null,{"$f":"IF(ISERROR(IF(C1159=\"corrective\",E1159+KPI!$P$4,IF(C1159=\"Preventative\",E1159+KPI!$P$5,\"\"))),\"\",IF(C1159=\"corrective\",E1159+KPI!$P$4,IF(C1159=\"Preventative\",E1159+KPI!$P$5,\"\")))","v":""},"Please select",null,null,null,null,null,"Please select",null,null,"",null,null,null,null,null,null,null,null,"TBD","","",null,null,0,0,1]
[null,"Please select",null,null,null,null,null,null,null,null,null,null,null,null,{"$f":"IF(ISERROR(IF(C1160=\"corrective\",E1160+KPI!$P$4,IF(C1160=\"Preventative\",E1160+KPI!$P$5,\"\"))),\"\",IF(C1160=\"corrective\",E1160+KPI!$P$4,IF(C1160=\"Preventative\",E1160+KPI!$P$5,\"\")))","v":""},"Please select",null,null,null,null,null,"Please select",null,null,"",null,null,null,null,null,null,null,null,"TBD","","",null,null,0,0,1]
[null,"Please select",null,null,null,null,null,null,null,null,null,null,null,null,{"$f":"IF(ISERROR(IF(C1161=\"corrective\",E1161+KPI!$P$4,IF(C1161=\"Preventative\",E1161+KPI!$P$5,\"\"))),\"\",IF(C1161=\"corrective\",E1161+KPI!$P$4,IF(C1161=\"Preventative\",E1161+KPI!$P$5,\"\")))","v":""},"Please select",null,null,null,null,null,"Please select",null,null,"",null,null,null,null,null,null,null,null,"TBD","","",null,null,0,0,1]
[null,"Please select",null,null,null,null,null,null,null,null,null,null,null,null,{"$f":"IF(ISERROR(IF(C1162=\"corrective\",E1162+KPI!$P$4,IF(C1162=\"Preventative\",E1162+KPI!$P$5,\"\"))),\"\",IF(C1162=\"corrective\",E1162+KPI!$P$4,IF(C1162=\"Preventative\",E1162+KPI!$P$5,\"\")))","v":""},"Please select",null,null,null,null,null,"Please select",null,null,"",null,null,null,null,null,null,null,null,"TBD","","",null,null,0,0,1]
[null,"Please select",null,null,null,null,null,null,null,null,null,null,null,null,{"$f":"IF(ISERROR(IF(C1163=\"corrective\",E1163+KPI!$P$4,IF(C1163=\"Preventative\",E1163+KPI!$P$5,\"\"))),\"\",IF(C1163=\"corrective\",E1163+KPI!$P$4,IF(C1163=\"Preventative\",E1163+KPI!$P$5,\"\")))","v":""},"Please select",null,null,null,null,null,"Please select",null,null,"",null,null,null,null,null,null,null,null,"TBD","","",null,null,0,0,1]
[null,"Please select",null,null,null,null,null,null,null,null,null,null,null,null,{"$f":"IF(ISERROR(IF(C1164=\"corrective\",E1164+KPI!$P$4,IF(C1164=\"Preventative\",E1164+KPI!$P$5,\"\"))),\"\",IF(C1164=\"corrective\",E1164+KPI!$P$4,IF(C1164=\"Preventative\",E1164+KPI!$P$5,\"\")))","v":""},"Please select",null,null,null,null,null,"Please select",null,null,"",null,null,null,null,null,null,null,null,"TBD","","",null,null,0,0,1]
[null,"Please select",null,null,null,null,null,null,null,null,null,null,null,null,{"$f":"IF(ISERROR(IF(C1165=\"corrective\",E1165+KPI!$P$4,IF(C1165=\"Preventative\",E1165+KPI!$P$5,\"\"))),\"\",IF(C1165=\"corrective\",E1165+KPI!$P$4,IF(C1165=\"Preventative\",E1165+KPI!$P$5,\"\")))","v":""},"Please select",null,null,null,null,null,"Please select",null,null,"",null,null,null,null,null,null,null,null,"TBD","","",null,null,0,0,1]
[null,"Please select",null,null,null,null,null,null,null,null,null,null,null,null,{"$f":"IF(ISERROR(IF(C1166=\"corrective\",E1166+KPI!$P$4,IF(C1166=\"Preventative\",E1166+KPI!$P$5,\"\"))),\"\",IF(C1166=\"corrective\",E1166+KPI!$P$4,IF(C1166=\"Preventative\",E1166+KPI!$P$5,\"\")))","v":""},"Please select",null,null,null,null,null,"Please select",null,null,"",null,null,null,null,null,null,null,null,"TBD","","",null,null,0,0,1]
[null,"Please select",null,null,null,null,null,null,null,null,null,null,null,null,{"$f":"IF(ISERROR(IF(C1167=\"corrective\",E1167+KPI!$P$4,IF(C1167=\"Preventative\",E1167+KPI!$P$5,\"\"))),\"\",IF(C1167=\"corrective\",E1167+KPI!$P$4,IF(C1167=\"Preventative\",E1167+KPI!$P$5,\"\")))","v":""},"Please select",null,null,null,null,null,"Please select",null,null,"",null,null,null,null,null,null,null,null,"TBD","","",null,null,0,0,1]
[null,"Please select",null,null,null,null,null,null,null,null,null,null,null,null,{"$f":"IF(ISERROR(IF(C1168=\"corrective\",E1168+KPI!$P$4,IF(C1168=\"Preventative\",E1168+KPI!$P$5,\"\"))),\"\",IF(C1168=\"corrective\",E1168+KPI!$P$4,IF(C1168=\"Preventative\",E1168+KPI!$P$5,\"\")))","v":""},"Please select",null,null,null,null,null,"Please select",null,null,"",null,null,null,null,null,null,null,null,"TBD","","",null,null,0,0,1]
[null,"Please select",null,null,null,null,null,null,null,null,null,null,null,null,{"$f":"IF(ISERROR(IF(C1169=\"corrective\",E1169+KPI!$P$4,IF(C1169=\"Preventative\",E1169+KPI!$P$5,\"\"))),\"\",IF(C1169=\"corrective\",E1169+KPI!$P$4,IF(C1169=\"Preventative\",E1169+KPI!$P$5,\"\")))","v":""},"Please select",null,null,null,null,null,"Please select",null,null,"",null,null,null,null,null,null,null,null,"TBD","","",null,null,0,0,1]
[null,"Please select",null,null,null,null,null,null,null,null,null,null,null,null,{"$f":"IF(ISERROR(IF(C1170=\"corrective\",E1170+KPI!$P$4,IF(C1170=\"Preventative\",E1170+KPI!$P$5,\"\"))),\"\",IF(C1170=\"corrective\",E1170+KPI!$P$4,IF(C1170=\"Preventative\",E1170+KPI!$P$5,\"\")))","v":""},"Please select",null,null,null,null,null,"Please select",null,null,"",null,null,null,null,null,null,null,null,"TBD","","",null,null,0,0,1]
[null,"Please select",null,null,null,null,null,null,null,null,null,null,null,null,{"$f":"IF(ISERROR(IF(C1171=\"corrective\",E1171+KPI!$P$4,IF(C1171=\"Preventative\",E1171+KPI!$P$5,\"\"))),\"\",IF(C1171=\"corrective\",E1171+KPI!$P$4,IF(C1171=\"Preventative\",E1171+KPI!$P$5,\"\")))","v":""},"Please select",null,null,null,null,null,"Please select",null,null,"",null,null,null,null,null,null,null,null,"TBD","","",null,null,0,0,1]
[null,"Please select",null,null,null,null,null,null,null,null,null,null,null,null,{"$f":"IF(ISERROR(IF(C1172=\"corrective\",E1172+KPI!$P$4,IF(C1172=\"Preventative\",E1172+KPI!$P$5,\"\"))),\"\",IF(C1172=\"corrective\",E1172+KPI!$P$4,IF(C1172=\"Preventative\",E1172+KPI!$P$5,\"\")))","v":""},"Please select",null,null,null,null,null,"Please select",null,null,"",null,null,null,null,null,null,null,null,"TBD","","",null,null,0,0,1]
[null,"Please select",null,null,null,null,null,null,null,null,null,null,null,null,{"$f":"IF(ISERROR(IF(C1173=\"corrective\",E1173+KPI!$P$4,IF(C1173=\"Preventative\",E1173+KPI!$P$5,\"\"))),\"\",IF(C1173=\"corrective\",E1173+KPI!$P$4,IF(C1173=\"Preventative\",E1173+KPI!$P$5,\"\")))","v":""},"Please select",null,null,null,null,null,"Please select",null,null,"",null,null,null,null,null,null,null,null,"TBD","","",null,null,0,0,1]
[null,"Please select",null,null,null,null,null,null,null,null,null,null,null,null,{"$f":"IF(ISERROR(IF(C1174=\"corrective\",E1174+KPI!$P$4,IF(C1174=\"Preventative\",E1174+KPI!$P$5,\"\"))),\"\",IF(C1174=\"corrective\",E1174+KPI!$P$4,IF(C1174=\"Preventative\",E1174+KPI!$P$5,\"\")))","v":""},"Please select",null,null,null,null,null,"Please select",null,null,"",null,null,null,null,null,null,null,null,"TBD","","",null,null,0,0,1]
[null,"Please select",null,null,null,null,null,null,null,null,null,null,null,null,{"$f":"IF(ISERROR(IF(C1175=\"corrective\",E1175+KPI!$P$4,IF(C1175=\"Preventative\",E1175+KPI!$P$5,\"\"))),\"\",IF(C1175=\"corrective\",E1175+KPI!$P$4,IF(C1175=\"Preventative\",E1175+KPI!$P$5,\"\")))","v":""},"Please select",null,null,null,null,null,"Please select",null,null,"",null,null,null,null,null,null,null,null,"TBD","","",null,null,0,0,1]
[null,"Please select",null,null,null,null,null,null,null,null,null,null,null,null,{"$f":"IF(ISERROR(IF(C1176=\"corrective\",E1176+KPI!$P$4,IF(C1176=\"Preventative\",E1176+KPI!$P$5,\"\"))),\"\",IF(C1176=\"corrective\",E1176+KPI!$P$4,IF(C1176=\"Preventative\",E1176+KPI!$P$5,\"\")))","v":""},"Please select",null,null,null,null,null,"Please select",null,null,"",null,null,null,null,null,null,null,null,"TBD","","",null,null,0,0,1]
[null,"Please select",null,null,null,null,null,null,null,null,null,null,null,null,{"$f":"IF(ISERROR(IF(C1177=\"corrective\",E1177+KPI!$P$4,IF(C1177=\"Preventative\",E1177+KPI!$P$5,\"\"))),\"\",IF(C1177=\"corrective\",E1177+KPI!$P$4,IF(C1177=\"Preventative\",E1177+KPI!$P$5,\"\")))","v":""},"Please select",null,null,null,null,null,"Please select",null,null,"",null,null,null,null,null,null,null,null,"TBD","","",null,null,0,0,1]
[null,"Please select",null,null,null,null,null,null,null,null,null,null,null,null,{"$f":"IF(ISERROR(IF(C1178=\"corrective\",E1178+KPI!$P$4,IF(C1178=\"Preventative\",E1178+KPI!$P$5,\"\"))),\"\",IF(C1178=\"corrective\",E1178+KPI!$P$4,IF(C1178=\"Preventative\",E1178+KPI!$P$5,\"\")))","v":""},"Please select",null,null,null,null,null,"Please select",null,null,"",null,null,null,null,null,null,null,null,"TBD","","",null,null,0,0,1]
[null,"Please select",null,null,null,null,null,null,null,null,null,null,null,null,{"$f":"IF(ISERROR(IF(C1179=\"corrective\",E1179+KPI!$P$4,IF(C1179=\"Preventative\",E1179+KPI!$P$5,\"\"))),\"\",IF(C1179=\"corrective\",E1179+KPI!$P$4,IF(C1179=\"Preventative\",E1179+KPI!$P$5,\"\")))","v":""},"Please select",null,null,null,null,null,"Please select",null,null,"",null,null,null,null,null,null,null,null,"TBD","","",null,null,0,0,1]
[null,"Please select",null,null,null,null,null,null,null,null,null,null,null,null,{"$f":"IF(ISERROR(IF(C1180=\"corrective\",E1180+KPI!$P$4,IF(C1180=\"Preventative\",E1180+KPI!$P$5,\"\"))),\"\",IF(C1180=\"corrective\",E1180+KPI!$P$4,IF(C1180=\"Preventative\",E1180+KPI!$P$5,\"\")))","v":""},"Please select",null,null,null,null,null,"Please select",null,null,"",null,null,null,null,null,null,null,null,"TBD","","",null,null,0,0,1]
[null,"Please select",null,null,null,null,null,null,null,null,null,null,null,null,{"$f":"IF(ISERROR(IF(C1181=\"corrective\",E1181+KPI!$P$4,IF(C1181=\"Preventative\",E1181+KPI!$P$5,\"\"))),\"\",IF(C1181=\"corrective\",E1181+KPI!$P$4,IF(C1181=\"Preventative\",E1181+KPI!$P$5,\"\")))","v":""},"Please select",null,null,null,null,null,"Please select",null,null,"",null,null,null,null,null,null,null,null,"TBD","","",null,null,0,0,1]
[null,"Please select",null,null,null,null,null,null,null,null,null,null,null,null,{"$f":"IF(ISERROR(IF(C1182=\"corrective\",E1182+KPI!$P$4,IF(C1182=\"Preventative\",E1182+KPI!$P$5,\"\"))),\"\",IF(C1182=\"corrective\",E1182+KPI!$P$4,IF(C1182=\"Preventative\",E1182+KPI!$P$5,\"\")))","v":""},"Please select",null,null,null,null,null,"Please select",null,null,"",null,null,null,null,null,null,null,null,"TBD","","",null,null,0,0,1]
[null,"Please select",null,null,null,null,null,null,null,null,null,null,null,null,{"$f":"IF(ISERROR(IF(C1183=\"corrective\",E1183+KPI!$P$4,IF(C1183=\"Preventative\",E1183+KPI!$P$5,\"\"))),\"\",IF(C1183=\"corrective\",E1183+KPI!$P$4,IF(C1183=\"Preventative\",E1183+KPI!$P$5,\"\")))","v":""},"Please select",null,null,null,null,null,"Please select",null,null,"",null,null,null,null,null,null,null,null,"TBD","","",null,null,0,0,1]
[null,"Please select",null,null,null,null,null,null,null,null,null,null,null,null,{"$f":"IF(ISERROR(IF(C1184=\"corrective\",E1184+KPI!$P$4,IF(C1184=\"Preventative\",E1184+KPI!$P$5,\"\"))),\"\",IF(C1184=\"corrective\",E1184+KPI!$P$4,IF(C1184=\"Preventative\",E1184+KPI!$P$5,\"\")))","v":""},"Please select",null,null,null,null,null,"Please select",null,null,"",null,null,null,null,null,null,null,null,"TBD","","",null,null,0,0,1]
[null,"Please select",null,null,null,null,null,null,null,null,null,null,null,null,{"$f":"IF(ISERROR(IF(C1185=\"corrective\",E1185+KPI!$P$4,IF(C1185=\"Preventative\",E1185+KPI!$P$5,\"\"))),\"\",IF(C1185=\"corrective\",E1185+KPI!$P$4,IF(C1185=\"Preventative\",E1185+KPI!$P$5,\"\")))","v":""},"Please select",null,null,null,null,null,"Please select",null,null,"",null,null,null,null,null,null,null,null,"TBD","","",null,null,0,0,1]
[null,"Please select",null,null,null,null,null,null,null,null,null,null,null,null,{"$f":"IF(ISERROR(IF(C1186=\"corrective\",E1186+KPI!$P$4,IF(C1186=\"Preventative\",E1186+KPI!$P$5,\"\"))),\"\",IF(C1186=\"corrective\",E1186+KPI!$P$4,IF(C1186=\"Preventative\",E1186+KPI!$P$5,\"\")))","v":""},"Please select",null,null,null,null,null,"Please select",null,null,"",null,null,null,null,null,null,null,null,"TBD","","",null,null,0,0,1]
[null,"Please select",null,null,null,null,null,null,null,null,null,null,null,null,{"$f":"IF(ISERROR(IF(C1187=\"corrective\",E1187+KPI!$P$4,IF(C1187=\"Preventative\",E1187+KPI!$P$5,\"\"))),\"\",IF(C1187=\"corrective\",E1187+KPI!$P$4,IF(C1187=\"Preventative\",E1187+KPI!$P$5,\"\")))","v":""},"Please select",null,null,null,null,null,"Please select",null,null,"",null,null,null,null,null,null,null,null,"TBD","","",null,null,0,0,1]
[null,"Please select",null,null,null,null,null,null,null,null,null,null,null,null,{"$f":"IF(ISERROR(IF(C1188=\"corrective\",E1188+KPI!$P$4,IF(C1188=\"Preventative\",E1188+KPI!$P$5,\"\"))),\"\",IF(C1188=\"corrective\",E1188+KPI!$P$4,IF(C1188=\"Preventative\",E1188+KPI!$P$5,\"\")))","v":""},"Please select",null,null,null,null,null,"Please select",null,null,"",null,null,null,null,null,null,null,null,"TBD","","",null,null,0,0,1]
[null,"Please select",null,null,null,null,null,null,null,null,null,null,null,null,{"$f":"IF(ISERROR(IF(C1189=\"corrective\",E1189+KPI!$P$4,IF(C1189=\"Preventative\",E1189+KPI!$P$5,\"\"))),\"\",IF(C1189=\"corrective\",E1189+KPI!$P$4,IF(C1189=\"Preventative\",E1189+KPI!$P$5,\"\")))","v":""},"Please select",null,null,null,null,null,"Please select",null,null,"",null,null,null,null,null,null,null,null,"TBD","","",null,null,0,0,1]
[null,"Please select",null,null,null,null,null,null,null,null,null,null,null,null,{"$f":"IF(ISERROR(IF(C1190=\"corrective\",E1190+KPI!$P$4,IF(C1190=\"Preventative\",E1190+KPI!$P$5,\"\"))),\"\",IF(C1190=\"corrective\",E1190+KPI!$P$4,IF(C1190=\"Preventative\",E1190+KPI!$P$5,\"\")))","v":""},"Please select",null,null,null,null,null,"Please select",null,null,"",null,null,null,null,null,null,null,null,"TBD","","",null,null,0,0,1]
[null,"Please select",null,null,null,null,null,null,null,null,null,null,null,null,{"$f":"IF(ISERROR(IF(C1191=\"corrective\",E1191+KPI!$P$4,IF(C1191=\"Preventative\",E1191+KPI!$P$5,\"\"))),\"\",IF(C1191=\"corrective\",E1191+KPI!$P$4,IF(C1191=\"Preventative\",E1191+KPI!$P$5,\"\")))","v":""},"Please select",null,null,null,null,null,"Please select",null,null,"",null,null,null,null,null,null,null,null,"TBD","","",null,null,0,0,1]
[null,"Please select",null,null,null,null,null,null,null,null,null,null,null,null,{"$f":"IF(ISERROR(IF(C1192=\"corrective\",E1192+KPI!$P$4,IF(C1192=\"Preventative\",E1192+KPI!$P$5,\"\"))),\"\",IF(C1192=\"corrective\",E1192+KPI!$P$4,IF(C1192=\"Preventative\",E1192+KPI!$P$5,\"\")))","v":""},"Please select",null,null,null,null,null,"Please select",null,null,"",null,null,null,null,null,null,null,null,"TBD","","",null,null,0,0,1]
[null,"Please select",null,null,null,null,null,null,null,null,null,null,null,null,{"$f":"IF(ISERROR(IF(C1193=\"corrective\",E1193+KPI!$P$4,IF(C1193=\"Preventative\",E1193+KPI!$P$5,\"\"))),\"\",IF(C1193=\"corrective\",E1193+KPI!$P$4,IF(C1193=\"Preventative\",E1193+KPI!$P$5,\"\")))","v":""},"Please select",null,null,null,null,null,"Please select",null,null,"",null,null,null,null,null,null,null,null,"TBD","","",null,null,0,0,1]
[null,"Please select",null,null,null,null,null,null,null,null,null,null,null,null,{"$f":"IF(ISERROR(IF(C1194=\"corrective\",E1194+KPI!$P$4,IF(C1194=\"Preventative\",E1194+KPI!$P$5,\"\"))),\"\",IF(C1194=\"corrective\",E1194+KPI!$P$4,IF(C1194=\"Preventative\",E1194+KPI!$P$5,\"\")))","v":""},"Please select",null,null,null,null,null,"Please select",null,null,"",null,null,null,null,null,null,null,null,"TBD","","",null,null,0,0,1]
[null,"Please select",null,null,null,null,null,null,null,null,null,null,null,null,{"$f":"IF(ISERROR(IF(C1195=\"corrective\",E1195+KPI!$P$4,IF(C1195=\"Preventative\",E1195+KPI!$P$5,\"\"))),\"\",IF(C1195=\"corrective\",E1195+KPI!$P$4,IF(C1195=\"Preventative\",E1195+KPI!$P$5,\"\")))","v":""},"Please select",null,null,null,null,null,"Please select",null,null,"",null,null,null,null,null,null,null,null,"TBD","","",null,null,0,0,1]
[null,"Please select",null,null,null,null,null,null,null,null,null,null,null,null,{"$f":"IF(ISERROR(IF(C1196=\"corrective\",E1196+KPI!$P$4,IF(C1196=\"Preventative\",E1196+KPI!$P$5,\"\"))),\"\",IF(C1196=\"corrective\",E1196+KPI!$P$4,IF(C1196=\"Preventative\",E1196+KPI!$P$5,\"\")))","v":""},"Please select",null,null,null,null,null,"Please select",null,null,"",null,null,null,null,null,null,null,null,"TBD","","",null,null,0,0,1]
[null,"Please select",null,null,null,null,null,null,null,null,null,null,null,null,{"$f":"IF(ISERROR(IF(C1197=\"corrective\",E1197+KPI!$P$4,IF(C1197=\"Preventative\",E1197+KPI!$P$5,\"\"))),\"\",IF(C1197=\"corrective\",E1197+KPI!$P$4,IF(C1197=\"Preventative\",E1197+KPI!$P$5,\"\")))","v":""},"Please select",null,null,null,null,null,"Please select",null,null,"",null,null,null,null,null,null,null,null,"TBD","","",null,null,0,0,1]
[null,"Please select",null,null,null,null,null,null,null,null,null,null,null,null,{"$f":"IF(ISERROR(IF(C1198=\"corrective\",E1198+KPI!$P$4,IF(C1198=\"Preventative\",E1198+KPI!$P$5,\"\"))),\"\",IF(C1198=\"corrective\",E1198+KPI!$P$4,IF(C1198=\"Preventative\",E1198+KPI!$P$5,\"\")))","v":""},"Please select",null,null,null,null,null,"Please select",null,null,"",null,null,null,null,null,null,null,null,"TBD","","",null,null,0,0,1]
[null,"Please select",null,null,null,null,null,null,null,null,null,null,null,null,{"$f":"IF(ISERROR(IF(C1199=\"corrective\",E1199+KPI!$P$4,IF(C1199=\"Preventative\",E1199+KPI!$P$5,\"\"))),\"\",IF(C1199=\"corrective\",E1199+KPI!$P$4,IF(C1199=\"Preventative\",E1199+KPI!$P$5,\"\")))","v":""},{"$f":"IF(AND(O1199<TODAY(),B1199=\"new\"),\"New - Overdue\",B1199)","v":"Please select"},null,null,null,null,null,"Please select",null,null,{"$f":"Z1199&AA1199&AB1199&AC1199&AD1199&AE1199","v":""},null,null,null,null,null,null,null,null,"TBD",{"$f":"IF(ISERROR(AJ1199-20),\"\",AJ1199-20)","v":""},{"$f":"IF(ISERROR(IF(C1199=\"corrective\",E1199+AH1199,\"\")),\"\",IF(C1199=\"corrective\",E1199+AH1199,\"\"))","v":""},null,null,0,0,{"$f":"COUNTIF(AN1199,\">400\")+COUNTIF(AN1199,\"=0\")","v":1}]
[null,"Please select",null,null,null,null,null,null,null,null,null,null,null,null,{"$f":"IF(ISERROR(IF(C1200=\"corrective\",E1200+KPI!$P$4,IF(C1200=\"Preventative\",E1200+KPI!$P$5,\"\"))),\"\",IF(C1200=\"corrective\",E1200+KPI!$P$4,IF(C1200=\"Preventative\",E1200+KPI!$P$5,\"\")))","v":""},"Please select",null,null,null,null,null,"Please select",null,null,"",null,null,null,null,null,null,null,null,"TBD","","",null,null,0,0,1]
[null,"Please select",null,null,null,null,null,null,null,null,null,null,null,null,{"$f":"IF(ISERROR(IF(C1201=\"corrective\",E1201+KPI!$P$4,IF(C1201=\"Preventative\",E1201+KPI!$P$5,\"\"))),\"\",IF(C1201=\"corrective\",E1201+KPI!$P$4,IF(C1201=\"Preventative\",E1201+KPI!$P$5,\"\")))","v":""},"Please select",null,null,null,null,null,"Please select",null,null,"",null,null,null,null,null,null,null,null,"TBD","","",null,null,0,0,1]
[null,"Please select",null,null,null,null,null,null,null,null,null,null,null,null,{"$f":"IF(ISERROR(IF(C1202=\"corrective\",E1202+KPI!$P$4,IF(C1202=\"Preventative\",E1202+KPI!$P$5,\"\"))),\"\",IF(C1202=\"corrective\",E1202+KPI!$P$4,IF(C1202=\"Preventative\",E1202+KPI!$P$5,\"\")))","v":""},"Please select",null,null,null,null,null,"Please select",null,null,"",null,null,null,null,null,null,null,null,"TBD","","",null,null,0,0,1]
[null,"Please select",null,null,null,null,null,null,null,null,null,null,null,null,{"$f":"IF(ISERROR(IF(C1203=\"corrective\",E1203+KPI!$P$4,IF(C1203=\"Preventative\",E1203+KPI!$P$5,\"\"))),\"\",IF(C1203=\"corrective\",E1203+KPI!$P$4,IF(C1203=\"Preventative\",E1203+KPI!$P$5,\"\")))","v":""},"Please select",null,null,null,null,null,"Please select",null,null,"",null,null,null,null,null,null,null,null,"TBD","","",null,null,0,0,1]
[null,"Please select",null,null,null,null,null,null,null,null,null,null,null,null,{"$f":"IF(ISERROR(IF(C1204=\"corrective\",E1204+KPI!$P$4,IF(C1204=\"Preventative\",E1204+KPI!$P$5,\"\"))),\"\",IF(C1204=\"corrective\",E1204+KPI!$P$4,IF(C1204=\"Preventative\",E1204+KPI!$P$5,\"\")))","v":""},"Please select",null,null,null,null,null,"Please select",null,null,"",null,null,null,null,null,null,null,null,"TBD","","",null,null,0,0,1]
[null,"Please select",null,null,null,null,null,null,null,null,null,null,null,null,{"$f":"IF(ISERROR(IF(C1205=\"corrective\",E1205+KPI!$P$4,IF(C1205=\"Preventative\",E1205+KPI!$P$5,\"\"))),\"\",IF(C1205=\"corrective\",E1205+KPI!$P$4,IF(C1205=\"Preventative\",E1205+KPI!$P$5,\"\")))","v":""},"Please select",null,null,null,null,null,"Please select",null,null,"",null,null,null,null,null,null,null,null,"TBD","","",null,null,0,0,1]
[null,"Please select",null,null,null,null,null,null,null,null,null,null,null,null,{"$f":"IF(ISERROR(IF(C1206=\"corrective\",E1206+KPI!$P$4,IF(C1206=\"Preventative\",E1206+KPI!$P$5,\"\"))),\"\",IF(C1206=\"corrective\",E1206+KPI!$P$4,IF(C1206=\"Preventative\",E1206+KPI!$P$5,\"\")))","v":""},"Please select",null,null,null,null,null,"Please select",null,null,"",null,null,null,null,null,null,null,null,"TBD","","",null,null,0,0,1]
[null,"Please select",null,null,null,null,null,null,null,null,null,null,null,null,{"$f":"IF(ISERROR(IF(C1207=\"corrective\",E1207+KPI!$P$4,IF(C1207=\"Preventative\",E1207+KPI!$P$5,\"\"))),\"\",IF(C1207=\"corrective\",E1207+KPI!$P$4,IF(C1207=\"Preventative\",E1207+KPI!$P$5,\"\")))","v":""},"Please select",null,null,null,null,null,"Please select",null,null,"",null,null,null,null,null,null,null,null,"TBD","","",null,null,0,0,1]
[null,"Please select",null,null,null,null,null,null,null,null,null,null,null,null,{"$f":"IF(ISERROR(IF(C1208=\"corrective\",E1208+KPI!$P$4,IF(C1208=\"Preventative\",E1208+KPI!$P$5,\"\"))),\"\",IF(C1208=\"corrective\",E1208+KPI!$P$4,IF(C1208=\"Preventative\",E1208+KPI!$P$5,\"\")))","v":""},"Please select",null,null,null,null,null,"Please select",null,null,"",null,null,null,null,null,null,null,null,"TBD","","",null,null,0,0,1]
[null,"Please select",null,null,null,null,null,null,null,null,null,null,null,null,{"$f":"IF(ISERROR(IF(C1209=\"corrective\",E1209+KPI!$P$4,IF(C1209=\"Preventative\",E1209+KPI!$P$5,\"\"))),\"\",IF(C1209=\"corrective\",E1209+KPI!$P$4,IF(C1209=\"Preventative\",E1209+KPI!$P$5,\"\")))","v":""},"Please select",null,null,null,null,null,"Please select",null,null,"",null,null,null,null,null,null,null,null,"TBD","","",null,null,0,0,1]
[null,"Please select",null,null,null,null,null,null,null,null,null,null,null,null,{"$f":"IF(ISERROR(IF(C1210=\"corrective\",E1210+KPI!$P$4,IF(C1210=\"Preventative\",E1210+KPI!$P$5,\"\"))),\"\",IF(C1210=\"corrective\",E1210+KPI!$P$4,IF(C1210=\"Preventative\",E1210+KPI!$P$5,\"\")))","v":""},"Please select",null,null,null,null,null,"Please select",null,null,"",null,null,null,null,null,null,null,null,"TBD","","",null,null,0,0,1]
[null,"Please select",null,null,null,null,null,null,null,null,null,null,null,null,{"$f":"IF(ISERROR(IF(C1211=\"corrective\",E1211+KPI!$P$4,IF(C1211=\"Preventative\",E1211+KPI!$P$5,\"\"))),\"\",IF(C1211=\"corrective\",E1211+KPI!$P$4,IF(C1211=\"Preventative\",E1211+KPI!$P$5,\"\")))","v":""},"Please select",null,null,null,null,null,"Please select",null,null,"",null,null,null,null,null,null,null,null,"TBD","","",null,null,0,0,1]
[null,"Please select",null,null,null,null,null,null,null,null,null,null,null,null,{"$f":"IF(ISERROR(IF(C1212=\"corrective\",E1212+KPI!$P$4,IF(C1212=\"Preventative\",E1212+KPI!$P$5,\"\"))),\"\",IF(C1212=\"corrective\",E1212+KPI!$P$4,IF(C1212=\"Preventative\",E1212+KPI!$P$5,\"\")))","v":""},"Please select",null,null,null,null,null,"Please select",null,null,"",null,null,null,null,null,null,null,null,"TBD","","",null,null,0,0,1]
[null,"Please select",null,null,null,null,null,null,null,null,null,null,null,null,{"$f":"IF(ISERROR(IF(C1213=\"corrective\",E1213+KPI!$P$4,IF(C1213=\"Preventative\",E1213+KPI!$P$5,\"\"))),\"\",IF(C1213=\"corrective\",E1213+KPI!$P$4,IF(C1213=\"Preventative\",E1213+KPI!$P$5,\"\")))","v":""},"Please select",null,null,null,null,null,"Please select",null,null,"",null,null,null,null,null,null,null,null,"TBD","","",null,null,0,0,1]
[null,"Please select",null,null,null,null,null,null,null,null,null,null,null,null,{"$f":"IF(ISERROR(IF(C1214=\"corrective\",E1214+KPI!$P$4,IF(C1214=\"Preventative\",E1214+KPI!$P$5,\"\"))),\"\",IF(C1214=\"corrective\",E1214+KPI!$P$4,IF(C1214=\"Preventative\",E1214+KPI!$P$5,\"\")))","v":""},"Please select",null,null,null,null,null,"Please select",null,null,"",null,null,null,null,null,null,null,null,"TBD","","",null,null,0,0,1]
[null,"Please select",null,null,null,null,null,null,null,null,null,null,null,null,{"$f":"IF(ISERROR(IF(C1215=\"corrective\",E1215+KPI!$P$4,IF(C1215=\"Preventative\",E1215+KPI!$P$5,\"\"))),\"\",IF(C1215=\"corrective\",E1215+KPI!$P$4,IF(C1215=\"Preventative\",E1215+KPI!$P$5,\"\")))","v":""},"Please select",null,null,null,null,null,"Please select",null,null,"",null,null,null,null,null,null,null,null,"TBD","","",null,null,0,0,1]
[null,"Please select",null,null,null,null,null,null,null,null,null,null,null,null,{"$f":"IF(ISERROR(IF(C1216=\"corrective\",E1216+KPI!$P$4,IF(C1216=\"Preventative\",E1216+KPI!$P$5,\"\"))),\"\",IF(C1216=\"corrective\",E1216+KPI!$P$4,IF(C1216=\"Preventative\",E1216+KPI!$P$5,\"\")))","v":""},"Please select",null,null,null,null,null,"Please select",null,null,"",null,null,null,null,null,null,null,null,"TBD","","",null,null,0,0,1]
[null,"Please select",null,null,null,null,null,null,null,null,null,null,null,null,{"$f":"IF(ISERROR(IF(C1217=\"corrective\",E1217+KPI!$P$4,IF(C1217=\"Preventative\",E1217+KPI!$P$5,\"\"))),\"\",IF(C1217=\"corrective\",E1217+KPI!$P$4,IF(C1217=\"Preventative\",E1217+KPI!$P$5,\"\")))","v":""},"Please select",null,null,null,null,null,"Please select",null,null,"",null,null,null,null,null,null,null,null,"TBD","","",null,null,0,0,1]
[null,"Please select",null,null,null,null,null,null,null,null,null,null,null,null,{"$f":"IF(ISERROR(IF(C1218=\"corrective\",E1218+KPI!$P$4,IF(C1218=\"Preventative\",E1218+KPI!$P$5,\"\"))),\"\",IF(C1218=\"corrective\",E1218+KPI!$P$4,IF(C1218=\"Preventative\",E1218+KPI!$P$5,\"\")))","v":""},"Please select",null,null,null,null,null,"Please select",null,null,"",null,null,null,null,null,null,null,null,"TBD","","",null,null,{"$f":"IF(ISERROR(DATEDIF(E1218,Q1218,\"D\")),\"\",DATEDIF(E1218,Q1218,\"D\"))","v":0},{"$f":"IF(ISERROR(DATEDIF(Q1218,X1218,\"D\")),\"\",DATEDIF(Q1218,X1218,\"D\"))","v":0},1]
[null,"Please select",null,null,null,null,null,null,null,null,null,null,null,null,{"$f":"IF(ISERROR(IF(C1219=\"corrective\",E1219+KPI!$P$4,IF(C1219=\"Preventative\",E1219+KPI!$P$5,\"\"))),\"\",IF(C1219=\"corrective\",E1219+KPI!$P$4,IF(C1219=\"Preventative\",E1219+KPI!$P$5,\"\")))","v":""},"Please select",null,null,null,null,null,"Please select",null,null,"",null,null,null,null,null,null,null,null,"TBD","","",null,null,0,0,1]
[null,"Please select",null,null,null,null,null,null,null,null,null,null,null,null,{"$f":"IF(ISERROR(IF(C1220=\"corrective\",E1220+KPI!$P$4,IF(C1220=\"Preventative\",E1220+KPI!$P$5,\"\"))),\"\",IF(C1220=\"corrective\",E1220+KPI!$P$4,IF(C1220=\"Preventative\",E1220+KPI!$P$5,\"\")))","v":""},"Please select",null,null,null,null,null,"Please select",null,null,"",null,null,null,null,null,null,null,null,"TBD","","",null,null,0,0,1]
[null,"Please select",null,null,null,null,null,null,null,null,null,null,null,null,{"$f":"IF(ISERROR(IF(C1221=\"corrective\",E1221+KPI!$P$4,IF(C1221=\"Preventative\",E1221+KPI!$P$5,\"\"))),\"\",IF(C1221=\"corrective\",E1221+KPI!$P$4,IF(C1221=\"Preventative\",E1221+KPI!$P$5,\"\")))","v":""},"Please select",null,null,null,null,null,"Please select",null,null,"",null,null,null,null,null,null,null,null,"TBD","","",null,null,0,0,1]
[null,"Please select",null,null,null,null,null,null,null,null,null,null,null,null,{"$f":"IF(ISERROR(IF(C1222=\"corrective\",E1222+KPI!$P$4,IF(C1222=\"Preventative\",E1222+KPI!$P$5,\"\"))),\"\",IF(C1222=\"corrective\",E1222+KPI!$P$4,IF(C1222=\"Preventative\",E1222+KPI!$P$5,\"\")))","v":""},"Please select",null,null,null,null,null,"Please select",null,null,"",null,null,null,null,null,null,null,null,"TBD","","",null,null,0,0,1]
[null,"Please select",null,null,null,null,null,null,null,null,null,null,null,null,{"$f":"IF(ISERROR(IF(C1223=\"corrective\",E1223+KPI!$P$4,IF(C1223=\"Preventative\",E1223+KPI!$P$5,\"\"))),\"\",IF(C1223=\"corrective\",E1223+KPI!$P$4,IF(C1223=\"Preventative\",E1223+KPI!$P$5,\"\")))","v":""},"Please select",null,null,null,null,null,"Please select",null,null,"",null,null,null,null,null,null,null,null,"TBD","","",null,null,0,0,1]
[null,"Please select",null,null,null,null,null,null,null,null,null,null,null,null,{"$f":"IF(ISERROR(IF(C1224=\"corrective\",E1224+KPI!$P$4,IF(C1224=\"Preventative\",E1224+KPI!$P$5,\"\"))),\"\",IF(C1224=\"corrective\",E1224+KPI!$P$4,IF(C1224=\"Preventative\",E1224+KPI!$P$5,\"\")))","v":""},"Please select",null,null,null,null,null,"Please select",null,null,"",null,null,null,null,null,null,null,null,"TBD","","",null,null,0,0,1]
[null,"Please select",null,null,null,null,null,null,null,null,null,null,null,null,{"$f":"IF(ISERROR(IF(C1225=\"corrective\",E1225+KPI!$P$4,IF(C1225=\"Preventative\",E1225+KPI!$P$5,\"\"))),\"\",IF(C1225=\"corrective\",E1225+KPI!$P$4,IF(C1225=\"Preventative\",E1225+KPI!$P$5,\"\")))","v":""},"Please select",null,null,null,null,null,"Please select",null,null,"",null,null,null,null,null,null,null,null,"TBD","","",null,null,0,0,1]
[null,"Please select",null,null,null,null,null,null,null,null,null,null,null,null,{"$f":"IF(ISERROR(IF(C1226=\"corrective\",E1226+KPI!$P$4,IF(C1226=\"Preventative\",E1226+KPI!$P$5,\"\"))),\"\",IF(C1226=\"corrective\",E1226+KPI!$P$4,IF(C1226=\"Preventative\",E1226+KPI!$P$5,\"\")))","v":""},"Please select",null,null,null,null,null,"Please select",null,null,"",null,null,null,null,null,null,null,null,"TBD","","",null,null,0,0,1]
[null,"Please select",null,null,null,null,null,null,null,null,null,null,null,null,{"$f":"IF(ISERROR(IF(C1227=\"corrective\",E1227+KPI!$P$4,IF(C1227=\"Preventative\",E1227+KPI!$P$5,\"\"))),\"\",IF(C1227=\"corrective\",E1227+KPI!$P$4,IF(C1227=\"Preventative\",E1227+KPI!$P$5,\"\")))","v":""},"Please select",null,null,null,null,null,"Please select",null,null,"",null,null,null,null,null,null,null,null,"TBD","","",null,null,0,0,1]
[null,"Please select",null,null,null,null,null,null,null,null,null,null,null,null,{"$f":"IF(ISERROR(IF(C1228=\"corrective\",E1228+KPI!$P$4,IF(C1228=\"Preventative\",E1228+KPI!$P$5,\"\"))),\"\",IF(C1228=\"corrective\",E1228+KPI!$P$4,IF(C1228=\"Preventative\",E1228+KPI!$P$5,\"\")))","v":""},"Please select",null,null,null,null,null,"Please select",null,null,"",null,null,null,null,null,null,null,null,"TBD","","",null,null,0,0,1]
[null,"Please select",null,null,null,null,null,null,null,null,null,null,null,null,{"$f":"IF(ISERROR(IF(C1229=\"corrective\",E1229+KPI!$P$4,IF(C1229=\"Preventative\",E1229+KPI!$P$5,\"\"))),\"\",IF(C1229=\"corrective\",E1229+KPI!$P$4,IF(C1229=\"Preventative\",E1229+KPI!$P$5,\"\")))","v":""},"Please select",null,null,null,null,null,"Please select",null,null,"",null,null,null,null,null,null,null,null,"TBD","","",null,null,0,0,1]
[null,"Please select",null,null,null,null,null,null,null,null,null,null,null,null,{"$f":"IF(ISERROR(IF(C1230=\"corrective\",E1230+KPI!$P$4,IF(C1230=\"Preventative\",E1230+KPI!$P$5,\"\"))),\"\",IF(C1230=\"corrective\",E1230+KPI!$P$4,IF(C1230=\"Preventative\",E1230+KPI!$P$5,\"\")))","v":""},"Please select",null,null,null,null,null,"Please select",null,null,"",null,null,null,null,null,null,null,null,"TBD","","",null,null,0,0,1]
[null,"Please select",null,null,null,null,null,null,null,null,null,null,null,null,{"$f":"IF(ISERROR(IF(C1231=\"corrective\",E1231+KPI!$P$4,IF(C1231=\"Preventative\",E1231+KPI!$P$5,\"\"))),\"\",IF(C1231=\"corrective\",E1231+KPI!$P$4,IF(C1231=\"Preventative\",E1231+KPI!$P$5,\"\")))","v":""},"Please select",null,null,null,null,null,"Please select",null,null,"",null,null,null,null,null,null,null,null,"TBD","","",null,null,0,0,1]
[null,"Please select",null,null,null,null,null,null,null,null,null,null,null,null,{"$f":"IF(ISERROR(IF(C1232=\"corrective\",E1232+KPI!$P$4,IF(C1232=\"Preventative\",E1232+KPI!$P$5,\"\"))),\"\",IF(C1232=\"corrective\",E1232+KPI!$P$4,IF(C1232=\"Preventative\",E1232+KPI!$P$5,\"\")))","v":""},"Please select",null,null,null,null,null,"Please select",null,null,"",null,null,null,null,null,null,null,null,"TBD","","",null,null,0,0,1]
[null,"Please select",null,null,null,null,null,null,null,null,null,null,null,null,{"$f":"IF(ISERROR(IF(C1233=\"corrective\",E1233+KPI!$P$4,IF(C1233=\"Preventative\",E1233+KPI!$P$5,\"\"))),\"\",IF(C1233=\"corrective\",E1233+KPI!$P$4,IF(C1233=\"Preventative\",E1233+KPI!$P$5,\"\")))","v":""},"Please select",null,null,null,null,null,"Please select",null,null,"",null,null,null,null,null,null,null,null,"TBD","","",null,null,0,0,1]
[null,"Please select",null,null,null,null,null,null,null,null,null,null,null,null,{"$f":"IF(ISERROR(IF(C1234=\"corrective\",E1234+KPI!$P$4,IF(C1234=\"Preventative\",E1234+KPI!$P$5,\"\"))),\"\",IF(C1234=\"corrective\",E1234+KPI!$P$4,IF(C1234=\"Preventative\",E1234+KPI!$P$5,\"\")))","v":""},"Please select",null,null,null,null,null,"Please select",null,null,"",null,null,null,null,null,null,null,null,"TBD","","",null,null,0,0,1]
[null,"Please select",null,null,null,null,null,null,null,null,null,null,null,null,{"$f":"IF(ISERROR(IF(C1235=\"corrective\",E1235+KPI!$P$4,IF(C1235=\"Preventative\",E1235+KPI!$P$5,\"\"))),\"\",IF(C1235=\"corrective\",E1235+KPI!$P$4,IF(C1235=\"Preventative\",E1235+KPI!$P$5,\"\")))","v":""},"Please select",null,null,null,null,null,"Please select",null,null,"",null,null,null,null,null,null,null,null,"TBD","","",null,null,0,0,1]
[null,"Please select",null,null,null,null,null,null,null,null,null,null,null,null,{"$f":"IF(ISERROR(IF(C1236=\"corrective\",E1236+KPI!$P$4,IF(C1236=\"Preventative\",E1236+KPI!$P$5,\"\"))),\"\",IF(C1236=\"corrective\",E1236+KPI!$P$4,IF(C1236=\"Preventative\",E1236+KPI!$P$5,\"\")))","v":""},"Please select",null,null,null,null,null,"Please select",null,null,"",null,null,null,null,null,null,null,null,"TBD","","",null,null,0,0,1]
[null,"Please select",null,null,null,null,null,null,null,null,null,null,null,null,{"$f":"IF(ISERROR(IF(C1237=\"corrective\",E1237+KPI!$P$4,IF(C1237=\"Preventative\",E1237+KPI!$P$5,\"\"))),\"\",IF(C1237=\"corrective\",E1237+KPI!$P$4,IF(C1237=\"Preventative\",E1237+KPI!$P$5,\"\")))","v":""},"Please select",null,null,null,null,null,"Please select",null,null,"",null,null,null,null,null,null,null,null,"TBD","","",null,null,0,0,1]
[null,"Please select",null,null,null,null,null,null,null,null,null,null,null,null,{"$f":"IF(ISERROR(IF(C1238=\"corrective\",E1238+KPI!$P$4,IF(C1238=\"Preventative\",E1238+KPI!$P$5,\"\"))),\"\",IF(C1238=\"corrective\",E1238+KPI!$P$4,IF(C1238=\"Preventative\",E1238+KPI!$P$5,\"\")))","v":""},"Please select",null,null,null,null,null,"Please select",null,null,"",null,null,null,null,null,null,null,null,"TBD","","",null,null,0,0,1]
[null,"Please select",null,null,null,null,null,null,null,null,null,null,null,null,{"$f":"IF(ISERROR(IF(C1239=\"corrective\",E1239+KPI!$P$4,IF(C1239=\"Preventative\",E1239+KPI!$P$5,\"\"))),\"\",IF(C1239=\"corrective\",E1239+KPI!$P$4,IF(C1239=\"Preventative\",E1239+KPI!$P$5,\"\")))","v":""},"Please select",null,null,null,null,null,"Please select",null,null,"",null,null,null,null,null,null,null,null,"TBD","","",null,null,0,0,1]
[null,"Please select",null,null,null,null,null,null,null,null,null,null,null,null,{"$f":"IF(ISERROR(IF(C1240=\"corrective\",E1240+KPI!$P$4,IF(C1240=\"Preventative\",E1240+KPI!$P$5,\"\"))),\"\",IF(C1240=\"corrective\",E1240+KPI!$P$4,IF(C1240=\"Preventative\",E1240+KPI!$P$5,\"\")))","v":""},"Please select",null,null,null,null,null,"Please select",null,null,"",null,null,null,null,null,null,null,null,"TBD","","",null,null,0,0,1]
[null,"Please select",null,null,null,null,null,null,null,null,null,null,null,null,{"$f":"IF(ISERROR(IF(C1241=\"corrective\",E1241+KPI!$P$4,IF(C1241=\"Preventative\",E1241+KPI!$P$5,\"\"))),\"\",IF(C1241=\"corrective\",E1241+KPI!$P$4,IF(C1241=\"Preventative\",E1241+KPI!$P$5,\"\")))","v":""},"Please select",null,null,null,null,null,"Please select",null,null,"",null,null,null,null,null,null,null,null,"TBD","","",null,null,0,0,1]
[null,"Please select",null,null,null,null,null,null,null,null,null,null,null,null,{"$f":"IF(ISERROR(IF(C1242=\"corrective\",E1242+KPI!$P$4,IF(C1242=\"Preventative\",E1242+KPI!$P$5,\"\"))),\"\",IF(C1242=\"corrective\",E1242+KPI!$P$4,IF(C1242=\"Preventative\",E1242+KPI!$P$5,\"\")))","v":""},"Please select",null,null,null,null,null,"Please select",null,null,"",null,null,null,null,null,null,null,null,"TBD","","",null,null,0,0,1]
[null,"Please select",null,null,null,null,null,null,null,null,null,null,null,null,{"$f":"IF(ISERROR(IF(C1243=\"corrective\",E1243+KPI!$P$4,IF(C1243=\"Preventative\",E1243+KPI!$P$5,\"\"))),\"\",IF(C1243=\"corrective\",E1243+KPI!$P$4,IF(C1243=\"Preventative\",E1243+KPI!$P$5,\"\")))","v":""},"Please select",null,null,null,null,null,"Please select",null,null,"",null,null,null,null,null,null,null,null,"TBD","","",null,null,0,0,1]
[null,"Please select",null,null,null,null,null,null,null,null,null,null,null,null,{"$f":"IF(ISERROR(IF(C1244=\"corrective\",E1244+KPI!$P$4,IF(C1244=\"Preventative\",E1244+KPI!$P$5,\"\"))),\"\",IF(C1244=\"corrective\",E1244+KPI!$P$4,IF(C1244=\"Preventative\",E1244+KPI!$P$5,\"\")))","v":""},"Please select",null,null,null,null,null,"Please select",null,null,"",null,null,null,null,null,null,null,null,"TBD","","",null,null,0,0,1]
[null,"Please select",null,null,null,null,null,null,null,null,null,null,null,null,{"$f":"IF(ISERROR(IF(C1245=\"corrective\",E1245+KPI!$P$4,IF(C1245=\"Preventative\",E1245+KPI!$P$5,\"\"))),\"\",IF(C1245=\"corrective\",E1245+KPI!$P$4,IF(C1245=\"Preventative\",E1245+KPI!$P$5,\"\")))","v":""},"Please select",null,null,null,null,null,"Please select",null,null,"",null,null,null,null,null,null,null,null,"TBD","","",null,null,0,0,1]
[null,"Please select",null,null,null,null,null,null,null,null,null,null,null,null,{"$f":"IF(ISERROR(IF(C1246=\"corrective\",E1246+KPI!$P$4,IF(C1246=\"Preventative\",E1246+KPI!$P$5,\"\"))),\"\",IF(C1246=\"corrective\",E1246+KPI!$P$4,IF(C1246=\"Preventative\",E1246+KPI!$P$5,\"\")))","v":""},"Please select",null,null,null,null,null,"Please select",null,null,"",null,null,null,null,null,null,null,null,"TBD","","",null,null,0,0,1]
[null,"Please select",null,null,null,null,null,null,null,null,null,null,null,null,{"$f":"IF(ISERROR(IF(C1247=\"corrective\",E1247+KPI!$P$4,IF(C1247=\"Preventative\",E1247+KPI!$P$5,\"\"))),\"\",IF(C1247=\"corrective\",E1247+KPI!$P$4,IF(C1247=\"Preventative\",E1247+KPI!$P$5,\"\")))","v":""},"Please select",null,null,null,null,null,"Please select",null,null,"",null,null,null,null,null,null,null,null,"TBD","","",null,null,0,0,1]
[null,"Please select",null,null,null,null,null,null,null,null,null,null,null,null,{"$f":"IF(ISERROR(IF(C1248=\"corrective\",E1248+KPI!$P$4,IF(C1248=\"Preventative\",E1248+KPI!$P$5,\"\"))),\"\",IF(C1248=\"corrective\",E1248+KPI!$P$4,IF(C1248=\"Preventative\",E1248+KPI!$P$5,\"\")))","v":""},"Please select",null,null,null,null,null,"Please select",null,null,"",null,null,null,null,null,null,null,null,"TBD","","",null,null,0,0,1]
[null,"Please select",null,null,null,null,null,null,null,null,null,null,null,null,{"$f":"IF(ISERROR(IF(C1249=\"corrective\",E1249+KPI!$P$4,IF(C1249=\"Preventative\",E1249+KPI!$P$5,\"\"))),\"\",IF(C1249=\"corrective\",E1249+KPI!$P$4,IF(C1249=\"Preventative\",E1249+KPI!$P$5,\"\")))","v":""},"Please select",null,null,null,null,null,"Please select",null,null,"",null,null,null,null,null,null,null,null,"TBD","","",null,null,0,0,1]
[null,"Please select",null,null,null,null,null,null,null,null,null,null,null,null,{"$f":"IF(ISERROR(IF(C1250=\"corrective\",E1250+KPI!$P$4,IF(C1250=\"Preventative\",E1250+KPI!$P$5,\"\"))),\"\",IF(C1250=\"corrective\",E1250+KPI!$P$4,IF(C1250=\"Preventative\",E1250+KPI!$P$5,\"\")))","v":""},"Please select",null,null,null,null,null,"Please select",null,null,"",null,null,null,null,null,null,null,null,"TBD","","",null,null,0,0,1]
[null,"Please select",null,null,null,null,null,null,null,null,null,null,null,null,{"$f":"IF(ISERROR(IF(C1251=\"corrective\",E1251+KPI!$P$4,IF(C1251=\"Preventative\",E1251+KPI!$P$5,\"\"))),\"\",IF(C1251=\"corrective\",E1251+KPI!$P$4,IF(C1251=\"Preventative\",E1251+KPI!$P$5,\"\")))","v":""},"Please select",null,null,null,null,null,"Please select",null,null,"",null,null,null,null,null,null,null,null,"TBD","","",null,null,0,0,1]
[null,"Please select",null,null,null,null,null,null,null,null,null,null,null,null,{"$f":"IF(ISERROR(IF(C1252=\"corrective\",E1252+KPI!$P$4,IF(C1252=\"Preventative\",E1252+KPI!$P$5,\"\"))),\"\",IF(C1252=\"corrective\",E1252+KPI!$P$4,IF(C1252=\"Preventative\",E1252+KPI!$P$5,\"\")))","v":""},"Please select",null,null,null,null,null,"Please select",null,null,"",null,null,null,null,null,null,null,null,"TBD","","",null,null,0,0,1]
[null,"Please select",null,null,null,null,null,null,null,null,null,null,null,null,{"$f":"IF(ISERROR(IF(C1253=\"corrective\",E1253+KPI!$P$4,IF(C1253=\"Preventative\",E1253+KPI!$P$5,\"\"))),\"\",IF(C1253=\"corrective\",E1253+KPI!$P$4,IF(C1253=\"Preventative\",E1253+KPI!$P$5,\"\")))","v":""},"Please select",null,null,null,null,null,"Please select",null,null,"",null,null,null,null,null,null,null,null,"TBD","","",null,null,0,0,1]
[null,"Please select",null,null,null,null,null,null,null,null,null,null,null,null,{"$f":"IF(ISERROR(IF(C1254=\"corrective\",E1254+KPI!$P$4,IF(C1254=\"Preventative\",E1254+KPI!$P$5,\"\"))),\"\",IF(C1254=\"corrective\",E1254+KPI!$P$4,IF(C1254=\"Preventative\",E1254+KPI!$P$5,\"\")))","v":""},"Please select",null,null,null,null,null,"Please select",null,null,"",null,null,null,null,null,null,null,null,"TBD","","",null,null,0,0,1]
[null,"Please select",null,null,null,null,null,null,null,null,null,null,null,null,{"$f":"IF(ISERROR(IF(C1255=\"corrective\",E1255+KPI!$P$4,IF(C1255=\"Preventative\",E1255+KPI!$P$5,\"\"))),\"\",IF(C1255=\"corrective\",E1255+KPI!$P$4,IF(C1255=\"Preventative\",E1255+KPI!$P$5,\"\")))","v":""},"Please select",null,null,null,null,null,"Please select",null,null,"",null,null,null,null,null,null,null,null,"TBD","","",null,null,0,0,1]
[null,"Please select",null,null,null,null,null,null,null,null,null,null,null,null,{"$f":"IF(ISERROR(IF(C1256=\"corrective\",E1256+KPI!$P$4,IF(C1256=\"Preventative\",E1256+KPI!$P$5,\"\"))),\"\",IF(C1256=\"corrective\",E1256+KPI!$P$4,IF(C1256=\"Preventative\",E1256+KPI!$P$5,\"\")))","v":""},"Please select",null,null,null,null,null,"Please select",null,null,"",null,null,null,null,null,null,null,null,"TBD","","",null,null,0,0,1]
[null,"Please select",null,null,null,null,null,null,null,null,null,null,null,null,{"$f":"IF(ISERROR(IF(C1257=\"corrective\",E1257+KPI!$P$4,IF(C1257=\"Preventative\",E1257+KPI!$P$5,\"\"))),\"\",IF(C1257=\"corrective\",E1257+KPI!$P$4,IF(C1257=\"Preventative\",E1257+KPI!$P$5,\"\")))","v":""},"Please select",null,null,null,null,null,"Please select",null,null,"",null,null,null,null,null,null,null,null,"TBD","","",null,null,0,0,1]
[null,"Please select",null,null,null,null,null,null,null,null,null,null,null,null,{"$f":"IF(ISERROR(IF(C1258=\"corrective\",E1258+KPI!$P$4,IF(C1258=\"Preventative\",E1258+KPI!$P$5,\"\"))),\"\",IF(C1258=\"corrective\",E1258+KPI!$P$4,IF(C1258=\"Preventative\",E1258+KPI!$P$5,\"\")))","v":""},"Please select",null,null,null,null,null,"Please select",null,null,"",null,null,null,null,null,null,null,null,"TBD","","",null,null,0,0,1]
[null,"Please select",null,null,null,null,null,null,null,null,null,null,null,null,{"$f":"IF(ISERROR(IF(C1259=\"corrective\",E1259+KPI!$P$4,IF(C1259=\"Preventative\",E1259+KPI!$P$5,\"\"))),\"\",IF(C1259=\"corrective\",E1259+KPI!$P$4,IF(C1259=\"Preventative\",E1259+KPI!$P$5,\"\")))","v":""},"Please select",null,null,null,null,null,"Please select",null,null,"",null,null,null,null,null,null,null,null,"TBD","","",null,null,0,0,1]
[null,"Please select",null,null,null,null,null,null,null,null,null,null,null,null,{"$f":"IF(ISERROR(IF(C1260=\"corrective\",E1260+KPI!$P$4,IF(C1260=\"Preventative\",E1260+KPI!$P$5,\"\"))),\"\",IF(C1260=\"corrective\",E1260+KPI!$P$4,IF(C1260=\"Preventative\",E1260+KPI!$P$5,\"\")))","v":""},"Please select",null,null,null,null,null,"Please select",null,null,"",null,null,null,null,null,null,null,null,"TBD","","",null,null,0,0,1]
[null,"Please select",null,null,null,null,null,null,null,null,null,null,null,null,{"$f":"IF(ISERROR(IF(C1261=\"corrective\",E1261+KPI!$P$4,IF(C1261=\"Preventative\",E1261+KPI!$P$5,\"\"))),\"\",IF(C1261=\"corrective\",E1261+KPI!$P$4,IF(C1261=\"Preventative\",E1261+KPI!$P$5,\"\")))","v":""},"Please select",null,null,null,null,null,"Please select",null,null,"",null,null,null,null,null,null,null,null,"TBD","","",null,null,0,0,1]
[null,"Please select",null,null,null,null,null,null,null,null,null,null,null,null,{"$f":"IF(ISERROR(IF(C1262=\"corrective\",E1262+KPI!$P$4,IF(C1262=\"Preventative\",E1262+KPI!$P$5,\"\"))),\"\",IF(C1262=\"corrective\",E1262+KPI!$P$4,IF(C1262=\"Preventative\",E1262+KPI!$P$5,\"\")))","v":""},"Please select",null,null,null,null,null,"Please select",null,null,"",null,null,null,null,null,null,null,null,"TBD","","",null,null,0,0,1]
[null,"Please select",null,null,null,null,null,null,null,null,null,null,null,null,{"$f":"IF(ISERROR(IF(C1263=\"corrective\",E1263+KPI!$P$4,IF(C1263=\"Preventative\",E1263+KPI!$P$5,\"\"))),\"\",IF(C1263=\"corrective\",E1263+KPI!$P$4,IF(C1263=\"Preventative\",E1263+KPI!$P$5,\"\")))","v":""},{"$f":"IF(AND(O1263<TODAY(),B1263=\"new\"),\"New - Overdue\",B1263)","v":"Please select"},null,null,null,null,null,"Please select",null,null,{"$f":"Z1263&AA1263&AB1263&AC1263&AD1263&AE1263","v":""},null,null,null,null,null,null,null,null,"TBD",{"$f":"IF(ISERROR(AJ1263-20),\"\",AJ1263-20)","v":""},{"$f":"IF(ISERROR(IF(C1263=\"corrective\",E1263+AH1263,\"\")),\"\",IF(C1263=\"corrective\",E1263+AH1263,\"\"))","v":""},null,null,0,0,{"$f":"COUNTIF(AN1263,\">400\")+COUNTIF(AN1263,\"=0\")","v":1}]
[null,"Please select",null,null,null,null,null,null,null,null,null,null,null,null,{"$f":"IF(ISERROR(IF(C1264=\"corrective\",E1264+KPI!$P$4,IF(C1264=\"Preventative\",E1264+KPI!$P$5,\"\"))),\"\",IF(C1264=\"corrective\",E1264+KPI!$P$4,IF(C1264=\"Preventative\",E1264+KPI!$P$5,\"\")))","v":""},"Please select",null,null,null,null,null,"Please select",null,null,"",null,null,null,null,null,null,null,null,"TBD","","",null,null,0,0,1]
[null,"Please select",null,null,null,null,null,null,null,null,null,null,null,null,{"$f":"IF(ISERROR(IF(C1265=\"corrective\",E1265+KPI!$P$4,IF(C1265=\"Preventative\",E1265+KPI!$P$5,\"\"))),\"\",IF(C1265=\"corrective\",E1265+KPI!$P$4,IF(C1265=\"Preventative\",E1265+KPI!$P$5,\"\")))","v":""},"Please select",null,null,null,null,null,"Please select",null,null,"",null,null,null,null,null,null,null,null,"TBD","","",null,null,0,0,1]
[null,"Please select",null,null,null,null,null,null,null,null,null,null,null,null,{"$f":"IF(ISERROR(IF(C1266=\"corrective\",E1266+KPI!$P$4,IF(C1266=\"Preventative\",E1266+KPI!$P$5,\"\"))),\"\",IF(C1266=\"corrective\",E1266+KPI!$P$4,IF(C1266=\"Preventative\",E1266+KPI!$P$5,\"\")))","v":""},"Please select",null,null,null,null,null,"Please select",null,null,"",null,null,null,null,null,null,null,null,"TBD","","",null,null,0,0,1]
[null,"Please select",null,null,null,null,null,null,null,null,null,null,null,null,{"$f":"IF(ISERROR(IF(C1267=\"corrective\",E1267+KPI!$P$4,IF(C1267=\"Preventative\",E1267+KPI!$P$5,\"\"))),\"\",IF(C1267=\"corrective\",E1267+KPI!$P$4,IF(C1267=\"Preventative\",E1267+KPI!$P$5,\"\")))","v":""},"Please select",null,null,null,null,null,"Please select",null,null,"",null,null,null,null,null,null,null,null,"TBD","","",null,null,0,0,1]
[null,"Please select",null,null,null,null,null,null,null,null,null,null,null,null,{"$f":"IF(ISERROR(IF(C1268=\"corrective\",E1268+KPI!$P$4,IF(C1268=\"Preventative\",E1268+KPI!$P$5,\"\"))),\"\",IF(C1268=\"corrective\",E1268+KPI!$P$4,IF(C1268=\"Preventative\",E1268+KPI!$P$5,\"\")))","v":""},"Please select",null,null,null,null,null,"Please select",null,null,"",null,null,null,null,null,null,null,null,"TBD","","",null,null,0,0,1]
[null,"Please select",null,null,null,null,null,null,null,null,null,null,null,null,{"$f":"IF(ISERROR(IF(C1269=\"corrective\",E1269+KPI!$P$4,IF(C1269=\"Preventative\",E1269+KPI!$P$5,\"\"))),\"\",IF(C1269=\"corrective\",E1269+KPI!$P$4,IF(C1269=\"Preventative\",E1269+KPI!$P$5,\"\")))","v":""},"Please select",null,null,null,null,null,"Please select",null,null,"",null,null,null,null,null,null,null,null,"TBD","","",null,null,0,0,1]
[null,"Please select",null,null,null,null,null,null,null,null,null,null,null,null,{"$f":"IF(ISERROR(IF(C1270=\"corrective\",E1270+KPI!$P$4,IF(C1270=\"Preventative\",E1270+KPI!$P$5,\"\"))),\"\",IF(C1270=\"corrective\",E1270+KPI!$P$4,IF(C1270=\"Preventative\",E1270+KPI!$P$5,\"\")))","v":""},"Please select",null,null,null,null,null,"Please select",null,null,"",null,null,null,null,null,null,null,null,"TBD","","",null,null,0,0,1]
[null,"Please select",null,null,null,null,null,null,null,null,null,null,null,null,{"$f":"IF(ISERROR(IF(C1271=\"corrective\",E1271+KPI!$P$4,IF(C1271=\"Preventative\",E1271+KPI!$P$5,\"\"))),\"\",IF(C1271=\"corrective\",E1271+KPI!$P$4,IF(C1271=\"Preventative\",E1271+KPI!$P$5,\"\")))","v":""},"Please select",null,null,null,null,null,"Please select",null,null,"",null,null,null,null,null,null,null,null,"TBD","","",null,null,0,0,1]
[null,"Please select",null,null,null,null,null,null,null,null,null,null,null,null,{"$f":"IF(ISERROR(IF(C1272=\"corrective\",E1272+KPI!$P$4,IF(C1272=\"Preventative\",E1272+KPI!$P$5,\"\"))),\"\",IF(C1272=\"corrective\",E1272+KPI!$P$4,IF(C1272=\"Preventative\",E1272+KPI!$P$5,\"\")))","v":""},"Please select",null,null,null,null,null,"Please select",null,null,"",null,null,null,null,null,null,null,null,"TBD","","",null,null,0,0,1]
[null,"Please select",null,null,null,null,null,null,null,null,null,null,null,null,{"$f":"IF(ISERROR(IF(C1273=\"corrective\",E1273+KPI!$P$4,IF(C1273=\"Preventative\",E1273+KPI!$P$5,\"\"))),\"\",IF(C1273=\"corrective\",E1273+KPI!$P$4,IF(C1273=\"Preventative\",E1273+KPI!$P$5,\"\")))","v":""},"Please select",null,null,null,null,null,"Please select",null,null,"",null,null,null,null,null,null,null,null,"TBD","","",null,null,0,0,1]
[null,"Please select",null,null,null,null,null,null,null,null,null,null,null,null,{"$f":"IF(ISERROR(IF(C1274=\"corrective\",E1274+KPI!$P$4,IF(C1274=\"Preventative\",E1274+KPI!$P$5,\"\"))),\"\",IF(C1274=\"corrective\",E1274+KPI!$P$4,IF(C1274=\"Preventative\",E1274+KPI!$P$5,\"\")))","v":""},"Please select",null,null,null,null,null,"Please select",null,null,"",null,null,null,null,null,null,null,null,"TBD","","",null,null,0,0,1]
[null,"Please select",null,null,null,null,null,null,null,null,null,null,null,null,{"$f":"IF(ISERROR(IF(C1275=\"corrective\",E1275+KPI!$P$4,IF(C1275=\"Preventative\",E1275+KPI!$P$5,\"\"))),\"\",IF(C1275=\"corrective\",E1275+KPI!$P$4,IF(C1275=\"Preventative\",E1275+KPI!$P$5,\"\")))","v":""},"Please select",null,null,null,null,null,"Please select",null,null,"",null,null,null,null,null,null,null,null,"TBD","","",null,null,0,0,1]
[null,"Please select",null,null,null,null,null,null,null,null,null,null,null,null,{"$f":"IF(ISERROR(IF(C1276=\"corrective\",E1276+KPI!$P$4,IF(C1276=\"Preventative\",E1276+KPI!$P$5,\"\"))),\"\",IF(C1276=\"corrective\",E1276+KPI!$P$4,IF(C1276=\"Preventative\",E1276+KPI!$P$5,\"\")))","v":""},"Please select",null,null,null,null,null,"Please select",null,null,"",null,null,null,null,null,null,null,null,"TBD","","",null,null,0,0,1]
[null,"Please select",null,null,null,null,null,null,null,null,null,null,null,null,{"$f":"IF(ISERROR(IF(C1277=\"corrective\",E1277+KPI!$P$4,IF(C1277=\"Preventative\",E1277+KPI!$P$5,\"\"))),\"\",IF(C1277=\"corrective\",E1277+KPI!$P$4,IF(C1277=\"Preventative\",E1277+KPI!$P$5,\"\")))","v":""},"Please select",null,null,null,null,null,"Please select",null,null,"",null,null,null,null,null,null,null,null,"TBD","","",null,null,0,0,1]
[null,"Please select",null,null,null,null,null,null,null,null,null,null,null,null,{"$f":"IF(ISERROR(IF(C1278=\"corrective\",E1278+KPI!$P$4,IF(C1278=\"Preventative\",E1278+KPI!$P$5,\"\"))),\"\",IF(C1278=\"corrective\",E1278+KPI!$P$4,IF(C1278=\"Preventative\",E1278+KPI!$P$5,\"\")))","v":""},"Please select",null,null,null,null,null,"Please select",null,null,"",null,null,null,null,null,null,null,null,"TBD","","",null,null,0,0,1]
[null,"Please select",null,null,null,null,null,null,null,null,null,null,null,null,{"$f":"IF(ISERROR(IF(C1279=\"corrective\",E1279+KPI!$P$4,IF(C1279=\"Preventative\",E1279+KPI!$P$5,\"\"))),\"\",IF(C1279=\"corrective\",E1279+KPI!$P$4,IF(C1279=\"Preventative\",E1279+KPI!$P$5,\"\")))","v":""},"Please select",null,null,null,null,null,"Please select",null,null,"",null,null,null,null,null,null,null,null,"TBD","","",null,null,0,0,1]
[null,"Please select",null,null,null,null,null,null,null,null,null,null,null,null,{"$f":"IF(ISERROR(IF(C1280=\"corrective\",E1280+KPI!$P$4,IF(C1280=\"Preventative\",E1280+KPI!$P$5,\"\"))),\"\",IF(C1280=\"corrective\",E1280+KPI!$P$4,IF(C1280=\"Preventative\",E1280+KPI!$P$5,\"\")))","v":""},"Please select",null,null,null,null,null,"Please select",null,null,"",null,null,null,null,null,null,null,null,"TBD","","",null,null,0,0,1]
[null,"Please select",null,null,null,null,null,null,null,null,null,null,null,null,{"$f":"IF(ISERROR(IF(C1281=\"corrective\",E1281+KPI!$P$4,IF(C1281=\"Preventative\",E1281+KPI!$P$5,\"\"))),\"\",IF(C1281=\"corrective\",E1281+KPI!$P$4,IF(C1281=\"Preventative\",E1281+KPI!$P$5,\"\")))","v":""},"Please select",null,null,null,null,null,"Please select",null,null,"",null,null,null,null,null,null,null,null,"TBD","","",null,null,0,0,1]
[null,"Please select",null,null,null,null,null,null,null,null,null,null,null,null,{"$f":"IF(ISERROR(IF(C1282=\"corrective\",E1282+KPI!$P$4,IF(C1282=\"Preventative\",E1282+KPI!$P$5,\"\"))),\"\",IF(C1282=\"corrective\",E1282+KPI!$P$4,IF(C1282=\"Preventative\",E1282+KPI!$P$5,\"\")))","v":""},"Please select",null,null,null,null,null,"Please select",null,null,"",null,null,null,null,null,null,null,null,"TBD","","",null,null,{"$f":"IF(ISERROR(DATEDIF(E1282,Q1282,\"D\")),\"\",DATEDIF(E1282,Q1282,\"D\"))","v":0},{"$f":"IF(ISERROR(DATEDIF(Q1282,X1282,\"D\")),\"\",DATEDIF(Q1282,X1282,\"D\"))","v":0},1]
[null,"Please select",null,null,null,null,null,null,null,null,null,null,null,null,{"$f":"IF(ISERROR(IF(C1283=\"corrective\",E1283+KPI!$P$4,IF(C1283=\"Preventative\",E1283+KPI!$P$5,\"\"))),\"\",IF(C1283=\"corrective\",E1283+KPI!$P$4,IF(C1283=\"Preventative\",E1283+KPI!$P$5,\"\")))","v":""},"Please select",null,null,null,null,null,"Please select",null,null,"",null,null,null,null,null,null,null,null,"TBD","","",null,null,0,0,1]
[null,"Please select",null,null,null,null,null,null,null,null,null,null,null,null,{"$f":"IF(ISERROR(IF(C1284=\"corrective\",E1284+KPI!$P$4,IF(C1284=\"Preventative\",E1284+KPI!$P$5,\"\"))),\"\",IF(C1284=\"corrective\",E1284+KPI!$P$4,IF(C1284=\"Preventative\",E1284+KPI!$P$5,\"\")))","v":""},"Please select",null,null,null,null,null,"Please select",null,null,"",null,null,null,null,null,null,null,null,"TBD","","",null,null,0,0,1]
[null,"Please select",null,null,null,null,null,null,null,null,null,null,null,null,{"$f":"IF(ISERROR(IF(C1285=\"corrective\",E1285+KPI!$P$4,IF(C1285=\"Preventative\",E1285+KPI!$P$5,\"\"))),\"\",IF(C1285=\"corrective\",E1285+KPI!$P$4,IF(C1285=\"Preventative\",E1285+KPI!$P$5,\"\")))","v":""},"Please select",null,null,null,null,null,"Please select",null,null,"",null,null,null,null,null,null,null,null,"TBD","","",null,null,0,0,1]
[null,"Please select",null,null,null,null,null,null,null,null,null,null,null,null,{"$f":"IF(ISERROR(IF(C1286=\"corrective\",E1286+KPI!$P$4,IF(C1286=\"Preventative\",E1286+KPI!$P$5,\"\"))),\"\",IF(C1286=\"corrective\",E1286+KPI!$P$4,IF(C1286=\"Preventative\",E1286+KPI!$P$5,\"\")))","v":""},"Please select",null,null,null,null,null,"Please select",null,null,"",null,null,null,null,null,null,null,null,"TBD","","",null,null,0,0,1]
[null,"Please select",null,null,null,null,null,null,null,null,null,null,null,null,{"$f":"IF(ISERROR(IF(C1287=\"corrective\",E1287+KPI!$P$4,IF(C1287=\"Preventative\",E1287+KPI!$P$5,\"\"))),\"\",IF(C1287=\"corrective\",E1287+KPI!$P$4,IF(C1287=\"Preventative\",E1287+KPI!$P$5,\"\")))","v":""},"Please select",null,null,null,null,null,"Please select",null,null,"",null,null,null,null,null,null,null,null,"TBD","","",null,null,0,0,1]
[null,"Please select",null,null,null,null,null,null,null,null,null,null,null,null,{"$f":"IF(ISERROR(IF(C1288=\"corrective\",E1288+KPI!$P$4,IF(C1288=\"Preventative\",E1288+KPI!$P$5,\"\"))),\"\",IF(C1288=\"corrective\",E1288+KPI!$P$4,IF(C1288=\"Preventative\",E1288+KPI!$P$5,\"\")))","v":""},"Please select",null,null,null,null,null,"Please select",null,null,"",null,null,null,null,null,null,null,null,"TBD","","",null,null,0,0,1]
[null,"Please select",null,null,null,null,null,null,null,null,null,null,null,null,{"$f":"IF(ISERROR(IF(C1289=\"corrective\",E1289+KPI!$P$4,IF(C1289=\"Preventative\",E1289+KPI!$P$5,\"\"))),\"\",IF(C1289=\"corrective\",E1289+KPI!$P$4,IF(C1289=\"Preventative\",E1289+KPI!$P$5,\"\")))","v":""},"Please select",null,null,null,null,null,"Please select",null,null,"",null,null,null,null,null,null,null,null,"TBD","","",null,null,0,0,1]
[null,"Please select",null,null,null,null,null,null,null,null,null,null,null,null,{"$f":"IF(ISERROR(IF(C1290=\"corrective\",E1290+KPI!$P$4,IF(C1290=\"Preventative\",E1290+KPI!$P$5,\"\"))),\"\",IF(C1290=\"corrective\",E1290+KPI!$P$4,IF(C1290=\"Preventative\",E1290+KPI!$P$5,\"\")))","v":""},"Please select",null,null,null,null,null,"Please select",null,null,"",null,null,null,null,null,null,null,null,"TBD","","",null,null,0,0,1]
[null,"Please select",null,null,null,null,null,null,null,null,null,null,null,null,{"$f":"IF(ISERROR(IF(C1291=\"corrective\",E1291+KPI!$P$4,IF(C1291=\"Preventative\",E1291+KPI!$P$5,\"\"))),\"\",IF(C1291=\"corrective\",E1291+KPI!$P$4,IF(C1291=\"Preventative\",E1291+KPI!$P$5,\"\")))","v":""},"Please select",null,null,null,null,null,"Please select",null,null,"",null,null,null,null,null,null,null,null,"TBD","","",null,null,0,0,1]
[null,"Please select",null,null,null,null,null,null,null,null,null,null,null,null,{"$f":"IF(ISERROR(IF(C1292=\"corrective\",E1292+KPI!$P$4,IF(C1292=\"Preventative\",E1292+KPI!$P$5,\"\"))),\"\",IF(C1292=\"corrective\",E1292+KPI!$P$4,IF(C1292=\"Preventative\",E1292+KPI!$P$5,\"\")))","v":""},"Please select",null,null,null,null,null,"Please select",null,null,"",null,null,null,null,null,null,null,null,"TBD","","",null,null,0,0,1]
[null,"Please select",null,null,null,null,null,null,null,null,null,null,null,null,{"$f":"IF(ISERROR(IF(C1293=\"corrective\",E1293+KPI!$P$4,IF(C1293=\"Preventative\",E1293+KPI!$P$5,\"\"))),\"\",IF(C1293=\"corrective\",E1293+KPI!$P$4,IF(C1293=\"Preventative\",E1293+KPI!$P$5,\"\")))","v":""},"Please select",null,null,null,null,null,"Please select",null,null,"",null,null,null,null,null,null,null,null,"TBD","","",null,null,0,0,1]
[null,"Please select",null,null,null,null,null,null,null,null,null,null,null,null,{"$f":"IF(ISERROR(IF(C1294=\"corrective\",E1294+KPI!$P$4,IF(C1294=\"Preventative\",E1294+KPI!$P$5,\"\"))),\"\",IF(C1294=\"corrective\",E1294+KPI!$P$4,IF(C1294=\"Preventative\",E1294+KPI!$P$5,\"\")))","v":""},"Please select",null,null,null,null,null,"Please select",null,null,"",null,null,null,null,null,null,null,null,"TBD","","",null,null,0,0,1]
[null,"Please select",null,null,null,null,null,null,null,null,null,null,null,null,{"$f":"IF(ISERROR(IF(C1295=\"corrective\",E1295+KPI!$P$4,IF(C1295=\"Preventative\",E1295+KPI!$P$5,\"\"))),\"\",IF(C1295=\"corrective\",E1295+KPI!$P$4,IF(C1295=\"Preventative\",E1295+KPI!$P$5,\"\")))","v":""},"Please select",null,null,null,null,null,"Please select",null,null,"",null,null,null,null,null,null,null,null,"TBD","","",null,null,0,0,1]
[null,"Please select",null,null,null,null,null,null,null,null,null,null,null,null,{"$f":"IF(ISERROR(IF(C1296=\"corrective\",E1296+KPI!$P$4,IF(C1296=\"Preventative\",E1296+KPI!$P$5,\"\"))),\"\",IF(C1296=\"corrective\",E1296+KPI!$P$4,IF(C1296=\"Preventative\",E1296+KPI!$P$5,\"\")))","v":""},"Please select",null,null,null,null,null,"Please select",null,null,"",null,null,null,null,null,null,null,null,"TBD","","",null,null,0,0,1]
[null,"Please select",null,null,null,null,null,null,null,null,null,null,null,null,{"$f":"IF(ISERROR(IF(C1297=\"corrective\",E1297+KPI!$P$4,IF(C1297=\"Preventative\",E1297+KPI!$P$5,\"\"))),\"\",IF(C1297=\"corrective\",E1297+KPI!$P$4,IF(C1297=\"Preventative\",E1297+KPI!$P$5,\"\")))","v":""},"Please select",null,null,null,null,null,"Please select",null,null,"",null,null,null,null,null,null,null,null,"TBD","","",null,null,0,0,1]
[null,"Please select",null,null,null,null,null,null,null,null,null,null,null,null,{"$f":"IF(ISERROR(IF(C1298=\"corrective\",E1298+KPI!$P$4,IF(C1298=\"Preventative\",E1298+KPI!$P$5,\"\"))),\"\",IF(C1298=\"corrective\",E1298+KPI!$P$4,IF(C1298=\"Preventative\",E1298+KPI!$P$5,\"\")))","v":""},"Please select",null,null,null,null,null,"Please select",null,null,"",null,null,null,null,null,null,null,null,"TBD","","",null,null,0,0,1]
[null,"Please select",null,null,null,null,null,null,null,null,null,null,null,null,{"$f":"IF(ISERROR(IF(C1299=\"corrective\",E1299+KPI!$P$4,IF(C1299=\"Preventative\",E1299+KPI!$P$5,\"\"))),\"\",IF(C1299=\"corrective\",E1299+KPI!$P$4,IF(C1299=\"Preventative\",E1299+KPI!$P$5,\"\")))","v":""},"Please select",null,null,null,null,null,"Please select",null,null,"",null,null,null,null,null,null,null,null,"TBD","","",null,null,0,0,1]
[null,"Please select",null,null,null,null,null,null,null,null,null,null,null,null,{"$f":"IF(ISERROR(IF(C1300=\"corrective\",E1300+KPI!$P$4,IF(C1300=\"Preventative\",E1300+KPI!$P$5,\"\"))),\"\",IF(C1300=\"corrective\",E1300+KPI!$P$4,IF(C1300=\"Preventative\",E1300+KPI!$P$5,\"\")))","v":""},"Please select",null,null,null,null,null,"Please select",null,null,"",null,null,null,null,null,null,null,null,"TBD","","",null,null,0,0,1]
[null,"Please select",null,null,null,null,null,null,null,null,null,null,null,null,{"$f":"IF(ISERROR(IF(C1301=\"corrective\",E1301+KPI!$P$4,IF(C1301=\"Preventative\",E1301+KPI!$P$5,\"\"))),\"\",IF(C1301=\"corrective\",E1301+KPI!$P$4,IF(C1301=\"Preventative\",E1301+KPI!$P$5,\"\")))","v":""},"Please select",null,null,null,null,null,"Please select",null,null,"",null,null,null,null,null,null,null,null,"TBD","","",null,null,0,0,1]
[null,"Please select",null,null,null,null,null,null,null,null,null,null,null,null,{"$f":"IF(ISERROR(IF(C1302=\"corrective\",E1302+KPI!$P$4,IF(C1302=\"Preventative\",E1302+KPI!$P$5,\"\"))),\"\",IF(C1302=\"corrective\",E1302+KPI!$P$4,IF(C1302=\"Preventative\",E1302+KPI!$P$5,\"\")))","v":""},"Please select",null,null,null,null,null,"Please select",null,null,"",null,null,null,null,null,null,null,null,"TBD","","",null,null,0,0,1]
[null,"Please select",null,null,null,null,null,null,null,null,null,null,null,null,{"$f":"IF(ISERROR(IF(C1303=\"corrective\",E1303+KPI!$P$4,IF(C1303=\"Preventative\",E1303+KPI!$P$5,\"\"))),\"\",IF(C1303=\"corrective\",E1303+KPI!$P$4,IF(C1303=\"Preventative\",E1303+KPI!$P$5,\"\")))","v":""},"Please select",null,null,null,null,null,"Please select",null,null,"",null,null,null,null,null,null,null,null,"TBD","","",null,null,0,0,1]
[null,"Please select",null,null,null,null,null,null,null,null,null,null,null,null,{"$f":"IF(ISERROR(IF(C1304=\"corrective\",E1304+KPI!$P$4,IF(C1304=\"Preventative\",E1304+KPI!$P$5,\"\"))),\"\",IF(C1304=\"corrective\",E1304+KPI!$P$4,IF(C1304=\"Preventative\",E1304+KPI!$P$5,\"\")))","v":""},"Please select",null,null,null,null,null,"Please select",null,null,"",null,null,null,null,null,null,null,null,"TBD","","",null,null,0,0,1]
[null,"Please select",null,null,null,null,null,null,null,null,null,null,null,null,{"$f":"IF(ISERROR(IF(C1305=\"corrective\",E1305+KPI!$P$4,IF(C1305=\"Preventative\",E1305+KPI!$P$5,\"\"))),\"\",IF(C1305=\"corrective\",E1305+KPI!$P$4,IF(C1305=\"Preventative\",E1305+KPI!$P$5,\"\")))","v":""},"Please select",null,null,null,null,null,"Please select",null,null,"",null,null,null,null,null,null,null,null,"TBD","","",null,null,0,0,1]
[null,"Please select",null,null,null,null,null,null,null,null,null,null,null,null,{"$f":"IF(ISERROR(IF(C1306=\"corrective\",E1306+KPI!$P$4,IF(C1306=\"Preventative\",E1306+KPI!$P$5,\"\"))),\"\",IF(C1306=\"corrective\",E1306+KPI!$P$4,IF(C1306=\"Preventative\",E1306+KPI!$P$5,\"\")))","v":""},"Please select",null,null,null,null,null,"Please select",null,null,"",null,null,null,null,null,null,null,null,"TBD","","",null,null,0,0,1]
[null,"Please select",null,null,null,null,null,null,null,null,null,null,null,null,{"$f":"IF(ISERROR(IF(C1307=\"corrective\",E1307+KPI!$P$4,IF(C1307=\"Preventative\",E1307+KPI!$P$5,\"\"))),\"\",IF(C1307=\"corrective\",E1307+KPI!$P$4,IF(C1307=\"Preventative\",E1307+KPI!$P$5,\"\")))","v":""},"Please select",null,null,null,null,null,"Please select",null,null,"",null,null,null,null,null,null,null,null,"TBD","","",null,null,0,0,1]
[null,"Please select",null,null,null,null,null,null,null,null,null,null,null,null,{"$f":"IF(ISERROR(IF(C1308=\"corrective\",E1308+KPI!$P$4,IF(C1308=\"Preventative\",E1308+KPI!$P$5,\"\"))),\"\",IF(C1308=\"corrective\",E1308+KPI!$P$4,IF(C1308=\"Preventative\",E1308+KPI!$P$5,\"\")))","v":""},"Please select",null,null,null,null,null,"Please select",null,null,"",null,null,null,null,null,null,null,null,"TBD","","",null,null,0,0,1]
[null,"Please select",null,null,null,null,null,null,null,null,null,null,null,null,{"$f":"IF(ISERROR(IF(C1309=\"corrective\",E1309+KPI!$P$4,IF(C1309=\"Preventative\",E1309+KPI!$P$5,\"\"))),\"\",IF(C1309=\"corrective\",E1309+KPI!$P$4,IF(C1309=\"Preventative\",E1309+KPI!$P$5,\"\")))","v":""},"Please select",null,null,null,null,null,"Please select",null,null,"",null,null,null,null,null,null,null,null,"TBD","","",null,null,0,0,1]
[null,"Please select",null,null,null,null,null,null,null,null,null,null,null,null,{"$f":"IF(ISERROR(IF(C1310=\"corrective\",E1310+KPI!$P$4,IF(C1310=\"Preventative\",E1310+KPI!$P$5,\"\"))),\"\",IF(C1310=\"corrective\",E1310+KPI!$P$4,IF(C1310=\"Preventative\",E1310+KPI!$P$5,\"\")))","v":""},"Please select",null,null,null,null,null,"Please select",null,null,"",null,null,null,null,null,null,null,null,"TBD","","",null,null,0,0,1]
[null,"Please select",null,null,null,null,null,null,null,null,null,null,null,null,{"$f":"IF(ISERROR(IF(C1311=\"corrective\",E1311+KPI!$P$4,IF(C1311=\"Preventative\",E1311+KPI!$P$5,\"\"))),\"\",IF(C1311=\"corrective\",E1311+KPI!$P$4,IF(C1311=\"Preventative\",E1311+KPI!$P$5,\"\")))","v":""},"Please select",null,null,null,null,null,"Please select",null,null,"",null,null,null,null,null,null,null,null,"TBD","","",null,null,0,0,1]
[null,"Please select",null,null,null,null,null,null,null,null,null,null,null,null,{"$f":"IF(ISERROR(IF(C1312=\"corrective\",E1312+KPI!$P$4,IF(C1312=\"Preventative\",E1312+KPI!$P$5,\"\"))),\"\",IF(C1312=\"corrective\",E1312+KPI!$P$4,IF(C1312=\"Preventative\",E1312+KPI!$P$5,\"\")))","v":""},"Please select",null,null,null,null,null,"Please select",null,null,"",null,null,null,null,null,null,null,null,"TBD","","",null,null,0,0,1]
[null,"Please select",null,null,null,null,null,null,null,null,null,null,null,null,{"$f":"IF(ISERROR(IF(C1313=\"corrective\",E1313+KPI!$P$4,IF(C1313=\"Preventative\",E1313+KPI!$P$5,\"\"))),\"\",IF(C1313=\"corrective\",E1313+KPI!$P$4,IF(C1313=\"Preventative\",E1313+KPI!$P$5,\"\")))","v":""},"Please select",null,null,null,null,null,"Please select",null,null,"",null,null,null,null,null,null,null,null,"TBD","","",null,null,0,0,1]
[null,"Please select",null,null,null,null,null,null,null,null,null,null,null,null,{"$f":"IF(ISERROR(IF(C1314=\"corrective\",E1314+KPI!$P$4,IF(C1314=\"Preventative\",E1314+KPI!$P$5,\"\"))),\"\",IF(C1314=\"corrective\",E1314+KPI!$P$4,IF(C1314=\"Preventative\",E1314+KPI!$P$5,\"\")))","v":""},"Please select",null,null,null,null,null,"Please select",null,null,"",null,null,null,null,null,null,null,null,"TBD","","",null,null,0,0,1]
[null,"Please select",null,null,null,null,null,null,null,null,null,null,null,null,{"$f":"IF(ISERROR(IF(C1315=\"corrective\",E1315+KPI!$P$4,IF(C1315=\"Preventative\",E1315+KPI!$P$5,\"\"))),\"\",IF(C1315=\"corrective\",E1315+KPI!$P$4,IF(C1315=\"Preventative\",E1315+KPI!$P$5,\"\")))","v":""},"Please select",null,null,null,null,null,"Please select",null,null,"",null,null,null,null,null,null,null,null,"TBD","","",null,null,0,0,1]
[null,"Please select",null,null,null,null,null,null,null,null,null,null,null,null,{"$f":"IF(ISERROR(IF(C1316=\"corrective\",E1316+KPI!$P$4,IF(C1316=\"Preventative\",E1316+KPI!$P$5,\"\"))),\"\",IF(C1316=\"corrective\",E1316+KPI!$P$4,IF(C1316=\"Preventative\",E1316+KPI!$P$5,\"\")))","v":""},"Please select",null,null,null,null,null,"Please select",null,null,"",null,null,null,null,null,null,null,null,"TBD","","",null,null,0,0,1]
[null,"Please select",null,null,null,null,null,null,null,null,null,null,null,null,{"$f":"IF(ISERROR(IF(C1317=\"corrective\",E1317+KPI!$P$4,IF(C1317=\"Preventative\",E1317+KPI!$P$5,\"\"))),\"\",IF(C1317=\"corrective\",E1317+KPI!$P$4,IF(C1317=\"Preventative\",E1317+KPI!$P$5,\"\")))","v":""},"Please select",null,null,null,null,null,"Please select",null,null,"",null,null,null,null,null,null,null,null,"TBD","","",null,null,0,0,1]
[null,"Please select",null,null,null,null,null,null,null,null,null,null,null,null,{"$f":"IF(ISERROR(IF(C1318=\"corrective\",E1318+KPI!$P$4,IF(C1318=\"Preventative\",E1318+KPI!$P$5,\"\"))),\"\",IF(C1318=\"corrective\",E1318+KPI!$P$4,IF(C1318=\"Preventative\",E1318+KPI!$P$5,\"\")))","v":""},"Please select",null,null,null,null,null,"Please select",null,null,"",null,null,null,null,null,null,null,null,"TBD","","",null,null,0,0,1]
[null,"Please select",null,null,null,null,null,null,null,null,null,null,null,null,{"$f":"IF(ISERROR(IF(C1319=\"corrective\",E1319+KPI!$P$4,IF(C1319=\"Preventative\",E1319+KPI!$P$5,\"\"))),\"\",IF(C1319=\"corrective\",E1319+KPI!$P$4,IF(C1319=\"Preventative\",E1319+KPI!$P$5,\"\")))","v":""},"Please select",null,null,null,null,null,"Please select",null,null,"",null,null,null,null,null,null,null,null,"TBD","","",null,null,0,0,1]
[null,"Please select",null,null,null,null,null,null,null,null,null,null,null,null,{"$f":"IF(ISERROR(IF(C1320=\"corrective\",E1320+KPI!$P$4,IF(C1320=\"Preventative\",E1320+KPI!$P$5,\"\"))),\"\",IF(C1320=\"corrective\",E1320+KPI!$P$4,IF(C1320=\"Preventative\",E1320+KPI!$P$5,\"\")))","v":""},"Please select",null,null,null,null,null,"Please select",null,null,"",null,null,null,null,null,null,null,null,"TBD","","",null,null,0,0,1]
[null,"Please select",null,null,null,null,null,null,null,null,null,null,null,null,{"$f":"IF(ISERROR(IF(C1321=\"corrective\",E1321+KPI!$P$4,IF(C1321=\"Preventative\",E1321+KPI!$P$5,\"\"))),\"\",IF(C1321=\"corrective\",E1321+KPI!$P$4,IF(C1321=\"Preventative\",E1321+KPI!$P$5,\"\")))","v":""},"Please select",null,null,null,null,null,"Please select",null,null,"",null,null,null,null,null,null,null,null,"TBD","","",null,null,0,0,1]
[null,"Please select",null,null,null,null,null,null,null,null,null,null,null,null,{"$f":"IF(ISERROR(IF(C1322=\"corrective\",E1322+KPI!$P$4,IF(C1322=\"Preventative\",E1322+KPI!$P$5,\"\"))),\"\",IF(C1322=\"corrective\",E1322+KPI!$P$4,IF(C1322=\"Preventative\",E1322+KPI!$P$5,\"\")))","v":""},"Please select",null,null,null,null,null,"Please select",null,null,"",null,null,null,null,null,null,null,null,"TBD","","",null,null,0,0,1]
[null,"Please select",null,null,null,null,null,null,null,null,null,null,null,null,{"$f":"IF(ISERROR(IF(C1323=\"corrective\",E1323+KPI!$P$4,IF(C1323=\"Preventative\",E1323+KPI!$P$5,\"\"))),\"\",IF(C1323=\"corrective\",E1323+KPI!$P$4,IF(C1323=\"Preventative\",E1323+KPI!$P$5,\"\")))","v":""},"Please select",null,null,null,null,null,"Please select",null,null,"",null,null,null,null,null,null,null,null,"TBD","","",null,null,0,0,1]
[null,"Please select",null,null,null,null,null,null,null,null,null,null,null,null,{"$f":"IF(ISERROR(IF(C1324=\"corrective\",E1324+KPI!$P$4,IF(C1324=\"Preventative\",E1324+KPI!$P$5,\"\"))),\"\",IF(C1324=\"corrective\",E1324+KPI!$P$4,IF(C1324=\"Preventative\",E1324+KPI!$P$5,\"\")))","v":""},"Please select",null,null,null,null,null,"Please select",null,null,"",null,null,null,null,null,null,null,null,"TBD","","",null,null,0,0,1]
[null,"Please select",null,null,null,null,null,null,null,null,null,null,null,null,{"$f":"IF(ISERROR(IF(C1325=\"corrective\",E1325+KPI!$P$4,IF(C1325=\"Preventative\",E1325+KPI!$P$5,\"\"))),\"\",IF(C1325=\"corrective\",E1325+KPI!$P$4,IF(C1325=\"Preventative\",E1325+KPI!$P$5,\"\")))","v":""},"Please select",null,null,null,null,null,"Please select",null,null,"",null,null,null,null,null,null,null,null,"TBD","","",null,null,0,0,1]
[null,"Please select",null,null,null,null,null,null,null,null,null,null,null,null,{"$f":"IF(ISERROR(IF(C1326=\"corrective\",E1326+KPI!$P$4,IF(C1326=\"Preventative\",E1326+KPI!$P$5,\"\"))),\"\",IF(C1326=\"corrective\",E1326+KPI!$P$4,IF(C1326=\"Preventative\",E1326+KPI!$P$5,\"\")))","v":""},"Please select",null,null,null,null,null,"Please select",null,null,"",null,null,null,null,null,null,null,null,"TBD","","",null,null,0,0,1]
[null,"Please select",null,null,null,null,null,null,null,null,null,null,null,null,{"$f":"IF(ISERROR(IF(C1327=\"corrective\",E1327+KPI!$P$4,IF(C1327=\"Preventative\",E1327+KPI!$P$5,\"\"))),\"\",IF(C1327=\"corrective\",E1327+KPI!$P$4,IF(C1327=\"Preventative\",E1327+KPI!$P$5,\"\")))","v":""},{"$f":"IF(AND(O1327<TODAY(),B1327=\"new\"),\"New - Overdue\",B1327)","v":"Please select"},null,null,null,null,null,"Please select",null,null,{"$f":"Z1327&AA1327&AB1327&AC1327&AD1327&AE1327","v":""},null,null,null,null,null,null,null,null,"TBD",{"$f":"IF(ISERROR(AJ1327-20),\"\",AJ1327-20)","v":""},{"$f":"IF(ISERROR(IF(C1327=\"corrective\",E1327+AH1327,\"\")),\"\",IF(C1327=\"corrective\",E1327+AH1327,\"\"))","v":""},null,null,0,0,{"$f":"COUNTIF(AN1327,\">400\")+COUNTIF(AN1327,\"=0\")","v":1}]
[null,"Please select",null,null,null,null,null,null,null,null,null,null,null,null,{"$f":"IF(ISERROR(IF(C1328=\"corrective\",E1328+KPI!$P$4,IF(C1328=\"Preventative\",E1328+KPI!$P$5,\"\"))),\"\",IF(C1328=\"corrective\",E1328+KPI!$P$4,IF(C1328=\"Preventative\",E1328+KPI!$P$5,\"\")))","v":""},"Please select",null,null,null,null,null,"Please select",null,null,"",null,null,null,null,null,null,null,null,"TBD","","",null,null,0,0,1]
[null,"Please select",null,null,null,null,null,null,null,null,null,null,null,null,{"$f":"IF(ISERROR(IF(C1329=\"corrective\",E1329+KPI!$P$4,IF(C1329=\"Preventative\",E1329+KPI!$P$5,\"\"))),\"\",IF(C1329=\"corrective\",E1329+KPI!$P$4,IF(C1329=\"Preventative\",E1329+KPI!$P$5,\"\")))","v":""},"Please select",null,null,null,null,null,"Please select",null,null,"",null,null,null,null,null,null,null,null,"TBD","","",null,null,0,0,1]
[null,"Please select",null,null,null,null,null,null,null,null,null,null,null,null,{"$f":"IF(ISERROR(IF(C1330=\"corrective\",E1330+KPI!$P$4,IF(C1330=\"Preventative\",E1330+KPI!$P$5,\"\"))),\"\",IF(C1330=\"corrective\",E1330+KPI!$P$4,IF(C1330=\"Preventative\",E1330+KPI!$P$5,\"\")))","v":""},"Please select",null,null,null,null,null,"Please select",null,null,"",null,null,null,null,null,null,null,null,"TBD","","",null,null,0,0,1]
[null,"Please select",null,null,null,null,null,null,null,null,null,null,null,null,{"$f":"IF(ISERROR(IF(C1331=\"corrective\",E1331+KPI!$P$4,IF(C1331=\"Preventative\",E1331+KPI!$P$5,\"\"))),\"\",IF(C1331=\"corrective\",E1331+KPI!$P$4,IF(C1331=\"Preventative\",E1331+KPI!$P$5,\"\")))","v":""},"Please select",null,null,null,null,null,"Please select",null,null,"",null,null,null,null,null,null,null,null,"TBD","","",null,null,0,0,1]
[null,"Please select",null,null,null,null,null,null,null,null,null,null,null,null,{"$f":"IF(ISERROR(IF(C1332=\"corrective\",E1332+KPI!$P$4,IF(C1332=\"Preventative\",E1332+KPI!$P$5,\"\"))),\"\",IF(C1332=\"corrective\",E1332+KPI!$P$4,IF(C1332=\"Preventative\",E1332+KPI!$P$5,\"\")))","v":""},"Please select",null,null,null,null,null,"Please select",null,null,"",null,null,null,null,null,null,null,null,"TBD","","",null,null,0,0,1]
[null,"Please select",null,null,null,null,null,null,null,null,null,null,null,null,{"$f":"IF(ISERROR(IF(C1333=\"corrective\",E1333+KPI!$P$4,IF(C1333=\"Preventative\",E1333+KPI!$P$5,\"\"))),\"\",IF(C1333=\"corrective\",E1333+KPI!$P$4,IF(C1333=\"Preventative\",E1333+KPI!$P$5,\"\")))","v":""},"Please select",null,null,null,null,null,"Please select",null,null,"",null,null,null,null,null,null,null,null,"TBD","","",null,null,0,0,1]
[null,"Please select",null,null,null,null,null,null,null,null,null,null,null,null,{"$f":"IF(ISERROR(IF(C1334=\"corrective\",E1334+KPI!$P$4,IF(C1334=\"Preventative\",E1334+KPI!$P$5,\"\"))),\"\",IF(C1334=\"corrective\",E1334+KPI!$P$4,IF(C1334=\"Preventative\",E1334+KPI!$P$5,\"\")))","v":""},"Please select",null,null,null,null,null,"Please select",null,null,"",null,null,null,null,null,null,null,null,"TBD","","",null,null,0,0,1]
[null,"Please select",null,null,null,null,null,null,null,null,null,null,null,null,{"$f":"IF(ISERROR(IF(C1335=\"corrective\",E1335+KPI!$P$4,IF(C1335=\"Preventative\",E1335+KPI!$P$5,\"\"))),\"\",IF(C1335=\"corrective\",E1335+KPI!$P$4,IF(C1335=\"Preventative\",E1335+KPI!$P$5,\"\")))","v":""},"Please select",null,null,null,null,null,"Please select",null,null,"",null,null,null,null,null,null,null,null,"TBD","","",null,null,0,0,1]
[null,"Please select",null,null,null,null,null,null,null,null,null,null,null,null,{"$f":"IF(ISERROR(IF(C1336=\"corrective\",E1336+KPI!$P$4,IF(C1336=\"Preventative\",E1336+KPI!$P$5,\"\"))),\"\",IF(C1336=\"corrective\",E1336+KPI!$P$4,IF(C1336=\"Preventative\",E1336+KPI!$P$5,\"\")))","v":""},"Please select",null,null,null,null,null,"Please select",null,null,"",null,null,null,null,null,null,null,null,"TBD","","",null,null,0,0,1]
[null,"Please select",null,null,null,null,null,null,null,null,null,null,null,null,{"$f":"IF(ISERROR(IF(C1337=\"corrective\",E1337+KPI!$P$4,IF(C1337=\"Preventative\",E1337+KPI!$P$5,\"\"))),\"\",IF(C1337=\"corrective\",E1337+KPI!$P$4,IF(C1337=\"Preventative\",E1337+KPI!$P$5,\"\")))","v":""},"Please select",null,null,null,null,null,"Please select",null,null,"",null,null,null,null,null,null,null,null,"TBD","","",null,null,0,0,1]
[null,"Please select",null,null,null,null,null,null,null,null,null,null,null,null,{"$f":"IF(ISERROR(IF(C1338=\"corrective\",E1338+KPI!$P$4,IF(C1338=\"Preventative\",E1338+KPI!$P$5,\"\"))),\"\",IF(C1338=\"corrective\",E1338+KPI!$P$4,IF(C1338=\"Preventative\",E1338+KPI!$P$5,\"\")))","v":""},"Please select",null,null,null,null,null,"Please select",null,null,"",null,null,null,null,null,null,null,null,"TBD","","",null,null,0,0,1]
[null,"Please select",null,null,null,null,null,null,null,null,null,null,null,null,{"$f":"IF(ISERROR(IF(C1339=\"corrective\",E1339+KPI!$P$4,IF(C1339=\"Preventative\",E1339+KPI!$P$5,\"\"))),\"\",IF(C1339=\"corrective\",E1339+KPI!$P$4,IF(C1339=\"Preventative\",E1339+KPI!$P$5,\"\")))","v":""},"Please select",null,null,null,null,null,"Please select",null,null,"",null,null,null,null,null,null,null,null,"TBD","","",null,null,0,0,1]
[null,"Please select",null,null,null,null,null,null,null,null,null,null,null,null,{"$f":"IF(ISERROR(IF(C1340=\"corrective\",E1340+KPI!$P$4,IF(C1340=\"Preventative\",E1340+KPI!$P$5,\"\"))),\"\",IF(C1340=\"corrective\",E1340+KPI!$P$4,IF(C1340=\"Preventative\",E1340+KPI!$P$5,\"\")))","v":""},"Please select",null,null,null,null,null,"Please select",null,null,"",null,null,null,null,null,null,null,null,"TBD","","",null,null,0,0,1]
[null,"Please select",null,null,null,null,null,null,null,null,null,null,null,null,{"$f":"IF(ISERROR(IF(C1341=\"corrective\",E1341+KPI!$P$4,IF(C1341=\"Preventative\",E1341+KPI!$P$5,\"\"))),\"\",IF(C1341=\"corrective\",E1341+KPI!$P$4,IF(C1341=\"Preventative\",E1341+KPI!$P$5,\"\")))","v":""},"Please select",null,null,null,null,null,"Please select",null,null,"",null,null,null,null,null,null,null,null,"TBD","","",null,null,0,0,1]
[null,"Please select",null,null,null,null,null,null,null,null,null,null,null,null,{"$f":"IF(ISERROR(IF(C1342=\"corrective\",E1342+KPI!$P$4,IF(C1342=\"Preventative\",E1342+KPI!$P$5,\"\"))),\"\",IF(C1342=\"corrective\",E1342+KPI!$P$4,IF(C1342=\"Preventative\",E1342+KPI!$P$5,\"\")))","v":""},"Please select",null,null,null,null,null,"Please select",null,null,"",null,null,null,null,null,null,null,null,"TBD","","",null,null,0,0,1]
[null,"Please select",null,null,null,null,null,null,null,null,null,null,null,null,{"$f":"IF(ISERROR(IF(C1343=\"corrective\",E1343+KPI!$P$4,IF(C1343=\"Preventative\",E1343+KPI!$P$5,\"\"))),\"\",IF(C1343=\"corrective\",E1343+KPI!$P$4,IF(C1343=\"Preventative\",E1343+KPI!$P$5,\"\")))","v":""},"Please select",null,null,null,null,null,"Please select",null,null,"",null,null,null,null,null,null,null,null,"TBD","","",null,null,0,0,1]
[null,"Please select",null,null,null,null,null,null,null,null,null,null,null,null,{"$f":"IF(ISERROR(IF(C1344=\"corrective\",E1344+KPI!$P$4,IF(C1344=\"Preventative\",E1344+KPI!$P$5,\"\"))),\"\",IF(C1344=\"corrective\",E1344+KPI!$P$4,IF(C1344=\"Preventative\",E1344+KPI!$P$5,\"\")))","v":""},"Please select",null,null,null,null,null,"Please select",null,null,"",null,null,null,null,null,null,null,null,"TBD","","",null,null,0,0,1]
[null,"Please select",null,null,null,null,null,null,null,null,null,null,null,null,{"$f":"IF(ISERROR(IF(C1345=\"corrective\",E1345+KPI!$P$4,IF(C1345=\"Preventative\",E1345+KPI!$P$5,\"\"))),\"\",IF(C1345=\"corrective\",E1345+KPI!$P$4,IF(C1345=\"Preventative\",E1345+KPI!$P$5,\"\")))","v":""},"Please select",null,null,null,null,null,"Please select",null,null,"",null,null,null,null,null,null,null,null,"TBD","","",null,null,0,0,1]
[null,"Please select",null,null,null,null,null,null,null,null,null,null,null,null,{"$f":"IF(ISERROR(IF(C1346=\"corrective\",E1346+KPI!$P$4,IF(C1346=\"Preventative\",E1346+KPI!$P$5,\"\"))),\"\",IF(C1346=\"corrective\",E1346+KPI!$P$4,IF(C1346=\"Preventative\",E1346+KPI!$P$5,\"\")))","v":""},"Please select",null,null,null,null,null,"Please select",null,null,"",null,null,null,null,null,null,null,null,"TBD","","",null,null,{"$f":"IF(ISERROR(DATEDIF(E1346,Q1346,\"D\")),\"\",DATEDIF(E1346,Q1346,\"D\"))","v":0},{"$f":"IF(ISERROR(DATEDIF(Q1346,X1346,\"D\")),\"\",DATEDIF(Q1346,X1346,\"D\"))","v":0},1]
[null,"Please select",null,null,null,null,null,null,null,null,null,null,null,null,{"$f":"IF(ISERROR(IF(C1347=\"corrective\",E1347+KPI!$P$4,IF(C1347=\"Preventative\",E1347+KPI!$P$5,\"\"))),\"\",IF(C1347=\"corrective\",E1347+KPI!$P$4,IF(C1347=\"Preventative\",E1347+KPI!$P$5,\"\")))","v":""},"Please select",null,null,null,null,null,"Please select",null,null,"",null,null,null,null,null,null,null,null,"TBD","","",null,null,0,0,1]
[null,"Please select",null,null,null,null,null,null,null,null,null,null,null,null,{"$f":"IF(ISERROR(IF(C1348=\"corrective\",E1348+KPI!$P$4,IF(C1348=\"Preventative\",E1348+KPI!$P$5,\"\"))),\"\",IF(C1348=\"corrective\",E1348+KPI!$P$4,IF(C1348=\"Preventative\",E1348+KPI!$P$5,\"\")))","v":""},"Please select",null,null,null,null,null,"Please select",null,null,"",null,null,null,null,null,null,null,null,"TBD","","",null,null,0,0,1]
[null,"Please select",null,null,null,null,null,null,null,null,null,null,null,null,{"$f":"IF(ISERROR(IF(C1349=\"corrective\",E1349+KPI!$P$4,IF(C1349=\"Preventative\",E1349+KPI!$P$5,\"\"))),\"\",IF(C1349=\"corrective\",E1349+KPI!$P$4,IF(C1349=\"Preventative\",E1349+KPI!$P$5,\"\")))","v":""},"Please select",null,null,null,null,null,"Please select",null,null,"",null,null,null,null,null,null,null,null,"TBD","","",null,null,0,0,1]
[null,"Please select",null,null,null,null,null,null,null,null,null,null,null,null,{"$f":"IF(ISERROR(IF(C1350=\"corrective\",E1350+KPI!$P$4,IF(C1350=\"Preventative\",E1350+KPI!$P$5,\"\"))),\"\",IF(C1350=\"corrective\",E1350+KPI!$P$4,IF(C1350=\"Preventative\",E1350+KPI!$P$5,\"\")))","v":""},"Please select",null,null,null,null,null,"Please select",null,null,"",null,null,null,null,null,null,null,null,"TBD","","",null,null,0,0,1]
[null,"Please select",null,null,null,null,null,null,null,null,null,null,null,null,{"$f":"IF(ISERROR(IF(C1351=\"corrective\",E1351+KPI!$P$4,IF(C1351=\"Preventative\",E1351+KPI!$P$5,\"\"))),\"\",IF(C1351=\"corrective\",E1351+KPI!$P$4,IF(C1351=\"Preventative\",E1351+KPI!$P$5,\"\")))","v":""},"Please select",null,null,null,null,null,"Please select",null,null,"",null,null,null,null,null,null,null,null,"TBD","","",null,null,0,0,1]
[null,"Please select",null,null,null,null,null,null,null,null,null,null,null,null,{"$f":"IF(ISERROR(IF(C1352=\"corrective\",E1352+KPI!$P$4,IF(C1352=\"Preventative\",E1352+KPI!$P$5,\"\"))),\"\",IF(C1352=\"corrective\",E1352+KPI!$P$4,IF(C1352=\"Preventative\",E1352+KPI!$P$5,\"\")))","v":""},"Please select",null,null,null,null,null,"Please select",null,null,"",null,null,null,null,null,null,null,null,"TBD","","",null,null,0,0,1]
[null,"Please select",null,null,null,null,null,null,null,null,null,null,null,null,{"$f":"IF(ISERROR(IF(C1353=\"corrective\",E1353+KPI!$P$4,IF(C1353=\"Preventative\",E1353+KPI!$P$5,\"\"))),\"\",IF(C1353=\"corrective\",E1353+KPI!$P$4,IF(C1353=\"Preventative\",E1353+KPI!$P$5,\"\")))","v":""},"Please select",null,null,null,null,null,"Please select",null,null,"",null,null,null,null,null,null,null,null,"TBD","","",null,null,0,0,1]
[null,"Please select",null,null,null,null,null,null,null,null,null,null,null,null,{"$f":"IF(ISERROR(IF(C1354=\"corrective\",E1354+KPI!$P$4,IF(C1354=\"Preventative\",E1354+KPI!$P$5,\"\"))),\"\",IF(C1354=\"corrective\",E1354+KPI!$P$4,IF(C1354=\"Preventative\",E1354+KPI!$P$5,\"\")))","v":""},"Please select",null,null,null,null,null,"Please select",null,null,"",null,null,null,null,null,null,null,null,"TBD","","",null,null,0,0,1]
[null,"Please select",null,null,null,null,null,null,null,null,null,null,null,null,{"$f":"IF(ISERROR(IF(C1355=\"corrective\",E1355+KPI!$P$4,IF(C1355=\"Preventative\",E1355+KPI!$P$5,\"\"))),\"\",IF(C1355=\"corrective\",E1355+KPI!$P$4,IF(C1355=\"Preventative\",E1355+KPI!$P$5,\"\")))","v":""},"Please select",null,null,null,null,null,"Please select",null,null,"",null,null,null,null,null,null,null,null,"TBD","","",null,null,0,0,1]
[null,"Please select",null,null,null,null,null,null,null,null,null,null,null,null,{"$f":"IF(ISERROR(IF(C1356=\"corrective\",E1356+KPI!$P$4,IF(C1356=\"Preventative\",E1356+KPI!$P$5,\"\"))),\"\",IF(C1356=\"corrective\",E1356+KPI!$P$4,IF(C1356=\"Preventative\",E1356+KPI!$P$5,\"\")))","v":""},"Please select",null,null,null,null,null,"Please select",null,null,"",null,null,null,null,null,null,null,null,"TBD","","",null,null,0,0,1]
[null,"Please select",null,null,null,null,null,null,null,null,null,null,null,null,{"$f":"IF(ISERROR(IF(C1357=\"corrective\",E1357+KPI!$P$4,IF(C1357=\"Preventative\",E1357+KPI!$P$5,\"\"))),\"\",IF(C1357=\"corrective\",E1357+KPI!$P$4,IF(C1357=\"Preventative\",E1357+KPI!$P$5,\"\")))","v":""},"Please select",null,null,null,null,null,"Please select",null,null,"",null,null,null,null,null,null,null,null,"TBD","","",null,null,0,0,1]
[null,"Please select",null,null,null,null,null,null,null,null,null,null,null,null,{"$f":"IF(ISERROR(IF(C1358=\"corrective\",E1358+KPI!$P$4,IF(C1358=\"Preventative\",E1358+KPI!$P$5,\"\"))),\"\",IF(C1358=\"corrective\",E1358+KPI!$P$4,IF(C1358=\"Preventative\",E1358+KPI!$P$5,\"\")))","v":""},"Please select",null,null,null,null,null,"Please select",null,null,"",null,null,null,null,null,null,null,null,"TBD","","",null,null,0,0,1]
[null,"Please select",null,null,null,null,null,null,null,null,null,null,null,null,{"$f":"IF(ISERROR(IF(C1359=\"corrective\",E1359+KPI!$P$4,IF(C1359=\"Preventative\",E1359+KPI!$P$5,\"\"))),\"\",IF(C1359=\"corrective\",E1359+KPI!$P$4,IF(C1359=\"Preventative\",E1359+KPI!$P$5,\"\")))","v":""},"Please select",null,null,null,null,null,"Please select",null,null,"",null,null,null,null,null,null,null,null,"TBD","","",null,null,0,0,1]
[null,"Please select",null,null,null,null,null,null,null,null,null,null,null,null,{"$f":"IF(ISERROR(IF(C1360=\"corrective\",E1360+KPI!$P$4,IF(C1360=\"Preventative\",E1360+KPI!$P$5,\"\"))),\"\",IF(C1360=\"corrective\",E1360+KPI!$P$4,IF(C1360=\"Preventative\",E1360+KPI!$P$5,\"\")))","v":""},"Please select",null,null,null,null,null,"Please select",null,null,"",null,null,null,null,null,null,null,null,"TBD","","",null,null,0,0,1]
[null,"Please select",null,null,null,null,null,null,null,null,null,null,null,null,{"$f":"IF(ISERROR(IF(C1361=\"corrective\",E1361+KPI!$P$4,IF(C1361=\"Preventative\",E1361+KPI!$P$5,\"\"))),\"\",IF(C1361=\"corrective\",E1361+KPI!$P$4,IF(C1361=\"Preventative\",E1361+KPI!$P$5,\"\")))","v":""},"Please select",null,null,null,null,null,"Please select",null,null,"",null,null,null,null,null,null,null,null,"TBD","","",null,null,0,0,1]
[null,"Please select",null,null,null,null,null,null,null,null,null,null,null,null,{"$f":"IF(ISERROR(IF(C1362=\"corrective\",E1362+KPI!$P$4,IF(C1362=\"Preventative\",E1362+KPI!$P$5,\"\"))),\"\",IF(C1362=\"corrective\",E1362+KPI!$P$4,IF(C1362=\"Preventative\",E1362+KPI!$P$5,\"\")))","v":""},"Please select",null,null,null,null,null,"Please select",null,null,"",null,null,null,null,null,null,null,null,"TBD","","",null,null,0,0,1]
[null,"Please select",null,null,null,null,null,null,null,null,null,null,null,null,{"$f":"IF(ISERROR(IF(C1363=\"corrective\",E1363+KPI!$P$4,IF(C1363=\"Preventative\",E1363+KPI!$P$5,\"\"))),\"\",IF(C1363=\"corrective\",E1363+KPI!$P$4,IF(C1363=\"Preventative\",E1363+KPI!$P$5,\"\")))","v":""},"Please select",null,null,null,null,null,"Please select",null,null,"",null,null,null,null,null,null,null,null,"TBD","","",null,null,0,0,1]
[null,"Please select",null,null,null,null,null,null,null,null,null,null,null,null,{"$f":"IF(ISERROR(IF(C1364=\"corrective\",E1364+KPI!$P$4,IF(C1364=\"Preventative\",E1364+KPI!$P$5,\"\"))),\"\",IF(C1364=\"corrective\",E1364+KPI!$P$4,IF(C1364=\"Preventative\",E1364+KPI!$P$5,\"\")))","v":""},"Please select",null,null,null,null,null,"Please select",null,null,"",null,null,null,null,null,null,null,null,"TBD","","",null,null,0,0,1]
[null,"Please select",null,null,null,null,null,null,null,null,null,null,null,null,{"$f":"IF(ISERROR(IF(C1365=\"corrective\",E1365+KPI!$P$4,IF(C1365=\"Preventative\",E1365+KPI!$P$5,\"\"))),\"\",IF(C1365=\"corrective\",E1365+KPI!$P$4,IF(C1365=\"Preventative\",E1365+KPI!$P$5,\"\")))","v":""},"Please select",null,null,null,null,null,"Please select",null,null,"",null,null,null,null,null,null,null,null,"TBD","","",null,null,0,0,1]
[null,"Please select",null,null,null,null,null,null,null,null,null,null,null,null,{"$f":"IF(ISERROR(IF(C1366=\"corrective\",E1366+KPI!$P$4,IF(C1366=\"Preventative\",E1366+KPI!$P$5,\"\"))),\"\",IF(C1366=\"corrective\",E1366+KPI!$P$4,IF(C1366=\"Preventative\",E1366+KPI!$P$5,\"\")))","v":""},"Please select",null,null,null,null,null,"Please select",null,null,"",null,null,null,null,null,null,null,null,"TBD","","",null,null,0,0,1]
[null,"Please select",null,null,null,null,null,null,null,null,null,null,null,null,{"$f":"IF(ISERROR(IF(C1367=\"corrective\",E1367+KPI!$P$4,IF(C1367=\"Preventative\",E1367+KPI!$P$5,\"\"))),\"\",IF(C1367=\"corrective\",E1367+KPI!$P$4,IF(C1367=\"Preventative\",E1367+KPI!$P$5,\"\")))","v":""},"Please select",null,null,null,null,null,"Please select",null,null,"",null,null,null,null,null,null,null,null,"TBD","","",null,null,0,0,1]
[null,"Please select",null,null,null,null,null,null,null,null,null,null,null,null,{"$f":"IF(ISERROR(IF(C1368=\"corrective\",E1368+KPI!$P$4,IF(C1368=\"Preventative\",E1368+KPI!$P$5,\"\"))),\"\",IF(C1368=\"corrective\",E1368+KPI!$P$4,IF(C1368=\"Preventative\",E1368+KPI!$P$5,\"\")))","v":""},"Please select",null,null,null,null,null,"Please select",null,null,"",null,null,null,null,null,null,null,null,"TBD","","",null,null,0,0,1]
[null,"Please select",null,null,null,null,null,null,null,null,null,null,null,null,{"$f":"IF(ISERROR(IF(C1369=\"corrective\",E1369+KPI!$P$4,IF(C1369=\"Preventative\",E1369+KPI!$P$5,\"\"))),\"\",IF(C1369=\"corrective\",E1369+KPI!$P$4,IF(C1369=\"Preventative\",E1369+KPI!$P$5,\"\")))","v":""},"Please select",null,null,null,null,null,"Please select",null,null,"",null,null,null,null,null,null,null,null,"TBD","","",null,null,0,0,1]
[null,"Please select",null,null,null,null,null,null,null,null,null,null,null,null,{"$f":"IF(ISERROR(IF(C1370=\"corrective\",E1370+KPI!$P$4,IF(C1370=\"Preventative\",E1370+KPI!$P$5,\"\"))),\"\",IF(C1370=\"corrective\",E1370+KPI!$P$4,IF(C1370=\"Preventative\",E1370+KPI!$P$5,\"\")))","v":""},"Please select",null,null,null,null,null,"Please select",null,null,"",null,null,null,null,null,null,null,null,"TBD","","",null,null,0,0,1]
[null,"Please select",null,null,null,null,null,null,null,null,null,null,null,null,{"$f":"IF(ISERROR(IF(C1371=\"corrective\",E1371+KPI!$P$4,IF(C1371=\"Preventative\",E1371+KPI!$P$5,\"\"))),\"\",IF(C1371=\"corrective\",E1371+KPI!$P$4,IF(C1371=\"Preventative\",E1371+KPI!$P$5,\"\")))","v":""},"Please select",null,null,null,null,null,"Please select",null,null,"",null,null,null,null,null,null,null,null,"TBD","","",null,null,0,0,1]
[null,"Please select",null,null,null,null,null,null,null,null,null,null,null,null,{"$f":"IF(ISERROR(IF(C1372=\"corrective\",E1372+KPI!$P$4,IF(C1372=\"Preventative\",E1372+KPI!$P$5,\"\"))),\"\",IF(C1372=\"corrective\",E1372+KPI!$P$4,IF(C1372=\"Preventative\",E1372+KPI!$P$5,\"\")))","v":""},"Please select",null,null,null,null,null,"Please select",null,null,"",null,null,null,null,null,null,null,null,"TBD","","",null,null,0,0,1]
[null,"Please select",null,null,null,null,null,null,null,null,null,null,null,null,{"$f":"IF(ISERROR(IF(C1373=\"corrective\",E1373+KPI!$P$4,IF(C1373=\"Preventative\",E1373+KPI!$P$5,\"\"))),\"\",IF(C1373=\"corrective\",E1373+KPI!$P$4,IF(C1373=\"Preventative\",E1373+KPI!$P$5,\"\")))","v":""},"Please select",null,null,null,null,null,"Please select",null,null,"",null,null,null,null,null,null,null,null,"TBD","","",null,null,0,0,1]
[null,"Please select",null,null,null,null,null,null,null,null,null,null,null,null,{"$f":"IF(ISERROR(IF(C1374=\"corrective\",E1374+KPI!$P$4,IF(C1374=\"Preventative\",E1374+KPI!$P$5,\"\"))),\"\",IF(C1374=\"corrective\",E1374+KPI!$P$4,IF(C1374=\"Preventative\",E1374+KPI!$P$5,\"\")))","v":""},"Please select",null,null,null,null,null,"Please select",null,null,"",null,null,null,null,null,null,null,null,"TBD","","",null,null,0,0,1]
[null,"Please select",null,null,null,null,null,null,null,null,null,null,null,null,{"$f":"IF(ISERROR(IF(C1375=\"corrective\",E1375+KPI!$P$4,IF(C1375=\"Preventative\",E1375+KPI!$P$5,\"\"))),\"\",IF(C1375=\"corrective\",E1375+KPI!$P$4,IF(C1375=\"Preventative\",E1375+KPI!$P$5,\"\")))","v":""},"Please select",null,null,null,null,null,"Please select",null,null,"",null,null,null,null,null,null,null,null,"TBD","","",null,null,0,0,1]
[null,"Please select",null,null,null,null,null,null,null,null,null,null,null,null,{"$f":"IF(ISERROR(IF(C1376=\"corrective\",E1376+KPI!$P$4,IF(C1376=\"Preventative\",E1376+KPI!$P$5,\"\"))),\"\",IF(C1376=\"corrective\",E1376+KPI!$P$4,IF(C1376=\"Preventative\",E1376+KPI!$P$5,\"\")))","v":""},"Please select",null,null,null,null,null,"Please select",null,null,"",null,null,null,null,null,null,null,null,"TBD","","",null,null,0,0,1]
[null,"Please select",null,null,null,null,null,null,null,null,null,null,null,null,{"$f":"IF(ISERROR(IF(C1377=\"corrective\",E1377+KPI!$P$4,IF(C1377=\"Preventative\",E1377+KPI!$P$5,\"\"))),\"\",IF(C1377=\"corrective\",E1377+KPI!$P$4,IF(C1377=\"Preventative\",E1377+KPI!$P$5,\"\")))","v":""},"Please select",null,null,null,null,null,"Please select",null,null,"",null,null,null,null,null,null,null,null,"TBD","","",null,null,0,0,1]
[null,"Please select",null,null,null,null,null,null,null,null,null,null,null,null,{"$f":"IF(ISERROR(IF(C1378=\"corrective\",E1378+KPI!$P$4,IF(C1378=\"Preventative\",E1378+KPI!$P$5,\"\"))),\"\",IF(C1378=\"corrective\",E1378+KPI!$P$4,IF(C1378=\"Preventative\",E1378+KPI!$P$5,\"\")))","v":""},"Please select",null,null,null,null,null,"Please select",null,null,"",null,null,null,null,null,null,null,null,"TBD","","",null,null,0,0,1]
[null,"Please select",null,null,null,null,null,null,null,null,null,null,null,null,{"$f":"IF(ISERROR(IF(C1379=\"corrective\",E1379+KPI!$P$4,IF(C1379=\"Preventative\",E1379+KPI!$P$5,\"\"))),\"\",IF(C1379=\"corrective\",E1379+KPI!$P$4,IF(C1379=\"Preventative\",E1379+KPI!$P$5,\"\")))","v":""},"Please select",null,null,null,null,null,"Please select",null,null,"",null,null,null,null,null,null,null,null,"TBD","","",null,null,0,0,1]
[null,"Please select",null,null,null,null,null,null,null,null,null,null,null,null,{"$f":"IF(ISERROR(IF(C1380=\"corrective\",E1380+KPI!$P$4,IF(C1380=\"Preventative\",E1380+KPI!$P$5,\"\"))),\"\",IF(C1380=\"corrective\",E1380+KPI!$P$4,IF(C1380=\"Preventative\",E1380+KPI!$P$5,\"\")))","v":""},"Please select",null,null,null,null,null,"Please select",null,null,"",null,null,null,null,null,null,null,null,"TBD","","",null,null,0,0,1]
[null,"Please select",null,null,null,null,null,null,null,null,null,null,null,null,{"$f":"IF(ISERROR(IF(C1381=\"corrective\",E1381+KPI!$P$4,IF(C1381=\"Preventative\",E1381+KPI!$P$5,\"\"))),\"\",IF(C1381=\"corrective\",E1381+KPI!$P$4,IF(C1381=\"Preventative\",E1381+KPI!$P$5,\"\")))","v":""},"Please select",null,null,null,null,null,"Please select",null,null,"",null,null,null,null,null,null,null,null,"TBD","","",null,null,0,0,1]
[null,"Please select",null,null,null,null,null,null,null,null,null,null,null,null,{"$f":"IF(ISERROR(IF(C1382=\"corrective\",E1382+KPI!$P$4,IF(C1382=\"Preventative\",E1382+KPI!$P$5,\"\"))),\"\",IF(C1382=\"corrective\",E1382+KPI!$P$4,IF(C1382=\"Preventative\",E1382+KPI!$P$5,\"\")))","v":""},"Please select",null,null,null,null,null,"Please select",null,null,"",null,null,null,null,null,null,null,null,"TBD","","",null,null,0,0,1]
[null,"Please select",null,null,null,null,null,null,null,null,null,null,null,null,{"$f":"IF(ISERROR(IF(C1383=\"corrective\",E1383+KPI!$P$4,IF(C1383=\"Preventative\",E1383+KPI!$P$5,\"\"))),\"\",IF(C1383=\"corrective\",E1383+KPI!$P$4,IF(C1383=\"Preventative\",E1383+KPI!$P$5,\"\")))","v":""},"Please select",null,null,null,null,null,"Please select",null,null,"",null,null,null,null,null,null,null,null,"TBD","","",null,null,0,0,1]
[null,"Please select",null,null,null,null,null,null,null,null,null,null,null,null,{"$f":"IF(ISERROR(IF(C1384=\"corrective\",E1384+KPI!$P$4,IF(C1384=\"Preventative\",E1384+KPI!$P$5,\"\"))),\"\",IF(C1384=\"corrective\",E1384+KPI!$P$4,IF(C1384=\"Preventative\",E1384+KPI!$P$5,\"\")))","v":""},"Please select",null,null,null,null,null,"Please select",null,null,"",null,null,null,null,null,null,null,null,"TBD","","",null,null,0,0,1]
[null,"Please select",null,null,null,null,null,null,null,null,null,null,null,null,{"$f":"IF(ISERROR(IF(C1385=\"corrective\",E1385+KPI!$P$4,IF(C1385=\"Preventative\",E1385+KPI!$P$5,\"\"))),\"\",IF(C1385=\"corrective\",E1385+KPI!$P$4,IF(C1385=\"Preventative\",E1385+KPI!$P$5,\"\")))","v":""},"Please select",null,null,null,null,null,"Please select",null,null,"",null,null,null,null,null,null,null,null,"TBD","","",null,null,0,0,1]
[null,"Please select",null,null,null,null,null,null,null,null,null,null,null,null,{"$f":"IF(ISERROR(IF(C1386=\"corrective\",E1386+KPI!$P$4,IF(C1386=\"Preventative\",E1386+KPI!$P$5,\"\"))),\"\",IF(C1386=\"corrective\",E1386+KPI!$P$4,IF(C1386=\"Preventative\",E1386+KPI!$P$5,\"\")))","v":""},"Please select",null,null,null,null,null,"Please select",null,null,"",null,null,null,null,null,null,null,null,"TBD","","",null,null,0,0,1]
[null,"Please select",null,null,null,null,null,null,null,null,null,null,null,null,{"$f":"IF(ISERROR(IF(C1387=\"corrective\",E1387+KPI!$P$4,IF(C1387=\"Preventative\",E1387+KPI!$P$5,\"\"))),\"\",IF(C1387=\"corrective\",E1387+KPI!$P$4,IF(C1387=\"Preventative\",E1387+KPI!$P$5,\"\")))","v":""},"Please select",null,null,null,null,null,"Please select",null,null,"",null,null,null,null,null,null,null,null,"TBD","","",null,null,0,0,1]
[null,"Please select",null,null,null,null,null,null,null,null,null,null,null,null,{"$f":"IF(ISERROR(IF(C1388=\"corrective\",E1388+KPI!$P$4,IF(C1388=\"Preventative\",E1388+KPI!$P$5,\"\"))),\"\",IF(C1388=\"corrective\",E1388+KPI!$P$4,IF(C1388=\"Preventative\",E1388+KPI!$P$5,\"\")))","v":""},"Please select",null,null,null,null,null,"Please select",null,null,"",null,null,null,null,null,null,null,null,"TBD","","",null,null,0,0,1]
[null,"Please select",null,null,null,null,null,null,null,null,null,null,null,null,{"$f":"IF(ISERROR(IF(C1389=\"corrective\",E1389+KPI!$P$4,IF(C1389=\"Preventative\",E1389+KPI!$P$5,\"\"))),\"\",IF(C1389=\"corrective\",E1389+KPI!$P$4,IF(C1389=\"Preventative\",E1389+KPI!$P$5,\"\")))","v":""},"Please select",null,null,null,null,null,"Please select",null,null,"",null,null,null,null,null,null,null,null,"TBD","","",null,null,0,0,1]
[null,"Please select",null,null,null,null,null,null,null,null,null,null,null,null,{"$f":"IF(ISERROR(IF(C1390=\"corrective\",E1390+KPI!$P$4,IF(C1390=\"Preventative\",E1390+KPI!$P$5,\"\"))),\"\",IF(C1390=\"corrective\",E1390+KPI!$P$4,IF(C1390=\"Preventative\",E1390+KPI!$P$5,\"\")))","v":""},"Please select",null,null,null,null,null,"Please select",null,null,"",null,null,null,null,null,null,null,null,"TBD","","",null,null,0,0,1]
[null,"Please select",null,null,null,null,null,null,null,null,null,null,null,null,{"$f":"IF(ISERROR(IF(C1391=\"corrective\",E1391+KPI!$P$4,IF(C1391=\"Preventative\",E1391+KPI!$P$5,\"\"))),\"\",IF(C1391=\"corrective\",E1391+KPI!$P$4,IF(C1391=\"Preventative\",E1391+KPI!$P$5,\"\")))","v":""},{"$f":"IF(AND(O1391<TODAY(),B1391=\"new\"),\"New - Overdue\",B1391)","v":"Please select"},null,null,null,null,null,"Please select",null,null,{"$f":"Z1391&AA1391&AB1391&AC1391&AD1391&AE1391","v":""},null,null,null,null,null,null,null,null,"TBD",{"$f":"IF(ISERROR(AJ1391-20),\"\",AJ1391-20)","v":""},{"$f":"IF(ISERROR(IF(C1391=\"corrective\",E1391+AH1391,\"\")),\"\",IF(C1391=\"corrective\",E1391+AH1391,\"\"))","v":""},null,null,0,0,{"$f":"COUNTIF(AN1391,\">400\")+COUNTIF(AN1391,\"=0\")","v":1}]
[null,"Please select",null,null,null,null,null,null,null,null,null,null,null,null,{"$f":"IF(ISERROR(IF(C1392=\"corrective\",E1392+KPI!$P$4,IF(C1392=\"Preventative\",E1392+KPI!$P$5,\"\"))),\"\",IF(C1392=\"corrective\",E1392+KPI!$P$4,IF(C1392=\"Preventative\",E1392+KPI!$P$5,\"\")))","v":""},"Please select",null,null,null,null,null,"Please select",null,null,"",null,null,null,null,null,null,null,null,"TBD","","",null,null,0,0,1]
[null,"Please select",null,null,null,null,null,null,null,null,null,null,null,null,{"$f":"IF(ISERROR(IF(C1393=\"corrective\",E1393+KPI!$P$4,IF(C1393=\"Preventative\",E1393+KPI!$P$5,\"\"))),\"\",IF(C1393=\"corrective\",E1393+KPI!$P$4,IF(C1393=\"Preventative\",E1393+KPI!$P$5,\"\")))","v":""},"Please select",null,null,null,null,null,"Please select",null,null,"",null,null,null,null,null,null,null,null,"TBD","","",null,null,0,0,1]
[null,"Please select",null,null,null,null,null,null,null,null,null,null,null,null,{"$f":"IF(ISERROR(IF(C1394=\"corrective\",E1394+KPI!$P$4,IF(C1394=\"Preventative\",E1394+KPI!$P$5,\"\"))),\"\",IF(C1394=\"corrective\",E1394+KPI!$P$4,IF(C1394=\"Preventative\",E1394+KPI!$P$5,\"\")))","v":""},"Please select",null,null,null,null,null,"Please select",null,null,"",null,null,null,null,null,null,null,null,"TBD","","",null,null,0,0,1]
[null,"Please select",null,null,null,null,null,null,null,null,null,null,null,null,{"$f":"IF(ISERROR(IF(C1395=\"corrective\",E1395+KPI!$P$4,IF(C1395=\"Preventative\",E1395+KPI!$P$5,\"\"))),\"\",IF(C1395=\"corrective\",E1395+KPI!$P$4,IF(C1395=\"Preventative\",E1395+KPI!$P$5,\"\")))","v":""},"Please select",null,null,null,null,null,"Please select",null,null,"",null,null,null,null,null,null,null,null,"TBD","","",null,null,0,0,1]
[null,"Please select",null,null,null,null,null,null,null,null,null,null,null,null,{"$f":"IF(ISERROR(IF(C1396=\"corrective\",E1396+KPI!$P$4,IF(C1396=\"Preventative\",E1396+KPI!$P$5,\"\"))),\"\",IF(C1396=\"corrective\",E1396+KPI!$P$4,IF(C1396=\"Preventative\",E1396+KPI!$P$5,\"\")))","v":""},"Please select",null,null,null,null,null,"Please select",null,null,"",null,null,null,null,null,null,null,null,"TBD","","",null,null,0,0,1]
[null,"Please select",null,null,null,null,null,null,null,null,null,null,null,null,{"$f":"IF(ISERROR(IF(C1397=\"corrective\",E1397+KPI!$P$4,IF(C1397=\"Preventative\",E1397+KPI!$P$5,\"\"))),\"\",IF(C1397=\"corrective\",E1397+KPI!$P$4,IF(C1397=\"Preventative\",E1397+KPI!$P$5,\"\")))","v":""},"Please select",null,null,null,null,null,"Please select",null,null,"",null,null,null,null,null,null,null,null,"TBD","","",null,null,0,0,1]
[null,"Please select",null,null,null,null,null,null,null,null,null,null,null,null,{"$f":"IF(ISERROR(IF(C1398=\"corrective\",E1398+KPI!$P$4,IF(C1398=\"Preventative\",E1398+KPI!$P$5,\"\"))),\"\",IF(C1398=\"corrective\",E1398+KPI!$P$4,IF(C1398=\"Preventative\",E1398+KPI!$P$5,\"\")))","v":""},"Please select",null,null,null,null,null,"Please select",null,null,"",null,null,null,null,null,null,null,null,"TBD","","",null,null,0,0,1]
[null,"Please select",null,null,null,null,null,null,null,null,null,null,null,null,{"$f":"IF(ISERROR(IF(C1399=\"corrective\",E1399+KPI!$P$4,IF(C1399=\"Preventative\",E1399+KPI!$P$5,\"\"))),\"\",IF(C1399=\"corrective\",E1399+KPI!$P$4,IF(C1399=\"Preventative\",E1399+KPI!$P$5,\"\")))","v":""},"Please select",null,null,null,null,null,"Please select",null,null,"",null,null,null,null,null,null,null,null,"TBD","","",null,null,0,0,1]
[null,"Please select",null,null,null,null,null,null,null,null,null,null,null,null,{"$f":"IF(ISERROR(IF(C1400=\"corrective\",E1400+KPI!$P$4,IF(C1400=\"Preventative\",E1400+KPI!$P$5,\"\"))),\"\",IF(C1400=\"corrective\",E1400+KPI!$P$4,IF(C1400=\"Preventative\",E1400+KPI!$P$5,\"\")))","v":""},"Please select",null,null,null,null,null,"Please select",null,null,"",null,null,null,null,null,null,null,null,"TBD","","",null,null,0,0,1]
[null,"Please select",null,null,null,null,null,null,null,null,null,null,null,null,{"$f":"IF(ISERROR(IF(C1401=\"corrective\",E1401+KPI!$P$4,IF(C1401=\"Preventative\",E1401+KPI!$P$5,\"\"))),\"\",IF(C1401=\"corrective\",E1401+KPI!$P$4,IF(C1401=\"Preventative\",E1401+KPI!$P$5,\"\")))","v":""},"Please select",null,null,null,null,null,"Please select",null,null,"",null,null,null,null,null,null,null,null,"TBD","","",null,null,0,0,1]
[null,"Please select",null,null,null,null,null,null,null,null,null,null,null,null,{"$f":"IF(ISERROR(IF(C1402=\"corrective\",E1402+KPI!$P$4,IF(C1402=\"Preventative\",E1402+KPI!$P$5,\"\"))),\"\",IF(C1402=\"corrective\",E1402+KPI!$P$4,IF(C1402=\"Preventative\",E1402+KPI!$P$5,\"\")))","v":""},"Please select",null,null,null,null,null,"Please select",null,null,"",null,null,null,null,null,null,null,null,"TBD","","",null,null,0,0,1]
[null,"Please select",null,null,null,null,null,null,null,null,null,null,null,null,{"$f":"IF(ISERROR(IF(C1403=\"corrective\",E1403+KPI!$P$4,IF(C1403=\"Preventative\",E1403+KPI!$P$5,\"\"))),\"\",IF(C1403=\"corrective\",E1403+KPI!$P$4,IF(C1403=\"Preventative\",E1403+KPI!$P$5,\"\")))","v":""},"Please select",null,null,null,null,null,"Please select",null,null,"",null,null,null,null,null,null,null,null,"TBD","","",null,null,0,0,1]
[null,"Please select",null,null,null,null,null,null,null,null,null,null,null,null,{"$f":"IF(ISERROR(IF(C1404=\"corrective\",E1404+KPI!$P$4,IF(C1404=\"Preventative\",E1404+KPI!$P$5,\"\"))),\"\",IF(C1404=\"corrective\",E1404+KPI!$P$4,IF(C1404=\"Preventative\",E1404+KPI!$P$5,\"\")))","v":""},"Please select",null,null,null,null,null,"Please select",null,null,"",null,null,null,null,null,null,null,null,"TBD","","",null,null,0,0,1]
[null,"Please select",null,null,null,null,null,null,null,null,null,null,null,null,{"$f":"IF(ISERROR(IF(C1405=\"corrective\",E1405+KPI!$P$4,IF(C1405=\"Preventative\",E1405+KPI!$P$5,\"\"))),\"\",IF(C1405=\"corrective\",E1405+KPI!$P$4,IF(C1405=\"Preventative\",E1405+KPI!$P$5,\"\")))","v":""},"Please select",null,null,null,null,null,"Please select",null,null,"",null,null,null,null,null,null,null,null,"TBD","","",null,null,0,0,1]
[null,"Please select",null,null,null,null,null,null,null,null,null,null,null,null,{"$f":"IF(ISERROR(IF(C1406=\"corrective\",E1406+KPI!$P$4,IF(C1406=\"Preventative\",E1406+KPI!$P$5,\"\"))),\"\",IF(C1406=\"corrective\",E1406+KPI!$P$4,IF(C1406=\"Preventative\",E1406+KPI!$P$5,\"\")))","v":""},"Please select",null,null,null,null,null,"Please select",null,null,"",null,null,null,null,null,null,null,null,"TBD","","",null,null,0,0,1]
[null,"Please select",null,null,null,null,null,null,null,null,null,null,null,null,{"$f":"IF(ISERROR(IF(C1407=\"corrective\",E1407+KPI!$P$4,IF(C1407=\"Preventative\",E1407+KPI!$P$5,\"\"))),\"\",IF(C1407=\"corrective\",E1407+KPI!$P$4,IF(C1407=\"Preventative\",E1407+KPI!$P$5,\"\")))","v":""},"Please select",null,null,null,null,null,"Please select",null,null,"",null,null,null,null,null,null,null,null,"TBD","","",null,null,0,0,1]
[null,"Please select",null,null,null,null,null,null,null,null,null,null,null,null,{"$f":"IF(ISERROR(IF(C1408=\"corrective\",E1408+KPI!$P$4,IF(C1408=\"Preventative\",E1408+KPI!$P$5,\"\"))),\"\",IF(C1408=\"corrective\",E1408+KPI!$P$4,IF(C1408=\"Preventative\",E1408+KPI!$P$5,\"\")))","v":""},"Please select",null,null,null,null,null,"Please select",null,null,"",null,null,null,null,null,null,null,null,"TBD","","",null,null,0,0,1]
[null,"Please select",null,null,null,null,null,null,null,null,null,null,null,null,{"$f":"IF(ISERROR(IF(C1409=\"corrective\",E1409+KPI!$P$4,IF(C1409=\"Preventative\",E1409+KPI!$P$5,\"\"))),\"\",IF(C1409=\"corrective\",E1409+KPI!$P$4,IF(C1409=\"Preventative\",E1409+KPI!$P$5,\"\")))","v":""},"Please select",null,null,null,null,null,"Please select",null,null,"",null,null,null,null,null,null,null,null,"TBD","","",null,null,0,0,1]
[null,"Please select",null,null,null,null,null,null,null,null,null,null,null,null,{"$f":"IF(ISERROR(IF(C1410=\"corrective\",E1410+KPI!$P$4,IF(C1410=\"Preventative\",E1410+KPI!$P$5,\"\"))),\"\",IF(C1410=\"corrective\",E1410+KPI!$P$4,IF(C1410=\"Preventative\",E1410+KPI!$P$5,\"\")))","v":""},"Please select",null,null,null,null,null,"Please select",null,null,"",null,null,null,null,null,null,null,null,"TBD","","",null,null,{"$f":"IF(ISERROR(DATEDIF(E1410,Q1410,\"D\")),\"\",DATEDIF(E1410,Q1410,\"D\"))","v":0},{"$f":"IF(ISERROR(DATEDIF(Q1410,X1410,\"D\")),\"\",DATEDIF(Q1410,X1410,\"D\"))","v":0},1]
[null,"Please select",null,null,null,null,null,null,null,null,null,null,null,null,{"$f":"IF(ISERROR(IF(C1411=\"corrective\",E1411+KPI!$P$4,IF(C1411=\"Preventative\",E1411+KPI!$P$5,\"\"))),\"\",IF(C1411=\"corrective\",E1411+KPI!$P$4,IF(C1411=\"Preventative\",E1411+KPI!$P$5,\"\")))","v":""},"Please select",null,null,null,null,null,"Please select",null,null,"",null,null,null,null,null,null,null,null,"TBD","","",null,null,0,0,1]
[null,"Please select",null,null,null,null,null,null,null,null,null,null,null,null,{"$f":"IF(ISERROR(IF(C1412=\"corrective\",E1412+KPI!$P$4,IF(C1412=\"Preventative\",E1412+KPI!$P$5,\"\"))),\"\",IF(C1412=\"corrective\",E1412+KPI!$P$4,IF(C1412=\"Preventative\",E1412+KPI!$P$5,\"\")))","v":""},"Please select",null,null,null,null,null,"Please select",null,null,"",null,null,null,null,null,null,null,null,"TBD","","",null,null,0,0,1]
[null,"Please select",null,null,null,null,null,null,null,null,null,null,null,null,{"$f":"IF(ISERROR(IF(C1413=\"corrective\",E1413+KPI!$P$4,IF(C1413=\"Preventative\",E1413+KPI!$P$5,\"\"))),\"\",IF(C1413=\"corrective\",E1413+KPI!$P$4,IF(C1413=\"Preventative\",E1413+KPI!$P$5,\"\")))","v":""},"Please select",null,null,null,null,null,"Please select",null,null,"",null,null,null,null,null,null,null,null,"TBD","","",null,null,0,0,1]
[null,"Please select",null,null,null,null,null,null,null,null,null,null,null,null,{"$f":"IF(ISERROR(IF(C1414=\"corrective\",E1414+KPI!$P$4,IF(C1414=\"Preventative\",E1414+KPI!$P$5,\"\"))),\"\",IF(C1414=\"corrective\",E1414+KPI!$P$4,IF(C1414=\"Preventative\",E1414+KPI!$P$5,\"\")))","v":""},"Please select",null,null,null,null,null,"Please select",null,null,"",null,null,null,null,null,null,null,null,"TBD","","",null,null,0,0,1]
[null,"Please select",null,null,null,null,null,null,null,null,null,null,null,null,{"$f":"IF(ISERROR(IF(C1415=\"corrective\",E1415+KPI!$P$4,IF(C1415=\"Preventative\",E1415+KPI!$P$5,\"\"))),\"\",IF(C1415=\"corrective\",E1415+KPI!$P$4,IF(C1415=\"Preventative\",E1415+KPI!$P$5,\"\")))","v":""},"Please select",null,null,null,null,null,"Please select",null,null,"",null,null,null,null,null,null,null,null,"TBD","","",null,null,0,0,1]
[null,"Please select",null,null,null,null,null,null,null,null,null,null,null,null,{"$f":"IF(ISERROR(IF(C1416=\"corrective\",E1416+KPI!$P$4,IF(C1416=\"Preventative\",E1416+KPI!$P$5,\"\"))),\"\",IF(C1416=\"corrective\",E1416+KPI!$P$4,IF(C1416=\"Preventative\",E1416+KPI!$P$5,\"\")))","v":""},"Please select",null,null,null,null,null,"Please select",null,null,"",null,null,null,null,null,null,null,null,"TBD","","",null,null,0,0,1]
[null,"Please select",null,null,null,null,null,null,null,null,null,null,null,null,{"$f":"IF(ISERROR(IF(C1417=\"corrective\",E1417+KPI!$P$4,IF(C1417=\"Preventative\",E1417+KPI!$P$5,\"\"))),\"\",IF(C1417=\"corrective\",E1417+KPI!$P$4,IF(C1417=\"Preventative\",E1417+KPI!$P$5,\"\")))","v":""},"Please select",null,null,null,null,null,"Please select",null,null,"",null,null,null,null,null,null,null,null,"TBD","","",null,null,0,0,1]
[null,"Please select",null,null,null,null,null,null,null,null,null,null,null,null,{"$f":"IF(ISERROR(IF(C1418=\"corrective\",E1418+KPI!$P$4,IF(C1418=\"Preventative\",E1418+KPI!$P$5,\"\"))),\"\",IF(C1418=\"corrective\",E1418+KPI!$P$4,IF(C1418=\"Preventative\",E1418+KPI!$P$5,\"\")))","v":""},"Please select",null,null,null,null,null,"Please select",null,null,"",null,null,null,null,null,null,null,null,"TBD","","",null,null,0,0,1]
[null,"Please select",null,null,null,null,null,null,null,null,null,null,null,null,{"$f":"IF(ISERROR(IF(C1419=\"corrective\",E1419+KPI!$P$4,IF(C1419=\"Preventative\",E1419+KPI!$P$5,\"\"))),\"\",IF(C1419=\"corrective\",E1419+KPI!$P$4,IF(C1419=\"Preventative\",E1419+KPI!$P$5,\"\")))","v":""},"Please select",null,null,null,null,null,"Please select",null,null,"",null,null,null,null,null,null,null,null,"TBD","","",null,null,0,0,1]
[null,"Please select",null,null,null,null,null,null,null,null,null,null,null,null,{"$f":"IF(ISERROR(IF(C1420=\"corrective\",E1420+KPI!$P$4,IF(C1420=\"Preventative\",E1420+KPI!$P$5,\"\"))),\"\",IF(C1420=\"corrective\",E1420+KPI!$P$4,IF(C1420=\"Preventative\",E1420+KPI!$P$5,\"\")))","v":""},"Please select",null,null,null,null,null,"Please select",null,null,"",null,null,null,null,null,null,null,null,"TBD","","",null,null,0,0,1]
[null,"Please select",null,null,null,null,null,null,null,null,null,null,null,null,{"$f":"IF(ISERROR(IF(C1421=\"corrective\",E1421+KPI!$P$4,IF(C1421=\"Preventative\",E1421+KPI!$P$5,\"\"))),\"\",IF(C1421=\"corrective\",E1421+KPI!$P$4,IF(C1421=\"Preventative\",E1421+KPI!$P$5,\"\")))","v":""},"Please select",null,null,null,null,null,"Please select",null,null,"",null,null,null,null,null,null,null,null,"TBD","","",null,null,0,0,1]
[null,"Please select",null,null,null,null,null,null,null,null,null,null,null,null,{"$f":"IF(ISERROR(IF(C1422=\"corrective\",E1422+KPI!$P$4,IF(C1422=\"Preventative\",E1422+KPI!$P$5,\"\"))),\"\",IF(C1422=\"corrective\",E1422+KPI!$P$4,IF(C1422=\"Preventative\",E1422+KPI!$P$5,\"\")))","v":""},"Please select",null,null,null,null,null,"Please select",null,null,"",null,null,null,null,null,null,null,null,"TBD","","",null,null,0,0,1]
[null,"Please select",null,null,null,null,null,null,null,null,null,null,null,null,{"$f":"IF(ISERROR(IF(C1423=\"corrective\",E1423+KPI!$P$4,IF(C1423=\"Preventative\",E1423+KPI!$P$5,\"\"))),\"\",IF(C1423=\"corrective\",E1423+KPI!$P$4,IF(C1423=\"Preventative\",E1423+KPI!$P$5,\"\")))","v":""},"Please select",null,null,null,null,null,"Please select",null,null,"",null,null,null,null,null,null,null,null,"TBD","","",null,null,0,0,1]
[null,"Please select",null,null,null,null,null,null,null,null,null,null,null,null,{"$f":"IF(ISERROR(IF(C1424=\"corrective\",E1424+KPI!$P$4,IF(C1424=\"Preventative\",E1424+KPI!$P$5,\"\"))),\"\",IF(C1424=\"corrective\",E1424+KPI!$P$4,IF(C1424=\"Preventative\",E1424+KPI!$P$5,\"\")))","v":""},"Please select",null,null,null,null,null,"Please select",null,null,"",null,null,null,null,null,null,null,null,"TBD","","",null,null,0,0,1]
[null,"Please select",null,null,null,null,null,null,null,null,null,null,null,null,{"$f":"IF(ISERROR(IF(C1425=\"corrective\",E1425+KPI!$P$4,IF(C1425=\"Preventative\",E1425+KPI!$P$5,\"\"))),\"\",IF(C1425=\"corrective\",E1425+KPI!$P$4,IF(C1425=\"Preventative\",E1425+KPI!$P$5,\"\")))","v":""},"Please select",null,null,null,null,null,"Please select",null,null,"",null,null,null,null,null,null,null,null,"TBD","","",null,null,0,0,1]
[null,"Please select",null,null,null,null,null,null,null,null,null,null,null,null,{"$f":"IF(ISERROR(IF(C1426=\"corrective\",E1426+KPI!$P$4,IF(C1426=\"Preventative\",E1426+KPI!$P$5,\"\"))),\"\",IF(C1426=\"corrective\",E1426+KPI!$P$4,IF(C1426=\"Preventative\",E1426+KPI!$P$5,\"\")))","v":""},"Please select",null,null,null,null,null,"Please select",null,null,"",null,null,null,null,null,null,null,null,"TBD","","",null,null,0,0,1]
[null,"Please select",null,null,null,null,null,null,null,null,null,null,null,null,{"$f":"IF(ISERROR(IF(C1427=\"corrective\",E1427+KPI!$P$4,IF(C1427=\"Preventative\",E1427+KPI!$P$5,\"\"))),\"\",IF(C1427=\"corrective\",E1427+KPI!$P$4,IF(C1427=\"Preventative\",E1427+KPI!$P$5,\"\")))","v":""},"Please select",null,null,null,null,null,"Please select",null,null,"",null,null,null,null,null,null,null,null,"TBD","","",null,null,0,0,1]
[null,"Please select",null,null,null,null,null,null,null,null,null,null,null,null,{"$f":"IF(ISERROR(IF(C1428=\"corrective\",E1428+KPI!$P$4,IF(C1428=\"Preventative\",E1428+KPI!$P$5,\"\"))),\"\",IF(C1428=\"corrective\",E1428+KPI!$P$4,IF(C1428=\"Preventative\",E1428+KPI!$P$5,\"\")))","v":""},"Please select",null,null,null,null,null,"Please select",null,null,"",null,null,null,null,null,null,null,null,"TBD","","",null,null,0,0,1]
[null,"Please select",null,null,null,null,null,null,null,null,null,null,null,null,{"$f":"IF(ISERROR(IF(C1429=\"corrective\",E1429+KPI!$P$4,IF(C1429=\"Preventative\",E1429+KPI!$P$5,\"\"))),\"\",IF(C1429=\"corrective\",E1429+KPI!$P$4,IF(C1429=\"Preventative\",E1429+KPI!$P$5,\"\")))","v":""},"Please select",null,null,null,null,null,"Please select",null,null,"",null,null,null,null,null,null,null,null,"TBD","","",null,null,0,0,1]
[null,"Please select",null,null,null,null,null,null,null,null,null,null,null,null,{"$f":"IF(ISERROR(IF(C1430=\"corrective\",E1430+KPI!$P$4,IF(C1430=\"Preventative\",E1430+KPI!$P$5,\"\"))),\"\",IF(C1430=\"corrective\",E1430+KPI!$P$4,IF(C1430=\"Preventative\",E1430+KPI!$P$5,\"\")))","v":""},"Please select",null,null,null,null,null,"Please select",null,null,"",null,null,null,null,null,null,null,null,"TBD","","",null,null,0,0,1]
[null,"Please select",null,null,null,null,null,null,null,null,null,null,null,null,{"$f":"IF(ISERROR(IF(C1431=\"corrective\",E1431+KPI!$P$4,IF(C1431=\"Preventative\",E1431+KPI!$P$5,\"\"))),\"\",IF(C1431=\"corrective\",E1431+KPI!$P$4,IF(C1431=\"Preventative\",E1431+KPI!$P$5,\"\")))","v":""},"Please select",null,null,null,null,null,"Please select",null,null,"",null,null,null,null,null,null,null,null,"TBD","","",null,null,0,0,1]
[null,"Please select",null,null,null,null,null,null,null,null,null,null,null,null,{"$f":"IF(ISERROR(IF(C1432=\"corrective\",E1432+KPI!$P$4,IF(C1432=\"Preventative\",E1432+KPI!$P$5,\"\"))),\"\",IF(C1432=\"corrective\",E1432+KPI!$P$4,IF(C1432=\"Preventative\",E1432+KPI!$P$5,\"\")))","v":""},"Please select",null,null,null,null,null,"Please select",null,null,"",null,null,null,null,null,null,null,null,"TBD","","",null,null,0,0,1]
[null,"Please select",null,null,null,null,null,null,null,null,null,null,null,null,{"$f":"IF(ISERROR(IF(C1433=\"corrective\",E1433+KPI!$P$4,IF(C1433=\"Preventative\",E1433+KPI!$P$5,\"\"))),\"\",IF(C1433=\"corrective\",E1433+KPI!$P$4,IF(C1433=\"Preventative\",E1433+KPI!$P$5,\"\")))","v":""},"Please select",null,null,null,null,null,"Please select",null,null,"",null,null,null,null,null,null,null,null,"TBD","","",null,null,0,0,1]
[null,"Please select",null,null,null,null,null,null,null,null,null,null,null,null,{"$f":"IF(ISERROR(IF(C1434=\"corrective\",E1434+KPI!$P$4,IF(C1434=\"Preventative\",E1434+KPI!$P$5,\"\"))),\"\",IF(C1434=\"corrective\",E1434+KPI!$P$4,IF(C1434=\"Preventative\",E1434+KPI!$P$5,\"\")))","v":""},"Please select",null,null,null,null,null,"Please select",null,null,"",null,null,null,null,null,null,null,null,"TBD","","",null,null,0,0,1]
[null,"Please select",null,null,null,null,null,null,null,null,null,null,null,null,{"$f":"IF(ISERROR(IF(C1435=\"corrective\",E1435+KPI!$P$4,IF(C1435=\"Preventative\",E1435+KPI!$P$5,\"\"))),\"\",IF(C1435=\"corrective\",E1435+KPI!$P$4,IF(C1435=\"Preventative\",E1435+KPI!$P$5,\"\")))","v":""},"Please select",null,null,null,null,null,"Please select",null,null,"",null,null,null,null,null,null,null,null,"TBD","","",null,null,0,0,1]
[null,"Please select",null,null,null,null,null,null,null,null,null,null,null,null,{"$f":"IF(ISERROR(IF(C1436=\"corrective\",E1436+KPI!$P$4,IF(C1436=\"Preventative\",E1436+KPI!$P$5,\"\"))),\"\",IF(C1436=\"corrective\",E1436+KPI!$P$4,IF(C1436=\"Preventative\",E1436+KPI!$P$5,\"\")))","v":""},"Please select",null,null,null,null,null,"Please select",null,null,"",null,null,null,null,null,null,null,null,"TBD","","",null,null,0,0,1]
[null,"Please select",null,null,null,null,null,null,null,null,null,null,null,null,{"$f":"IF(ISERROR(IF(C1437=\"corrective\",E1437+KPI!$P$4,IF(C1437=\"Preventative\",E1437+KPI!$P$5,\"\"))),\"\",IF(C1437=\"corrective\",E1437+KPI!$P$4,IF(C1437=\"Preventative\",E1437+KPI!$P$5,\"\")))","v":""},"Please select",null,null,null,null,null,"Please select",null,null,"",null,null,null,null,null,null,null,null,"TBD","","",null,null,0,0,1]
[null,"Please select",null,null,null,null,null,null,null,null,null,null,null,null,{"$f":"IF(ISERROR(IF(C1438=\"corrective\",E1438+KPI!$P$4,IF(C1438=\"Preventative\",E1438+KPI!$P$5,\"\"))),\"\",IF(C1438=\"corrective\",E1438+KPI!$P$4,IF(C1438=\"Preventative\",E1438+KPI!$P$5,\"\")))","v":""},"Please select",null,null,null,null,null,"Please select",null,null,"",null,null,null,null,null,null,null,null,"TBD","","",null,null,0,0,1]
[null,"Please select",null,null,null,null,null,null,null,null,null,null,null,null,{"$f":"IF(ISERROR(IF(C1439=\"corrective\",E1439+KPI!$P$4,IF(C1439=\"Preventative\",E1439+KPI!$P$5,\"\"))),\"\",IF(C1439=\"corrective\",E1439+KPI!$P$4,IF(C1439=\"Preventative\",E1439+KPI!$P$5,\"\")))","v":""},"Please select",null,null,null,null,null,"Please select",null,null,"",null,null,null,null,null,null,null,null,"TBD","","",null,null,0,0,1]
[null,"Please select",null,null,null,null,null,null,null,null,null,null,null,null,{"$f":"IF(ISERROR(IF(C1440=\"corrective\",E1440+KPI!$P$4,IF(C1440=\"Preventative\",E1440+KPI!$P$5,\"\"))),\"\",IF(C1440=\"corrective\",E1440+KPI!$P$4,IF(C1440=\"Preventative\",E1440+KPI!$P$5,\"\")))","v":""},"Please select",null,null,null,null,null,"Please select",null,null,"",null,null,null,null,null,null,null,null,"TBD","","",null,null,0,0,1]
[null,"Please select",null,null,null,null,null,null,null,null,null,null,null,null,{"$f":"IF(ISERROR(IF(C1441=\"corrective\",E1441+KPI!$P$4,IF(C1441=\"Preventative\",E1441+KPI!$P$5,\"\"))),\"\",IF(C1441=\"corrective\",E1441+KPI!$P$4,IF(C1441=\"Preventative\",E1441+KPI!$P$5,\"\")))","v":""},"Please select",null,null,null,null,null,"Please select",null,null,"",null,null,null,null,null,null,null,null,"TBD","","",null,null,0,0,1]
[null,"Please select",null,null,null,null,null,null,null,null,null,null,null,null,{"$f":"IF(ISERROR(IF(C1442=\"corrective\",E1442+KPI!$P$4,IF(C1442=\"Preventative\",E1442+KPI!$P$5,\"\"))),\"\",IF(C1442=\"corrective\",E1442+KPI!$P$4,IF(C1442=\"Preventative\",E1442+KPI!$P$5,\"\")))","v":""},"Please select",null,null,null,null,null,"Please select",null,null,"",null,null,null,null,null,null,null,null,"TBD","","",null,null,0,0,1]
[null,"Please select",null,null,null,null,null,null,null,null,null,null,null,null,{"$f":"IF(ISERROR(IF(C1443=\"corrective\",E1443+KPI!$P$4,IF(C1443=\"Preventative\",E1443+KPI!$P$5,\"\"))),\"\",IF(C1443=\"corrective\",E1443+KPI!$P$4,IF(C1443=\"Preventative\",E1443+KPI!$P$5,\"\")))","v":""},"Please select",null,null,null,null,null,"Please select",null,null,"",null,null,null,null,null,null,null,null,"TBD","","",null,null,0,0,1]
[null,"Please select",null,null,null,null,null,null,null,null,null,null,null,null,{"$f":"IF(ISERROR(IF(C1444=\"corrective\",E1444+KPI!$P$4,IF(C1444=\"Preventative\",E1444+KPI!$P$5,\"\"))),\"\",IF(C1444=\"corrective\",E1444+KPI!$P$4,IF(C1444=\"Preventative\",E1444+KPI!$P$5,\"\")))","v":""},"Please select",null,null,null,null,null,"Please select",null,null,"",null,null,null,null,null,null,null,null,"TBD","","",null,null,0,0,1]
[null,"Please select",null,null,null,null,null,null,null,null,null,null,null,null,{"$f":"IF(ISERROR(IF(C1445=\"corrective\",E1445+KPI!$P$4,IF(C1445=\"Preventative\",E1445+KPI!$P$5,\"\"))),\"\",IF(C1445=\"corrective\",E1445+KPI!$P$4,IF(C1445=\"Preventative\",E1445+KPI!$P$5,\"\")))","v":""},"Please select",null,null,null,null,null,"Please select",null,null,"",null,null,null,null,null,null,null,null,"TBD","","",null,null,0,0,1]
[null,"Please select",null,null,null,null,null,null,null,null,null,null,null,null,{"$f":"IF(ISERROR(IF(C1446=\"corrective\",E1446+KPI!$P$4,IF(C1446=\"Preventative\",E1446+KPI!$P$5,\"\"))),\"\",IF(C1446=\"corrective\",E1446+KPI!$P$4,IF(C1446=\"Preventative\",E1446+KPI!$P$5,\"\")))","v":""},"Please select",null,null,null,null,null,"Please select",null,null,"",null,null,null,null,null,null,null,null,"TBD","","",null,null,0,0,1]
[null,"Please select",null,null,null,null,null,null,null,null,null,null,null,null,{"$f":"IF(ISERROR(IF(C1447=\"corrective\",E1447+KPI!$P$4,IF(C1447=\"Preventative\",E1447+KPI!$P$5,\"\"))),\"\",IF(C1447=\"corrective\",E1447+KPI!$P$4,IF(C1447=\"Preventative\",E1447+KPI!$P$5,\"\")))","v":""},"Please select",null,null,null,null,null,"Please select",null,null,"",null,null,null,null,null,null,null,null,"TBD","","",null,null,0,0,1]
[null,"Please select",null,null,null,null,null,null,null,null,null,null,null,null,{"$f":"IF(ISERROR(IF(C1448=\"corrective\",E1448+KPI!$P$4,IF(C1448=\"Preventative\",E1448+KPI!$P$5,\"\"))),\"\",IF(C1448=\"corrective\",E1448+KPI!$P$4,IF(C1448=\"Preventative\",E1448+KPI!$P$5,\"\")))","v":""},"Please select",null,null,null,null,null,"Please select",null,null,"",null,null,null,null,null,null,null,null,"TBD","","",null,null,0,0,1]
[null,"Please select",null,null,null,null,null,null,null,null,null,null,null,null,{"$f":"IF(ISERROR(IF(C1449=\"corrective\",E1449+KPI!$P$4,IF(C1449=\"Preventative\",E1449+KPI!$P$5,\"\"))),\"\",IF(C1449=\"corrective\",E1449+KPI!$P$4,IF(C1449=\"Preventative\",E1449+KPI!$P$5,\"\")))","v":""},"Please select",null,null,null,null,null,"Please select",null,null,"",null,null,null,null,null,null,null,null,"TBD","","",null,null,0,0,1]
[null,"Please select",null,null,null,null,null,null,null,null,null,null,null,null,{"$f":"IF(ISERROR(IF(C1450=\"corrective\",E1450+KPI!$P$4,IF(C1450=\"Preventative\",E1450+KPI!$P$5,\"\"))),\"\",IF(C1450=\"corrective\",E1450+KPI!$P$4,IF(C1450=\"Preventative\",E1450+KPI!$P$5,\"\")))","v":""},"Please select",null,null,null,null,null,"Please select",null,null,"",null,null,null,null,null,null,null,null,"TBD","","",null,null,0,0,1]
[null,"Please select",null,null,null,null,null,null,null,null,null,null,null,null,{"$f":"IF(ISERROR(IF(C1451=\"corrective\",E1451+KPI!$P$4,IF(C1451=\"Preventative\",E1451+KPI!$P$5,\"\"))),\"\",IF(C1451=\"corrective\",E1451+KPI!$P$4,IF(C1451=\"Preventative\",E1451+KPI!$P$5,\"\")))","v":""},"Please select",null,null,null,null,null,"Please select",null,null,"",null,null,null,null,null,null,null,null,"TBD","","",null,null,0,0,1]
[null,"Please select",null,null,null,null,null,null,null,null,null,null,null,null,{"$f":"IF(ISERROR(IF(C1452=\"corrective\",E1452+KPI!$P$4,IF(C1452=\"Preventative\",E1452+KPI!$P$5,\"\"))),\"\",IF(C1452=\"corrective\",E1452+KPI!$P$4,IF(C1452=\"Preventative\",E1452+KPI!$P$5,\"\")))","v":""},"Please select",null,null,null,null,null,"Please select",null,null,"",null,null,null,null,null,null,null,null,"TBD","","",null,null,0,0,1]
[null,"Please select",null,null,null,null,null,null,null,null,null,null,null,null,{"$f":"IF(ISERROR(IF(C1453=\"corrective\",E1453+KPI!$P$4,IF(C1453=\"Preventative\",E1453+KPI!$P$5,\"\"))),\"\",IF(C1453=\"corrective\",E1453+KPI!$P$4,IF(C1453=\"Preventative\",E1453+KPI!$P$5,\"\")))","v":""},"Please select",null,null,null,null,null,"Please select",null,null,"",null,null,null,null,null,null,null,null,"TBD","","",null,null,0,0,1]
[null,"Please select",null,null,null,null,null,null,null,null,null,null,null,null,{"$f":"IF(ISERROR(IF(C1454=\"corrective\",E1454+KPI!$P$4,IF(C1454=\"Preventative\",E1454+KPI!$P$5,\"\"))),\"\",IF(C1454=\"corrective\",E1454+KPI!$P$4,IF(C1454=\"Preventative\",E1454+KPI!$P$5,\"\")))","v":""},"Please select",null,null,null,null,null,"Please select",null,null,"",null,null,null,null,null,null,null,null,"TBD","","",null,null,0,0,1]
[null,"Please select",null,null,null,null,null,null,null,null,null,null,null,null,{"$f":"IF(ISERROR(IF(C1455=\"corrective\",E1455+KPI!$P$4,IF(C1455=\"Preventative\",E1455+KPI!$P$5,\"\"))),\"\",IF(C1455=\"corrective\",E1455+KPI!$P$4,IF(C1455=\"Preventative\",E1455+KPI!$P$5,\"\")))","v":""},{"$f":"IF(AND(O1455<TODAY(),B1455=\"new\"),\"New - Overdue\",B1455)","v":"Please select"},null,null,null,null,null,"Please select",null,null,{"$f":"Z1455&AA1455&AB1455&AC1455&AD1455&AE1455","v":""},null,null,null,null,null,null,null,null,"TBD",{"$f":"IF(ISERROR(AJ1455-20),\"\",AJ1455-20)","v":""},{"$f":"IF(ISERROR(IF(C1455=\"corrective\",E1455+AH1455,\"\")),\"\",IF(C1455=\"corrective\",E1455+AH1455,\"\"))","v":""},null,null,0,0,{"$f":"COUNTIF(AN1455,\">400\")+COUNTIF(AN1455,\"=0\")","v":1}]
[null,"Please select",null,null,null,null,null,null,null,null,null,null,null,null,{"$f":"IF(ISERROR(IF(C1456=\"corrective\",E1456+KPI!$P$4,IF(C1456=\"Preventative\",E1456+KPI!$P$5,\"\"))),\"\",IF(C1456=\"corrective\",E1456+KPI!$P$4,IF(C1456=\"Preventative\",E1456+KPI!$P$5,\"\")))","v":""},"Please select",null,null,null,null,null,"Please select",null,null,"",null,null,null,null,null,null,null,null,"TBD","","",null,null,0,0,1]
[null,"Please select",null,null,null,null,null,null,null,null,null,null,null,null,{"$f":"IF(ISERROR(IF(C1457=\"corrective\",E1457+KPI!$P$4,IF(C1457=\"Preventative\",E1457+KPI!$P$5,\"\"))),\"\",IF(C1457=\"corrective\",E1457+KPI!$P$4,IF(C1457=\"Preventative\",E1457+KPI!$P$5,\"\")))","v":""},"Please select",null,null,null,null,null,"Please select",null,null,"",null,null,null,null,null,null,null,null,"TBD","","",null,null,0,0,1]
[null,"Please select",null,null,null,null,null,null,null,null,null,null,null,null,{"$f":"IF(ISERROR(IF(C1458=\"corrective\",E1458+KPI!$P$4,IF(C1458=\"Preventative\",E1458+KPI!$P$5,\"\"))),\"\",IF(C1458=\"corrective\",E1458+KPI!$P$4,IF(C1458=\"Preventative\",E1458+KPI!$P$5,\"\")))","v":""},"Please select",null,null,null,null,null,"Please select",null,null,"",null,null,null,null,null,null,null,null,"TBD","","",null,null,0,0,1]
[null,"Please select",null,null,null,null,null,null,null,null,null,null,null,null,{"$f":"IF(ISERROR(IF(C1459=\"corrective\",E1459+KPI!$P$4,IF(C1459=\"Preventative\",E1459+KPI!$P$5,\"\"))),\"\",IF(C1459=\"corrective\",E1459+KPI!$P$4,IF(C1459=\"Preventative\",E1459+KPI!$P$5,\"\")))","v":""},"Please select",null,null,null,null,null,"Please select",null,null,"",null,null,null,null,null,null,null,null,"TBD","","",null,null,0,0,1]
[null,"Please select",null,null,null,null,null,null,null,null,null,null,null,null,{"$f":"IF(ISERROR(IF(C1460=\"corrective\",E1460+KPI!$P$4,IF(C1460=\"Preventative\",E1460+KPI!$P$5,\"\"))),\"\",IF(C1460=\"corrective\",E1460+KPI!$P$4,IF(C1460=\"Preventative\",E1460+KPI!$P$5,\"\")))","v":""},"Please select",null,null,null,null,null,"Please select",null,null,"",null,null,null,null,null,null,null,null,"TBD","","",null,null,0,0,1]
[null,"Please select",null,null,null,null,null,null,null,null,null,null,null,null,{"$f":"IF(ISERROR(IF(C1461=\"corrective\",E1461+KPI!$P$4,IF(C1461=\"Preventative\",E1461+KPI!$P$5,\"\"))),\"\",IF(C1461=\"corrective\",E1461+KPI!$P$4,IF(C1461=\"Preventative\",E1461+KPI!$P$5,\"\")))","v":""},"Please select",null,null,null,null,null,"Please select",null,null,"",null,null,null,null,null,null,null,null,"TBD","","",null,null,0,0,1]
[null,"Please select",null,null,null,null,null,null,null,null,null,null,null,null,{"$f":"IF(ISERROR(IF(C1462=\"corrective\",E1462+KPI!$P$4,IF(C1462=\"Preventative\",E1462+KPI!$P$5,\"\"))),\"\",IF(C1462=\"corrective\",E1462+KPI!$P$4,IF(C1462=\"Preventative\",E1462+KPI!$P$5,\"\")))","v":""},"Please select",null,null,null,null,null,"Please select",null,null,"",null,null,null,null,null,null,null,null,"TBD","","",null,null,0,0,1]
[null,"Please select",null,null,null,null,null,null,null,null,null,null,null,null,{"$f":"IF(ISERROR(IF(C1463=\"corrective\",E1463+KPI!$P$4,IF(C1463=\"Preventative\",E1463+KPI!$P$5,\"\"))),\"\",IF(C1463=\"corrective\",E1463+KPI!$P$4,IF(C1463=\"Preventative\",E1463+KPI!$P$5,\"\")))","v":""},"Please select",null,null,null,null,null,"Please select",null,null,"",null,null,null,null,null,null,null,null,"TBD","","",null,null,0,0,1]
[null,"Please select",null,null,null,null,null,null,null,null,null,null,null,null,{"$f":"IF(ISERROR(IF(C1464=\"corrective\",E1464+KPI!$P$4,IF(C1464=\"Preventative\",E1464+KPI!$P$5,\"\"))),\"\",IF(C1464=\"corrective\",E1464+KPI!$P$4,IF(C1464=\"Preventative\",E1464+KPI!$P$5,\"\")))","v":""},"Please select",null,null,null,null,null,"Please select",null,null,"",null,null,null,null,null,null,null,null,"TBD","","",null,null,0,0,1]
[null,"Please select",null,null,null,null,null,null,null,null,null,null,null,null,{"$f":"IF(ISERROR(IF(C1465=\"corrective\",E1465+KPI!$P$4,IF(C1465=\"Preventative\",E1465+KPI!$P$5,\"\"))),\"\",IF(C1465=\"corrective\",E1465+KPI!$P$4,IF(C1465=\"Preventative\",E1465+KPI!$P$5,\"\")))","v":""},"Please select",null,null,null,null,null,"Please select",null,null,"",null,null,null,null,null,null,null,null,"TBD","","",null,null,0,0,1]
[null,"Please select",null,null,null,null,null,null,null,null,null,null,null,null,{"$f":"IF(ISERROR(IF(C1466=\"corrective\",E1466+KPI!$P$4,IF(C1466=\"Preventative\",E1466+KPI!$P$5,\"\"))),\"\",IF(C1466=\"corrective\",E1466+KPI!$P$4,IF(C1466=\"Preventative\",E1466+KPI!$P$5,\"\")))","v":""},"Please select",null,null,null,null,null,"Please select",null,null,"",null,null,null,null,null,null,null,null,"TBD","","",null,null,0,0,1]
[null,"Please select",null,null,null,null,null,null,null,null,null,null,null,null,{"$f":"IF(ISERROR(IF(C1467=\"corrective\",E1467+KPI!$P$4,IF(C1467=\"Preventative\",E1467+KPI!$P$5,\"\"))),\"\",IF(C1467=\"corrective\",E1467+KPI!$P$4,IF(C1467=\"Preventative\",E1467+KPI!$P$5,\"\")))","v":""},"Please select",null,null,null,null,null,"Please select",null,null,"",null,null,null,null,null,null,null,null,"TBD","","",null,null,0,0,1]
[null,"Please select",null,null,null,null,null,null,null,null,null,null,null,null,{"$f":"IF(ISERROR(IF(C1468=\"corrective\",E1468+KPI!$P$4,IF(C1468=\"Preventative\",E1468+KPI!$P$5,\"\"))),\"\",IF(C1468=\"corrective\",E1468+KPI!$P$4,IF(C1468=\"Preventative\",E1468+KPI!$P$5,\"\")))","v":""},"Please select",null,null,null,null,null,"Please select",null,null,"",null,null,null,null,null,null,null,null,"TBD","","",null,null,0,0,1]
[null,"Please select",null,null,null,null,null,null,null,null,null,null,null,null,{"$f":"IF(ISERROR(IF(C1469=\"corrective\",E1469+KPI!$P$4,IF(C1469=\"Preventative\",E1469+KPI!$P$5,\"\"))),\"\",IF(C1469=\"corrective\",E1469+KPI!$P$4,IF(C1469=\"Preventative\",E1469+KPI!$P$5,\"\")))","v":""},"Please select",null,null,null,null,null,"Please select",null,null,"",null,null,null,null,null,null,null,null,"TBD","","",null,null,0,0,1]
[null,"Please select",null,null,null,null,null,null,null,null,null,null,null,null,{"$f":"IF(ISERROR(IF(C1470=\"corrective\",E1470+KPI!$P$4,IF(C1470=\"Preventative\",E1470+KPI!$P$5,\"\"))),\"\",IF(C1470=\"corrective\",E1470+KPI!$P$4,IF(C1470=\"Preventative\",E1470+KPI!$P$5,\"\")))","v":""},"Please select",null,null,null,null,null,"Please select",null,null,"",null,null,null,null,null,null,null,null,"TBD","","",null,null,0,0,1]
[null,"Please select",null,null,null,null,null,null,null,null,null,null,null,null,{"$f":"IF(ISERROR(IF(C1471=\"corrective\",E1471+KPI!$P$4,IF(C1471=\"Preventative\",E1471+KPI!$P$5,\"\"))),\"\",IF(C1471=\"corrective\",E1471+KPI!$P$4,IF(C1471=\"Preventative\",E1471+KPI!$P$5,\"\")))","v":""},"Please select",null,null,null,null,null,"Please select",null,null,"",null,null,null,null,null,null,null,null,"TBD","","",null,null,0,0,1]
[null,"Please select",null,null,null,null,null,null,null,null,null,null,null,null,{"$f":"IF(ISERROR(IF(C1472=\"corrective\",E1472+KPI!$P$4,IF(C1472=\"Preventative\",E1472+KPI!$P$5,\"\"))),\"\",IF(C1472=\"corrective\",E1472+KPI!$P$4,IF(C1472=\"Preventative\",E1472+KPI!$P$5,\"\")))","v":""},"Please select",null,null,null,null,null,"Please select",null,null,"",null,null,null,null,null,null,null,null,"TBD","","",null,null,0,0,1]
[null,"Please select",null,null,null,null,null,null,null,null,null,null,null,null,{"$f":"IF(ISERROR(IF(C1473=\"corrective\",E1473+KPI!$P$4,IF(C1473=\"Preventative\",E1473+KPI!$P$5,\"\"))),\"\",IF(C1473=\"corrective\",E1473+KPI!$P$4,IF(C1473=\"Preventative\",E1473+KPI!$P$5,\"\")))","v":""},"Please select",null,null,null,null,null,"Please select",null,null,"",null,null,null,null,null,null,null,null,"TBD","","",null,null,0,0,1]
[null,"Please select",null,null,null,null,null,null,null,null,null,null,null,null,{"$f":"IF(ISERROR(IF(C1474=\"corrective\",E1474+KPI!$P$4,IF(C1474=\"Preventative\",E1474+KPI!$P$5,\"\"))),\"\",IF(C1474=\"corrective\",E1474+KPI!$P$4,IF(C1474=\"Preventative\",E1474+KPI!$P$5,\"\")))","v":""},"Please select",null,null,null,null,null,"Please select",null,null,"",null,null,null,null,null,null,null,null,"TBD","","",null,null,{"$f":"IF(ISERROR(DATEDIF(E1474,Q1474,\"D\")),\"\",DATEDIF(E1474,Q1474,\"D\"))","v":0},{"$f":"IF(ISERROR(DATEDIF(Q1474,X1474,\"D\")),\"\",DATEDIF(Q1474,X1474,\"D\"))","v":0},1]
[null,"Please select",null,null,null,null,null,null,null,null,null,null,null,null,{"$f":"IF(ISERROR(IF(C1475=\"corrective\",E1475+KPI!$P$4,IF(C1475=\"Preventative\",E1475+KPI!$P$5,\"\"))),\"\",IF(C1475=\"corrective\",E1475+KPI!$P$4,IF(C1475=\"Preventative\",E1475+KPI!$P$5,\"\")))","v":""},"Please select",null,null,null,null,null,"Please select",null,null,"",null,null,null,null,null,null,null,null,"TBD","","",null,null,0,0,1]
[null,"Please select",null,null,null,null,null,null,null,null,null,null,null,null,{"$f":"IF(ISERROR(IF(C1476=\"corrective\",E1476+KPI!$P$4,IF(C1476=\"Preventative\",E1476+KPI!$P$5,\"\"))),\"\",IF(C1476=\"corrective\",E1476+KPI!$P$4,IF(C1476=\"Preventative\",E1476+KPI!$P$5,\"\")))","v":""},"Please select",null,null,null,null,null,"Please select",null,null,"",null,null,null,null,null,null,null,null,"TBD","","",null,null,0,0,1]
[null,"Please select",null,null,null,null,null,null,null,null,null,null,null,null,{"$f":"IF(ISERROR(IF(C1477=\"corrective\",E1477+KPI!$P$4,IF(C1477=\"Preventative\",E1477+KPI!$P$5,\"\"))),\"\",IF(C1477=\"corrective\",E1477+KPI!$P$4,IF(C1477=\"Preventative\",E1477+KPI!$P$5,\"\")))","v":""},"Please select",null,null,null,null,null,"Please select",null,null,"",null,null,null,null,null,null,null,null,"TBD","","",null,null,0,0,1]
[null,"Please select",null,null,null,null,null,null,null,null,null,null,null,null,{"$f":"IF(ISERROR(IF(C1478=\"corrective\",E1478+KPI!$P$4,IF(C1478=\"Preventative\",E1478+KPI!$P$5,\"\"))),\"\",IF(C1478=\"corrective\",E1478+KPI!$P$4,IF(C1478=\"Preventative\",E1478+KPI!$P$5,\"\")))","v":""},"Please select",null,null,null,null,null,"Please select",null,null,"",null,null,null,null,null,null,null,null,"TBD","","",null,null,0,0,1]
[null,"Please select",null,null,null,null,null,null,null,null,null,null,null,null,{"$f":"IF(ISERROR(IF(C1479=\"corrective\",E1479+KPI!$P$4,IF(C1479=\"Preventative\",E1479+KPI!$P$5,\"\"))),\"\",IF(C1479=\"corrective\",E1479+KPI!$P$4,IF(C1479=\"Preventative\",E1479+KPI!$P$5,\"\")))","v":""},"Please select",null,null,null,null,null,"Please select",null,null,"",null,null,null,null,null,null,null,null,"TBD","","",null,null,0,0,1]
[null,"Please select",null,null,null,null,null,null,null,null,null,null,null,null,{"$f":"IF(ISERROR(IF(C1480=\"corrective\",E1480+KPI!$P$4,IF(C1480=\"Preventative\",E1480+KPI!$P$5,\"\"))),\"\",IF(C1480=\"corrective\",E1480+KPI!$P$4,IF(C1480=\"Preventative\",E1480+KPI!$P$5,\"\")))","v":""},"Please select",null,null,null,null,null,"Please select",null,null,"",null,null,null,null,null,null,null,null,"TBD","","",null,null,0,0,1]
[null,"Please select",null,null,null,null,null,null,null,null,null,null,null,null,{"$f":"IF(ISERROR(IF(C1481=\"corrective\",E1481+KPI!$P$4,IF(C1481=\"Preventative\",E1481+KPI!$P$5,\"\"))),\"\",IF(C1481=\"corrective\",E1481+KPI!$P$4,IF(C1481=\"Preventative\",E1481+KPI!$P$5,\"\")))","v":""},"Please select",null,null,null,null,null,"Please select",null,null,"",null,null,null,null,null,null,null,null,"TBD","","",null,null,0,0,1]
[null,"Please select",null,null,null,null,null,null,null,null,null,null,null,null,{"$f":"IF(ISERROR(IF(C1482=\"corrective\",E1482+KPI!$P$4,IF(C1482=\"Preventative\",E1482+KPI!$P$5,\"\"))),\"\",IF(C1482=\"corrective\",E1482+KPI!$P$4,IF(C1482=\"Preventative\",E1482+KPI!$P$5,\"\")))","v":""},"Please select",null,null,null,null,null,"Please select",null,null,"",null,null,null,null,null,null,null,null,"TBD","","",null,null,0,0,1]
[null,"Please select",null,null,null,null,null,null,null,null,null,null,null,null,{"$f":"IF(ISERROR(IF(C1483=\"corrective\",E1483+KPI!$P$4,IF(C1483=\"Preventative\",E1483+KPI!$P$5,\"\"))),\"\",IF(C1483=\"corrective\",E1483+KPI!$P$4,IF(C1483=\"Preventative\",E1483+KPI!$P$5,\"\")))","v":""},"Please select",null,null,null,null,null,"Please select",null,null,"",null,null,null,null,null,null,null,null,"TBD","","",null,null,0,0,1]
[null,"Please select",null,null,null,null,null,null,null,null,null,null,null,null,{"$f":"IF(ISERROR(IF(C1484=\"corrective\",E1484+KPI!$P$4,IF(C1484=\"Preventative\",E1484+KPI!$P$5,\"\"))),\"\",IF(C1484=\"corrective\",E1484+KPI!$P$4,IF(C1484=\"Preventative\",E1484+KPI!$P$5,\"\")))","v":""},"Please select",null,null,null,null,null,"Please select",null,null,"",null,null,null,null,null,null,null,null,"TBD","","",null,null,0,0,1]
[null,"Please select",null,null,null,null,null,null,null,null,null,null,null,null,{"$f":"IF(ISERROR(IF(C1485=\"corrective\",E1485+KPI!$P$4,IF(C1485=\"Preventative\",E1485+KPI!$P$5,\"\"))),\"\",IF(C1485=\"corrective\",E1485+KPI!$P$4,IF(C1485=\"Preventative\",E1485+KPI!$P$5,\"\")))","v":""},"Please select",null,null,null,null,null,"Please select",null,null,"",null,null,null,null,null,null,null,null,"TBD","","",null,null,0,0,1]
[null,"Please select",null,null,null,null,null,null,null,null,null,null,null,null,{"$f":"IF(ISERROR(IF(C1486=\"corrective\",E1486+KPI!$P$4,IF(C1486=\"Preventative\",E1486+KPI!$P$5,\"\"))),\"\",IF(C1486=\"corrective\",E1486+KPI!$P$4,IF(C1486=\"Preventative\",E1486+KPI!$P$5,\"\")))","v":""},"Please select",null,null,null,null,null,"Please select",null,null,"",null,null,null,null,null,null,null,null,"TBD","","",null,null,0,0,1]
[null,"Please select",null,null,null,null,null,null,null,null,null,null,null,null,{"$f":"IF(ISERROR(IF(C1487=\"corrective\",E1487+KPI!$P$4,IF(C1487=\"Preventative\",E1487+KPI!$P$5,\"\"))),\"\",IF(C1487=\"corrective\",E1487+KPI!$P$4,IF(C1487=\"Preventative\",E1487+KPI!$P$5,\"\")))","v":""},"Please select",null,null,null,null,null,"Please select",null,null,"",null,null,null,null,null,null,null,null,"TBD","","",null,null,0,0,1]
[null,"Please select",null,null,null,null,null,null,null,null,null,null,null,null,{"$f":"IF(ISERROR(IF(C1488=\"corrective\",E1488+KPI!$P$4,IF(C1488=\"Preventative\",E1488+KPI!$P$5,\"\"))),\"\",IF(C1488=\"corrective\",E1488+KPI!$P$4,IF(C1488=\"Preventative\",E1488+KPI!$P$5,\"\")))","v":""},"Please select",null,null,null,null,null,"Please select",null,null,"",null,null,null,null,null,null,null,null,"TBD","","",null,null,0,0,1]
[null,"Please select",null,null,null,null,null,null,null,null,null,null,null,null,{"$f":"IF(ISERROR(IF(C1489=\"corrective\",E1489+KPI!$P$4,IF(C1489=\"Preventative\",E1489+KPI!$P$5,\"\"))),\"\",IF(C1489=\"corrective\",E1489+KPI!$P$4,IF(C1489=\"Preventative\",E1489+KPI!$P$5,\"\")))","v":""},"Please select",null,null,null,null,null,"Please select",null,null,"",null,null,null,null,null,null,null,null,"TBD","","",null,null,0,0,1]
[null,"Please select",null,null,null,null,null,null,null,null,null,null,null,null,{"$f":"IF(ISERROR(IF(C1490=\"corrective\",E1490+KPI!$P$4,IF(C1490=\"Preventative\",E1490+KPI!$P$5,\"\"))),\"\",IF(C1490=\"corrective\",E1490+KPI!$P$4,IF(C1490=\"Preventative\",E1490+KPI!$P$5,\"\")))","v":""},"Please select",null,null,null,null,null,"Please select",null,null,"",null,null,null,null,null,null,null,null,"TBD","","",null,null,0,0,1]
[null,"Please select",null,null,null,null,null,null,null,null,null,null,null,null,{"$f":"IF(ISERROR(IF(C1491=\"corrective\",E1491+KPI!$P$4,IF(C1491=\"Preventative\",E1491+KPI!$P$5,\"\"))),\"\",IF(C1491=\"corrective\",E1491+KPI!$P$4,IF(C1491=\"Preventative\",E1491+KPI!$P$5,\"\")))","v":""},"Please select",null,null,null,null,null,"Please select",null,null,"",null,null,null,null,null,null,null,null,"TBD","","",null,null,0,0,1]
[null,"Please select",null,null,null,null,null,null,null,null,null,null,null,null,{"$f":"IF(ISERROR(IF(C1492=\"corrective\",E1492+KPI!$P$4,IF(C1492=\"Preventative\",E1492+KPI!$P$5,\"\"))),\"\",IF(C1492=\"corrective\",E1492+KPI!$P$4,IF(C1492=\"Preventative\",E1492+KPI!$P$5,\"\")))","v":""},"Please select",null,null,null,null,null,"Please select",null,null,"",null,null,null,null,null,null,null,null,"TBD","","",null,null,0,0,1]
[null,"Please select",null,null,null,null,null,null,null,null,null,null,null,null,{"$f":"IF(ISERROR(IF(C1493=\"corrective\",E1493+KPI!$P$4,IF(C1493=\"Preventative\",E1493+KPI!$P$5,\"\"))),\"\",IF(C1493=\"corrective\",E1493+KPI!$P$4,IF(C1493=\"Preventative\",E1493+KPI!$P$5,\"\")))","v":""},"Please select",null,null,null,null,null,"Please select",null,null,"",null,null,null,null,null,null,null,null,"TBD","","",null,null,0,0,1]
[null,"Please select",null,null,null,null,null,null,null,null,null,null,null,null,{"$f":"IF(ISERROR(IF(C1494=\"corrective\",E1494+KPI!$P$4,IF(C1494=\"Preventative\",E1494+KPI!$P$5,\"\"))),\"\",IF(C1494=\"corrective\",E1494+KPI!$P$4,IF(C1494=\"Preventative\",E1494+KPI!$P$5,\"\")))","v":""},"Please select",null,null,null,null,null,"Please select",null,null,"",null,null,null,null,null,null,null,null,"TBD","","",null,null,0,0,1]
[null,"Please select",null,null,null,null,null,null,null,null,null,null,null,null,{"$f":"IF(ISERROR(IF(C1495=\"corrective\",E1495+KPI!$P$4,IF(C1495=\"Preventative\",E1495+KPI!$P$5,\"\"))),\"\",IF(C1495=\"corrective\",E1495+KPI!$P$4,IF(C1495=\"Preventative\",E1495+KPI!$P$5,\"\")))","v":""},"Please select",null,null,null,null,null,"Please select",null,null,"",null,null,null,null,null,null,null,null,"TBD","","",null,null,0,0,1]
[null,"Please select",null,null,null,null,null,null,null,null,null,null,null,null,{"$f":"IF(ISERROR(IF(C1496=\"corrective\",E1496+KPI!$P$4,IF(C1496=\"Preventative\",E1496+KPI!$P$5,\"\"))),\"\",IF(C1496=\"corrective\",E1496+KPI!$P$4,IF(C1496=\"Preventative\",E1496+KPI!$P$5,\"\")))","v":""},"Please select",null,null,null,null,null,"Please select",null,null,"",null,null,null,null,null,null,null,null,"TBD","","",null,null,0,0,1]
[null,"Please select",null,null,null,null,null,null,null,null,null,null,null,null,{"$f":"IF(ISERROR(IF(C1497=\"corrective\",E1497+KPI!$P$4,IF(C1497=\"Preventative\",E1497+KPI!$P$5,\"\"))),\"\",IF(C1497=\"corrective\",E1497+KPI!$P$4,IF(C1497=\"Preventative\",E1497+KPI!$P$5,\"\")))","v":""},"Please select",null,null,null,null,null,"Please select",null,null,"",null,null,null,null,null,null,null,null,"TBD","","",null,null,0,0,1]
[null,"Please select",null,null,null,null,null,null,null,null,null,null,null,null,{"$f":"IF(ISERROR(IF(C1498=\"corrective\",E1498+KPI!$P$4,IF(C1498=\"Preventative\",E1498+KPI!$P$5,\"\"))),\"\",IF(C1498=\"corrective\",E1498+KPI!$P$4,IF(C1498=\"Preventative\",E1498+KPI!$P$5,\"\")))","v":""},"Please select",null,null,null,null,null,"Please select",null,null,"",null,null,null,null,null,null,null,null,"TBD","","",null,null,0,0,1]
[null,"Please select",null,null,null,null,null,null,null,null,null,null,null,null,{"$f":"IF(ISERROR(IF(C1499=\"corrective\",E1499+KPI!$P$4,IF(C1499=\"Preventative\",E1499+KPI!$P$5,\"\"))),\"\",IF(C1499=\"corrective\",E1499+KPI!$P$4,IF(C1499=\"Preventative\",E1499+KPI!$P$5,\"\")))","v":""},"Please select",null,null,null,null,null,"Please select",null,null,"",null,null,null,null,null,null,null,null,"TBD","","",null,null,0,0,1]
[null,"Please select",null,null,null,null,null,null,null,null,null,null,null,null,{"$f":"IF(ISERROR(IF(C1500=\"corrective\",E1500+KPI!$P$4,IF(C1500=\"Preventative\",E1500+KPI!$P$5,\"\"))),\"\",IF(C1500=\"corrective\",E1500+KPI!$P$4,IF(C1500=\"Preventative\",E1500+KPI!$P$5,\"\")))","v":""},"Please select",null,null,null,null,null,"Please select",null,null,"",null,null,null,null,null,null,null,null,"TBD","","",null,null,0,0,1]
[null,"Please select",null,null,null,null,null,null,null,null,null,null,null,null,{"$f":"IF(ISERROR(IF(C1501=\"corrective\",E1501+KPI!$P$4,IF(C1501=\"Preventative\",E1501+KPI!$P$5,\"\"))),\"\",IF(C1501=\"corrective\",E1501+KPI!$P$4,IF(C1501=\"Preventative\",E1501+KPI!$P$5,\"\")))","v":""},"Please select",null,null,null,null,null,"Please select",null,null,"",null,null,null,null,null,null,null,null,"TBD","","",null,null,0,0,1]
[null,"Please select",null,null,null,null,null,null,null,null,null,null,null,null,{"$f":"IF(ISERROR(IF(C1502=\"corrective\",E1502+KPI!$P$4,IF(C1502=\"Preventative\",E1502+KPI!$P$5,\"\"))),\"\",IF(C1502=\"corrective\",E1502+KPI!$P$4,IF(C1502=\"Preventative\",E1502+KPI!$P$5,\"\")))","v":""},"Please select",null,null,null,null,null,"Please select",null,null,"",null,null,null,null,null,null,null,null,"TBD","","",null,null,0,0,1]
[null,"Please select",null,null,null,null,null,null,null,null,null,null,null,null,{"$f":"IF(ISERROR(IF(C1503=\"corrective\",E1503+KPI!$P$4,IF(C1503=\"Preventative\",E1503+KPI!$P$5,\"\"))),\"\",IF(C1503=\"corrective\",E1503+KPI!$P$4,IF(C1503=\"Preventative\",E1503+KPI!$P$5,\"\")))","v":""},"Please select",null,null,null,null,null,"Please select",null,null,"",null,null,null,null,null,null,null,null,"TBD","","",null,null,0,0,1]
[null,"Please select",null,null,null,null,null,null,null,null,null,null,null,null,{"$f":"IF(ISERROR(IF(C1504=\"corrective\",E1504+KPI!$P$4,IF(C1504=\"Preventative\",E1504+KPI!$P$5,\"\"))),\"\",IF(C1504=\"corrective\",E1504+KPI!$P$4,IF(C1504=\"Preventative\",E1504+KPI!$P$5,\"\")))","v":""},"Please select",null,null,null,null,null,"Please select",null,null,"",null,null,null,null,null,null,null,null,"TBD","","",null,null,0,0,1]
[null,"Please select",null,null,null,null,null,null,null,null,null,null,null,null,{"$f":"IF(ISERROR(IF(C1505=\"corrective\",E1505+KPI!$P$4,IF(C1505=\"Preventative\",E1505+KPI!$P$5,\"\"))),\"\",IF(C1505=\"corrective\",E1505+KPI!$P$4,IF(C1505=\"Preventative\",E1505+KPI!$P$5,\"\")))","v":""},"Please select",null,null,null,null,null,"Please select",null,null,"",null,null,null,null,null,null,null,null,"TBD","","",null,null,0,0,1]
[null,"Please select",null,null,null,null,null,null,null,null,null,null,null,null,{"$f":"IF(ISERROR(IF(C1506=\"corrective\",E1506+KPI!$P$4,IF(C1506=\"Preventative\",E1506+KPI!$P$5,\"\"))),\"\",IF(C1506=\"corrective\",E1506+KPI!$P$4,IF(C1506=\"Preventative\",E1506+KPI!$P$5,\"\")))","v":""},"Please select",null,null,null,null,null,"Please select",null,null,"",null,null,null,null,null,null,null,null,"TBD","","",null,null,0,0,1]
[null,"Please select",null,null,null,null,null,null,null,null,null,null,null,null,{"$f":"IF(ISERROR(IF(C1507=\"corrective\",E1507+KPI!$P$4,IF(C1507=\"Preventative\",E1507+KPI!$P$5,\"\"))),\"\",IF(C1507=\"corrective\",E1507+KPI!$P$4,IF(C1507=\"Preventative\",E1507+KPI!$P$5,\"\")))","v":""},"Please select",null,null,null,null,null,"Please select",null,null,"",null,null,null,null,null,null,null,null,"TBD","","",null,null,0,0,1]
[null,"Please select",null,null,null,null,null,null,null,null,null,null,null,null,{"$f":"IF(ISERROR(IF(C1508=\"corrective\",E1508+KPI!$P$4,IF(C1508=\"Preventative\",E1508+KPI!$P$5,\"\"))),\"\",IF(C1508=\"corrective\",E1508+KPI!$P$4,IF(C1508=\"Preventative\",E1508+KPI!$P$5,\"\")))","v":""},"Please select",null,null,null,null,null,"Please select",null,null,"",null,null,null,null,null,null,null,null,"TBD","","",null,null,0,0,1]
[null,"Please select",null,null,null,null,null,null,null,null,null,null,null,null,{"$f":"IF(ISERROR(IF(C1509=\"corrective\",E1509+KPI!$P$4,IF(C1509=\"Preventative\",E1509+KPI!$P$5,\"\"))),\"\",IF(C1509=\"corrective\",E1509+KPI!$P$4,IF(C1509=\"Preventative\",E1509+KPI!$P$5,\"\")))","v":""},"Please select",null,null,null,null,null,"Please select",null,null,"",null,null,null,null,null,null,null,null,"TBD","","",null,null,0,0,1]
[null,"Please select",null,null,null,null,null,null,null,null,null,null,null,null,{"$f":"IF(ISERROR(IF(C1510=\"corrective\",E1510+KPI!$P$4,IF(C1510=\"Preventative\",E1510+KPI!$P$5,\"\"))),\"\",IF(C1510=\"corrective\",E1510+KPI!$P$4,IF(C1510=\"Preventative\",E1510+KPI!$P$5,\"\")))","v":""},"Please select",null,null,null,null,null,"Please select",null,null,"",null,null,null,null,null,null,null,null,"TBD","","",null,null,0,0,1]
[null,"Please select",null,null,null,null,null,null,null,null,null,null,null,null,{"$f":"IF(ISERROR(IF(C1511=\"corrective\",E1511+KPI!$P$4,IF(C1511=\"Preventative\",E1511+KPI!$P$5,\"\"))),\"\",IF(C1511=\"corrective\",E1511+KPI!$P$4,IF(C1511=\"Preventative\",E1511+KPI!$P$5,\"\")))","v":""},"Please select",null,null,null,null,null,"Please select",null,null,"",null,null,null,null,null,null,null,null,"TBD","","",null,null,0,0,1]
[null,"Please select",null,null,null,null,null,null,null,null,null,null,null,null,{"$f":"IF(ISERROR(IF(C1512=\"corrective\",E1512+KPI!$P$4,IF(C1512=\"Preventative\",E1512+KPI!$P$5,\"\"))),\"\",IF(C1512=\"corrective\",E1512+KPI!$P$4,IF(C1512=\"Preventative\",E1512+KPI!$P$5,\"\")))","v":""},"Please select",null,null,null,null,null,"Please select",null,null,"",null,null,null,null,null,null,null,null,"TBD","","",null,null,0,0,1]
[null,"Please select",null,null,null,null,null,null,null,null,null,null,null,null,{"$f":"IF(ISERROR(IF(C1513=\"corrective\",E1513+KPI!$P$4,IF(C1513=\"Preventative\",E1513+KPI!$P$5,\"\"))),\"\",IF(C1513=\"corrective\",E1513+KPI!$P$4,IF(C1513=\"Preventative\",E1513+KPI!$P$5,\"\")))","v":""},"Please select",null,null,null,null,null,"Please select",null,null,"",null,null,null,null,null,null,null,null,"TBD","","",null,null,0,0,1]
[null,"Please select",null,null,null,null,null,null,null,null,null,null,null,null,{"$f":"IF(ISERROR(IF(C1514=\"corrective\",E1514+KPI!$P$4,IF(C1514=\"Preventative\",E1514+KPI!$P$5,\"\"))),\"\",IF(C1514=\"corrective\",E1514+KPI!$P$4,IF(C1514=\"Preventative\",E1514+KPI!$P$5,\"\")))","v":""},"Please select",null,null,null,null,null,"Please select",null,null,"",null,null,null,null,null,null,null,null,"TBD","","",null,null,0,0,1]
[null,"Please select",null,null,null,null,null,null,null,null,null,null,null,null,{"$f":"IF(ISERROR(IF(C1515=\"corrective\",E1515+KPI!$P$4,IF(C1515=\"Preventative\",E1515+KPI!$P$5,\"\"))),\"\",IF(C1515=\"corrective\",E1515+KPI!$P$4,IF(C1515=\"Preventative\",E1515+KPI!$P$5,\"\")))","v":""},"Please select",null,null,null,null,null,"Please select",null,null,"",null,null,null,null,null,null,null,null,"TBD","","",null,null,0,0,1]
[null,"Please select",null,null,null,null,null,null,null,null,null,null,null,null,{"$f":"IF(ISERROR(IF(C1516=\"corrective\",E1516+KPI!$P$4,IF(C1516=\"Preventative\",E1516+KPI!$P$5,\"\"))),\"\",IF(C1516=\"corrective\",E1516+KPI!$P$4,IF(C1516=\"Preventative\",E1516+KPI!$P$5,\"\")))","v":""},"Please select",null,null,null,null,null,"Please select",null,null,"",null,null,null,null,null,null,null,null,"TBD","","",null,null,0,0,1]
[null,"Please select",null,null,null,null,null,null,null,null,null,null,null,null,{"$f":"IF(ISERROR(IF(C1517=\"corrective\",E1517+KPI!$P$4,IF(C1517=\"Preventative\",E1517+KPI!$P$5,\"\"))),\"\",IF(C1517=\"corrective\",E1517+KPI!$P$4,IF(C1517=\"Preventative\",E1517+KPI!$P$5,\"\")))","v":""},"Please select",null,null,null,null,null,"Please select",null,null,"",null,null,null,null,null,null,null,null,"TBD","","",null,null,0,0,1]
[null,"Please select",null,null,null,null,null,null,null,null,null,null,null,null,{"$f":"IF(ISERROR(IF(C1518=\"corrective\",E1518+KPI!$P$4,IF(C1518=\"Preventative\",E1518+KPI!$P$5,\"\"))),\"\",IF(C1518=\"corrective\",E1518+KPI!$P$4,IF(C1518=\"Preventative\",E1518+KPI!$P$5,\"\")))","v":""},"Please select",null,null,null,null,null,"Please select",null,null,"",null,null,null,null,null,null,null,null,"TBD","","",null,null,0,0,1]
[null,"Please select",null,null,null,null,null,null,null,null,null,null,null,null,{"$f":"IF(ISERROR(IF(C1519=\"corrective\",E1519+KPI!$P$4,IF(C1519=\"Preventative\",E1519+KPI!$P$5,\"\"))),\"\",IF(C1519=\"corrective\",E1519+KPI!$P$4,IF(C1519=\"Preventative\",E1519+KPI!$P$5,\"\")))","v":""},{"$f":"IF(AND(O1519<TODAY(),B1519=\"new\"),\"New - Overdue\",B1519)","v":"Please select"},null,null,null,null,null,"Please select",null,null,{"$f":"Z1519&AA1519&AB1519&AC1519&AD1519&AE1519","v":""},null,null,null,null,null,null,null,null,"TBD",{"$f":"IF(ISERROR(AJ1519-20),\"\",AJ1519-20)","v":""},{"$f":"IF(ISERROR(IF(C1519=\"corrective\",E1519+AH1519,\"\")),\"\",IF(C1519=\"corrective\",E1519+AH1519,\"\"))","v":""},null,null,0,0,{"$f":"COUNTIF(AN1519,\">400\")+COUNTIF(AN1519,\"=0\")","v":1}]
[null,"Please select",null,null,null,null,null,null,null,null,null,null,null,null,{"$f":"IF(ISERROR(IF(C1520=\"corrective\",E1520+KPI!$P$4,IF(C1520=\"Preventative\",E1520+KPI!$P$5,\"\"))),\"\",IF(C1520=\"corrective\",E1520+KPI!$P$4,IF(C1520=\"Preventative\",E1520+KPI!$P$5,\"\")))","v":""},"Please select",null,null,null,null,null,"Please select",null,null,"",null,null,null,null,null,null,null,null,"TBD","","",null,null,0,0,1]
[null,"Please select",null,null,null,null,null,null,null,null,null,null,null,null,{"$f":"IF(ISERROR(IF(C1521=\"corrective\",E1521+KPI!$P$4,IF(C1521=\"Preventative\",E1521+KPI!$P$5,\"\"))),\"\",IF(C1521=\"corrective\",E1521+KPI!$P$4,IF(C1521=\"Preventative\",E1521+KPI!$P$5,\"\")))","v":""},"Please select",null,null,null,null,null,"Please select",null,null,"",null,null,null,null,null,null,null,null,"TBD","","",null,null,0,0,1]
[null,"Please select",null,null,null,null,null,null,null,null,null,null,null,null,{"$f":"IF(ISERROR(IF(C1522=\"corrective\",E1522+KPI!$P$4,IF(C1522=\"Preventative\",E1522+KPI!$P$5,\"\"))),\"\",IF(C1522=\"corrective\",E1522+KPI!$P$4,IF(C1522=\"Preventative\",E1522+KPI!$P$5,\"\")))","v":""},"Please select",null,null,null,null,null,"Please select",null,null,"",null,null,null,null,null,null,null,null,"TBD","","",null,null,0,0,1]
[null,"Please select",null,null,null,null,null,null,null,null,null,null,null,null,{"$f":"IF(ISERROR(IF(C1523=\"corrective\",E1523+KPI!$P$4,IF(C1523=\"Preventative\",E1523+KPI!$P$5,\"\"))),\"\",IF(C1523=\"corrective\",E1523+KPI!$P$4,IF(C1523=\"Preventative\",E1523+KPI!$P$5,\"\")))","v":""},"Please select",null,null,null,null,null,"Please select",null,null,"",null,null,null,null,null,null,null,null,"TBD","","",null,null,0,0,1]
[null,"Please select",null,null,null,null,null,null,null,null,null,null,null,null,{"$f":"IF(ISERROR(IF(C1524=\"corrective\",E1524+KPI!$P$4,IF(C1524=\"Preventative\",E1524+KPI!$P$5,\"\"))),\"\",IF(C1524=\"corrective\",E1524+KPI!$P$4,IF(C1524=\"Preventative\",E1524+KPI!$P$5,\"\")))","v":""},"Please select",null,null,null,null,null,"Please select",null,null,"",null,null,null,null,null,null,null,null,"TBD","","",null,null,0,0,1]
[null,"Please select",null,null,null,null,null,null,null,null,null,null,null,null,{"$f":"IF(ISERROR(IF(C1525=\"corrective\",E1525+KPI!$P$4,IF(C1525=\"Preventative\",E1525+KPI!$P$5,\"\"))),\"\",IF(C1525=\"corrective\",E1525+KPI!$P$4,IF(C1525=\"Preventative\",E1525+KPI!$P$5,\"\")))","v":""},"Please select",null,null,null,null,null,"Please select",null,null,"",null,null,null,null,null,null,null,null,"TBD","","",null,null,0,0,1]
[null,"Please select",null,null,null,null,null,null,null,null,null,null,null,null,{"$f":"IF(ISERROR(IF(C1526=\"corrective\",E1526+KPI!$P$4,IF(C1526=\"Preventative\",E1526+KPI!$P$5,\"\"))),\"\",IF(C1526=\"corrective\",E1526+KPI!$P$4,IF(C1526=\"Preventative\",E1526+KPI!$P$5,\"\")))","v":""},"Please select",null,null,null,null,null,"Please select",null,null,"",null,null,null,null,null,null,null,null,"TBD","","",null,null,0,0,1]
[null,"Please select",null,null,null,null,null,null,null,null,null,null,null,null,{"$f":"IF(ISERROR(IF(C1527=\"corrective\",E1527+KPI!$P$4,IF(C1527=\"Preventative\",E1527+KPI!$P$5,\"\"))),\"\",IF(C1527=\"corrective\",E1527+KPI!$P$4,IF(C1527=\"Preventative\",E1527+KPI!$P$5,\"\")))","v":""},"Please select",null,null,null,null,null,"Please select",null,null,"",null,null,null,null,null,null,null,null,"TBD","","",null,null,0,0,1]
[null,"Please select",null,null,null,null,null,null,null,null,null,null,null,null,{"$f":"IF(ISERROR(IF(C1528=\"corrective\",E1528+KPI!$P$4,IF(C1528=\"Preventative\",E1528+KPI!$P$5,\"\"))),\"\",IF(C1528=\"corrective\",E1528+KPI!$P$4,IF(C1528=\"Preventative\",E1528+KPI!$P$5,\"\")))","v":""},"Please select",null,null,null,null,null,"Please select",null,null,"",null,null,null,null,null,null,null,null,"TBD","","",null,null,0,0,1]
[null,"Please select",null,null,null,null,null,null,null,null,null,null,null,null,{"$f":"IF(ISERROR(IF(C1529=\"corrective\",E1529+KPI!$P$4,IF(C1529=\"Preventative\",E1529+KPI!$P$5,\"\"))),\"\",IF(C1529=\"corrective\",E1529+KPI!$P$4,IF(C1529=\"Preventative\",E1529+KPI!$P$5,\"\")))","v":""},"Please select",null,null,null,null,null,"Please select",null,null,"",null,null,null,null,null,null,null,null,"TBD","","",null,null,0,0,1]
[null,"Please select",null,null,null,null,null,null,null,null,null,null,null,null,{"$f":"IF(ISERROR(IF(C1530=\"corrective\",E1530+KPI!$P$4,IF(C1530=\"Preventative\",E1530+KPI!$P$5,\"\"))),\"\",IF(C1530=\"corrective\",E1530+KPI!$P$4,IF(C1530=\"Preventative\",E1530+KPI!$P$5,\"\")))","v":""},"Please select",null,null,null,null,null,"Please select",null,null,"",null,null,null,null,null,null,null,null,"TBD","","",null,null,0,0,1]
[null,"Please select",null,null,null,null,null,null,null,null,null,null,null,null,{"$f":"IF(ISERROR(IF(C1531=\"corrective\",E1531+KPI!$P$4,IF(C1531=\"Preventative\",E1531+KPI!$P$5,\"\"))),\"\",IF(C1531=\"corrective\",E1531+KPI!$P$4,IF(C1531=\"Preventative\",E1531+KPI!$P$5,\"\")))","v":""},"Please select",null,null,null,null,null,"Please select",null,null,"",null,null,null,null,null,null,null,null,"TBD","","",null,null,0,0,1]
[null,"Please select",null,null,null,null,null,null,null,null,null,null,null,null,{"$f":"IF(ISERROR(IF(C1532=\"corrective\",E1532+KPI!$P$4,IF(C1532=\"Preventative\",E1532+KPI!$P$5,\"\"))),\"\",IF(C1532=\"corrective\",E1532+KPI!$P$4,IF(C1532=\"Preventative\",E1532+KPI!$P$5,\"\")))","v":""},"Please select",null,null,null,null,null,"Please select",null,null,"",null,null,null,null,null,null,null,null,"TBD","","",null,null,0,0,1]
[null,"Please select",null,null,null,null,null,null,null,null,null,null,null,null,{"$f":"IF(ISERROR(IF(C1533=\"corrective\",E1533+KPI!$P$4,IF(C1533=\"Preventative\",E1533+KPI!$P$5,\"\"))),\"\",IF(C1533=\"corrective\",E1533+KPI!$P$4,IF(C1533=\"Preventative\",E1533+KPI!$P$5,\"\")))","v":""},"Please select",null,null,null,null,null,"Please select",null,null,"",null,null,null,null,null,null,null,null,"TBD","","",null,null,0,0,1]
[null,"Please select",null,null,null,null,null,null,null,null,null,null,null,null,{"$f":"IF(ISERROR(IF(C1534=\"corrective\",E1534+KPI!$P$4,IF(C1534=\"Preventative\",E1534+KPI!$P$5,\"\"))),\"\",IF(C1534=\"corrective\",E1534+KPI!$P$4,IF(C1534=\"Preventative\",E1534+KPI!$P$5,\"\")))","v":""},"Please select",null,null,null,null,null,"Please select",null,null,"",null,null,null,null,null,null,null,null,"TBD","","",null,null,0,0,1]
[null,"Please select",null,null,null,null,null,null,null,null,null,null,null,null,{"$f":"IF(ISERROR(IF(C1535=\"corrective\",E1535+KPI!$P$4,IF(C1535=\"Preventative\",E1535+KPI!$P$5,\"\"))),\"\",IF(C1535=\"corrective\",E1535+KPI!$P$4,IF(C1535=\"Preventative\",E1535+KPI!$P$5,\"\")))","v":""},"Please select",null,null,null,null,null,"Please select",null,null,"",null,null,null,null,null,null,null,null,"TBD","","",null,null,0,0,1]
[null,"Please select",null,null,null,null,null,null,null,null,null,null,null,null,{"$f":"IF(ISERROR(IF(C1536=\"corrective\",E1536+KPI!$P$4,IF(C1536=\"Preventative\",E1536+KPI!$P$5,\"\"))),\"\",IF(C1536=\"corrective\",E1536+KPI!$P$4,IF(C1536=\"Preventative\",E1536+KPI!$P$5,\"\")))","v":""},"Please select",null,null,null,null,null,"Please select",null,null,"",null,null,null,null,null,null,null,null,"TBD","","",null,null,0,0,1]
[null,"Please select",null,null,null,null,null,null,null,null,null,null,null,null,{"$f":"IF(ISERROR(IF(C1537=\"corrective\",E1537+KPI!$P$4,IF(C1537=\"Preventative\",E1537+KPI!$P$5,\"\"))),\"\",IF(C1537=\"corrective\",E1537+KPI!$P$4,IF(C1537=\"Preventative\",E1537+KPI!$P$5,\"\")))","v":""},"Please select",null,null,null,null,null,"Please select",null,null,"",null,null,null,null,null,null,null,null,"TBD","","",null,null,0,0,1]
[null,"Please select",null,null,null,null,null,null,null,null,null,null,null,null,{"$f":"IF(ISERROR(IF(C1538=\"corrective\",E1538+KPI!$P$4,IF(C1538=\"Preventative\",E1538+KPI!$P$5,\"\"))),\"\",IF(C1538=\"corrective\",E1538+KPI!$P$4,IF(C1538=\"Preventative\",E1538+KPI!$P$5,\"\")))","v":""},"Please select",null,null,null,null,null,"Please select",null,null,"",null,null,null,null,null,null,null,null,"TBD","","",null,null,{"$f":"IF(ISERROR(DATEDIF(E1538,Q1538,\"D\")),\"\",DATEDIF(E1538,Q1538,\"D\"))","v":0},{"$f":"IF(ISERROR(DATEDIF(Q1538,X1538,\"D\")),\"\",DATEDIF(Q1538,X1538,\"D\"))","v":0},1]
[null,"Please select",null,null,null,null,null,null,null,null,null,null,null,null,{"$f":"IF(ISERROR(IF(C1539=\"corrective\",E1539+KPI!$P$4,IF(C1539=\"Preventative\",E1539+KPI!$P$5,\"\"))),\"\",IF(C1539=\"corrective\",E1539+KPI!$P$4,IF(C1539=\"Preventative\",E1539+KPI!$P$5,\"\")))","v":""},"Please select",null,null,null,null,null,"Please select",null,null,"",null,null,null,null,null,null,null,null,"TBD","","",null,null,0,0,1]
[null,"Please select",null,null,null,null,null,null,null,null,null,null,null,null,{"$f":"IF(ISERROR(IF(C1540=\"corrective\",E1540+KPI!$P$4,IF(C1540=\"Preventative\",E1540+KPI!$P$5,\"\"))),\"\",IF(C1540=\"corrective\",E1540+KPI!$P$4,IF(C1540=\"Preventative\",E1540+KPI!$P$5,\"\")))","v":""},"Please select",null,null,null,null,null,"Please select",null,null,"",null,null,null,null,null,null,null,null,"TBD","","",null,null,0,0,1]
[null,"Please select",null,null,null,null,null,null,null,null,null,null,null,null,{"$f":"IF(ISERROR(IF(C1541=\"corrective\",E1541+KPI!$P$4,IF(C1541=\"Preventative\",E1541+KPI!$P$5,\"\"))),\"\",IF(C1541=\"corrective\",E1541+KPI!$P$4,IF(C1541=\"Preventative\",E1541+KPI!$P$5,\"\")))","v":""},"Please select",null,null,null,null,null,"Please select",null,null,"",null,null,null,null,null,null,null,null,"TBD","","",null,null,0,0,1]
[null,"Please select",null,null,null,null,null,null,null,null,null,null,null,null,{"$f":"IF(ISERROR(IF(C1542=\"corrective\",E1542+KPI!$P$4,IF(C1542=\"Preventative\",E1542+KPI!$P$5,\"\"))),\"\",IF(C1542=\"corrective\",E1542+KPI!$P$4,IF(C1542=\"Preventative\",E1542+KPI!$P$5,\"\")))","v":""},"Please select",null,null,null,null,null,"Please select",null,null,"",null,null,null,null,null,null,null,null,"TBD","","",null,null,0,0,1]
[null,"Please select",null,null,null,null,null,null,null,null,null,null,null,null,{"$f":"IF(ISERROR(IF(C1543=\"corrective\",E1543+KPI!$P$4,IF(C1543=\"Preventative\",E1543+KPI!$P$5,\"\"))),\"\",IF(C1543=\"corrective\",E1543+KPI!$P$4,IF(C1543=\"Preventative\",E1543+KPI!$P$5,\"\")))","v":""},"Please select",null,null,null,null,null,"Please select",null,null,"",null,null,null,null,null,null,null,null,"TBD","","",null,null,0,0,1]
[null,"Please select",null,null,null,null,null,null,null,null,null,null,null,null,{"$f":"IF(ISERROR(IF(C1544=\"corrective\",E1544+KPI!$P$4,IF(C1544=\"Preventative\",E1544+KPI!$P$5,\"\"))),\"\",IF(C1544=\"corrective\",E1544+KPI!$P$4,IF(C1544=\"Preventative\",E1544+KPI!$P$5,\"\")))","v":""},"Please select",null,null,null,null,null,"Please select",null,null,"",null,null,null,null,null,null,null,null,"TBD","","",null,null,0,0,1]
[null,"Please select",null,null,null,null,null,null,null,null,null,null,null,null,{"$f":"IF(ISERROR(IF(C1545=\"corrective\",E1545+KPI!$P$4,IF(C1545=\"Preventative\",E1545+KPI!$P$5,\"\"))),\"\",IF(C1545=\"corrective\",E1545+KPI!$P$4,IF(C1545=\"Preventative\",E1545+KPI!$P$5,\"\")))","v":""},"Please select",null,null,null,null,null,"Please select",null,null,"",null,null,null,null,null,null,null,null,"TBD","","",null,null,0,0,1]
[null,"Please select",null,null,null,null,null,null,null,null,null,null,null,null,{"$f":"IF(ISERROR(IF(C1546=\"corrective\",E1546+KPI!$P$4,IF(C1546=\"Preventative\",E1546+KPI!$P$5,\"\"))),\"\",IF(C1546=\"corrective\",E1546+KPI!$P$4,IF(C1546=\"Preventative\",E1546+KPI!$P$5,\"\")))","v":""},"Please select",null,null,null,null,null,"Please select",null,null,"",null,null,null,null,null,null,null,null,"TBD","","",null,null,0,0,1]
[null,"Please select",null,null,null,null,null,null,null,null,null,null,null,null,{"$f":"IF(ISERROR(IF(C1547=\"corrective\",E1547+KPI!$P$4,IF(C1547=\"Preventative\",E1547+KPI!$P$5,\"\"))),\"\",IF(C1547=\"corrective\",E1547+KPI!$P$4,IF(C1547=\"Preventative\",E1547+KPI!$P$5,\"\")))","v":""},"Please select",null,null,null,null,null,"Please select",null,null,"",null,null,null,null,null,null,null,null,"TBD","","",null,null,0,0,1]
[null,"Please select",null,null,null,null,null,null,null,null,null,null,null,null,{"$f":"IF(ISERROR(IF(C1548=\"corrective\",E1548+KPI!$P$4,IF(C1548=\"Preventative\",E1548+KPI!$P$5,\"\"))),\"\",IF(C1548=\"corrective\",E1548+KPI!$P$4,IF(C1548=\"Preventative\",E1548+KPI!$P$5,\"\")))","v":""},"Please select",null,null,null,null,null,"Please select",null,null,"",null,null,null,null,null,null,null,null,"TBD","","",null,null,0,0,1]
[null,"Please select",null,null,null,null,null,null,null,null,null,null,null,null,{"$f":"IF(ISERROR(IF(C1549=\"corrective\",E1549+KPI!$P$4,IF(C1549=\"Preventative\",E1549+KPI!$P$5,\"\"))),\"\",IF(C1549=\"corrective\",E1549+KPI!$P$4,IF(C1549=\"Preventative\",E1549+KPI!$P$5,\"\")))","v":""},"Please select",null,null,null,null,null,"Please select",null,null,"",null,null,null,null,null,null,null,null,"TBD","","",null,null,0,0,1]
[null,"Please select",null,null,null,null,null,null,null,null,null,null,null,null,{"$f":"IF(ISERROR(IF(C1550=\"corrective\",E1550+KPI!$P$4,IF(C1550=\"Preventative\",E1550+KPI!$P$5,\"\"))),\"\",IF(C1550=\"corrective\",E1550+KPI!$P$4,IF(C1550=\"Preventative\",E1550+KPI!$P$5,\"\")))","v":""},"Please select",null,null,null,null,null,"Please select",null,null,"",null,null,null,null,null,null,null,null,"TBD","","",null,null,0,0,1]
[null,"Please select",null,null,null,null,null,null,null,null,null,null,null,null,{"$f":"IF(ISERROR(IF(C1551=\"corrective\",E1551+KPI!$P$4,IF(C1551=\"Preventative\",E1551+KPI!$P$5,\"\"))),\"\",IF(C1551=\"corrective\",E1551+KPI!$P$4,IF(C1551=\"Preventative\",E1551+KPI!$P$5,\"\")))","v":""},"Please select",null,null,null,null,null,"Please select",null,null,"",null,null,null,null,null,null,null,null,"TBD","","",null,null,0,0,1]
[null,"Please select",null,null,null,null,null,null,null,null,null,null,null,null,{"$f":"IF(ISERROR(IF(C1552=\"corrective\",E1552+KPI!$P$4,IF(C1552=\"Preventative\",E1552+KPI!$P$5,\"\"))),\"\",IF(C1552=\"corrective\",E1552+KPI!$P$4,IF(C1552=\"Preventative\",E1552+KPI!$P$5,\"\")))","v":""},"Please select",null,null,null,null,null,"Please select",null,null,"",null,null,null,null,null,null,null,null,"TBD","","",null,null,0,0,1]
[null,"Please select",null,null,null,null,null,null,null,null,null,null,null,null,{"$f":"IF(ISERROR(IF(C1553=\"corrective\",E1553+KPI!$P$4,IF(C1553=\"Preventative\",E1553+KPI!$P$5,\"\"))),\"\",IF(C1553=\"corrective\",E1553+KPI!$P$4,IF(C1553=\"Preventative\",E1553+KPI!$P$5,\"\")))","v":""},"Please select",null,null,null,null,null,"Please select",null,null,"",null,null,null,null,null,null,null,null,"TBD","","",null,null,0,0,1]
[null,"Please select",null,null,null,null,null,null,null,null,null,null,null,null,{"$f":"IF(ISERROR(IF(C1554=\"corrective\",E1554+KPI!$P$4,IF(C1554=\"Preventative\",E1554+KPI!$P$5,\"\"))),\"\",IF(C1554=\"corrective\",E1554+KPI!$P$4,IF(C1554=\"Preventative\",E1554+KPI!$P$5,\"\")))","v":""},"Please select",null,null,null,null,null,"Please select",null,null,"",null,null,null,null,null,null,null,null,"TBD","","",null,null,0,0,1]
[null,"Please select",null,null,null,null,null,null,null,null,null,null,null,null,{"$f":"IF(ISERROR(IF(C1555=\"corrective\",E1555+KPI!$P$4,IF(C1555=\"Preventative\",E1555+KPI!$P$5,\"\"))),\"\",IF(C1555=\"corrective\",E1555+KPI!$P$4,IF(C1555=\"Preventative\",E1555+KPI!$P$5,\"\")))","v":""},"Please select",null,null,null,null,null,"Please select",null,null,"",null,null,null,null,null,null,null,null,"TBD","","",null,null,0,0,1]
[null,"Please select",null,null,null,null,null,null,null,null,null,null,null,null,{"$f":"IF(ISERROR(IF(C1556=\"corrective\",E1556+KPI!$P$4,IF(C1556=\"Preventative\",E1556+KPI!$P$5,\"\"))),\"\",IF(C1556=\"corrective\",E1556+KPI!$P$4,IF(C1556=\"Preventative\",E1556+KPI!$P$5,\"\")))","v":""},"Please select",null,null,null,null,null,"Please select",null,null,"",null,null,null,null,null,null,null,null,"TBD","","",null,null,0,0,1]
[null,"Please select",null,null,null,null,null,null,null,null,null,null,null,null,{"$f":"IF(ISERROR(IF(C1557=\"corrective\",E1557+KPI!$P$4,IF(C1557=\"Preventative\",E1557+KPI!$P$5,\"\"))),\"\",IF(C1557=\"corrective\",E1557+KPI!$P$4,IF(C1557=\"Preventative\",E1557+KPI!$P$5,\"\")))","v":""},"Please select",null,null,null,null,null,"Please select",null,null,"",null,null,null,null,null,null,null,null,"TBD","","",null,null,0,0,1]
[null,"Please select",null,null,null,null,null,null,null,null,null,null,null,null,{"$f":"IF(ISERROR(IF(C1558=\"corrective\",E1558+KPI!$P$4,IF(C1558=\"Preventative\",E1558+KPI!$P$5,\"\"))),\"\",IF(C1558=\"corrective\",E1558+KPI!$P$4,IF(C1558=\"Preventative\",E1558+KPI!$P$5,\"\")))","v":""},"Please select",null,null,null,null,null,"Please select",null,null,"",null,null,null,null,null,null,null,null,"TBD","","",null,null,0,0,1]
[null,"Please select",null,null,null,null,null,null,null,null,null,null,null,null,{"$f":"IF(ISERROR(IF(C1559=\"corrective\",E1559+KPI!$P$4,IF(C1559=\"Preventative\",E1559+KPI!$P$5,\"\"))),\"\",IF(C1559=\"corrective\",E1559+KPI!$P$4,IF(C1559=\"Preventative\",E1559+KPI!$P$5,\"\")))","v":""},"Please select",null,null,null,null,null,"Please select",null,null,"",null,null,null,null,null,null,null,null,"TBD","","",null,null,0,0,1]
[null,"Please select",null,null,null,null,null,null,null,null,null,null,null,null,{"$f":"IF(ISERROR(IF(C1560=\"corrective\",E1560+KPI!$P$4,IF(C1560=\"Preventative\",E1560+KPI!$P$5,\"\"))),\"\",IF(C1560=\"corrective\",E1560+KPI!$P$4,IF(C1560=\"Preventative\",E1560+KPI!$P$5,\"\")))","v":""},"Please select",null,null,null,null,null,"Please select",null,null,"",null,null,null,null,null,null,null,null,"TBD","","",null,null,0,0,1]
[null,"Please select",null,null,null,null,null,null,null,null,null,null,null,null,{"$f":"IF(ISERROR(IF(C1561=\"corrective\",E1561+KPI!$P$4,IF(C1561=\"Preventative\",E1561+KPI!$P$5,\"\"))),\"\",IF(C1561=\"corrective\",E1561+KPI!$P$4,IF(C1561=\"Preventative\",E1561+KPI!$P$5,\"\")))","v":""},"Please select",null,null,null,null,null,"Please select",null,null,"",null,null,null,null,null,null,null,null,"TBD","","",null,null,0,0,1]
[null,"Please select",null,null,null,null,null,null,null,null,null,null,null,null,{"$f":"IF(ISERROR(IF(C1562=\"corrective\",E1562+KPI!$P$4,IF(C1562=\"Preventative\",E1562+KPI!$P$5,\"\"))),\"\",IF(C1562=\"corrective\",E1562+KPI!$P$4,IF(C1562=\"Preventative\",E1562+KPI!$P$5,\"\")))","v":""},"Please select",null,null,null,null,null,"Please select",null,null,"",null,null,null,null,null,null,null,null,"TBD","","",null,null,0,0,1]
[null,"Please select",null,null,null,null,null,null,null,null,null,null,null,null,{"$f":"IF(ISERROR(IF(C1563=\"corrective\",E1563+KPI!$P$4,IF(C1563=\"Preventative\",E1563+KPI!$P$5,\"\"))),\"\",IF(C1563=\"corrective\",E1563+KPI!$P$4,IF(C1563=\"Preventative\",E1563+KPI!$P$5,\"\")))","v":""},"Please select",null,null,null,null,null,"Please select",null,null,"",null,null,null,null,null,null,null,null,"TBD","","",null,null,0,0,1]
[null,"Please select",null,null,null,null,null,null,null,null,null,null,null,null,{"$f":"IF(ISERROR(IF(C1564=\"corrective\",E1564+KPI!$P$4,IF(C1564=\"Preventative\",E1564+KPI!$P$5,\"\"))),\"\",IF(C1564=\"corrective\",E1564+KPI!$P$4,IF(C1564=\"Preventative\",E1564+KPI!$P$5,\"\")))","v":""},"Please select",null,null,null,null,null,"Please select",null,null,"",null,null,null,null,null,null,null,null,"TBD","","",null,null,0,0,1]
[null,"Please select",null,null,null,null,null,null,null,null,null,null,null,null,{"$f":"IF(ISERROR(IF(C1565=\"corrective\",E1565+KPI!$P$4,IF(C1565=\"Preventative\",E1565+KPI!$P$5,\"\"))),\"\",IF(C1565=\"corrective\",E1565+KPI!$P$4,IF(C1565=\"Preventative\",E1565+KPI!$P$5,\"\")))","v":""},"Please select",null,null,null,null,null,"Please select",null,null,"",null,null,null,null,null,null,null,null,"TBD","","",null,null,0,0,1]
[null,"Please select",null,null,null,null,null,null,null,null,null,null,null,null,{"$f":"IF(ISERROR(IF(C1566=\"corrective\",E1566+KPI!$P$4,IF(C1566=\"Preventative\",E1566+KPI!$P$5,\"\"))),\"\",IF(C1566=\"corrective\",E1566+KPI!$P$4,IF(C1566=\"Preventative\",E1566+KPI!$P$5,\"\")))","v":""},"Please select",null,null,null,null,null,"Please select",null,null,"",null,null,null,null,null,null,null,null,"TBD","","",null,null,0,0,1]
[null,"Please select",null,null,null,null,null,null,null,null,null,null,null,null,{"$f":"IF(ISERROR(IF(C1567=\"corrective\",E1567+KPI!$P$4,IF(C1567=\"Preventative\",E1567+KPI!$P$5,\"\"))),\"\",IF(C1567=\"corrective\",E1567+KPI!$P$4,IF(C1567=\"Preventative\",E1567+KPI!$P$5,\"\")))","v":""},"Please select",null,null,null,null,null,"Please select",null,null,"",null,null,null,null,null,null,null,null,"TBD","","",null,null,0,0,1]
[null,"Please select",null,null,null,null,null,null,null,null,null,null,null,null,{"$f":"IF(ISERROR(IF(C1568=\"corrective\",E1568+KPI!$P$4,IF(C1568=\"Preventative\",E1568+KPI!$P$5,\"\"))),\"\",IF(C1568=\"corrective\",E1568+KPI!$P$4,IF(C1568=\"Preventative\",E1568+KPI!$P$5,\"\")))","v":""},"Please select",null,null,null,null,null,"Please select",null,null,"",null,null,null,null,null,null,null,null,"TBD","","",null,null,0,0,1]
[null,"Please select",null,null,null,null,null,null,null,null,null,null,null,null,{"$f":"IF(ISERROR(IF(C1569=\"corrective\",E1569+KPI!$P$4,IF(C1569=\"Preventative\",E1569+KPI!$P$5,\"\"))),\"\",IF(C1569=\"corrective\",E1569+KPI!$P$4,IF(C1569=\"Preventative\",E1569+KPI!$P$5,\"\")))","v":""},"Please select",null,null,null,null,null,"Please select",null,null,"",null,null,null,null,null,null,null,null,"TBD","","",null,null,0,0,1]
[null,"Please select",null,null,null,null,null,null,null,null,null,null,null,null,{"$f":"IF(ISERROR(IF(C1570=\"corrective\",E1570+KPI!$P$4,IF(C1570=\"Preventative\",E1570+KPI!$P$5,\"\"))),\"\",IF(C1570=\"corrective\",E1570+KPI!$P$4,IF(C1570=\"Preventative\",E1570+KPI!$P$5,\"\")))","v":""},"Please select",null,null,null,null,null,"Please select",null,null,"",null,null,null,null,null,null,null,null,"TBD","","",null,null,0,0,1]
[null,"Please select",null,null,null,null,null,null,null,null,null,null,null,null,{"$f":"IF(ISERROR(IF(C1571=\"corrective\",E1571+KPI!$P$4,IF(C1571=\"Preventative\",E1571+KPI!$P$5,\"\"))),\"\",IF(C1571=\"corrective\",E1571+KPI!$P$4,IF(C1571=\"Preventative\",E1571+KPI!$P$5,\"\")))","v":""},"Please select",null,null,null,null,null,"Please select",null,null,"",null,null,null,null,null,null,null,null,"TBD","","",null,null,0,0,1]
[null,"Please select",null,null,null,null,null,null,null,null,null,null,null,null,{"$f":"IF(ISERROR(IF(C1572=\"corrective\",E1572+KPI!$P$4,IF(C1572=\"Preventative\",E1572+KPI!$P$5,\"\"))),\"\",IF(C1572=\"corrective\",E1572+KPI!$P$4,IF(C1572=\"Preventative\",E1572+KPI!$P$5,\"\")))","v":""},"Please select",null,null,null,null,null,"Please select",null,null,"",null,null,null,null,null,null,null,null,"TBD","","",null,null,0,0,1]
[null,"Please select",null,null,null,null,null,null,null,null,null,null,null,null,{"$f":"IF(ISERROR(IF(C1573=\"corrective\",E1573+KPI!$P$4,IF(C1573=\"Preventative\",E1573+KPI!$P$5,\"\"))),\"\",IF(C1573=\"corrective\",E1573+KPI!$P$4,IF(C1573=\"Preventative\",E1573+KPI!$P$5,\"\")))","v":""},"Please select",null,null,null,null,null,"Please select",null,null,"",null,null,null,null,null,null,null,null,"TBD","","",null,null,0,0,1]
[null,"Please select",null,null,null,null,null,null,null,null,null,null,null,null,{"$f":"IF(ISERROR(IF(C1574=\"corrective\",E1574+KPI!$P$4,IF(C1574=\"Preventative\",E1574+KPI!$P$5,\"\"))),\"\",IF(C1574=\"corrective\",E1574+KPI!$P$4,IF(C1574=\"Preventative\",E1574+KPI!$P$5,\"\")))","v":""},"Please select",null,null,null,null,null,"Please select",null,null,"",null,null,null,null,null,null,null,null,"TBD","","",null,null,0,0,1]
[null,"Please select",null,null,null,null,null,null,null,null,null,null,null,null,{"$f":"IF(ISERROR(IF(C1575=\"corrective\",E1575+KPI!$P$4,IF(C1575=\"Preventative\",E1575+KPI!$P$5,\"\"))),\"\",IF(C1575=\"corrective\",E1575+KPI!$P$4,IF(C1575=\"Preventative\",E1575+KPI!$P$5,\"\")))","v":""},"Please select",null,null,null,null,null,"Please select",null,null,"",null,null,null,null,null,null,null,null,"TBD","","",null,null,0,0,1]
[null,"Please select",null,null,null,null,null,null,null,null,null,null,null,null,{"$f":"IF(ISERROR(IF(C1576=\"corrective\",E1576+KPI!$P$4,IF(C1576=\"Preventative\",E1576+KPI!$P$5,\"\"))),\"\",IF(C1576=\"corrective\",E1576+KPI!$P$4,IF(C1576=\"Preventative\",E1576+KPI!$P$5,\"\")))","v":""},"Please select",null,null,null,null,null,"Please select",null,null,"",null,null,null,null,null,null,null,null,"TBD","","",null,null,0,0,1]
[null,"Please select",null,null,null,null,null,null,null,null,null,null,null,null,{"$f":"IF(ISERROR(IF(C1577=\"corrective\",E1577+KPI!$P$4,IF(C1577=\"Preventative\",E1577+KPI!$P$5,\"\"))),\"\",IF(C1577=\"corrective\",E1577+KPI!$P$4,IF(C1577=\"Preventative\",E1577+KPI!$P$5,\"\")))","v":""},"Please select",null,null,null,null,null,"Please select",null,null,"",null,null,null,null,null,null,null,null,"TBD","","",null,null,0,0,1]
[null,"Please select",null,null,null,null,null,null,null,null,null,null,null,null,{"$f":"IF(ISERROR(IF(C1578=\"corrective\",E1578+KPI!$P$4,IF(C1578=\"Preventative\",E1578+KPI!$P$5,\"\"))),\"\",IF(C1578=\"corrective\",E1578+KPI!$P$4,IF(C1578=\"Preventative\",E1578+KPI!$P$5,\"\")))","v":""},"Please select",null,null,null,null,null,"Please select",null,null,"",null,null,null,null,null,null,null,null,"TBD","","",null,null,0,0,1]
[null,"Please select",null,null,null,null,null,null,null,null,null,null,null,null,{"$f":"IF(ISERROR(IF(C1579=\"corrective\",E1579+KPI!$P$4,IF(C1579=\"Preventative\",E1579+KPI!$P$5,\"\"))),\"\",IF(C1579=\"corrective\",E1579+KPI!$P$4,IF(C1579=\"Preventative\",E1579+KPI!$P$5,\"\")))","v":""},"Please select",null,null,null,null,null,"Please select",null,null,"",null,null,null,null,null,null,null,null,"TBD","","",null,null,0,0,1]
[null,"Please select",null,null,null,null,null,null,null,null,null,null,null,null,{"$f":"IF(ISERROR(IF(C1580=\"corrective\",E1580+KPI!$P$4,IF(C1580=\"Preventative\",E1580+KPI!$P$5,\"\"))),\"\",IF(C1580=\"corrective\",E1580+KPI!$P$4,IF(C1580=\"Preventative\",E1580+KPI!$P$5,\"\")))","v":""},"Please select",null,null,null,null,null,"Please select",null,null,"",null,null,null,null,null,null,null,null,"TBD","","",null,null,0,0,1]
[null,"Please select",null,null,null,null,null,null,null,null,null,null,null,null,{"$f":"IF(ISERROR(IF(C1581=\"corrective\",E1581+KPI!$P$4,IF(C1581=\"Preventative\",E1581+KPI!$P$5,\"\"))),\"\",IF(C1581=\"corrective\",E1581+KPI!$P$4,IF(C1581=\"Preventative\",E1581+KPI!$P$5,\"\")))","v":""},"Please select",null,null,null,null,null,"Please select",null,null,"",null,null,null,null,null,null,null,null,"TBD","","",null,null,0,0,1]
[null,"Please select",null,null,null,null,null,null,null,null,null,null,null,null,{"$f":"IF(ISERROR(IF(C1582=\"corrective\",E1582+KPI!$P$4,IF(C1582=\"Preventative\",E1582+KPI!$P$5,\"\"))),\"\",IF(C1582=\"corrective\",E1582+KPI!$P$4,IF(C1582=\"Preventative\",E1582+KPI!$P$5,\"\")))","v":""},"Please select",null,null,null,null,null,"Please select",null,null,"",null,null,null,null,null,null,null,null,"TBD","","",null,null,0,0,1]
[null,"Please select",null,null,null,null,null,null,null,null,null,null,null,null,{"$f":"IF(ISERROR(IF(C1583=\"corrective\",E1583+KPI!$P$4,IF(C1583=\"Preventative\",E1583+KPI!$P$5,\"\"))),\"\",IF(C1583=\"corrective\",E1583+KPI!$P$4,IF(C1583=\"Preventative\",E1583+KPI!$P$5,\"\")))","v":""},{"$f":"IF(AND(O1583<TODAY(),B1583=\"new\"),\"New - Overdue\",B1583)","v":"Please select"},null,null,null,null,null,"Please select",null,null,{"$f":"Z1583&AA1583&AB1583&AC1583&AD1583&AE1583","v":""},null,null,null,null,null,null,null,null,"TBD",{"$f":"IF(ISERROR(AJ1583-20),\"\",AJ1583-20)","v":""},{"$f":"IF(ISERROR(IF(C1583=\"corrective\",E1583+AH1583,\"\")),\"\",IF(C1583=\"corrective\",E1583+AH1583,\"\"))","v":""},null,null,0,0,{"$f":"COUNTIF(AN1583,\">400\")+COUNTIF(AN1583,\"=0\")","v":1}]
[null,"Please select",null,null,null,null,null,null,null,null,null,null,null,null,{"$f":"IF(ISERROR(IF(C1584=\"corrective\",E1584+KPI!$P$4,IF(C1584=\"Preventative\",E1584+KPI!$P$5,\"\"))),\"\",IF(C1584=\"corrective\",E1584+KPI!$P$4,IF(C1584=\"Preventative\",E1584+KPI!$P$5,\"\")))","v":""},"Please select",null,null,null,null,null,"Please select",null,null,"",null,null,null,null,null,null,null,null,"TBD","","",null,null,0,0,1]
[null,"Please select",null,null,null,null,null,null,null,null,null,null,null,null,{"$f":"IF(ISERROR(IF(C1585=\"corrective\",E1585+KPI!$P$4,IF(C1585=\"Preventative\",E1585+KPI!$P$5,\"\"))),\"\",IF(C1585=\"corrective\",E1585+KPI!$P$4,IF(C1585=\"Preventative\",E1585+KPI!$P$5,\"\")))","v":""},"Please select",null,null,null,null,null,"Please select",null,null,"",null,null,null,null,null,null,null,null,"TBD","","",null,null,0,0,1]
[null,"Please select",null,null,null,null,null,null,null,null,null,null,null,null,{"$f":"IF(ISERROR(IF(C1586=\"corrective\",E1586+KPI!$P$4,IF(C1586=\"Preventative\",E1586+KPI!$P$5,\"\"))),\"\",IF(C1586=\"corrective\",E1586+KPI!$P$4,IF(C1586=\"Preventative\",E1586+KPI!$P$5,\"\")))","v":""},"Please select",null,null,null,null,null,"Please select",null,null,"",null,null,null,null,null,null,null,null,"TBD","","",null,null,0,0,1]
[null,"Please select",null,null,null,null,null,null,null,null,null,null,null,null,{"$f":"IF(ISERROR(IF(C1587=\"corrective\",E1587+KPI!$P$4,IF(C1587=\"Preventative\",E1587+KPI!$P$5,\"\"))),\"\",IF(C1587=\"corrective\",E1587+KPI!$P$4,IF(C1587=\"Preventative\",E1587+KPI!$P$5,\"\")))","v":""},"Please select",null,null,null,null,null,"Please select",null,null,"",null,null,null,null,null,null,null,null,"TBD","","",null,null,0,0,1]
[null,"Please select",null,null,null,null,null,null,null,null,null,null,null,null,{"$f":"IF(ISERROR(IF(C1588=\"corrective\",E1588+KPI!$P$4,IF(C1588=\"Preventative\",E1588+KPI!$P$5,\"\"))),\"\",IF(C1588=\"corrective\",E1588+KPI!$P$4,IF(C1588=\"Preventative\",E1588+KPI!$P$5,\"\")))","v":""},"Please select",null,null,null,null,null,"Please select",null,null,"",null,null,null,null,null,null,null,null,"TBD","","",null,null,0,0,1]
[null,"Please select",null,null,null,null,null,null,null,null,null,null,null,null,{"$f":"IF(ISERROR(IF(C1589=\"corrective\",E1589+KPI!$P$4,IF(C1589=\"Preventative\",E1589+KPI!$P$5,\"\"))),\"\",IF(C1589=\"corrective\",E1589+KPI!$P$4,IF(C1589=\"Preventative\",E1589+KPI!$P$5,\"\")))","v":""},"Please select",null,null,null,null,null,"Please select",null,null,"",null,null,null,null,null,null,null,null,"TBD","","",null,null,0,0,1]
[null,"Please select",null,null,null,null,null,null,null,null,null,null,null,null,{"$f":"IF(ISERROR(IF(C1590=\"corrective\",E1590+KPI!$P$4,IF(C1590=\"Preventative\",E1590+KPI!$P$5,\"\"))),\"\",IF(C1590=\"corrective\",E1590+KPI!$P$4,IF(C1590=\"Preventative\",E1590+KPI!$P$5,\"\")))","v":""},"Please select",null,null,null,null,null,"Please select",null,null,"",null,null,null,null,null,null,null,null,"TBD","","",null,null,0,0,1]
[null,"Please select",null,null,null,null,null,null,null,null,null,null,null,null,{"$f":"IF(ISERROR(IF(C1591=\"corrective\",E1591+KPI!$P$4,IF(C1591=\"Preventative\",E1591+KPI!$P$5,\"\"))),\"\",IF(C1591=\"corrective\",E1591+KPI!$P$4,IF(C1591=\"Preventative\",E1591+KPI!$P$5,\"\")))","v":""},"Please select",null,null,null,null,null,"Please select",null,null,"",null,null,null,null,null,null,null,null,"TBD","","",null,null,0,0,1]
[null,"Please select",null,null,null,null,null,null,null,null,null,null,null,null,{"$f":"IF(ISERROR(IF(C1592=\"corrective\",E1592+KPI!$P$4,IF(C1592=\"Preventative\",E1592+KPI!$P$5,\"\"))),\"\",IF(C1592=\"corrective\",E1592+KPI!$P$4,IF(C1592=\"Preventative\",E1592+KPI!$P$5,\"\")))","v":""},"Please select",null,null,null,null,null,"Please select",null,null,"",null,null,null,null,null,null,null,null,"TBD","","",null,null,0,0,1]
[null,"Please select",null,null,null,null,null,null,null,null,null,null,null,null,{"$f":"IF(ISERROR(IF(C1593=\"corrective\",E1593+KPI!$P$4,IF(C1593=\"Preventative\",E1593+KPI!$P$5,\"\"))),\"\",IF(C1593=\"corrective\",E1593+KPI!$P$4,IF(C1593=\"Preventative\",E1593+KPI!$P$5,\"\")))","v":""},"Please select",null,null,null,null,null,"Please select",null,null,"",null,null,null,null,null,null,null,null,"TBD","","",null,null,0,0,1]
[null,"Please select",null,null,null,null,null,null,null,null,null,null,null,null,{"$f":"IF(ISERROR(IF(C1594=\"corrective\",E1594+KPI!$P$4,IF(C1594=\"Preventative\",E1594+KPI!$P$5,\"\"))),\"\",IF(C1594=\"corrective\",E1594+KPI!$P$4,IF(C1594=\"Preventative\",E1594+KPI!$P$5,\"\")))","v":""},"Please select",null,null,null,null,null,"Please select",null,null,"",null,null,null,null,null,null,null,null,"TBD","","",null,null,0,0,1]
[null,"Please select",null,null,null,null,null,null,null,null,null,null,null,null,{"$f":"IF(ISERROR(IF(C1595=\"corrective\",E1595+KPI!$P$4,IF(C1595=\"Preventative\",E1595+KPI!$P$5,\"\"))),\"\",IF(C1595=\"corrective\",E1595+KPI!$P$4,IF(C1595=\"Preventative\",E1595+KPI!$P$5,\"\")))","v":""},"Please select",null,null,null,null,null,"Please select",null,null,"",null,null,null,null,null,null,null,null,"TBD","","",null,null,0,0,1]
[null,"Please select",null,null,null,null,null,null,null,null,null,null,null,null,{"$f":"IF(ISERROR(IF(C1596=\"corrective\",E1596+KPI!$P$4,IF(C1596=\"Preventative\",E1596+KPI!$P$5,\"\"))),\"\",IF(C1596=\"corrective\",E1596+KPI!$P$4,IF(C1596=\"Preventative\",E1596+KPI!$P$5,\"\")))","v":""},"Please select",null,null,null,null,null,"Please select",null,null,"",null,null,null,null,null,null,null,null,"TBD","","",null,null,0,0,1]
[null,"Please select",null,null,null,null,null,null,null,null,null,null,null,null,{"$f":"IF(ISERROR(IF(C1597=\"corrective\",E1597+KPI!$P$4,IF(C1597=\"Preventative\",E1597+KPI!$P$5,\"\"))),\"\",IF(C1597=\"corrective\",E1597+KPI!$P$4,IF(C1597=\"Preventative\",E1597+KPI!$P$5,\"\")))","v":""},"Please select",null,null,null,null,null,"Please select",null,null,"",null,null,null,null,null,null,null,null,"TBD","","",null,null,0,0,1]
[null,"Please select",null,null,null,null,null,null,null,null,null,null,null,null,{"$f":"IF(ISERROR(IF(C1598=\"corrective\",E1598+KPI!$P$4,IF(C1598=\"Preventative\",E1598+KPI!$P$5,\"\"))),\"\",IF(C1598=\"corrective\",E1598+KPI!$P$4,IF(C1598=\"Preventative\",E1598+KPI!$P$5,\"\")))","v":""},"Please select",null,null,null,null,null,"Please select",null,null,"",null,null,null,null,null,null,null,null,"TBD","","",null,null,0,0,1]
[null,"Please select",null,null,null,null,null,null,null,null,null,null,null,null,{"$f":"IF(ISERROR(IF(C1599=\"corrective\",E1599+KPI!$P$4,IF(C1599=\"Preventative\",E1599+KPI!$P$5,\"\"))),\"\",IF(C1599=\"corrective\",E1599+KPI!$P$4,IF(C1599=\"Preventative\",E1599+KPI!$P$5,\"\")))","v":""},"Please select",null,null,null,null,null,"Please select",null,null,"",null,null,null,null,null,null,null,null,"TBD","","",null,null,0,0,1]
[null,"Please select",null,null,null,null,null,null,null,null,null,null,null,null,{"$f":"IF(ISERROR(IF(C1600=\"corrective\",E1600+KPI!$P$4,IF(C1600=\"Preventative\",E1600+KPI!$P$5,\"\"))),\"\",IF(C1600=\"corrective\",E1600+KPI!$P$4,IF(C1600=\"Preventative\",E1600+KPI!$P$5,\"\")))","v":""},"Please select",null,null,null,null,null,"Please select",null,null,"",null,null,null,null,null,null,null,null,"TBD","","",null,null,0,0,1]
[null,"Please select",null,null,null,null,null,null,null,null,null,null,null,null,{"$f":"IF(ISERROR(IF(C1601=\"corrective\",E1601+KPI!$P$4,IF(C1601=\"Preventative\",E1601+KPI!$P$5,\"\"))),\"\",IF(C1601=\"corrective\",E1601+KPI!$P$4,IF(C1601=\"Preventative\",E1601+KPI!$P$5,\"\")))","v":""},"Please select",null,null,null,null,null,"Please select",null,null,"",null,null,null,null,null,null,null,null,"TBD","","",null,null,0,0,1]
[null,"Please select",null,null,null,null,null,null,null,null,null,null,null,null,{"$f":"IF(ISERROR(IF(C1602=\"corrective\",E1602+KPI!$P$4,IF(C1602=\"Preventative\",E1602+KPI!$P$5,\"\"))),\"\",IF(C1602=\"corrective\",E1602+KPI!$P$4,IF(C1602=\"Preventative\",E1602+KPI!$P$5,\"\")))","v":""},"Please select",null,null,null,null,null,"Please select",null,null,"",null,null,null,null,null,null,null,null,"TBD","","",null,null,{"$f":"IF(ISERROR(DATEDIF(E1602,Q1602,\"D\")),\"\",DATEDIF(E1602,Q1602,\"D\"))","v":0},{"$f":"IF(ISERROR(DATEDIF(Q1602,X1602,\"D\")),\"\",DATEDIF(Q1602,X1602,\"D\"))","v":0},1]
[null,"Please select",null,null,null,null,null,null,null,null,null,null,null,null,{"$f":"IF(ISERROR(IF(C1603=\"corrective\",E1603+KPI!$P$4,IF(C1603=\"Preventative\",E1603+KPI!$P$5,\"\"))),\"\",IF(C1603=\"corrective\",E1603+KPI!$P$4,IF(C1603=\"Preventative\",E1603+KPI!$P$5,\"\")))","v":""},"Please select",null,null,null,null,null,"Please select",null,null,"",null,null,null,null,null,null,null,null,"TBD","","",null,null,0,0,1]
[null,"Please select",null,null,null,null,null,null,null,null,null,null,null,null,{"$f":"IF(ISERROR(IF(C1604=\"corrective\",E1604+KPI!$P$4,IF(C1604=\"Preventative\",E1604+KPI!$P$5,\"\"))),\"\",IF(C1604=\"corrective\",E1604+KPI!$P$4,IF(C1604=\"Preventative\",E1604+KPI!$P$5,\"\")))","v":""},"Please select",null,null,null,null,null,"Please select",null,null,"",null,null,null,null,null,null,null,null,"TBD","","",null,null,0,0,1]
[null,"Please select",null,null,null,null,null,null,null,null,null,null,null,null,{"$f":"IF(ISERROR(IF(C1605=\"corrective\",E1605+KPI!$P$4,IF(C1605=\"Preventative\",E1605+KPI!$P$5,\"\"))),\"\",IF(C1605=\"corrective\",E1605+KPI!$P$4,IF(C1605=\"Preventative\",E1605+KPI!$P$5,\"\")))","v":""},"Please select",null,null,null,null,null,"Please select",null,null,"",null,null,null,null,null,null,null,null,"TBD","","",null,null,0,0,1]
[null,"Please select",null,null,null,null,null,null,null,null,null,null,null,null,{"$f":"IF(ISERROR(IF(C1606=\"corrective\",E1606+KPI!$P$4,IF(C1606=\"Preventative\",E1606+KPI!$P$5,\"\"))),\"\",IF(C1606=\"corrective\",E1606+KPI!$P$4,IF(C1606=\"Preventative\",E1606+KPI!$P$5,\"\")))","v":""},"Please select",null,null,null,null,null,"Please select",null,null,"",null,null,null,null,null,null,null,null,"TBD","","",null,null,0,0,1]
[null,"Please select",null,null,null,null,null,null,null,null,null,null,null,null,{"$f":"IF(ISERROR(IF(C1607=\"corrective\",E1607+KPI!$P$4,IF(C1607=\"Preventative\",E1607+KPI!$P$5,\"\"))),\"\",IF(C1607=\"corrective\",E1607+KPI!$P$4,IF(C1607=\"Preventative\",E1607+KPI!$P$5,\"\")))","v":""},"Please select",null,null,null,null,null,"Please select",null,null,"",null,null,null,null,null,null,null,null,"TBD","","",null,null,0,0,1]
[null,"Please select",null,null,null,null,null,null,null,null,null,null,null,null,{"$f":"IF(ISERROR(IF(C1608=\"corrective\",E1608+KPI!$P$4,IF(C1608=\"Preventative\",E1608+KPI!$P$5,\"\"))),\"\",IF(C1608=\"corrective\",E1608+KPI!$P$4,IF(C1608=\"Preventative\",E1608+KPI!$P$5,\"\")))","v":""},"Please select",null,null,null,null,null,"Please select",null,null,"",null,null,null,null,null,null,null,null,"TBD","","",null,null,0,0,1]
[null,"Please select",null,null,null,null,null,null,null,null,null,null,null,null,{"$f":"IF(ISERROR(IF(C1609=\"corrective\",E1609+KPI!$P$4,IF(C1609=\"Preventative\",E1609+KPI!$P$5,\"\"))),\"\",IF(C1609=\"corrective\",E1609+KPI!$P$4,IF(C1609=\"Preventative\",E1609+KPI!$P$5,\"\")))","v":""},"Please select",null,null,null,null,null,"Please select",null,null,"",null,null,null,null,null,null,null,null,"TBD","","",null,null,0,0,1]
[null,"Please select",null,null,null,null,null,null,null,null,null,null,null,null,{"$f":"IF(ISERROR(IF(C1610=\"corrective\",E1610+KPI!$P$4,IF(C1610=\"Preventative\",E1610+KPI!$P$5,\"\"))),\"\",IF(C1610=\"corrective\",E1610+KPI!$P$4,IF(C1610=\"Preventative\",E1610+KPI!$P$5,\"\")))","v":""},"Please select",null,null,null,null,null,"Please select",null,null,"",null,null,null,null,null,null,null,null,"TBD","","",null,null,0,0,1]
[null,"Please select",null,null,null,null,null,null,null,null,null,null,null,null,{"$f":"IF(ISERROR(IF(C1611=\"corrective\",E1611+KPI!$P$4,IF(C1611=\"Preventative\",E1611+KPI!$P$5,\"\"))),\"\",IF(C1611=\"corrective\",E1611+KPI!$P$4,IF(C1611=\"Preventative\",E1611+KPI!$P$5,\"\")))","v":""},"Please select",null,null,null,null,null,"Please select",null,null,"",null,null,null,null,null,null,null,null,"TBD","","",null,null,0,0,1]
[null,"Please select",null,null,null,null,null,null,null,null,null,null,null,null,{"$f":"IF(ISERROR(IF(C1612=\"corrective\",E1612+KPI!$P$4,IF(C1612=\"Preventative\",E1612+KPI!$P$5,\"\"))),\"\",IF(C1612=\"corrective\",E1612+KPI!$P$4,IF(C1612=\"Preventative\",E1612+KPI!$P$5,\"\")))","v":""},"Please select",null,null,null,null,null,"Please select",null,null,"",null,null,null,null,null,null,null,null,"TBD","","",null,null,0,0,1]
[null,"Please select",null,null,null,null,null,null,null,null,null,null,null,null,{"$f":"IF(ISERROR(IF(C1613=\"corrective\",E1613+KPI!$P$4,IF(C1613=\"Preventative\",E1613+KPI!$P$5,\"\"))),\"\",IF(C1613=\"corrective\",E1613+KPI!$P$4,IF(C1613=\"Preventative\",E1613+KPI!$P$5,\"\")))","v":""},"Please select",null,null,null,null,null,"Please select",null,null,"",null,null,null,null,null,null,null,null,"TBD","","",null,null,0,0,1]
[null,"Please select",null,null,null,null,null,null,null,null,null,null,null,null,{"$f":"IF(ISERROR(IF(C1614=\"corrective\",E1614+KPI!$P$4,IF(C1614=\"Preventative\",E1614+KPI!$P$5,\"\"))),\"\",IF(C1614=\"corrective\",E1614+KPI!$P$4,IF(C1614=\"Preventative\",E1614+KPI!$P$5,\"\")))","v":""},"Please select",null,null,null,null,null,"Please select",null,null,"",null,null,null,null,null,null,null,null,"TBD","","",null,null,0,0,1]
[null,"Please select",null,null,null,null,null,null,null,null,null,null,null,null,{"$f":"IF(ISERROR(IF(C1615=\"corrective\",E1615+KPI!$P$4,IF(C1615=\"Preventative\",E1615+KPI!$P$5,\"\"))),\"\",IF(C1615=\"corrective\",E1615+KPI!$P$4,IF(C1615=\"Preventative\",E1615+KPI!$P$5,\"\")))","v":""},"Please select",null,null,null,null,null,"Please select",null,null,"",null,null,null,null,null,null,null,null,"TBD","","",null,null,0,0,1]
[null,"Please select",null,null,null,null,null,null,null,null,null,null,null,null,{"$f":"IF(ISERROR(IF(C1616=\"corrective\",E1616+KPI!$P$4,IF(C1616=\"Preventative\",E1616+KPI!$P$5,\"\"))),\"\",IF(C1616=\"corrective\",E1616+KPI!$P$4,IF(C1616=\"Preventative\",E1616+KPI!$P$5,\"\")))","v":""},"Please select",null,null,null,null,null,"Please select",null,null,"",null,null,null,null,null,null,null,null,"TBD","","",null,null,0,0,1]
[null,"Please select",null,null,null,null,null,null,null,null,null,null,null,null,{"$f":"IF(ISERROR(IF(C1617=\"corrective\",E1617+KPI!$P$4,IF(C1617=\"Preventative\",E1617+KPI!$P$5,\"\"))),\"\",IF(C1617=\"corrective\",E1617+KPI!$P$4,IF(C1617=\"Preventative\",E1617+KPI!$P$5,\"\")))","v":""},"Please select",null,null,null,null,null,"Please select",null,null,"",null,null,null,null,null,null,null,null,"TBD","","",null,null,0,0,1]
[null,"Please select",null,null,null,null,null,null,null,null,null,null,null,null,{"$f":"IF(ISERROR(IF(C1618=\"corrective\",E1618+KPI!$P$4,IF(C1618=\"Preventative\",E1618+KPI!$P$5,\"\"))),\"\",IF(C1618=\"corrective\",E1618+KPI!$P$4,IF(C1618=\"Preventative\",E1618+KPI!$P$5,\"\")))","v":""},"Please select",null,null,null,null,null,"Please select",null,null,"",null,null,null,null,null,null,null,null,"TBD","","",null,null,0,0,1]
[null,"Please select",null,null,null,null,null,null,null,null,null,null,null,null,{"$f":"IF(ISERROR(IF(C1619=\"corrective\",E1619+KPI!$P$4,IF(C1619=\"Preventative\",E1619+KPI!$P$5,\"\"))),\"\",IF(C1619=\"corrective\",E1619+KPI!$P$4,IF(C1619=\"Preventative\",E1619+KPI!$P$5,\"\")))","v":""},"Please select",null,null,null,null,null,"Please select",null,null,"",null,null,null,null,null,null,null,null,"TBD","","",null,null,0,0,1]
[null,"Please select",null,null,null,null,null,null,null,null,null,null,null,null,{"$f":"IF(ISERROR(IF(C1620=\"corrective\",E1620+KPI!$P$4,IF(C1620=\"Preventative\",E1620+KPI!$P$5,\"\"))),\"\",IF(C1620=\"corrective\",E1620+KPI!$P$4,IF(C1620=\"Preventative\",E1620+KPI!$P$5,\"\")))","v":""},"Please select",null,null,null,null,null,"Please select",null,null,"",null,null,null,null,null,null,null,null,"TBD","","",null,null,0,0,1]
[null,"Please select",null,null,null,null,null,null,null,null,null,null,null,null,{"$f":"IF(ISERROR(IF(C1621=\"corrective\",E1621+KPI!$P$4,IF(C1621=\"Preventative\",E1621+KPI!$P$5,\"\"))),\"\",IF(C1621=\"corrective\",E1621+KPI!$P$4,IF(C1621=\"Preventative\",E1621+KPI!$P$5,\"\")))","v":""},"Please select",null,null,null,null,null,"Please select",null,null,"",null,null,null,null,null,null,null,null,"TBD","","",null,null,0,0,1]
[null,"Please select",null,null,null,null,null,null,null,null,null,null,null,null,{"$f":"IF(ISERROR(IF(C1622=\"corrective\",E1622+KPI!$P$4,IF(C1622=\"Preventative\",E1622+KPI!$P$5,\"\"))),\"\",IF(C1622=\"corrective\",E1622+KPI!$P$4,IF(C1622=\"Preventative\",E1622+KPI!$P$5,\"\")))","v":""},"Please select",null,null,null,null,null,"Please select",null,null,"",null,null,null,null,null,null,null,null,"TBD","","",null,null,0,0,1]
[null,"Please select",null,null,null,null,null,null,null,null,null,null,null,null,{"$f":"IF(ISERROR(IF(C1623=\"corrective\",E1623+KPI!$P$4,IF(C1623=\"Preventative\",E1623+KPI!$P$5,\"\"))),\"\",IF(C1623=\"corrective\",E1623+KPI!$P$4,IF(C1623=\"Preventative\",E1623+KPI!$P$5,\"\")))","v":""},"Please select",null,null,null,null,null,"Please select",null,null,"",null,null,null,null,null,null,null,null,"TBD","","",null,null,0,0,1]
[null,"Please select",null,null,null,null,null,null,null,null,null,null,null,null,{"$f":"IF(ISERROR(IF(C1624=\"corrective\",E1624+KPI!$P$4,IF(C1624=\"Preventative\",E1624+KPI!$P$5,\"\"))),\"\",IF(C1624=\"corrective\",E1624+KPI!$P$4,IF(C1624=\"Preventative\",E1624+KPI!$P$5,\"\")))","v":""},"Please select",null,null,null,null,null,"Please select",null,null,"",null,null,null,null,null,null,null,null,"TBD","","",null,null,0,0,1]
[null,"Please select",null,null,null,null,null,null,null,null,null,null,null,null,{"$f":"IF(ISERROR(IF(C1625=\"corrective\",E1625+KPI!$P$4,IF(C1625=\"Preventative\",E1625+KPI!$P$5,\"\"))),\"\",IF(C1625=\"corrective\",E1625+KPI!$P$4,IF(C1625=\"Preventative\",E1625+KPI!$P$5,\"\")))","v":""},"Please select",null,null,null,null,null,"Please select",null,null,"",null,null,null,null,null,null,null,null,"TBD","","",null,null,0,0,1]
[null,"Please select",null,null,null,null,null,null,null,null,null,null,null,null,{"$f":"IF(ISERROR(IF(C1626=\"corrective\",E1626+KPI!$P$4,IF(C1626=\"Preventative\",E1626+KPI!$P$5,\"\"))),\"\",IF(C1626=\"corrective\",E1626+KPI!$P$4,IF(C1626=\"Preventative\",E1626+KPI!$P$5,\"\")))","v":""},"Please select",null,null,null,null,null,"Please select",null,null,"",null,null,null,null,null,null,null,null,"TBD","","",null,null,0,0,1]
[null,"Please select",null,null,null,null,null,null,null,null,null,null,null,null,{"$f":"IF(ISERROR(IF(C1627=\"corrective\",E1627+KPI!$P$4,IF(C1627=\"Preventative\",E1627+KPI!$P$5,\"\"))),\"\",IF(C1627=\"corrective\",E1627+KPI!$P$4,IF(C1627=\"Preventative\",E1627+KPI!$P$5,\"\")))","v":""},"Please select",null,null,null,null,null,"Please select",null,null,"",null,null,null,null,null,null,null,null,"TBD","","",null,null,0,0,1]
[null,"Please select",null,null,null,null,null,null,null,null,null,null,null,null,{"$f":"IF(ISERROR(IF(C1628=\"corrective\",E1628+KPI!$P$4,IF(C1628=\"Preventative\",E1628+KPI!$P$5,\"\"))),\"\",IF(C1628=\"corrective\",E1628+KPI!$P$4,IF(C1628=\"Preventative\",E1628+KPI!$P$5,\"\")))","v":""},"Please select",null,null,null,null,null,"Please select",null,null,"",null,null,null,null,null,null,null,null,"TBD","","",null,null,0,0,1]
[null,"Please select",null,null,null,null,null,null,null,null,null,null,null,null,{"$f":"IF(ISERROR(IF(C1629=\"corrective\",E1629+KPI!$P$4,IF(C1629=\"Preventative\",E1629+KPI!$P$5,\"\"))),\"\",IF(C1629=\"corrective\",E1629+KPI!$P$4,IF(C1629=\"Preventative\",E1629+KPI!$P$5,\"\")))","v":""},"Please select",null,null,null,null,null,"Please select",null,null,"",null,null,null,null,null,null,null,null,"TBD","","",null,null,0,0,1]
[null,"Please select",null,null,null,null,null,null,null,null,null,null,null,null,{"$f":"IF(ISERROR(IF(C1630=\"corrective\",E1630+KPI!$P$4,IF(C1630=\"Preventative\",E1630+KPI!$P$5,\"\"))),\"\",IF(C1630=\"corrective\",E1630+KPI!$P$4,IF(C1630=\"Preventative\",E1630+KPI!$P$5,\"\")))","v":""},"Please select",null,null,null,null,null,"Please select",null,null,"",null,null,null,null,null,null,null,null,"TBD","","",null,null,0,0,1]
[null,"Please select",null,null,null,null,null,null,null,null,null,null,null,null,{"$f":"IF(ISERROR(IF(C1631=\"corrective\",E1631+KPI!$P$4,IF(C1631=\"Preventative\",E1631+KPI!$P$5,\"\"))),\"\",IF(C1631=\"corrective\",E1631+KPI!$P$4,IF(C1631=\"Preventative\",E1631+KPI!$P$5,\"\")))","v":""},"Please select",null,null,null,null,null,"Please select",null,null,"",null,null,null,null,null,null,null,null,"TBD","","",null,null,0,0,1]
[null,"Please select",null,null,null,null,null,null,null,null,null,null,null,null,{"$f":"IF(ISERROR(IF(C1632=\"corrective\",E1632+KPI!$P$4,IF(C1632=\"Preventative\",E1632+KPI!$P$5,\"\"))),\"\",IF(C1632=\"corrective\",E1632+KPI!$P$4,IF(C1632=\"Preventative\",E1632+KPI!$P$5,\"\")))","v":""},"Please select",null,null,null,null,null,"Please select",null,null,"",null,null,null,null,null,null,null,null,"TBD","","",null,null,0,0,1]
[null,"Please select",null,null,null,null,null,null,null,null,null,null,null,null,{"$f":"IF(ISERROR(IF(C1633=\"corrective\",E1633+KPI!$P$4,IF(C1633=\"Preventative\",E1633+KPI!$P$5,\"\"))),\"\",IF(C1633=\"corrective\",E1633+KPI!$P$4,IF(C1633=\"Preventative\",E1633+KPI!$P$5,\"\")))","v":""},"Please select",null,null,null,null,null,"Please select",null,null,"",null,null,null,null,null,null,null,null,"TBD","","",null,null,0,0,1]
[null,"Please select",null,null,null,null,null,null,null,null,null,null,null,null,{"$f":"IF(ISERROR(IF(C1634=\"corrective\",E1634+KPI!$P$4,IF(C1634=\"Preventative\",E1634+KPI!$P$5,\"\"))),\"\",IF(C1634=\"corrective\",E1634+KPI!$P$4,IF(C1634=\"Preventative\",E1634+KPI!$P$5,\"\")))","v":""},"Please select",null,null,null,null,null,"Please select",null,null,"",null,null,null,null,null,null,null,null,"TBD","","",null,null,0,0,1]
[null,"Please select",null,null,null,null,null,null,null,null,null,null,null,null,{"$f":"IF(ISERROR(IF(C1635=\"corrective\",E1635+KPI!$P$4,IF(C1635=\"Preventative\",E1635+KPI!$P$5,\"\"))),\"\",IF(C1635=\"corrective\",E1635+KPI!$P$4,IF(C1635=\"Preventative\",E1635+KPI!$P$5,\"\")))","v":""},"Please select",null,null,null,null,null,"Please select",null,null,"",null,null,null,null,null,null,null,null,"TBD","","",null,null,0,0,1]
[null,"Please select",null,null,null,null,null,null,null,null,null,null,null,null,{"$f":"IF(ISERROR(IF(C1636=\"corrective\",E1636+KPI!$P$4,IF(C1636=\"Preventative\",E1636+KPI!$P$5,\"\"))),\"\",IF(C1636=\"corrective\",E1636+KPI!$P$4,IF(C1636=\"Preventative\",E1636+KPI!$P$5,\"\")))","v":""},"Please select",null,null,null,null,null,"Please select",null,null,"",null,null,null,null,null,null,null,null,"TBD","","",null,null,0,0,1]
[null,"Please select",null,null,null,null,null,null,null,null,null,null,null,null,{"$f":"IF(ISERROR(IF(C1637=\"corrective\",E1637+KPI!$P$4,IF(C1637=\"Preventative\",E1637+KPI!$P$5,\"\"))),\"\",IF(C1637=\"corrective\",E1637+KPI!$P$4,IF(C1637=\"Preventative\",E1637+KPI!$P$5,\"\")))","v":""},"Please select",null,null,null,null,null,"Please select",null,null,"",null,null,null,null,null,null,null,null,"TBD","","",null,null,0,0,1]
[null,"Please select",null,null,null,null,null,null,null,null,null,null,null,null,{"$f":"IF(ISERROR(IF(C1638=\"corrective\",E1638+KPI!$P$4,IF(C1638=\"Preventative\",E1638+KPI!$P$5,\"\"))),\"\",IF(C1638=\"corrective\",E1638+KPI!$P$4,IF(C1638=\"Preventative\",E1638+KPI!$P$5,\"\")))","v":""},"Please select",null,null,null,null,null,"Please select",null,null,"",null,null,null,null,null,null,null,null,"TBD","","",null,null,0,0,1]
[null,"Please select",null,null,null,null,null,null,null,null,null,null,null,null,{"$f":"IF(ISERROR(IF(C1639=\"corrective\",E1639+KPI!$P$4,IF(C1639=\"Preventative\",E1639+KPI!$P$5,\"\"))),\"\",IF(C1639=\"corrective\",E1639+KPI!$P$4,IF(C1639=\"Preventative\",E1639+KPI!$P$5,\"\")))","v":""},"Please select",null,null,null,null,null,"Please select",null,null,"",null,null,null,null,null,null,null,null,"TBD","","",null,null,0,0,1]
[null,"Please select",null,null,null,null,null,null,null,null,null,null,null,null,{"$f":"IF(ISERROR(IF(C1640=\"corrective\",E1640+KPI!$P$4,IF(C1640=\"Preventative\",E1640+KPI!$P$5,\"\"))),\"\",IF(C1640=\"corrective\",E1640+KPI!$P$4,IF(C1640=\"Preventative\",E1640+KPI!$P$5,\"\")))","v":""},"Please select",null,null,null,null,null,"Please select",null,null,"",null,null,null,null,null,null,null,null,"TBD","","",null,null,0,0,1]
[null,"Please select",null,null,null,null,null,null,null,null,null,null,null,null,{"$f":"IF(ISERROR(IF(C1641=\"corrective\",E1641+KPI!$P$4,IF(C1641=\"Preventative\",E1641+KPI!$P$5,\"\"))),\"\",IF(C1641=\"corrective\",E1641+KPI!$P$4,IF(C1641=\"Preventative\",E1641+KPI!$P$5,\"\")))","v":""},"Please select",null,null,null,null,null,"Please select",null,null,"",null,null,null,null,null,null,null,null,"TBD","","",null,null,0,0,1]
[null,"Please select",null,null,null,null,null,null,null,null,null,null,null,null,{"$f":"IF(ISERROR(IF(C1642=\"corrective\",E1642+KPI!$P$4,IF(C1642=\"Preventative\",E1642+KPI!$P$5,\"\"))),\"\",IF(C1642=\"corrective\",E1642+KPI!$P$4,IF(C1642=\"Preventative\",E1642+KPI!$P$5,\"\")))","v":""},"Please select",null,null,null,null,null,"Please select",null,null,"",null,null,null,null,null,null,null,null,"TBD","","",null,null,0,0,1]
[null,"Please select",null,null,null,null,null,null,null,null,null,null,null,null,{"$f":"IF(ISERROR(IF(C1643=\"corrective\",E1643+KPI!$P$4,IF(C1643=\"Preventative\",E1643+KPI!$P$5,\"\"))),\"\",IF(C1643=\"corrective\",E1643+KPI!$P$4,IF(C1643=\"Preventative\",E1643+KPI!$P$5,\"\")))","v":""},"Please select",null,null,null,null,null,"Please select",null,null,"",null,null,null,null,null,null,null,null,"TBD","","",null,null,0,0,1]
[null,"Please select",null,null,null,null,null,null,null,null,null,null,null,null,{"$f":"IF(ISERROR(IF(C1644=\"corrective\",E1644+KPI!$P$4,IF(C1644=\"Preventative\",E1644+KPI!$P$5,\"\"))),\"\",IF(C1644=\"corrective\",E1644+KPI!$P$4,IF(C1644=\"Preventative\",E1644+KPI!$P$5,\"\")))","v":""},"Please select",null,null,null,null,null,"Please select",null,null,"",null,null,null,null,null,null,null,null,"TBD","","",null,null,0,0,1]
[null,"Please select",null,null,null,null,null,null,null,null,null,null,null,null,{"$f":"IF(ISERROR(IF(C1645=\"corrective\",E1645+KPI!$P$4,IF(C1645=\"Preventative\",E1645+KPI!$P$5,\"\"))),\"\",IF(C1645=\"corrective\",E1645+KPI!$P$4,IF(C1645=\"Preventative\",E1645+KPI!$P$5,\"\")))","v":""},"Please select",null,null,null,null,null,"Please select",null,null,"",null,null,null,null,null,null,null,null,"TBD","","",null,null,0,0,1]
[null,"Please select",null,null,null,null,null,null,null,null,null,null,null,null,{"$f":"IF(ISERROR(IF(C1646=\"corrective\",E1646+KPI!$P$4,IF(C1646=\"Preventative\",E1646+KPI!$P$5,\"\"))),\"\",IF(C1646=\"corrective\",E1646+KPI!$P$4,IF(C1646=\"Preventative\",E1646+KPI!$P$5,\"\")))","v":""},"Please select",null,null,null,null,null,"Please select",null,null,"",null,null,null,null,null,null,null,null,"TBD","","",null,null,0,0,1]
[null,"Please select",null,null,null,null,null,null,null,null,null,null,null,null,{"$f":"IF(ISERROR(IF(C1647=\"corrective\",E1647+KPI!$P$4,IF(C1647=\"Preventative\",E1647+KPI!$P$5,\"\"))),\"\",IF(C1647=\"corrective\",E1647+KPI!$P$4,IF(C1647=\"Preventative\",E1647+KPI!$P$5,\"\")))","v":""},{"$f":"IF(AND(O1647<TODAY(),B1647=\"new\"),\"New - Overdue\",B1647)","v":"Please select"},null,null,null,null,null,"Please select",null,null,{"$f":"Z1647&AA1647&AB1647&AC1647&AD1647&AE1647","v":""},null,null,null,null,null,null,null,null,"TBD",{"$f":"IF(ISERROR(AJ1647-20),\"\",AJ1647-20)","v":""},{"$f":"IF(ISERROR(IF(C1647=\"corrective\",E1647+AH1647,\"\")),\"\",IF(C1647=\"corrective\",E1647+AH1647,\"\"))","v":""},null,null,0,0,{"$f":"COUNTIF(AN1647,\">400\")+COUNTIF(AN1647,\"=0\")","v":1}]
[null,"Please select",null,null,null,null,null,null,null,null,null,null,null,null,{"$f":"IF(ISERROR(IF(C1648=\"corrective\",E1648+KPI!$P$4,IF(C1648=\"Preventative\",E1648+KPI!$P$5,\"\"))),\"\",IF(C1648=\"corrective\",E1648+KPI!$P$4,IF(C1648=\"Preventative\",E1648+KPI!$P$5,\"\")))","v":""},"Please select",null,null,null,null,null,"Please select",null,null,"",null,null,null,null,null,null,null,null,"TBD","","",null,null,0,0,1]
[null,"Please select",null,null,null,null,null,null,null,null,null,null,null,null,{"$f":"IF(ISERROR(IF(C1649=\"corrective\",E1649+KPI!$P$4,IF(C1649=\"Preventative\",E1649+KPI!$P$5,\"\"))),\"\",IF(C1649=\"corrective\",E1649+KPI!$P$4,IF(C1649=\"Preventative\",E1649+KPI!$P$5,\"\")))","v":""},"Please select",null,null,null,null,null,"Please select",null,null,"",null,null,null,null,null,null,null,null,"TBD","","",null,null,0,0,1]
[null,"Please select",null,null,null,null,null,null,null,null,null,null,null,null,{"$f":"IF(ISERROR(IF(C1650=\"corrective\",E1650+KPI!$P$4,IF(C1650=\"Preventative\",E1650+KPI!$P$5,\"\"))),\"\",IF(C1650=\"corrective\",E1650+KPI!$P$4,IF(C1650=\"Preventative\",E1650+KPI!$P$5,\"\")))","v":""},"Please select",null,null,null,null,null,"Please select",null,null,"",null,null,null,null,null,null,null,null,"TBD","","",null,null,0,0,1]
[null,"Please select",null,null,null,null,null,null,null,null,null,null,null,null,{"$f":"IF(ISERROR(IF(C1651=\"corrective\",E1651+KPI!$P$4,IF(C1651=\"Preventative\",E1651+KPI!$P$5,\"\"))),\"\",IF(C1651=\"corrective\",E1651+KPI!$P$4,IF(C1651=\"Preventative\",E1651+KPI!$P$5,\"\")))","v":""},"Please select",null,null,null,null,null,"Please select",null,null,"",null,null,null,null,null,null,null,null,"TBD","","",null,null,0,0,1]
[null,"Please select",null,null,null,null,null,null,null,null,null,null,null,null,{"$f":"IF(ISERROR(IF(C1652=\"corrective\",E1652+KPI!$P$4,IF(C1652=\"Preventative\",E1652+KPI!$P$5,\"\"))),\"\",IF(C1652=\"corrective\",E1652+KPI!$P$4,IF(C1652=\"Preventative\",E1652+KPI!$P$5,\"\")))","v":""},"Please select",null,null,null,null,null,"Please select",null,null,"",null,null,null,null,null,null,null,null,"TBD","","",null,null,0,0,1]
[null,"Please select",null,null,null,null,null,null,null,null,null,null,null,null,{"$f":"IF(ISERROR(IF(C1653=\"corrective\",E1653+KPI!$P$4,IF(C1653=\"Preventative\",E1653+KPI!$P$5,\"\"))),\"\",IF(C1653=\"corrective\",E1653+KPI!$P$4,IF(C1653=\"Preventative\",E1653+KPI!$P$5,\"\")))","v":""},"Please select",null,null,null,null,null,"Please select",null,null,"",null,null,null,null,null,null,null,null,"TBD","","",null,null,0,0,1]
[null,"Please select",null,null,null,null,null,null,null,null,null,null,null,null,{"$f":"IF(ISERROR(IF(C1654=\"corrective\",E1654+KPI!$P$4,IF(C1654=\"Preventative\",E1654+KPI!$P$5,\"\"))),\"\",IF(C1654=\"corrective\",E1654+KPI!$P$4,IF(C1654=\"Preventative\",E1654+KPI!$P$5,\"\")))","v":""},"Please select",null,null,null,null,null,"Please select",null,null,"",null,null,null,null,null,null,null,null,"TBD","","",null,null,0,0,1]
[null,"Please select",null,null,null,null,null,null,null,null,null,null,null,null,{"$f":"IF(ISERROR(IF(C1655=\"corrective\",E1655+KPI!$P$4,IF(C1655=\"Preventative\",E1655+KPI!$P$5,\"\"))),\"\",IF(C1655=\"corrective\",E1655+KPI!$P$4,IF(C1655=\"Preventative\",E1655+KPI!$P$5,\"\")))","v":""},"Please select",null,null,null,null,null,"Please select",null,null,"",null,null,null,null,null,null,null,null,"TBD","","",null,null,0,0,1]
[null,"Please select",null,null,null,null,null,null,null,null,null,null,null,null,{"$f":"IF(ISERROR(IF(C1656=\"corrective\",E1656+KPI!$P$4,IF(C1656=\"Preventative\",E1656+KPI!$P$5,\"\"))),\"\",IF(C1656=\"corrective\",E1656+KPI!$P$4,IF(C1656=\"Preventative\",E1656+KPI!$P$5,\"\")))","v":""},"Please select",null,null,null,null,null,"Please select",null,null,"",null,null,null,null,null,null,null,null,"TBD","","",null,null,0,0,1]
[null,"Please select",null,null,null,null,null,null,null,null,null,null,null,null,{"$f":"IF(ISERROR(IF(C1657=\"corrective\",E1657+KPI!$P$4,IF(C1657=\"Preventative\",E1657+KPI!$P$5,\"\"))),\"\",IF(C1657=\"corrective\",E1657+KPI!$P$4,IF(C1657=\"Preventative\",E1657+KPI!$P$5,\"\")))","v":""},"Please select",null,null,null,null,null,"Please select",null,null,"",null,null,null,null,null,null,null,null,"TBD","","",null,null,0,0,1]
[null,"Please select",null,null,null,null,null,null,null,null,null,null,null,null,{"$f":"IF(ISERROR(IF(C1658=\"corrective\",E1658+KPI!$P$4,IF(C1658=\"Preventative\",E1658+KPI!$P$5,\"\"))),\"\",IF(C1658=\"corrective\",E1658+KPI!$P$4,IF(C1658=\"Preventative\",E1658+KPI!$P$5,\"\")))","v":""},"Please select",null,null,null,null,null,"Please select",null,null,"",null,null,null,null,null,null,null,null,"TBD","","",null,null,0,0,1]
[null,"Please select",null,null,null,null,null,null,null,null,null,null,null,null,{"$f":"IF(ISERROR(IF(C1659=\"corrective\",E1659+KPI!$P$4,IF(C1659=\"Preventative\",E1659+KPI!$P$5,\"\"))),\"\",IF(C1659=\"corrective\",E1659+KPI!$P$4,IF(C1659=\"Preventative\",E1659+KPI!$P$5,\"\")))","v":""},"Please select",null,null,null,null,null,"Please select",null,null,"",null,null,null,null,null,null,null,null,"TBD","","",null,null,0,0,1]
[null,"Please select",null,null,null,null,null,null,null,null,null,null,null,null,{"$f":"IF(ISERROR(IF(C1660=\"corrective\",E1660+KPI!$P$4,IF(C1660=\"Preventative\",E1660+KPI!$P$5,\"\"))),\"\",IF(C1660=\"corrective\",E1660+KPI!$P$4,IF(C1660=\"Preventative\",E1660+KPI!$P$5,\"\")))","v":""},"Please select",null,null,null,null,null,"Please select",null,null,"",null,null,null,null,null,null,null,null,"TBD","","",null,null,0,0,1]
[null,"Please select",null,null,null,null,null,null,null,null,null,null,null,null,{"$f":"IF(ISERROR(IF(C1661=\"corrective\",E1661+KPI!$P$4,IF(C1661=\"Preventative\",E1661+KPI!$P$5,\"\"))),\"\",IF(C1661=\"corrective\",E1661+KPI!$P$4,IF(C1661=\"Preventative\",E1661+KPI!$P$5,\"\")))","v":""},"Please select",null,null,null,null,null,"Please select",null,null,"",null,null,null,null,null,null,null,null,"TBD","","",null,null,0,0,1]
[null,"Please select",null,null,null,null,null,null,null,null,null,null,null,null,{"$f":"IF(ISERROR(IF(C1662=\"corrective\",E1662+KPI!$P$4,IF(C1662=\"Preventative\",E1662+KPI!$P$5,\"\"))),\"\",IF(C1662=\"corrective\",E1662+KPI!$P$4,IF(C1662=\"Preventative\",E1662+KPI!$P$5,\"\")))","v":""},"Please select",null,null,null,null,null,"Please select",null,null,"",null,null,null,null,null,null,null,null,"TBD","","",null,null,0,0,1]
[null,"Please select",null,null,null,null,null,null,null,null,null,null,null,null,{"$f":"IF(ISERROR(IF(C1663=\"corrective\",E1663+KPI!$P$4,IF(C1663=\"Preventative\",E1663+KPI!$P$5,\"\"))),\"\",IF(C1663=\"corrective\",E1663+KPI!$P$4,IF(C1663=\"Preventative\",E1663+KPI!$P$5,\"\")))","v":""},"Please select",null,null,null,null,null,"Please select",null,null,"",null,null,null,null,null,null,null,null,"TBD","","",null,null,0,0,1]
[null,"Please select",null,null,null,null,null,null,null,null,null,null,null,null,{"$f":"IF(ISERROR(IF(C1664=\"corrective\",E1664+KPI!$P$4,IF(C1664=\"Preventative\",E1664+KPI!$P$5,\"\"))),\"\",IF(C1664=\"corrective\",E1664+KPI!$P$4,IF(C1664=\"Preventative\",E1664+KPI!$P$5,\"\")))","v":""},"Please select",null,null,null,null,null,"Please select",null,null,"",null,null,null,null,null,null,null,null,"TBD","","",null,null,0,0,1]
[null,"Please select",null,null,null,null,null,null,null,null,null,null,null,null,{"$f":"IF(ISERROR(IF(C1665=\"corrective\",E1665+KPI!$P$4,IF(C1665=\"Preventative\",E1665+KPI!$P$5,\"\"))),\"\",IF(C1665=\"corrective\",E1665+KPI!$P$4,IF(C1665=\"Preventative\",E1665+KPI!$P$5,\"\")))","v":""},"Please select",null,null,null,null,null,"Please select",null,null,"",null,null,null,null,null,null,null,null,"TBD","","",null,null,0,0,1]
[null,"Please select",null,null,null,null,null,null,null,null,null,null,null,null,{"$f":"IF(ISERROR(IF(C1666=\"corrective\",E1666+KPI!$P$4,IF(C1666=\"Preventative\",E1666+KPI!$P$5,\"\"))),\"\",IF(C1666=\"corrective\",E1666+KPI!$P$4,IF(C1666=\"Preventative\",E1666+KPI!$P$5,\"\")))","v":""},"Please select",null,null,null,null,null,"Please select",null,null,"",null,null,null,null,null,null,null,null,"TBD","","",null,null,{"$f":"IF(ISERROR(DATEDIF(E1666,Q1666,\"D\")),\"\",DATEDIF(E1666,Q1666,\"D\"))","v":0},{"$f":"IF(ISERROR(DATEDIF(Q1666,X1666,\"D\")),\"\",DATEDIF(Q1666,X1666,\"D\"))","v":0},1]
[null,"Please select",null,null,null,null,null,null,null,null,null,null,null,null,{"$f":"IF(ISERROR(IF(C1667=\"corrective\",E1667+KPI!$P$4,IF(C1667=\"Preventative\",E1667+KPI!$P$5,\"\"))),\"\",IF(C1667=\"corrective\",E1667+KPI!$P$4,IF(C1667=\"Preventative\",E1667+KPI!$P$5,\"\")))","v":""},"Please select",null,null,null,null,null,"Please select",null,null,"",null,null,null,null,null,null,null,null,"TBD","","",null,null,0,0,1]
[null,"Please select",null,null,null,null,null,null,null,null,null,null,null,null,{"$f":"IF(ISERROR(IF(C1668=\"corrective\",E1668+KPI!$P$4,IF(C1668=\"Preventative\",E1668+KPI!$P$5,\"\"))),\"\",IF(C1668=\"corrective\",E1668+KPI!$P$4,IF(C1668=\"Preventative\",E1668+KPI!$P$5,\"\")))","v":""},"Please select",null,null,null,null,null,"Please select",null,null,"",null,null,null,null,null,null,null,null,"TBD","","",null,null,0,0,1]
[null,"Please select",null,null,null,null,null,null,null,null,null,null,null,null,{"$f":"IF(ISERROR(IF(C1669=\"corrective\",E1669+KPI!$P$4,IF(C1669=\"Preventative\",E1669+KPI!$P$5,\"\"))),\"\",IF(C1669=\"corrective\",E1669+KPI!$P$4,IF(C1669=\"Preventative\",E1669+KPI!$P$5,\"\")))","v":""},"Please select",null,null,null,null,null,"Please select",null,null,"",null,null,null,null,null,null,null,null,"TBD","","",null,null,0,0,1]
[null,"Please select",null,null,null,null,null,null,null,null,null,null,null,null,{"$f":"IF(ISERROR(IF(C1670=\"corrective\",E1670+KPI!$P$4,IF(C1670=\"Preventative\",E1670+KPI!$P$5,\"\"))),\"\",IF(C1670=\"corrective\",E1670+KPI!$P$4,IF(C1670=\"Preventative\",E1670+KPI!$P$5,\"\")))","v":""},"Please select",null,null,null,null,null,"Please select",null,null,"",null,null,null,null,null,null,null,null,"TBD","","",null,null,0,0,1]
[null,"Please select",null,null,null,null,null,null,null,null,null,null,null,null,{"$f":"IF(ISERROR(IF(C1671=\"corrective\",E1671+KPI!$P$4,IF(C1671=\"Preventative\",E1671+KPI!$P$5,\"\"))),\"\",IF(C1671=\"corrective\",E1671+KPI!$P$4,IF(C1671=\"Preventative\",E1671+KPI!$P$5,\"\")))","v":""},"Please select",null,null,null,null,null,"Please select",null,null,"",null,null,null,null,null,null,null,null,"TBD","","",null,null,0,0,1]
[null,"Please select",null,null,null,null,null,null,null,null,null,null,null,null,{"$f":"IF(ISERROR(IF(C1672=\"corrective\",E1672+KPI!$P$4,IF(C1672=\"Preventative\",E1672+KPI!$P$5,\"\"))),\"\",IF(C1672=\"corrective\",E1672+KPI!$P$4,IF(C1672=\"Preventative\",E1672+KPI!$P$5,\"\")))","v":""},"Please select",null,null,null,null,null,"Please select",null,null,"",null,null,null,null,null,null,null,null,"TBD","","",null,null,0,0,1]
[null,"Please select",null,null,null,null,null,null,null,null,null,null,null,null,{"$f":"IF(ISERROR(IF(C1673=\"corrective\",E1673+KPI!$P$4,IF(C1673=\"Preventative\",E1673+KPI!$P$5,\"\"))),\"\",IF(C1673=\"corrective\",E1673+KPI!$P$4,IF(C1673=\"Preventative\",E1673+KPI!$P$5,\"\")))","v":""},"Please select",null,null,null,null,null,"Please select",null,null,"",null,null,null,null,null,null,null,null,"TBD","","",null,null,0,0,1]
[null,"Please select",null,null,null,null,null,null,null,null,null,null,null,null,{"$f":"IF(ISERROR(IF(C1674=\"corrective\",E1674+KPI!$P$4,IF(C1674=\"Preventative\",E1674+KPI!$P$5,\"\"))),\"\",IF(C1674=\"corrective\",E1674+KPI!$P$4,IF(C1674=\"Preventative\",E1674+KPI!$P$5,\"\")))","v":""},"Please select",null,null,null,null,null,"Please select",null,null,"",null,null,null,null,null,null,null,null,"TBD","","",null,null,0,0,1]
[null,"Please select",null,null,null,null,null,null,null,null,null,null,null,null,{"$f":"IF(ISERROR(IF(C1675=\"corrective\",E1675+KPI!$P$4,IF(C1675=\"Preventative\",E1675+KPI!$P$5,\"\"))),\"\",IF(C1675=\"corrective\",E1675+KPI!$P$4,IF(C1675=\"Preventative\",E1675+KPI!$P$5,\"\")))","v":""},"Please select",null,null,null,null,null,"Please select",null,null,"",null,null,null,null,null,null,null,null,"TBD","","",null,null,0,0,1]
[null,"Please select",null,null,null,null,null,null,null,null,null,null,null,null,{"$f":"IF(ISERROR(IF(C1676=\"corrective\",E1676+KPI!$P$4,IF(C1676=\"Preventative\",E1676+KPI!$P$5,\"\"))),\"\",IF(C1676=\"corrective\",E1676+KPI!$P$4,IF(C1676=\"Preventative\",E1676+KPI!$P$5,\"\")))","v":""},"Please select",null,null,null,null,null,"Please select",null,null,"",null,null,null,null,null,null,null,null,"TBD","","",null,null,0,0,1]
[null,"Please select",null,null,null,null,null,null,null,null,null,null,null,null,{"$f":"IF(ISERROR(IF(C1677=\"corrective\",E1677+KPI!$P$4,IF(C1677=\"Preventative\",E1677+KPI!$P$5,\"\"))),\"\",IF(C1677=\"corrective\",E1677+KPI!$P$4,IF(C1677=\"Preventative\",E1677+KPI!$P$5,\"\")))","v":""},"Please select",null,null,null,null,null,"Please select",null,null,"",null,null,null,null,null,null,null,null,"TBD","","",null,null,0,0,1]
[null,"Please select",null,null,null,null,null,null,null,null,null,null,null,null,{"$f":"IF(ISERROR(IF(C1678=\"corrective\",E1678+KPI!$P$4,IF(C1678=\"Preventative\",E1678+KPI!$P$5,\"\"))),\"\",IF(C1678=\"corrective\",E1678+KPI!$P$4,IF(C1678=\"Preventative\",E1678+KPI!$P$5,\"\")))","v":""},"Please select",null,null,null,null,null,"Please select",null,null,"",null,null,null,null,null,null,null,null,"TBD","","",null,null,0,0,1]
[null,"Please select",null,null,null,null,null,null,null,null,null,null,null,null,{"$f":"IF(ISERROR(IF(C1679=\"corrective\",E1679+KPI!$P$4,IF(C1679=\"Preventative\",E1679+KPI!$P$5,\"\"))),\"\",IF(C1679=\"corrective\",E1679+KPI!$P$4,IF(C1679=\"Preventative\",E1679+KPI!$P$5,\"\")))","v":""},"Please select",null,null,null,null,null,"Please select",null,null,"",null,null,null,null,null,null,null,null,"TBD","","",null,null,0,0,1]
[null,"Please select",null,null,null,null,null,null,null,null,null,null,null,null,{"$f":"IF(ISERROR(IF(C1680=\"corrective\",E1680+KPI!$P$4,IF(C1680=\"Preventative\",E1680+KPI!$P$5,\"\"))),\"\",IF(C1680=\"corrective\",E1680+KPI!$P$4,IF(C1680=\"Preventative\",E1680+KPI!$P$5,\"\")))","v":""},"Please select",null,null,null,null,null,"Please select",null,null,"",null,null,null,null,null,null,null,null,"TBD","","",null,null,0,0,1]
[null,"Please select",null,null,null,null,null,null,null,null,null,null,null,null,{"$f":"IF(ISERROR(IF(C1681=\"corrective\",E1681+KPI!$P$4,IF(C1681=\"Preventative\",E1681+KPI!$P$5,\"\"))),\"\",IF(C1681=\"corrective\",E1681+KPI!$P$4,IF(C1681=\"Preventative\",E1681+KPI!$P$5,\"\")))","v":""},"Please select",null,null,null,null,null,"Please select",null,null,"",null,null,null,null,null,null,null,null,"TBD","","",null,null,0,0,1]
[null,"Please select",null,null,null,null,null,null,null,null,null,null,null,null,{"$f":"IF(ISERROR(IF(C1682=\"corrective\",E1682+KPI!$P$4,IF(C1682=\"Preventative\",E1682+KPI!$P$5,\"\"))),\"\",IF(C1682=\"corrective\",E1682+KPI!$P$4,IF(C1682=\"Preventative\",E1682+KPI!$P$5,\"\")))","v":""},"Please select",null,null,null,null,null,"Please select",null,null,"",null,null,null,null,null,null,null,null,"TBD","","",null,null,0,0,1]
[null,"Please select",null,null,null,null,null,null,null,null,null,null,null,null,{"$f":"IF(ISERROR(IF(C1683=\"corrective\",E1683+KPI!$P$4,IF(C1683=\"Preventative\",E1683+KPI!$P$5,\"\"))),\"\",IF(C1683=\"corrective\",E1683+KPI!$P$4,IF(C1683=\"Preventative\",E1683+KPI!$P$5,\"\")))","v":""},"Please select",null,null,null,null,null,"Please select",null,null,"",null,null,null,null,null,null,null,null,"TBD","","",null,null,0,0,1]
[null,"Please select",null,null,null,null,null,null,null,null,null,null,null,null,{"$f":"IF(ISERROR(IF(C1684=\"corrective\",E1684+KPI!$P$4,IF(C1684=\"Preventative\",E1684+KPI!$P$5,\"\"))),\"\",IF(C1684=\"corrective\",E1684+KPI!$P$4,IF(C1684=\"Preventative\",E1684+KPI!$P$5,\"\")))","v":""},"Please select",null,null,null,null,null,"Please select",null,null,"",null,null,null,null,null,null,null,null,"TBD","","",null,null,0,0,1]
[null,"Please select",null,null,null,null,null,null,null,null,null,null,null,null,{"$f":"IF(ISERROR(IF(C1685=\"corrective\",E1685+KPI!$P$4,IF(C1685=\"Preventative\",E1685+KPI!$P$5,\"\"))),\"\",IF(C1685=\"corrective\",E1685+KPI!$P$4,IF(C1685=\"Preventative\",E1685+KPI!$P$5,\"\")))","v":""},"Please select",null,null,null,null,null,"Please select",null,null,"",null,null,null,null,null,null,null,null,"TBD","","",null,null,0,0,1]
[null,"Please select",null,null,null,null,null,null,null,null,null,null,null,null,{"$f":"IF(ISERROR(IF(C1686=\"corrective\",E1686+KPI!$P$4,IF(C1686=\"Preventative\",E1686+KPI!$P$5,\"\"))),\"\",IF(C1686=\"corrective\",E1686+KPI!$P$4,IF(C1686=\"Preventative\",E1686+KPI!$P$5,\"\")))","v":""},"Please select",null,null,null,null,null,"Please select",null,null,"",null,null,null,null,null,null,null,null,"TBD","","",null,null,0,0,1]
[null,"Please select",null,null,null,null,null,null,null,null,null,null,null,null,{"$f":"IF(ISERROR(IF(C1687=\"corrective\",E1687+KPI!$P$4,IF(C1687=\"Preventative\",E1687+KPI!$P$5,\"\"))),\"\",IF(C1687=\"corrective\",E1687+KPI!$P$4,IF(C1687=\"Preventative\",E1687+KPI!$P$5,\"\")))","v":""},"Please select",null,null,null,null,null,"Please select",null,null,"",null,null,null,null,null,null,null,null,"TBD","","",null,null,0,0,1]
[null,"Please select",null,null,null,null,null,null,null,null,null,null,null,null,{"$f":"IF(ISERROR(IF(C1688=\"corrective\",E1688+KPI!$P$4,IF(C1688=\"Preventative\",E1688+KPI!$P$5,\"\"))),\"\",IF(C1688=\"corrective\",E1688+KPI!$P$4,IF(C1688=\"Preventative\",E1688+KPI!$P$5,\"\")))","v":""},"Please select",null,null,null,null,null,"Please select",null,null,"",null,null,null,null,null,null,null,null,"TBD","","",null,null,0,0,1]
[null,"Please select",null,null,null,null,null,null,null,null,null,null,null,null,{"$f":"IF(ISERROR(IF(C1689=\"corrective\",E1689+KPI!$P$4,IF(C1689=\"Preventative\",E1689+KPI!$P$5,\"\"))),\"\",IF(C1689=\"corrective\",E1689+KPI!$P$4,IF(C1689=\"Preventative\",E1689+KPI!$P$5,\"\")))","v":""},"Please select",null,null,null,null,null,"Please select",null,null,"",null,null,null,null,null,null,null,null,"TBD","","",null,null,0,0,1]
[null,"Please select",null,null,null,null,null,null,null,null,null,null,null,null,{"$f":"IF(ISERROR(IF(C1690=\"corrective\",E1690+KPI!$P$4,IF(C1690=\"Preventative\",E1690+KPI!$P$5,\"\"))),\"\",IF(C1690=\"corrective\",E1690+KPI!$P$4,IF(C1690=\"Preventative\",E1690+KPI!$P$5,\"\")))","v":""},"Please select",null,null,null,null,null,"Please select",null,null,"",null,null,null,null,null,null,null,null,"TBD","","",null,null,0,0,1]
[null,"Please select",null,null,null,null,null,null,null,null,null,null,null,null,{"$f":"IF(ISERROR(IF(C1691=\"corrective\",E1691+KPI!$P$4,IF(C1691=\"Preventative\",E1691+KPI!$P$5,\"\"))),\"\",IF(C1691=\"corrective\",E1691+KPI!$P$4,IF(C1691=\"Preventative\",E1691+KPI!$P$5,\"\")))","v":""},"Please select",null,null,null,null,null,"Please select",null,null,"",null,null,null,null,null,null,null,null,"TBD","","",null,null,0,0,1]
[null,"Please select",null,null,null,null,null,null,null,null,null,null,null,null,{"$f":"IF(ISERROR(IF(C1692=\"corrective\",E1692+KPI!$P$4,IF(C1692=\"Preventative\",E1692+KPI!$P$5,\"\"))),\"\",IF(C1692=\"corrective\",E1692+KPI!$P$4,IF(C1692=\"Preventative\",E1692+KPI!$P$5,\"\")))","v":""},"Please select",null,null,null,null,null,"Please select",null,null,"",null,null,null,null,null,null,null,null,"TBD","","",null,null,0,0,1]
[null,"Please select",null,null,null,null,null,null,null,null,null,null,null,null,{"$f":"IF(ISERROR(IF(C1693=\"corrective\",E1693+KPI!$P$4,IF(C1693=\"Preventative\",E1693+KPI!$P$5,\"\"))),\"\",IF(C1693=\"corrective\",E1693+KPI!$P$4,IF(C1693=\"Preventative\",E1693+KPI!$P$5,\"\")))","v":""},"Please select",null,null,null,null,null,"Please select",null,null,"",null,null,null,null,null,null,null,null,"TBD","","",null,null,0,0,1]
[null,"Please select",null,null,null,null,null,null,null,null,null,null,null,null,{"$f":"IF(ISERROR(IF(C1694=\"corrective\",E1694+KPI!$P$4,IF(C1694=\"Preventative\",E1694+KPI!$P$5,\"\"))),\"\",IF(C1694=\"corrective\",E1694+KPI!$P$4,IF(C1694=\"Preventative\",E1694+KPI!$P$5,\"\")))","v":""},"Please select",null,null,null,null,null,"Please select",null,null,"",null,null,null,null,null,null,null,null,"TBD","","",null,null,0,0,1]
[null,"Please select",null,null,null,null,null,null,null,null,null,null,null,null,{"$f":"IF(ISERROR(IF(C1695=\"corrective\",E1695+KPI!$P$4,IF(C1695=\"Preventative\",E1695+KPI!$P$5,\"\"))),\"\",IF(C1695=\"corrective\",E1695+KPI!$P$4,IF(C1695=\"Preventative\",E1695+KPI!$P$5,\"\")))","v":""},"Please select",null,null,null,null,null,"Please select",null,null,"",null,null,null,null,null,null,null,null,"TBD","","",null,null,0,0,1]
[null,"Please select",null,null,null,null,null,null,null,null,null,null,null,null,{"$f":"IF(ISERROR(IF(C1696=\"corrective\",E1696+KPI!$P$4,IF(C1696=\"Preventative\",E1696+KPI!$P$5,\"\"))),\"\",IF(C1696=\"corrective\",E1696+KPI!$P$4,IF(C1696=\"Preventative\",E1696+KPI!$P$5,\"\")))","v":""},"Please select",null,null,null,null,null,"Please select",null,null,"",null,null,null,null,null,null,null,null,"TBD","","",null,null,0,0,1]
[null,"Please select",null,null,null,null,null,null,null,null,null,null,null,null,{"$f":"IF(ISERROR(IF(C1697=\"corrective\",E1697+KPI!$P$4,IF(C1697=\"Preventative\",E1697+KPI!$P$5,\"\"))),\"\",IF(C1697=\"corrective\",E1697+KPI!$P$4,IF(C1697=\"Preventative\",E1697+KPI!$P$5,\"\")))","v":""},"Please select",null,null,null,null,null,"Please select",null,null,"",null,null,null,null,null,null,null,null,"TBD","","",null,null,0,0,1]
[null,"Please select",null,null,null,null,null,null,null,null,null,null,null,null,{"$f":"IF(ISERROR(IF(C1698=\"corrective\",E1698+KPI!$P$4,IF(C1698=\"Preventative\",E1698+KPI!$P$5,\"\"))),\"\",IF(C1698=\"corrective\",E1698+KPI!$P$4,IF(C1698=\"Preventative\",E1698+KPI!$P$5,\"\")))","v":""},"Please select",null,null,null,null,null,"Please select",null,null,"",null,null,null,null,null,null,null,null,"TBD","","",null,null,0,0,1]
[null,"Please select",null,null,null,null,null,null,null,null,null,null,null,null,{"$f":"IF(ISERROR(IF(C1699=\"corrective\",E1699+KPI!$P$4,IF(C1699=\"Preventative\",E1699+KPI!$P$5,\"\"))),\"\",IF(C1699=\"corrective\",E1699+KPI!$P$4,IF(C1699=\"Preventative\",E1699+KPI!$P$5,\"\")))","v":""},"Please select",null,null,null,null,null,"Please select",null,null,"",null,null,null,null,null,null,null,null,"TBD","","",null,null,0,0,1]
[null,"Please select",null,null,null,null,null,null,null,null,null,null,null,null,{"$f":"IF(ISERROR(IF(C1700=\"corrective\",E1700+KPI!$P$4,IF(C1700=\"Preventative\",E1700+KPI!$P$5,\"\"))),\"\",IF(C1700=\"corrective\",E1700+KPI!$P$4,IF(C1700=\"Preventative\",E1700+KPI!$P$5,\"\")))","v":""},"Please select",null,null,null,null,null,"Please select",null,null,"",null,null,null,null,null,null,null,null,"TBD","","",null,null,0,0,1]
[null,"Please select",null,null,null,null,null,null,null,null,null,null,null,null,{"$f":"IF(ISERROR(IF(C1701=\"corrective\",E1701+KPI!$P$4,IF(C1701=\"Preventative\",E1701+KPI!$P$5,\"\"))),\"\",IF(C1701=\"corrective\",E1701+KPI!$P$4,IF(C1701=\"Preventative\",E1701+KPI!$P$5,\"\")))","v":""},"Please select",null,null,null,null,null,"Please select",null,null,"",null,null,null,null,null,null,null,null,"TBD","","",null,null,0,0,1]
[null,"Please select",null,null,null,null,null,null,null,null,null,null,null,null,{"$f":"IF(ISERROR(IF(C1702=\"corrective\",E1702+KPI!$P$4,IF(C1702=\"Preventative\",E1702+KPI!$P$5,\"\"))),\"\",IF(C1702=\"corrective\",E1702+KPI!$P$4,IF(C1702=\"Preventative\",E1702+KPI!$P$5,\"\")))","v":""},"Please select",null,null,null,null,null,"Please select",null,null,"",null,null,null,null,null,null,null,null,"TBD","","",null,null,0,0,1]
[null,"Please select",null,null,null,null,null,null,null,null,null,null,null,null,{"$f":"IF(ISERROR(IF(C1703=\"corrective\",E1703+KPI!$P$4,IF(C1703=\"Preventative\",E1703+KPI!$P$5,\"\"))),\"\",IF(C1703=\"corrective\",E1703+KPI!$P$4,IF(C1703=\"Preventative\",E1703+KPI!$P$5,\"\")))","v":""},"Please select",null,null,null,null,null,"Please select",null,null,"",null,null,null,null,null,null,null,null,"TBD","","",null,null,0,0,1]
[null,"Please select",null,null,null,null,null,null,null,null,null,null,null,null,{"$f":"IF(ISERROR(IF(C1704=\"corrective\",E1704+KPI!$P$4,IF(C1704=\"Preventative\",E1704+KPI!$P$5,\"\"))),\"\",IF(C1704=\"corrective\",E1704+KPI!$P$4,IF(C1704=\"Preventative\",E1704+KPI!$P$5,\"\")))","v":""},"Please select",null,null,null,null,null,"Please select",null,null,"",null,null,null,null,null,null,null,null,"TBD","","",null,null,0,0,1]
[null,"Please select",null,null,null,null,null,null,null,null,null,null,null,null,{"$f":"IF(ISERROR(IF(C1705=\"corrective\",E1705+KPI!$P$4,IF(C1705=\"Preventative\",E1705+KPI!$P$5,\"\"))),\"\",IF(C1705=\"corrective\",E1705+KPI!$P$4,IF(C1705=\"Preventative\",E1705+KPI!$P$5,\"\")))","v":""},"Please select",null,null,null,null,null,"Please select",null,null,"",null,null,null,null,null,null,null,null,"TBD","","",null,null,0,0,1]
[null,"Please select",null,null,null,null,null,null,null,null,null,null,null,null,{"$f":"IF(ISERROR(IF(C1706=\"corrective\",E1706+KPI!$P$4,IF(C1706=\"Preventative\",E1706+KPI!$P$5,\"\"))),\"\",IF(C1706=\"corrective\",E1706+KPI!$P$4,IF(C1706=\"Preventative\",E1706+KPI!$P$5,\"\")))","v":""},"Please select",null,null,null,null,null,"Please select",null,null,"",null,null,null,null,null,null,null,null,"TBD","","",null,null,0,0,1]
[null,"Please select",null,null,null,null,null,null,null,null,null,null,null,null,{"$f":"IF(ISERROR(IF(C1707=\"corrective\",E1707+KPI!$P$4,IF(C1707=\"Preventative\",E1707+KPI!$P$5,\"\"))),\"\",IF(C1707=\"corrective\",E1707+KPI!$P$4,IF(C1707=\"Preventative\",E1707+KPI!$P$5,\"\")))","v":""},"Please select",null,null,null,null,null,"Please select",null,null,"",null,null,null,null,null,null,null,null,"TBD","","",null,null,0,0,1]
[null,"Please select",null,null,null,null,null,null,null,null,null,null,null,null,{"$f":"IF(ISERROR(IF(C1708=\"corrective\",E1708+KPI!$P$4,IF(C1708=\"Preventative\",E1708+KPI!$P$5,\"\"))),\"\",IF(C1708=\"corrective\",E1708+KPI!$P$4,IF(C1708=\"Preventative\",E1708+KPI!$P$5,\"\")))","v":""},"Please select",null,null,null,null,null,"Please select",null,null,"",null,null,null,null,null,null,null,null,"TBD","","",null,null,0,0,1]
[null,"Please select",null,null,null,null,null,null,null,null,null,null,null,null,{"$f":"IF(ISERROR(IF(C1709=\"corrective\",E1709+KPI!$P$4,IF(C1709=\"Preventative\",E1709+KPI!$P$5,\"\"))),\"\",IF(C1709=\"corrective\",E1709+KPI!$P$4,IF(C1709=\"Preventative\",E1709+KPI!$P$5,\"\")))","v":""},"Please select",null,null,null,null,null,"Please select",null,null,"",null,null,null,null,null,null,null,null,"TBD","","",null,null,0,0,1]
[null,"Please select",null,null,null,null,null,null,null,null,null,null,null,null,{"$f":"IF(ISERROR(IF(C1710=\"corrective\",E1710+KPI!$P$4,IF(C1710=\"Preventative\",E1710+KPI!$P$5,\"\"))),\"\",IF(C1710=\"corrective\",E1710+KPI!$P$4,IF(C1710=\"Preventative\",E1710+KPI!$P$5,\"\")))","v":""},"Please select",null,null,null,null,null,"Please select",null,null,"",null,null,null,null,null,null,null,null,"TBD","","",null,null,0,0,1]
[null,"Please select",null,null,null,null,null,null,null,null,null,null,null,null,{"$f":"IF(ISERROR(IF(C1711=\"corrective\",E1711+KPI!$P$4,IF(C1711=\"Preventative\",E1711+KPI!$P$5,\"\"))),\"\",IF(C1711=\"corrective\",E1711+KPI!$P$4,IF(C1711=\"Preventative\",E1711+KPI!$P$5,\"\")))","v":""},{"$f":"IF(AND(O1711<TODAY(),B1711=\"new\"),\"New - Overdue\",B1711)","v":"Please select"},null,null,null,null,null,"Please select",null,null,{"$f":"Z1711&AA1711&AB1711&AC1711&AD1711&AE1711","v":""},null,null,null,null,null,null,null,null,"TBD",{"$f":"IF(ISERROR(AJ1711-20),\"\",AJ1711-20)","v":""},{"$f":"IF(ISERROR(IF(C1711=\"corrective\",E1711+AH1711,\"\")),\"\",IF(C1711=\"corrective\",E1711+AH1711,\"\"))","v":""},null,null,0,0,{"$f":"COUNTIF(AN1711,\">400\")+COUNTIF(AN1711,\"=0\")","v":1}]
[null,"Please select",null,null,null,null,null,null,null,null,null,null,null,null,{"$f":"IF(ISERROR(IF(C1712=\"corrective\",E1712+KPI!$P$4,IF(C1712=\"Preventative\",E1712+KPI!$P$5,\"\"))),\"\",IF(C1712=\"corrective\",E1712+KPI!$P$4,IF(C1712=\"Preventative\",E1712+KPI!$P$5,\"\")))","v":""},"Please select",null,null,null,null,null,"Please select",null,null,"",null,null,null,null,null,null,null,null,"TBD","","",null,null,0,0,1]
[null,"Please select",null,null,null,null,null,null,null,null,null,null,null,null,{"$f":"IF(ISERROR(IF(C1713=\"corrective\",E1713+KPI!$P$4,IF(C1713=\"Preventative\",E1713+KPI!$P$5,\"\"))),\"\",IF(C1713=\"corrective\",E1713+KPI!$P$4,IF(C1713=\"Preventative\",E1713+KPI!$P$5,\"\")))","v":""},"Please select",null,null,null,null,null,"Please select",null,null,"",null,null,null,null,null,null,null,null,"TBD","","",null,null,0,0,1]
[null,"Please select",null,null,null,null,null,null,null,null,null,null,null,null,{"$f":"IF(ISERROR(IF(C1714=\"corrective\",E1714+KPI!$P$4,IF(C1714=\"Preventative\",E1714+KPI!$P$5,\"\"))),\"\",IF(C1714=\"corrective\",E1714+KPI!$P$4,IF(C1714=\"Preventative\",E1714+KPI!$P$5,\"\")))","v":""},"Please select",null,null,null,null,null,"Please select",null,null,"",null,null,null,null,null,null,null,null,"TBD","","",null,null,0,0,1]
[null,"Please select",null,null,null,null,null,null,null,null,null,null,null,null,{"$f":"IF(ISERROR(IF(C1715=\"corrective\",E1715+KPI!$P$4,IF(C1715=\"Preventative\",E1715+KPI!$P$5,\"\"))),\"\",IF(C1715=\"corrective\",E1715+KPI!$P$4,IF(C1715=\"Preventative\",E1715+KPI!$P$5,\"\")))","v":""},"Please select",null,null,null,null,null,"Please select",null,null,"",null,null,null,null,null,null,null,null,"TBD","","",null,null,0,0,1]
[null,"Please select",null,null,null,null,null,null,null,null,null,null,null,null,{"$f":"IF(ISERROR(IF(C1716=\"corrective\",E1716+KPI!$P$4,IF(C1716=\"Preventative\",E1716+KPI!$P$5,\"\"))),\"\",IF(C1716=\"corrective\",E1716+KPI!$P$4,IF(C1716=\"Preventative\",E1716+KPI!$P$5,\"\")))","v":""},"Please select",null,null,null,null,null,"Please select",null,null,"",null,null,null,null,null,null,null,null,"TBD","","",null,null,0,0,1]
[null,"Please select",null,null,null,null,null,null,null,null,null,null,null,null,{"$f":"IF(ISERROR(IF(C1717=\"corrective\",E1717+KPI!$P$4,IF(C1717=\"Preventative\",E1717+KPI!$P$5,\"\"))),\"\",IF(C1717=\"corrective\",E1717+KPI!$P$4,IF(C1717=\"Preventative\",E1717+KPI!$P$5,\"\")))","v":""},"Please select",null,null,null,null,null,"Please select",null,null,"",null,null,null,null,null,null,null,null,"TBD","","",null,null,0,0,1]
[null,"Please select",null,null,null,null,null,null,null,null,null,null,null,null,{"$f":"IF(ISERROR(IF(C1718=\"corrective\",E1718+KPI!$P$4,IF(C1718=\"Preventative\",E1718+KPI!$P$5,\"\"))),\"\",IF(C1718=\"corrective\",E1718+KPI!$P$4,IF(C1718=\"Preventative\",E1718+KPI!$P$5,\"\")))","v":""},"Please select",null,null,null,null,null,"Please select",null,null,"",null,null,null,null,null,null,null,null,"TBD","","",null,null,0,0,1]
[null,"Please select",null,null,null,null,null,null,null,null,null,null,null,null,{"$f":"IF(ISERROR(IF(C1719=\"corrective\",E1719+KPI!$P$4,IF(C1719=\"Preventative\",E1719+KPI!$P$5,\"\"))),\"\",IF(C1719=\"corrective\",E1719+KPI!$P$4,IF(C1719=\"Preventative\",E1719+KPI!$P$5,\"\")))","v":""},"Please select",null,null,null,null,null,"Please select",null,null,"",null,null,null,null,null,null,null,null,"TBD","","",null,null,0,0,1]
[null,"Please select",null,null,null,null,null,null,null,null,null,null,null,null,{"$f":"IF(ISERROR(IF(C1720=\"corrective\",E1720+KPI!$P$4,IF(C1720=\"Preventative\",E1720+KPI!$P$5,\"\"))),\"\",IF(C1720=\"corrective\",E1720+KPI!$P$4,IF(C1720=\"Preventative\",E1720+KPI!$P$5,\"\")))","v":""},"Please select",null,null,null,null,null,"Please select",null,null,"",null,null,null,null,null,null,null,null,"TBD","","",null,null,0,0,1]
[null,"Please select",null,null,null,null,null,null,null,null,null,null,null,null,{"$f":"IF(ISERROR(IF(C1721=\"corrective\",E1721+KPI!$P$4,IF(C1721=\"Preventative\",E1721+KPI!$P$5,\"\"))),\"\",IF(C1721=\"corrective\",E1721+KPI!$P$4,IF(C1721=\"Preventative\",E1721+KPI!$P$5,\"\")))","v":""},"Please select",null,null,null,null,null,"Please select",null,null,"",null,null,null,null,null,null,null,null,"TBD","","",null,null,0,0,1]
[null,"Please select",null,null,null,null,null,null,null,null,null,null,null,null,{"$f":"IF(ISERROR(IF(C1722=\"corrective\",E1722+KPI!$P$4,IF(C1722=\"Preventative\",E1722+KPI!$P$5,\"\"))),\"\",IF(C1722=\"corrective\",E1722+KPI!$P$4,IF(C1722=\"Preventative\",E1722+KPI!$P$5,\"\")))","v":""},"Please select",null,null,null,null,null,"Please select",null,null,"",null,null,null,null,null,null,null,null,"TBD","","",null,null,0,0,1]
[null,"Please select",null,null,null,null,null,null,null,null,null,null,null,null,{"$f":"IF(ISERROR(IF(C1723=\"corrective\",E1723+KPI!$P$4,IF(C1723=\"Preventative\",E1723+KPI!$P$5,\"\"))),\"\",IF(C1723=\"corrective\",E1723+KPI!$P$4,IF(C1723=\"Preventative\",E1723+KPI!$P$5,\"\")))","v":""},"Please select",null,null,null,null,null,"Please select",null,null,"",null,null,null,null,null,null,null,null,"TBD","","",null,null,0,0,1]
[null,"Please select",null,null,null,null,null,null,null,null,null,null,null,null,{"$f":"IF(ISERROR(IF(C1724=\"corrective\",E1724+KPI!$P$4,IF(C1724=\"Preventative\",E1724+KPI!$P$5,\"\"))),\"\",IF(C1724=\"corrective\",E1724+KPI!$P$4,IF(C1724=\"Preventative\",E1724+KPI!$P$5,\"\")))","v":""},"Please select",null,null,null,null,null,"Please select",null,null,"",null,null,null,null,null,null,null,null,"TBD","","",null,null,0,0,1]
[null,"Please select",null,null,null,null,null,null,null,null,null,null,null,null,{"$f":"IF(ISERROR(IF(C1725=\"corrective\",E1725+KPI!$P$4,IF(C1725=\"Preventative\",E1725+KPI!$P$5,\"\"))),\"\",IF(C1725=\"corrective\",E1725+KPI!$P$4,IF(C1725=\"Preventative\",E1725+KPI!$P$5,\"\")))","v":""},"Please select",null,null,null,null,null,"Please select",null,null,"",null,null,null,null,null,null,null,null,"TBD","","",null,null,0,0,1]
[null,"Please select",null,null,null,null,null,null,null,null,null,null,null,null,{"$f":"IF(ISERROR(IF(C1726=\"corrective\",E1726+KPI!$P$4,IF(C1726=\"Preventative\",E1726+KPI!$P$5,\"\"))),\"\",IF(C1726=\"corrective\",E1726+KPI!$P$4,IF(C1726=\"Preventative\",E1726+KPI!$P$5,\"\")))","v":""},"Please select",null,null,null,null,null,"Please select",null,null,"",null,null,null,null,null,null,null,null,"TBD","","",null,null,0,0,1]
[null,"Please select",null,null,null,null,null,null,null,null,null,null,null,null,{"$f":"IF(ISERROR(IF(C1727=\"corrective\",E1727+KPI!$P$4,IF(C1727=\"Preventative\",E1727+KPI!$P$5,\"\"))),\"\",IF(C1727=\"corrective\",E1727+KPI!$P$4,IF(C1727=\"Preventative\",E1727+KPI!$P$5,\"\")))","v":""},"Please select",null,null,null,null,null,"Please select",null,null,"",null,null,null,null,null,null,null,null,"TBD","","",null,null,0,0,1]
[null,"Please select",null,null,null,null,null,null,null,null,null,null,null,null,{"$f":"IF(ISERROR(IF(C1728=\"corrective\",E1728+KPI!$P$4,IF(C1728=\"Preventative\",E1728+KPI!$P$5,\"\"))),\"\",IF(C1728=\"corrective\",E1728+KPI!$P$4,IF(C1728=\"Preventative\",E1728+KPI!$P$5,\"\")))","v":""},"Please select",null,null,null,null,null,"Please select",null,null,"",null,null,null,null,null,null,null,null,"TBD","","",null,null,0,0,1]
[null,"Please select",null,null,null,null,null,null,null,null,null,null,null,null,{"$f":"IF(ISERROR(IF(C1729=\"corrective\",E1729+KPI!$P$4,IF(C1729=\"Preventative\",E1729+KPI!$P$5,\"\"))),\"\",IF(C1729=\"corrective\",E1729+KPI!$P$4,IF(C1729=\"Preventative\",E1729+KPI!$P$5,\"\")))","v":""},"Please select",null,null,null,null,null,"Please select",null,null,"",null,null,null,null,null,null,null,null,"TBD","","",null,null,0,0,1]
[null,"Please select",null,null,null,null,null,null,null,null,null,null,null,null,{"$f":"IF(ISERROR(IF(C1730=\"corrective\",E1730+KPI!$P$4,IF(C1730=\"Preventative\",E1730+KPI!$P$5,\"\"))),\"\",IF(C1730=\"corrective\",E1730+KPI!$P$4,IF(C1730=\"Preventative\",E1730+KPI!$P$5,\"\")))","v":""},"Please select",null,null,null,null,null,"Please select",null,null,"",null,null,null,null,null,null,null,null,"TBD","","",null,null,{"$f":"IF(ISERROR(DATEDIF(E1730,Q1730,\"D\")),\"\",DATEDIF(E1730,Q1730,\"D\"))","v":0},{"$f":"IF(ISERROR(DATEDIF(Q1730,X1730,\"D\")),\"\",DATEDIF(Q1730,X1730,\"D\"))","v":0},1]
[null,"Please select",null,null,null,null,null,null,null,null,null,null,null,null,{"$f":"IF(ISERROR(IF(C1731=\"corrective\",E1731+KPI!$P$4,IF(C1731=\"Preventative\",E1731+KPI!$P$5,\"\"))),\"\",IF(C1731=\"corrective\",E1731+KPI!$P$4,IF(C1731=\"Preventative\",E1731+KPI!$P$5,\"\")))","v":""},"Please select",null,null,null,null,null,"Please select",null,null,"",null,null,null,null,null,null,null,null,"TBD","","",null,null,0,0,1]
[null,"Please select",null,null,null,null,null,null,null,null,null,null,null,null,{"$f":"IF(ISERROR(IF(C1732=\"corrective\",E1732+KPI!$P$4,IF(C1732=\"Preventative\",E1732+KPI!$P$5,\"\"))),\"\",IF(C1732=\"corrective\",E1732+KPI!$P$4,IF(C1732=\"Preventative\",E1732+KPI!$P$5,\"\")))","v":""},"Please select",null,null,null,null,null,"Please select",null,null,"",null,null,null,null,null,null,null,null,"TBD","","",null,null,0,0,1]
[null,"Please select",null,null,null,null,null,null,null,null,null,null,null,null,{"$f":"IF(ISERROR(IF(C1733=\"corrective\",E1733+KPI!$P$4,IF(C1733=\"Preventative\",E1733+KPI!$P$5,\"\"))),\"\",IF(C1733=\"corrective\",E1733+KPI!$P$4,IF(C1733=\"Preventative\",E1733+KPI!$P$5,\"\")))","v":""},"Please select",null,null,null,null,null,"Please select",null,null,"",null,null,null,null,null,null,null,null,"TBD","","",null,null,0,0,1]
[null,"Please select",null,null,null,null,null,null,null,null,null,null,null,null,{"$f":"IF(ISERROR(IF(C1734=\"corrective\",E1734+KPI!$P$4,IF(C1734=\"Preventative\",E1734+KPI!$P$5,\"\"))),\"\",IF(C1734=\"corrective\",E1734+KPI!$P$4,IF(C1734=\"Preventative\",E1734+KPI!$P$5,\"\")))","v":""},"Please select",null,null,null,null,null,"Please select",null,null,"",null,null,null,null,null,null,null,null,"TBD","","",null,null,0,0,1]
[null,"Please select",null,null,null,null,null,null,null,null,null,null,null,null,{"$f":"IF(ISERROR(IF(C1735=\"corrective\",E1735+KPI!$P$4,IF(C1735=\"Preventative\",E1735+KPI!$P$5,\"\"))),\"\",IF(C1735=\"corrective\",E1735+KPI!$P$4,IF(C1735=\"Preventative\",E1735+KPI!$P$5,\"\")))","v":""},"Please select",null,null,null,null,null,"Please select",null,null,"",null,null,null,null,null,null,null,null,"TBD","","",null,null,0,0,1]
[null,"Please select",null,null,null,null,null,null,null,null,null,null,null,null,{"$f":"IF(ISERROR(IF(C1736=\"corrective\",E1736+KPI!$P$4,IF(C1736=\"Preventative\",E1736+KPI!$P$5,\"\"))),\"\",IF(C1736=\"corrective\",E1736+KPI!$P$4,IF(C1736=\"Preventative\",E1736+KPI!$P$5,\"\")))","v":""},"Please select",null,null,null,null,null,"Please select",null,null,"",null,null,null,null,null,null,null,null,"TBD","","",null,null,0,0,1]
[null,"Please select",null,null,null,null,null,null,null,null,null,null,null,null,{"$f":"IF(ISERROR(IF(C1737=\"corrective\",E1737+KPI!$P$4,IF(C1737=\"Preventative\",E1737+KPI!$P$5,\"\"))),\"\",IF(C1737=\"corrective\",E1737+KPI!$P$4,IF(C1737=\"Preventative\",E1737+KPI!$P$5,\"\")))","v":""},"Please select",null,null,null,null,null,"Please select",null,null,"",null,null,null,null,null,null,null,null,"TBD","","",null,null,0,0,1]
[null,"Please select",null,null,null,null,null,null,null,null,null,null,null,null,{"$f":"IF(ISERROR(IF(C1738=\"corrective\",E1738+KPI!$P$4,IF(C1738=\"Preventative\",E1738+KPI!$P$5,\"\"))),\"\",IF(C1738=\"corrective\",E1738+KPI!$P$4,IF(C1738=\"Preventative\",E1738+KPI!$P$5,\"\")))","v":""},"Please select",null,null,null,null,null,"Please select",null,null,"",null,null,null,null,null,null,null,null,"TBD","","",null,null,0,0,1]
[null,"Please select",null,null,null,null,null,null,null,null,null,null,null,null,{"$f":"IF(ISERROR(IF(C1739=\"corrective\",E1739+KPI!$P$4,IF(C1739=\"Preventative\",E1739+KPI!$P$5,\"\"))),\"\",IF(C1739=\"corrective\",E1739+KPI!$P$4,IF(C1739=\"Preventative\",E1739+KPI!$P$5,\"\")))","v":""},"Please select",null,null,null,null,null,"Please select",null,null,"",null,null,null,null,null,null,null,null,"TBD","","",null,null,0,0,1]
[null,"Please select",null,null,null,null,null,null,null,null,null,null,null,null,{"$f":"IF(ISERROR(IF(C1740=\"corrective\",E1740+KPI!$P$4,IF(C1740=\"Preventative\",E1740+KPI!$P$5,\"\"))),\"\",IF(C1740=\"corrective\",E1740+KPI!$P$4,IF(C1740=\"Preventative\",E1740+KPI!$P$5,\"\")))","v":""},"Please select",null,null,null,null,null,"Please select",null,null,"",null,null,null,null,null,null,null,null,"TBD","","",null,null,0,0,1]
[null,"Please select",null,null,null,null,null,null,null,null,null,null,null,null,{"$f":"IF(ISERROR(IF(C1741=\"corrective\",E1741+KPI!$P$4,IF(C1741=\"Preventative\",E1741+KPI!$P$5,\"\"))),\"\",IF(C1741=\"corrective\",E1741+KPI!$P$4,IF(C1741=\"Preventative\",E1741+KPI!$P$5,\"\")))","v":""},"Please select",null,null,null,null,null,"Please select",null,null,"",null,null,null,null,null,null,null,null,"TBD","","",null,null,0,0,1]
[null,"Please select",null,null,null,null,null,null,null,null,null,null,null,null,{"$f":"IF(ISERROR(IF(C1742=\"corrective\",E1742+KPI!$P$4,IF(C1742=\"Preventative\",E1742+KPI!$P$5,\"\"))),\"\",IF(C1742=\"corrective\",E1742+KPI!$P$4,IF(C1742=\"Preventative\",E1742+KPI!$P$5,\"\")))","v":""},"Please select",null,null,null,null,null,"Please select",null,null,"",null,null,null,null,null,null,null,null,"TBD","","",null,null,0,0,1]
[null,"Please select",null,null,null,null,null,null,null,null,null,null,null,null,{"$f":"IF(ISERROR(IF(C1743=\"corrective\",E1743+KPI!$P$4,IF(C1743=\"Preventative\",E1743+KPI!$P$5,\"\"))),\"\",IF(C1743=\"corrective\",E1743+KPI!$P$4,IF(C1743=\"Preventative\",E1743+KPI!$P$5,\"\")))","v":""},"Please select",null,null,null,null,null,"Please select",null,null,"",null,null,null,null,null,null,null,null,"TBD","","",null,null,0,0,1]
[null,"Please select",null,null,null,null,null,null,null,null,null,null,null,null,{"$f":"IF(ISERROR(IF(C1744=\"corrective\",E1744+KPI!$P$4,IF(C1744=\"Preventative\",E1744+KPI!$P$5,\"\"))),\"\",IF(C1744=\"corrective\",E1744+KPI!$P$4,IF(C1744=\"Preventative\",E1744+KPI!$P$5,\"\")))","v":""},"Please select",null,null,null,null,null,"Please select",null,null,"",null,null,null,null,null,null,null,null,"TBD","","",null,null,0,0,1]
[null,"Please select",null,null,null,null,null,null,null,null,null,null,null,null,{"$f":"IF(ISERROR(IF(C1745=\"corrective\",E1745+KPI!$P$4,IF(C1745=\"Preventative\",E1745+KPI!$P$5,\"\"))),\"\",IF(C1745=\"corrective\",E1745+KPI!$P$4,IF(C1745=\"Preventative\",E1745+KPI!$P$5,\"\")))","v":""},"Please select",null,null,null,null,null,"Please select",null,null,"",null,null,null,null,null,null,null,null,"TBD","","",null,null,0,0,1]
[null,"Please select",null,null,null,null,null,null,null,null,null,null,null,null,{"$f":"IF(ISERROR(IF(C1746=\"corrective\",E1746+KPI!$P$4,IF(C1746=\"Preventative\",E1746+KPI!$P$5,\"\"))),\"\",IF(C1746=\"corrective\",E1746+KPI!$P$4,IF(C1746=\"Preventative\",E1746+KPI!$P$5,\"\")))","v":""},"Please select",null,null,null,null,null,"Please select",null,null,"",null,null,null,null,null,null,null,null,"TBD","","",null,null,0,0,1]
[null,"Please select",null,null,null,null,null,null,null,null,null,null,null,null,{"$f":"IF(ISERROR(IF(C1747=\"corrective\",E1747+KPI!$P$4,IF(C1747=\"Preventative\",E1747+KPI!$P$5,\"\"))),\"\",IF(C1747=\"corrective\",E1747+KPI!$P$4,IF(C1747=\"Preventative\",E1747+KPI!$P$5,\"\")))","v":""},"Please select",null,null,null,null,null,"Please select",null,null,"",null,null,null,null,null,null,null,null,"TBD","","",null,null,0,0,1]
[null,"Please select",null,null,null,null,null,null,null,null,null,null,null,null,{"$f":"IF(ISERROR(IF(C1748=\"corrective\",E1748+KPI!$P$4,IF(C1748=\"Preventative\",E1748+KPI!$P$5,\"\"))),\"\",IF(C1748=\"corrective\",E1748+KPI!$P$4,IF(C1748=\"Preventative\",E1748+KPI!$P$5,\"\")))","v":""},"Please select",null,null,null,null,null,"Please select",null,null,"",null,null,null,null,null,null,null,null,"TBD","","",null,null,0,0,1]
[null,"Please select",null,null,null,null,null,null,null,null,null,null,null,null,{"$f":"IF(ISERROR(IF(C1749=\"corrective\",E1749+KPI!$P$4,IF(C1749=\"Preventative\",E1749+KPI!$P$5,\"\"))),\"\",IF(C1749=\"corrective\",E1749+KPI!$P$4,IF(C1749=\"Preventative\",E1749+KPI!$P$5,\"\")))","v":""},"Please select",null,null,null,null,null,"Please select",null,null,"",null,null,null,null,null,null,null,null,"TBD","","",null,null,0,0,1]
[null,"Please select",null,null,null,null,null,null,null,null,null,null,null,null,{"$f":"IF(ISERROR(IF(C1750=\"corrective\",E1750+KPI!$P$4,IF(C1750=\"Preventative\",E1750+KPI!$P$5,\"\"))),\"\",IF(C1750=\"corrective\",E1750+KPI!$P$4,IF(C1750=\"Preventative\",E1750+KPI!$P$5,\"\")))","v":""},"Please select",null,null,null,null,null,"Please select",null,null,"",null,null,null,null,null,null,null,null,"TBD","","",null,null,0,0,1]
[null,"Please select",null,null,null,null,null,null,null,null,null,null,null,null,{"$f":"IF(ISERROR(IF(C1751=\"corrective\",E1751+KPI!$P$4,IF(C1751=\"Preventative\",E1751+KPI!$P$5,\"\"))),\"\",IF(C1751=\"corrective\",E1751+KPI!$P$4,IF(C1751=\"Preventative\",E1751+KPI!$P$5,\"\")))","v":""},"Please select",null,null,null,null,null,"Please select",null,null,"",null,null,null,null,null,null,null,null,"TBD","","",null,null,0,0,1]
[null,"Please select",null,null,null,null,null,null,null,null,null,null,null,null,{"$f":"IF(ISERROR(IF(C1752=\"corrective\",E1752+KPI!$P$4,IF(C1752=\"Preventative\",E1752+KPI!$P$5,\"\"))),\"\",IF(C1752=\"corrective\",E1752+KPI!$P$4,IF(C1752=\"Preventative\",E1752+KPI!$P$5,\"\")))","v":""},"Please select",null,null,null,null,null,"Please select",null,null,"",null,null,null,null,null,null,null,null,"TBD","","",null,null,0,0,1]
[null,"Please select",null,null,null,null,null,null,null,null,null,null,null,null,{"$f":"IF(ISERROR(IF(C1753=\"corrective\",E1753+KPI!$P$4,IF(C1753=\"Preventative\",E1753+KPI!$P$5,\"\"))),\"\",IF(C1753=\"corrective\",E1753+KPI!$P$4,IF(C1753=\"Preventative\",E1753+KPI!$P$5,\"\")))","v":""},"Please select",null,null,null,null,null,"Please select",null,null,"",null,null,null,null,null,null,null,null,"TBD","","",null,null,0,0,1]
[null,"Please select",null,null,null,null,null,null,null,null,null,null,null,null,{"$f":"IF(ISERROR(IF(C1754=\"corrective\",E1754+KPI!$P$4,IF(C1754=\"Preventative\",E1754+KPI!$P$5,\"\"))),\"\",IF(C1754=\"corrective\",E1754+KPI!$P$4,IF(C1754=\"Preventative\",E1754+KPI!$P$5,\"\")))","v":""},"Please select",null,null,null,null,null,"Please select",null,null,"",null,null,null,null,null,null,null,null,"TBD","","",null,null,0,0,1]
[null,"Please select",null,null,null,null,null,null,null,null,null,null,null,null,{"$f":"IF(ISERROR(IF(C1755=\"corrective\",E1755+KPI!$P$4,IF(C1755=\"Preventative\",E1755+KPI!$P$5,\"\"))),\"\",IF(C1755=\"corrective\",E1755+KPI!$P$4,IF(C1755=\"Preventative\",E1755+KPI!$P$5,\"\")))","v":""},"Please select",null,null,null,null,null,"Please select",null,null,"",null,null,null,null,null,null,null,null,"TBD","","",null,null,0,0,1]
[null,"Please select",null,null,null,null,null,null,null,null,null,null,null,null,{"$f":"IF(ISERROR(IF(C1756=\"corrective\",E1756+KPI!$P$4,IF(C1756=\"Preventative\",E1756+KPI!$P$5,\"\"))),\"\",IF(C1756=\"corrective\",E1756+KPI!$P$4,IF(C1756=\"Preventative\",E1756+KPI!$P$5,\"\")))","v":""},"Please select",null,null,null,null,null,"Please select",null,null,"",null,null,null,null,null,null,null,null,"TBD","","",null,null,0,0,1]
[null,"Please select",null,null,null,null,null,null,null,null,null,null,null,null,{"$f":"IF(ISERROR(IF(C1757=\"corrective\",E1757+KPI!$P$4,IF(C1757=\"Preventative\",E1757+KPI!$P$5,\"\"))),\"\",IF(C1757=\"corrective\",E1757+KPI!$P$4,IF(C1757=\"Preventative\",E1757+KPI!$P$5,\"\")))","v":""},"Please select",null,null,null,null,null,"Please select",null,null,"",null,null,null,null,null,null,null,null,"TBD","","",null,null,0,0,1]
[null,"Please select",null,null,null,null,null,null,null,null,null,null,null,null,{"$f":"IF(ISERROR(IF(C1758=\"corrective\",E1758+KPI!$P$4,IF(C1758=\"Preventative\",E1758+KPI!$P$5,\"\"))),\"\",IF(C1758=\"corrective\",E1758+KPI!$P$4,IF(C1758=\"Preventative\",E1758+KPI!$P$5,\"\")))","v":""},"Please select",null,null,null,null,null,"Please select",null,null,"",null,null,null,null,null,null,null,null,"TBD","","",null,null,0,0,1]
[null,"Please select",null,null,null,null,null,null,null,null,null,null,null,null,{"$f":"IF(ISERROR(IF(C1759=\"corrective\",E1759+KPI!$P$4,IF(C1759=\"Preventative\",E1759+KPI!$P$5,\"\"))),\"\",IF(C1759=\"corrective\",E1759+KPI!$P$4,IF(C1759=\"Preventative\",E1759+KPI!$P$5,\"\")))","v":""},"Please select",null,null,null,null,null,"Please select",null,null,"",null,null,null,null,null,null,null,null,"TBD","","",null,null,0,0,1]
[null,"Please select",null,null,null,null,null,null,null,null,null,null,null,null,{"$f":"IF(ISERROR(IF(C1760=\"corrective\",E1760+KPI!$P$4,IF(C1760=\"Preventative\",E1760+KPI!$P$5,\"\"))),\"\",IF(C1760=\"corrective\",E1760+KPI!$P$4,IF(C1760=\"Preventative\",E1760+KPI!$P$5,\"\")))","v":""},"Please select",null,null,null,null,null,"Please select",null,null,"",null,null,null,null,null,null,null,null,"TBD","","",null,null,0,0,1]
[null,"Please select",null,null,null,null,null,null,null,null,null,null,null,null,{"$f":"IF(ISERROR(IF(C1761=\"corrective\",E1761+KPI!$P$4,IF(C1761=\"Preventative\",E1761+KPI!$P$5,\"\"))),\"\",IF(C1761=\"corrective\",E1761+KPI!$P$4,IF(C1761=\"Preventative\",E1761+KPI!$P$5,\"\")))","v":""},"Please select",null,null,null,null,null,"Please select",null,null,"",null,null,null,null,null,null,null,null,"TBD","","",null,null,0,0,1]
[null,"Please select",null,null,null,null,null,null,null,null,null,null,null,null,{"$f":"IF(ISERROR(IF(C1762=\"corrective\",E1762+KPI!$P$4,IF(C1762=\"Preventative\",E1762+KPI!$P$5,\"\"))),\"\",IF(C1762=\"corrective\",E1762+KPI!$P$4,IF(C1762=\"Preventative\",E1762+KPI!$P$5,\"\")))","v":""},"Please select",null,null,null,null,null,"Please select",null,null,"",null,null,null,null,null,null,null,null,"TBD","","",null,null,0,0,1]
[null,"Please select",null,null,null,null,null,null,null,null,null,null,null,null,{"$f":"IF(ISERROR(IF(C1763=\"corrective\",E1763+KPI!$P$4,IF(C1763=\"Preventative\",E1763+KPI!$P$5,\"\"))),\"\",IF(C1763=\"corrective\",E1763+KPI!$P$4,IF(C1763=\"Preventative\",E1763+KPI!$P$5,\"\")))","v":""},"Please select",null,null,null,null,null,"Please select",null,null,"",null,null,null,null,null,null,null,null,"TBD","","",null,null,0,0,1]
[null,"Please select",null,null,null,null,null,null,null,null,null,null,null,null,{"$f":"IF(ISERROR(IF(C1764=\"corrective\",E1764+KPI!$P$4,IF(C1764=\"Preventative\",E1764+KPI!$P$5,\"\"))),\"\",IF(C1764=\"corrective\",E1764+KPI!$P$4,IF(C1764=\"Preventative\",E1764+KPI!$P$5,\"\")))","v":""},"Please select",null,null,null,null,null,"Please select",null,null,"",null,null,null,null,null,null,null,null,"TBD","","",null,null,0,0,1]
[null,"Please select",null,null,null,null,null,null,null,null,null,null,null,null,{"$f":"IF(ISERROR(IF(C1765=\"corrective\",E1765+KPI!$P$4,IF(C1765=\"Preventative\",E1765+KPI!$P$5,\"\"))),\"\",IF(C1765=\"corrective\",E1765+KPI!$P$4,IF(C1765=\"Preventative\",E1765+KPI!$P$5,\"\")))","v":""},"Please select",null,null,null,null,null,"Please select",null,null,"",null,null,null,null,null,null,null,null,"TBD","","",null,null,0,0,1]
[null,"Please select",null,null,null,null,null,null,null,null,null,null,null,null,{"$f":"IF(ISERROR(IF(C1766=\"corrective\",E1766+KPI!$P$4,IF(C1766=\"Preventative\",E1766+KPI!$P$5,\"\"))),\"\",IF(C1766=\"corrective\",E1766+KPI!$P$4,IF(C1766=\"Preventative\",E1766+KPI!$P$5,\"\")))","v":""},"Please select",null,null,null,null,null,"Please select",null,null,"",null,null,null,null,null,null,null,null,"TBD","","",null,null,0,0,1]
[null,"Please select",null,null,null,null,null,null,null,null,null,null,null,null,{"$f":"IF(ISERROR(IF(C1767=\"corrective\",E1767+KPI!$P$4,IF(C1767=\"Preventative\",E1767+KPI!$P$5,\"\"))),\"\",IF(C1767=\"corrective\",E1767+KPI!$P$4,IF(C1767=\"Preventative\",E1767+KPI!$P$5,\"\")))","v":""},"Please select",null,null,null,null,null,"Please select",null,null,"",null,null,null,null,null,null,null,null,"TBD","","",null,null,0,0,1]
[null,"Please select",null,null,null,null,null,null,null,null,null,null,null,null,{"$f":"IF(ISERROR(IF(C1768=\"corrective\",E1768+KPI!$P$4,IF(C1768=\"Preventative\",E1768+KPI!$P$5,\"\"))),\"\",IF(C1768=\"corrective\",E1768+KPI!$P$4,IF(C1768=\"Preventative\",E1768+KPI!$P$5,\"\")))","v":""},"Please select",null,null,null,null,null,"Please select",null,null,"",null,null,null,null,null,null,null,null,"TBD","","",null,null,0,0,1]
[null,"Please select",null,null,null,null,null,null,null,null,null,null,null,null,{"$f":"IF(ISERROR(IF(C1769=\"corrective\",E1769+KPI!$P$4,IF(C1769=\"Preventative\",E1769+KPI!$P$5,\"\"))),\"\",IF(C1769=\"corrective\",E1769+KPI!$P$4,IF(C1769=\"Preventative\",E1769+KPI!$P$5,\"\")))","v":""},"Please select",null,null,null,null,null,"Please select",null,null,"",null,null,null,null,null,null,null,null,"TBD","","",null,null,0,0,1]
[null,"Please select",null,null,null,null,null,null,null,null,null,null,null,null,{"$f":"IF(ISERROR(IF(C1770=\"corrective\",E1770+KPI!$P$4,IF(C1770=\"Preventative\",E1770+KPI!$P$5,\"\"))),\"\",IF(C1770=\"corrective\",E1770+KPI!$P$4,IF(C1770=\"Preventative\",E1770+KPI!$P$5,\"\")))","v":""},"Please select",null,null,null,null,null,"Please select",null,null,"",null,null,null,null,null,null,null,null,"TBD","","",null,null,0,0,1]
[null,"Please select",null,null,null,null,null,null,null,null,null,null,null,null,{"$f":"IF(ISERROR(IF(C1771=\"corrective\",E1771+KPI!$P$4,IF(C1771=\"Preventative\",E1771+KPI!$P$5,\"\"))),\"\",IF(C1771=\"corrective\",E1771+KPI!$P$4,IF(C1771=\"Preventative\",E1771+KPI!$P$5,\"\")))","v":""},"Please select",null,null,null,null,null,"Please select",null,null,"",null,null,null,null,null,null,null,null,"TBD","","",null,null,0,0,1]
[null,"Please select",null,null,null,null,null,null,null,null,null,null,null,null,{"$f":"IF(ISERROR(IF(C1772=\"corrective\",E1772+KPI!$P$4,IF(C1772=\"Preventative\",E1772+KPI!$P$5,\"\"))),\"\",IF(C1772=\"corrective\",E1772+KPI!$P$4,IF(C1772=\"Preventative\",E1772+KPI!$P$5,\"\")))","v":""},"Please select",null,null,null,null,null,"Please select",null,null,"",null,null,null,null,null,null,null,null,"TBD","","",null,null,0,0,1]
[null,"Please select",null,null,null,null,null,null,null,null,null,null,null,null,{"$f":"IF(ISERROR(IF(C1773=\"corrective\",E1773+KPI!$P$4,IF(C1773=\"Preventative\",E1773+KPI!$P$5,\"\"))),\"\",IF(C1773=\"corrective\",E1773+KPI!$P$4,IF(C1773=\"Preventative\",E1773+KPI!$P$5,\"\")))","v":""},"Please select",null,null,null,null,null,"Please select",null,null,"",null,null,null,null,null,null,null,null,"TBD","","",null,null,0,0,1]
[null,"Please select",null,null,null,null,null,null,null,null,null,null,null,null,{"$f":"IF(ISERROR(IF(C1774=\"corrective\",E1774+KPI!$P$4,IF(C1774=\"Preventative\",E1774+KPI!$P$5,\"\"))),\"\",IF(C1774=\"corrective\",E1774+KPI!$P$4,IF(C1774=\"Preventative\",E1774+KPI!$P$5,\"\")))","v":""},"Please select",null,null,null,null,null,"Please select",null,null,"",null,null,null,null,null,null,null,null,"TBD","","",null,null,0,0,1]
[null,"Please select",null,null,null,null,null,null,null,null,null,null,null,null,{"$f":"IF(ISERROR(IF(C1775=\"corrective\",E1775+KPI!$P$4,IF(C1775=\"Preventative\",E1775+KPI!$P$5,\"\"))),\"\",IF(C1775=\"corrective\",E1775+KPI!$P$4,IF(C1775=\"Preventative\",E1775+KPI!$P$5,\"\")))","v":""},{"$f":"IF(AND(O1775<TODAY(),B1775=\"new\"),\"New - Overdue\",B1775)","v":"Please select"},null,null,null,null,null,"Please select",null,null,{"$f":"Z1775&AA1775&AB1775&AC1775&AD1775&AE1775","v":""},null,null,null,null,null,null,null,null,"TBD",{"$f":"IF(ISERROR(AJ1775-20),\"\",AJ1775-20)","v":""},{"$f":"IF(ISERROR(IF(C1775=\"corrective\",E1775+AH1775,\"\")),\"\",IF(C1775=\"corrective\",E1775+AH1775,\"\"))","v":""},null,null,0,0,{"$f":"COUNTIF(AN1775,\">400\")+COUNTIF(AN1775,\"=0\")","v":1}]
[null,"Please select",null,null,null,null,null,null,null,null,null,null,null,null,{"$f":"IF(ISERROR(IF(C1776=\"corrective\",E1776+KPI!$P$4,IF(C1776=\"Preventative\",E1776+KPI!$P$5,\"\"))),\"\",IF(C1776=\"corrective\",E1776+KPI!$P$4,IF(C1776=\"Preventative\",E1776+KPI!$P$5,\"\")))","v":""},"Please select",null,null,null,null,null,"Please select",null,null,"",null,null,null,null,null,null,null,null,"TBD","","",null,null,0,0,1]
[null,"Please select",null,null,null,null,null,null,null,null,null,null,null,null,{"$f":"IF(ISERROR(IF(C1777=\"corrective\",E1777+KPI!$P$4,IF(C1777=\"Preventative\",E1777+KPI!$P$5,\"\"))),\"\",IF(C1777=\"corrective\",E1777+KPI!$P$4,IF(C1777=\"Preventative\",E1777+KPI!$P$5,\"\")))","v":""},"Please select",null,null,null,null,null,"Please select",null,null,"",null,null,null,null,null,null,null,null,"TBD","","",null,null,0,0,1]
[null,"Please select",null,null,null,null,null,null,null,null,null,null,null,null,{"$f":"IF(ISERROR(IF(C1778=\"corrective\",E1778+KPI!$P$4,IF(C1778=\"Preventative\",E1778+KPI!$P$5,\"\"))),\"\",IF(C1778=\"corrective\",E1778+KPI!$P$4,IF(C1778=\"Preventative\",E1778+KPI!$P$5,\"\")))","v":""},"Please select",null,null,null,null,null,"Please select",null,null,"",null,null,null,null,null,null,null,null,"TBD","","",null,null,0,0,1]
[null,"Please select",null,null,null,null,null,null,null,null,null,null,null,null,{"$f":"IF(ISERROR(IF(C1779=\"corrective\",E1779+KPI!$P$4,IF(C1779=\"Preventative\",E1779+KPI!$P$5,\"\"))),\"\",IF(C1779=\"corrective\",E1779+KPI!$P$4,IF(C1779=\"Preventative\",E1779+KPI!$P$5,\"\")))","v":""},"Please select",null,null,null,null,null,"Please select",null,null,"",null,null,null,null,null,null,null,null,"TBD","","",null,null,0,0,1]
[null,"Please select",null,null,null,null,null,null,null,null,null,null,null,null,{"$f":"IF(ISERROR(IF(C1780=\"corrective\",E1780+KPI!$P$4,IF(C1780=\"Preventative\",E1780+KPI!$P$5,\"\"))),\"\",IF(C1780=\"corrective\",E1780+KPI!$P$4,IF(C1780=\"Preventative\",E1780+KPI!$P$5,\"\")))","v":""},"Please select",null,null,null,null,null,"Please select",null,null,"",null,null,null,null,null,null,null,null,"TBD","","",null,null,0,0,1]
[null,"Please select",null,null,null,null,null,null,null,null,null,null,null,null,{"$f":"IF(ISERROR(IF(C1781=\"corrective\",E1781+KPI!$P$4,IF(C1781=\"Preventative\",E1781+KPI!$P$5,\"\"))),\"\",IF(C1781=\"corrective\",E1781+KPI!$P$4,IF(C1781=\"Preventative\",E1781+KPI!$P$5,\"\")))","v":""},"Please select",null,null,null,null,null,"Please select",null,null,"",null,null,null,null,null,null,null,null,"TBD","","",null,null,0,0,1]
[null,"Please select",null,null,null,null,null,null,null,null,null,null,null,null,{"$f":"IF(ISERROR(IF(C1782=\"corrective\",E1782+KPI!$P$4,IF(C1782=\"Preventative\",E1782+KPI!$P$5,\"\"))),\"\",IF(C1782=\"corrective\",E1782+KPI!$P$4,IF(C1782=\"Preventative\",E1782+KPI!$P$5,\"\")))","v":""},"Please select",null,null,null,null,null,"Please select",null,null,"",null,null,null,null,null,null,null,null,"TBD","","",null,null,0,0,1]
[null,"Please select",null,null,null,null,null,null,null,null,null,null,null,null,{"$f":"IF(ISERROR(IF(C1783=\"corrective\",E1783+KPI!$P$4,IF(C1783=\"Preventative\",E1783+KPI!$P$5,\"\"))),\"\",IF(C1783=\"corrective\",E1783+KPI!$P$4,IF(C1783=\"Preventative\",E1783+KPI!$P$5,\"\")))","v":""},"Please select",null,null,null,null,null,"Please select",null,null,"",null,null,null,null,null,null,null,null,"TBD","","",null,null,0,0,1]
[null,"Please select",null,null,null,null,null,null,null,null,null,null,null,null,{"$f":"IF(ISERROR(IF(C1784=\"corrective\",E1784+KPI!$P$4,IF(C1784=\"Preventative\",E1784+KPI!$P$5,\"\"))),\"\",IF(C1784=\"corrective\",E1784+KPI!$P$4,IF(C1784=\"Preventative\",E1784+KPI!$P$5,\"\")))","v":""},"Please select",null,null,null,null,null,"Please select",null,null,"",null,null,null,null,null,null,null,null,"TBD","","",null,null,0,0,1]
[null,"Please select",null,null,null,null,null,null,null,null,null,null,null,null,{"$f":"IF(ISERROR(IF(C1785=\"corrective\",E1785+KPI!$P$4,IF(C1785=\"Preventative\",E1785+KPI!$P$5,\"\"))),\"\",IF(C1785=\"corrective\",E1785+KPI!$P$4,IF(C1785=\"Preventative\",E1785+KPI!$P$5,\"\")))","v":""},"Please select",null,null,null,null,null,"Please select",null,null,"",null,null,null,null,null,null,null,null,"TBD","","",null,null,0,0,1]
[null,"Please select",null,null,null,null,null,null,null,null,null,null,null,null,{"$f":"IF(ISERROR(IF(C1786=\"corrective\",E1786+KPI!$P$4,IF(C1786=\"Preventative\",E1786+KPI!$P$5,\"\"))),\"\",IF(C1786=\"corrective\",E1786+KPI!$P$4,IF(C1786=\"Preventative\",E1786+KPI!$P$5,\"\")))","v":""},"Please select",null,null,null,null,null,"Please select",null,null,"",null,null,null,null,null,null,null,null,"TBD","","",null,null,0,0,1]
[null,"Please select",null,null,null,null,null,null,null,null,null,null,null,null,{"$f":"IF(ISERROR(IF(C1787=\"corrective\",E1787+KPI!$P$4,IF(C1787=\"Preventative\",E1787+KPI!$P$5,\"\"))),\"\",IF(C1787=\"corrective\",E1787+KPI!$P$4,IF(C1787=\"Preventative\",E1787+KPI!$P$5,\"\")))","v":""},"Please select",null,null,null,null,null,"Please select",null,null,"",null,null,null,null,null,null,null,null,"TBD","","",null,null,0,0,1]
[null,"Please select",null,null,null,null,null,null,null,null,null,null,null,null,{"$f":"IF(ISERROR(IF(C1788=\"corrective\",E1788+KPI!$P$4,IF(C1788=\"Preventative\",E1788+KPI!$P$5,\"\"))),\"\",IF(C1788=\"corrective\",E1788+KPI!$P$4,IF(C1788=\"Preventative\",E1788+KPI!$P$5,\"\")))","v":""},"Please select",null,null,null,null,null,"Please select",null,null,"",null,null,null,null,null,null,null,null,"TBD","","",null,null,0,0,1]
[null,"Please select",null,null,null,null,null,null,null,null,null,null,null,null,{"$f":"IF(ISERROR(IF(C1789=\"corrective\",E1789+KPI!$P$4,IF(C1789=\"Preventative\",E1789+KPI!$P$5,\"\"))),\"\",IF(C1789=\"corrective\",E1789+KPI!$P$4,IF(C1789=\"Preventative\",E1789+KPI!$P$5,\"\")))","v":""},"Please select",null,null,null,null,null,"Please select",null,null,"",null,null,null,null,null,null,null,null,"TBD","","",null,null,0,0,1]
[null,"Please select",null,null,null,null,null,null,null,null,null,null,null,null,{"$f":"IF(ISERROR(IF(C1790=\"corrective\",E1790+KPI!$P$4,IF(C1790=\"Preventative\",E1790+KPI!$P$5,\"\"))),\"\",IF(C1790=\"corrective\",E1790+KPI!$P$4,IF(C1790=\"Preventative\",E1790+KPI!$P$5,\"\")))","v":""},"Please select",null,null,null,null,null,"Please select",null,null,"",null,null,null,null,null,null,null,null,"TBD","","",null,null,0,0,1]
[null,"Please select",null,null,null,null,null,null,null,null,null,null,null,null,{"$f":"IF(ISERROR(IF(C1791=\"corrective\",E1791+KPI!$P$4,IF(C1791=\"Preventative\",E1791+KPI!$P$5,\"\"))),\"\",IF(C1791=\"corrective\",E1791+KPI!$P$4,IF(C1791=\"Preventative\",E1791+KPI!$P$5,\"\")))","v":""},"Please select",null,null,null,null,null,"Please select",null,null,"",null,null,null,null,null,null,null,null,"TBD","","",null,null,0,0,1]
[null,"Please select",null,null,null,null,null,null,null,null,null,null,null,null,{"$f":"IF(ISERROR(IF(C1792=\"corrective\",E1792+KPI!$P$4,IF(C1792=\"Preventative\",E1792+KPI!$P$5,\"\"))),\"\",IF(C1792=\"corrective\",E1792+KPI!$P$4,IF(C1792=\"Preventative\",E1792+KPI!$P$5,\"\")))","v":""},"Please select",null,null,null,null,null,"Please select",null,null,"",null,null,null,null,null,null,null,null,"TBD","","",null,null,0,0,1]
[null,"Please select",null,null,null,null,null,null,null,null,null,null,null,null,{"$f":"IF(ISERROR(IF(C1793=\"corrective\",E1793+KPI!$P$4,IF(C1793=\"Preventative\",E1793+KPI!$P$5,\"\"))),\"\",IF(C1793=\"corrective\",E1793+KPI!$P$4,IF(C1793=\"Preventative\",E1793+KPI!$P$5,\"\")))","v":""},"Please select",null,null,null,null,null,"Please select",null,null,"",null,null,null,null,null,null,null,null,"TBD","","",null,null,0,0,1]
[null,"Please select",null,null,null,null,null,null,null,null,null,null,null,null,{"$f":"IF(ISERROR(IF(C1794=\"corrective\",E1794+KPI!$P$4,IF(C1794=\"Preventative\",E1794+KPI!$P$5,\"\"))),\"\",IF(C1794=\"corrective\",E1794+KPI!$P$4,IF(C1794=\"Preventative\",E1794+KPI!$P$5,\"\")))","v":""},"Please select",null,null,null,null,null,"Please select",null,null,"",null,null,null,null,null,null,null,null,"TBD","","",null,null,{"$f":"IF(ISERROR(DATEDIF(E1794,Q1794,\"D\")),\"\",DATEDIF(E1794,Q1794,\"D\"))","v":0},{"$f":"IF(ISERROR(DATEDIF(Q1794,X1794,\"D\")),\"\",DATEDIF(Q1794,X1794,\"D\"))","v":0},1]
[null,"Please select",null,null,null,null,null,null,null,null,null,null,null,null,{"$f":"IF(ISERROR(IF(C1795=\"corrective\",E1795+KPI!$P$4,IF(C1795=\"Preventative\",E1795+KPI!$P$5,\"\"))),\"\",IF(C1795=\"corrective\",E1795+KPI!$P$4,IF(C1795=\"Preventative\",E1795+KPI!$P$5,\"\")))","v":""},"Please select",null,null,null,null,null,"Please select",null,null,"",null,null,null,null,null,null,null,null,"TBD","","",null,null,0,0,1]
[null,"Please select",null,null,null,null,null,null,null,null,null,null,null,null,{"$f":"IF(ISERROR(IF(C1796=\"corrective\",E1796+KPI!$P$4,IF(C1796=\"Preventative\",E1796+KPI!$P$5,\"\"))),\"\",IF(C1796=\"corrective\",E1796+KPI!$P$4,IF(C1796=\"Preventative\",E1796+KPI!$P$5,\"\")))","v":""},"Please select",null,null,null,null,null,"Please select",null,null,"",null,null,null,null,null,null,null,null,"TBD","","",null,null,0,0,1]
[null,"Please select",null,null,null,null,null,null,null,null,null,null,null,null,{"$f":"IF(ISERROR(IF(C1797=\"corrective\",E1797+KPI!$P$4,IF(C1797=\"Preventative\",E1797+KPI!$P$5,\"\"))),\"\",IF(C1797=\"corrective\",E1797+KPI!$P$4,IF(C1797=\"Preventative\",E1797+KPI!$P$5,\"\")))","v":""},"Please select",null,null,null,null,null,"Please select",null,null,"",null,null,null,null,null,null,null,null,"TBD","","",null,null,0,0,1]
[null,"Please select",null,null,null,null,null,null,null,null,null,null,null,null,{"$f":"IF(ISERROR(IF(C1798=\"corrective\",E1798+KPI!$P$4,IF(C1798=\"Preventative\",E1798+KPI!$P$5,\"\"))),\"\",IF(C1798=\"corrective\",E1798+KPI!$P$4,IF(C1798=\"Preventative\",E1798+KPI!$P$5,\"\")))","v":""},"Please select",null,null,null,null,null,"Please select",null,null,"",null,null,null,null,null,null,null,null,"TBD","","",null,null,0,0,1]
[null,"Please select",null,null,null,null,null,null,null,null,null,null,null,null,{"$f":"IF(ISERROR(IF(C1799=\"corrective\",E1799+KPI!$P$4,IF(C1799=\"Preventative\",E1799+KPI!$P$5,\"\"))),\"\",IF(C1799=\"corrective\",E1799+KPI!$P$4,IF(C1799=\"Preventative\",E1799+KPI!$P$5,\"\")))","v":""},"Please select",null,null,null,null,null,"Please select",null,null,"",null,null,null,null,null,null,null,null,"TBD","","",null,null,0,0,1]
[null,"Please select",null,null,null,null,null,null,null,null,null,null,null,null,{"$f":"IF(ISERROR(IF(C1800=\"corrective\",E1800+KPI!$P$4,IF(C1800=\"Preventative\",E1800+KPI!$P$5,\"\"))),\"\",IF(C1800=\"corrective\",E1800+KPI!$P$4,IF(C1800=\"Preventative\",E1800+KPI!$P$5,\"\")))","v":""},"Please select",null,null,null,null,null,"Please select",null,null,"",null,null,null,null,null,null,null,null,"TBD","","",null,null,0,0,1]
[null,"Please select",null,null,null,null,null,null,null,null,null,null,null,null,{"$f":"IF(ISERROR(IF(C1801=\"corrective\",E1801+KPI!$P$4,IF(C1801=\"Preventative\",E1801+KPI!$P$5,\"\"))),\"\",IF(C1801=\"corrective\",E1801+KPI!$P$4,IF(C1801=\"Preventative\",E1801+KPI!$P$5,\"\")))","v":""},"Please select",null,null,null,null,null,"Please select",null,null,"",null,null,null,null,null,null,null,null,"TBD","","",null,null,0,0,1]
[null,"Please select",null,null,null,null,null,null,null,null,null,null,null,null,{"$f":"IF(ISERROR(IF(C1802=\"corrective\",E1802+KPI!$P$4,IF(C1802=\"Preventative\",E1802+KPI!$P$5,\"\"))),\"\",IF(C1802=\"corrective\",E1802+KPI!$P$4,IF(C1802=\"Preventative\",E1802+KPI!$P$5,\"\")))","v":""},"Please select",null,null,null,null,null,"Please select",null,null,"",null,null,null,null,null,null,null,null,"TBD","","",null,null,0,0,1]
[null,"Please select",null,null,null,null,null,null,null,null,null,null,null,null,{"$f":"IF(ISERROR(IF(C1803=\"corrective\",E1803+KPI!$P$4,IF(C1803=\"Preventative\",E1803+KPI!$P$5,\"\"))),\"\",IF(C1803=\"corrective\",E1803+KPI!$P$4,IF(C1803=\"Preventative\",E1803+KPI!$P$5,\"\")))","v":""},"Please select",null,null,null,null,null,"Please select",null,null,"",null,null,null,null,null,null,null,null,"TBD","","",null,null,0,0,1]
[null,"Please select",null,null,null,null,null,null,null,null,null,null,null,null,{"$f":"IF(ISERROR(IF(C1804=\"corrective\",E1804+KPI!$P$4,IF(C1804=\"Preventative\",E1804+KPI!$P$5,\"\"))),\"\",IF(C1804=\"corrective\",E1804+KPI!$P$4,IF(C1804=\"Preventative\",E1804+KPI!$P$5,\"\")))","v":""},"Please select",null,null,null,null,null,"Please select",null,null,"",null,null,null,null,null,null,null,null,"TBD","","",null,null,0,0,1]
[null,"Please select",null,null,null,null,null,null,null,null,null,null,null,null,{"$f":"IF(ISERROR(IF(C1805=\"corrective\",E1805+KPI!$P$4,IF(C1805=\"Preventative\",E1805+KPI!$P$5,\"\"))),\"\",IF(C1805=\"corrective\",E1805+KPI!$P$4,IF(C1805=\"Preventative\",E1805+KPI!$P$5,\"\")))","v":""},"Please select",null,null,null,null,null,"Please select",null,null,"",null,null,null,null,null,null,null,null,"TBD","","",null,null,0,0,1]
[null,"Please select",null,null,null,null,null,null,null,null,null,null,null,null,{"$f":"IF(ISERROR(IF(C1806=\"corrective\",E1806+KPI!$P$4,IF(C1806=\"Preventative\",E1806+KPI!$P$5,\"\"))),\"\",IF(C1806=\"corrective\",E1806+KPI!$P$4,IF(C1806=\"Preventative\",E1806+KPI!$P$5,\"\")))","v":""},"Please select",null,null,null,null,null,"Please select",null,null,"",null,null,null,null,null,null,null,null,"TBD","","",null,null,0,0,1]
[null,"Please select",null,null,null,null,null,null,null,null,null,null,null,null,{"$f":"IF(ISERROR(IF(C1807=\"corrective\",E1807+KPI!$P$4,IF(C1807=\"Preventative\",E1807+KPI!$P$5,\"\"))),\"\",IF(C1807=\"corrective\",E1807+KPI!$P$4,IF(C1807=\"Preventative\",E1807+KPI!$P$5,\"\")))","v":""},"Please select",null,null,null,null,null,"Please select",null,null,"",null,null,null,null,null,null,null,null,"TBD","","",null,null,0,0,1]
[null,"Please select",null,null,null,null,null,null,null,null,null,null,null,null,{"$f":"IF(ISERROR(IF(C1808=\"corrective\",E1808+KPI!$P$4,IF(C1808=\"Preventative\",E1808+KPI!$P$5,\"\"))),\"\",IF(C1808=\"corrective\",E1808+KPI!$P$4,IF(C1808=\"Preventative\",E1808+KPI!$P$5,\"\")))","v":""},"Please select",null,null,null,null,null,"Please select",null,null,"",null,null,null,null,null,null,null,null,"TBD","","",null,null,0,0,1]
[null,"Please select",null,null,null,null,null,null,null,null,null,null,null,null,{"$f":"IF(ISERROR(IF(C1809=\"corrective\",E1809+KPI!$P$4,IF(C1809=\"Preventative\",E1809+KPI!$P$5,\"\"))),\"\",IF(C1809=\"corrective\",E1809+KPI!$P$4,IF(C1809=\"Preventative\",E1809+KPI!$P$5,\"\")))","v":""},"Please select",null,null,null,null,null,"Please select",null,null,"",null,null,null,null,null,null,null,null,"TBD","","",null,null,0,0,1]
[null,"Please select",null,null,null,null,null,null,null,null,null,null,null,null,{"$f":"IF(ISERROR(IF(C1810=\"corrective\",E1810+KPI!$P$4,IF(C1810=\"Preventative\",E1810+KPI!$P$5,\"\"))),\"\",IF(C1810=\"corrective\",E1810+KPI!$P$4,IF(C1810=\"Preventative\",E1810+KPI!$P$5,\"\")))","v":""},"Please select",null,null,null,null,null,"Please select",null,null,"",null,null,null,null,null,null,null,null,"TBD","","",null,null,0,0,1]
[null,"Please select",null,null,null,null,null,null,null,null,null,null,null,null,{"$f":"IF(ISERROR(IF(C1811=\"corrective\",E1811+KPI!$P$4,IF(C1811=\"Preventative\",E1811+KPI!$P$5,\"\"))),\"\",IF(C1811=\"corrective\",E1811+KPI!$P$4,IF(C1811=\"Preventative\",E1811+KPI!$P$5,\"\")))","v":""},"Please select",null,null,null,null,null,"Please select",null,null,"",null,null,null,null,null,null,null,null,"TBD","","",null,null,0,0,1]
[null,"Please select",null,null,null,null,null,null,null,null,null,null,null,null,{"$f":"IF(ISERROR(IF(C1812=\"corrective\",E1812+KPI!$P$4,IF(C1812=\"Preventative\",E1812+KPI!$P$5,\"\"))),\"\",IF(C1812=\"corrective\",E1812+KPI!$P$4,IF(C1812=\"Preventative\",E1812+KPI!$P$5,\"\")))","v":""},"Please select",null,null,null,null,null,"Please select",null,null,"",null,null,null,null,null,null,null,null,"TBD","","",null,null,0,0,1]
[null,"Please select",null,null,null,null,null,null,null,null,null,null,null,null,{"$f":"IF(ISERROR(IF(C1813=\"corrective\",E1813+KPI!$P$4,IF(C1813=\"Preventative\",E1813+KPI!$P$5,\"\"))),\"\",IF(C1813=\"corrective\",E1813+KPI!$P$4,IF(C1813=\"Preventative\",E1813+KPI!$P$5,\"\")))","v":""},"Please select",null,null,null,null,null,"Please select",null,null,"",null,null,null,null,null,null,null,null,"TBD","","",null,null,0,0,1]
[null,"Please select",null,null,null,null,null,null,null,null,null,null,null,null,{"$f":"IF(ISERROR(IF(C1814=\"corrective\",E1814+KPI!$P$4,IF(C1814=\"Preventative\",E1814+KPI!$P$5,\"\"))),\"\",IF(C1814=\"corrective\",E1814+KPI!$P$4,IF(C1814=\"Preventative\",E1814+KPI!$P$5,\"\")))","v":""},"Please select",null,null,null,null,null,"Please select",null,null,"",null,null,null,null,null,null,null,null,"TBD","","",null,null,0,0,1]
[null,"Please select",null,null,null,null,null,null,null,null,null,null,null,null,{"$f":"IF(ISERROR(IF(C1815=\"corrective\",E1815+KPI!$P$4,IF(C1815=\"Preventative\",E1815+KPI!$P$5,\"\"))),\"\",IF(C1815=\"corrective\",E1815+KPI!$P$4,IF(C1815=\"Preventative\",E1815+KPI!$P$5,\"\")))","v":""},"Please select",null,null,null,null,null,"Please select",null,null,"",null,null,null,null,null,null,null,null,"TBD","","",null,null,0,0,1]
[null,"Please select",null,null,null,null,null,null,null,null,null,null,null,null,{"$f":"IF(ISERROR(IF(C1816=\"corrective\",E1816+KPI!$P$4,IF(C1816=\"Preventative\",E1816+KPI!$P$5,\"\"))),\"\",IF(C1816=\"corrective\",E1816+KPI!$P$4,IF(C1816=\"Preventative\",E1816+KPI!$P$5,\"\")))","v":""},"Please select",null,null,null,null,null,"Please select",null,null,"",null,null,null,null,null,null,null,null,"TBD","","",null,null,0,0,1]
[null,"Please select",null,null,null,null,null,null,null,null,null,null,null,null,{"$f":"IF(ISERROR(IF(C1817=\"corrective\",E1817+KPI!$P$4,IF(C1817=\"Preventative\",E1817+KPI!$P$5,\"\"))),\"\",IF(C1817=\"corrective\",E1817+KPI!$P$4,IF(C1817=\"Preventative\",E1817+KPI!$P$5,\"\")))","v":""},"Please select",null,null,null,null,null,"Please select",null,null,"",null,null,null,null,null,null,null,null,"TBD","","",null,null,0,0,1]
[null,"Please select",null,null,null,null,null,null,null,null,null,null,null,null,{"$f":"IF(ISERROR(IF(C1818=\"corrective\",E1818+KPI!$P$4,IF(C1818=\"Preventative\",E1818+KPI!$P$5,\"\"))),\"\",IF(C1818=\"corrective\",E1818+KPI!$P$4,IF(C1818=\"Preventative\",E1818+KPI!$P$5,\"\")))","v":""},"Please select",null,null,null,null,null,"Please select",null,null,"",null,null,null,null,null,null,null,null,"TBD","","",null,null,0,0,1]
[null,"Please select",null,null,null,null,null,null,null,null,null,null,null,null,{"$f":"IF(ISERROR(IF(C1819=\"corrective\",E1819+KPI!$P$4,IF(C1819=\"Preventative\",E1819+KPI!$P$5,\"\"))),\"\",IF(C1819=\"corrective\",E1819+KPI!$P$4,IF(C1819=\"Preventative\",E1819+KPI!$P$5,\"\")))","v":""},"Please select",null,null,null,null,null,"Please select",null,null,"",null,null,null,null,null,null,null,null,"TBD","","",null,null,0,0,1]
[null,"Please select",null,null,null,null,null,null,null,null,null,null,null,null,{"$f":"IF(ISERROR(IF(C1820=\"corrective\",E1820+KPI!$P$4,IF(C1820=\"Preventative\",E1820+KPI!$P$5,\"\"))),\"\",IF(C1820=\"corrective\",E1820+KPI!$P$4,IF(C1820=\"Preventative\",E1820+KPI!$P$5,\"\")))","v":""},"Please select",null,null,null,null,null,"Please select",null,null,"",null,null,null,null,null,null,null,null,"TBD","","",null,null,0,0,1]
[null,"Please select",null,null,null,null,null,null,null,null,null,null,null,null,{"$f":"IF(ISERROR(IF(C1821=\"corrective\",E1821+KPI!$P$4,IF(C1821=\"Preventative\",E1821+KPI!$P$5,\"\"))),\"\",IF(C1821=\"corrective\",E1821+KPI!$P$4,IF(C1821=\"Preventative\",E1821+KPI!$P$5,\"\")))","v":""},"Please select",null,null,null,null,null,"Please select",null,null,"",null,null,null,null,null,null,null,null,"TBD","","",null,null,0,0,1]
[null,"Please select",null,null,null,null,null,null,null,null,null,null,null,null,{"$f":"IF(ISERROR(IF(C1822=\"corrective\",E1822+KPI!$P$4,IF(C1822=\"Preventative\",E1822+KPI!$P$5,\"\"))),\"\",IF(C1822=\"corrective\",E1822+KPI!$P$4,IF(C1822=\"Preventative\",E1822+KPI!$P$5,\"\")))","v":""},"Please select",null,null,null,null,null,"Please select",null,null,"",null,null,null,null,null,null,null,null,"TBD","","",null,null,0,0,1]
[null,"Please select",null,null,null,null,null,null,null,null,null,null,null,null,{"$f":"IF(ISERROR(IF(C1823=\"corrective\",E1823+KPI!$P$4,IF(C1823=\"Preventative\",E1823+KPI!$P$5,\"\"))),\"\",IF(C1823=\"corrective\",E1823+KPI!$P$4,IF(C1823=\"Preventative\",E1823+KPI!$P$5,\"\")))","v":""},"Please select",null,null,null,null,null,"Please select",null,null,"",null,null,null,null,null,null,null,null,"TBD","","",null,null,0,0,1]
[null,"Please select",null,null,null,null,null,null,null,null,null,null,null,null,{"$f":"IF(ISERROR(IF(C1824=\"corrective\",E1824+KPI!$P$4,IF(C1824=\"Preventative\",E1824+KPI!$P$5,\"\"))),\"\",IF(C1824=\"corrective\",E1824+KPI!$P$4,IF(C1824=\"Preventative\",E1824+KPI!$P$5,\"\")))","v":""},"Please select",null,null,null,null,null,"Please select",null,null,"",null,null,null,null,null,null,null,null,"TBD","","",null,null,0,0,1]
[null,"Please select",null,null,null,null,null,null,null,null,null,null,null,null,{"$f":"IF(ISERROR(IF(C1825=\"corrective\",E1825+KPI!$P$4,IF(C1825=\"Preventative\",E1825+KPI!$P$5,\"\"))),\"\",IF(C1825=\"corrective\",E1825+KPI!$P$4,IF(C1825=\"Preventative\",E1825+KPI!$P$5,\"\")))","v":""},"Please select",null,null,null,null,null,"Please select",null,null,"",null,null,null,null,null,null,null,null,"TBD","","",null,null,0,0,1]
[null,"Please select",null,null,null,null,null,null,null,null,null,null,null,null,{"$f":"IF(ISERROR(IF(C1826=\"corrective\",E1826+KPI!$P$4,IF(C1826=\"Preventative\",E1826+KPI!$P$5,\"\"))),\"\",IF(C1826=\"corrective\",E1826+KPI!$P$4,IF(C1826=\"Preventative\",E1826+KPI!$P$5,\"\")))","v":""},"Please select",null,null,null,null,null,"Please select",null,null,"",null,null,null,null,null,null,null,null,"TBD","","",null,null,0,0,1]
[null,"Please select",null,null,null,null,null,null,null,null,null,null,null,null,{"$f":"IF(ISERROR(IF(C1827=\"corrective\",E1827+KPI!$P$4,IF(C1827=\"Preventative\",E1827+KPI!$P$5,\"\"))),\"\",IF(C1827=\"corrective\",E1827+KPI!$P$4,IF(C1827=\"Preventative\",E1827+KPI!$P$5,\"\")))","v":""},"Please select",null,null,null,null,null,"Please select",null,null,"",null,null,null,null,null,null,null,null,"TBD","","",null,null,0,0,1]
[null,"Please select",null,null,null,null,null,null,null,null,null,null,null,null,{"$f":"IF(ISERROR(IF(C1828=\"corrective\",E1828+KPI!$P$4,IF(C1828=\"Preventative\",E1828+KPI!$P$5,\"\"))),\"\",IF(C1828=\"corrective\",E1828+KPI!$P$4,IF(C1828=\"Preventative\",E1828+KPI!$P$5,\"\")))","v":""},"Please select",null,null,null,null,null,"Please select",null,null,"",null,null,null,null,null,null,null,null,"TBD","","",null,null,0,0,1]
[null,"Please select",null,null,null,null,null,null,null,null,null,null,null,null,{"$f":"IF(ISERROR(IF(C1829=\"corrective\",E1829+KPI!$P$4,IF(C1829=\"Preventative\",E1829+KPI!$P$5,\"\"))),\"\",IF(C1829=\"corrective\",E1829+KPI!$P$4,IF(C1829=\"Preventative\",E1829+KPI!$P$5,\"\")))","v":""},"Please select",null,null,null,null,null,"Please select",null,null,"",null,null,null,null,null,null,null,null,"TBD","","",null,null,0,0,1]
[null,"Please select",null,null,null,null,null,null,null,null,null,null,null,null,{"$f":"IF(ISERROR(IF(C1830=\"corrective\",E1830+KPI!$P$4,IF(C1830=\"Preventative\",E1830+KPI!$P$5,\"\"))),\"\",IF(C1830=\"corrective\",E1830+KPI!$P$4,IF(C1830=\"Preventative\",E1830+KPI!$P$5,\"\")))","v":""},"Please select",null,null,null,null,null,"Please select",null,null,"",null,null,null,null,null,null,null,null,"TBD","","",null,null,0,0,1]
[null,"Please select",null,null,null,null,null,null,null,null,null,null,null,null,{"$f":"IF(ISERROR(IF(C1831=\"corrective\",E1831+KPI!$P$4,IF(C1831=\"Preventative\",E1831+KPI!$P$5,\"\"))),\"\",IF(C1831=\"corrective\",E1831+KPI!$P$4,IF(C1831=\"Preventative\",E1831+KPI!$P$5,\"\")))","v":""},"Please select",null,null,null,null,null,"Please select",null,null,"",null,null,null,null,null,null,null,null,"TBD","","",null,null,0,0,1]
[null,"Please select",null,null,null,null,null,null,null,null,null,null,null,null,{"$f":"IF(ISERROR(IF(C1832=\"corrective\",E1832+KPI!$P$4,IF(C1832=\"Preventative\",E1832+KPI!$P$5,\"\"))),\"\",IF(C1832=\"corrective\",E1832+KPI!$P$4,IF(C1832=\"Preventative\",E1832+KPI!$P$5,\"\")))","v":""},"Please select",null,null,null,null,null,"Please select",null,null,"",null,null,null,null,null,null,null,null,"TBD","","",null,null,0,0,1]
[null,"Please select",null,null,null,null,null,null,null,null,null,null,null,null,{"$f":"IF(ISERROR(IF(C1833=\"corrective\",E1833+KPI!$P$4,IF(C1833=\"Preventative\",E1833+KPI!$P$5,\"\"))),\"\",IF(C1833=\"corrective\",E1833+KPI!$P$4,IF(C1833=\"Preventative\",E1833+KPI!$P$5,\"\")))","v":""},"Please select",null,null,null,null,null,"Please select",null,null,"",null,null,null,null,null,null,null,null,"TBD","","",null,null,0,0,1]
[null,"Please select",null,null,null,null,null,null,null,null,null,null,null,null,{"$f":"IF(ISERROR(IF(C1834=\"corrective\",E1834+KPI!$P$4,IF(C1834=\"Preventative\",E1834+KPI!$P$5,\"\"))),\"\",IF(C1834=\"corrective\",E1834+KPI!$P$4,IF(C1834=\"Preventative\",E1834+KPI!$P$5,\"\")))","v":""},"Please select",null,null,null,null,null,"Please select",null,null,"",null,null,null,null,null,null,null,null,"TBD","","",null,null,0,0,1]
[null,"Please select",null,null,null,null,null,null,null,null,null,null,null,null,{"$f":"IF(ISERROR(IF(C1835=\"corrective\",E1835+KPI!$P$4,IF(C1835=\"Preventative\",E1835+KPI!$P$5,\"\"))),\"\",IF(C1835=\"corrective\",E1835+KPI!$P$4,IF(C1835=\"Preventative\",E1835+KPI!$P$5,\"\")))","v":""},"Please select",null,null,null,null,null,"Please select",null,null,"",null,null,null,null,null,null,null,null,"TBD","","",null,null,0,0,1]
[null,"Please select",null,null,null,null,null,null,null,null,null,null,null,null,{"$f":"IF(ISERROR(IF(C1836=\"corrective\",E1836+KPI!$P$4,IF(C1836=\"Preventative\",E1836+KPI!$P$5,\"\"))),\"\",IF(C1836=\"corrective\",E1836+KPI!$P$4,IF(C1836=\"Preventative\",E1836+KPI!$P$5,\"\")))","v":""},"Please select",null,null,null,null,null,"Please select",null,null,"",null,null,null,null,null,null,null,null,"TBD","","",null,null,0,0,1]
[null,"Please select",null,null,null,null,null,null,null,null,null,null,null,null,{"$f":"IF(ISERROR(IF(C1837=\"corrective\",E1837+KPI!$P$4,IF(C1837=\"Preventative\",E1837+KPI!$P$5,\"\"))),\"\",IF(C1837=\"corrective\",E1837+KPI!$P$4,IF(C1837=\"Preventative\",E1837+KPI!$P$5,\"\")))","v":""},"Please select",null,null,null,null,null,"Please select",null,null,"",null,null,null,null,null,null,null,null,"TBD","","",null,null,0,0,1]
[null,"Please select",null,null,null,null,null,null,null,null,null,null,null,null,{"$f":"IF(ISERROR(IF(C1838=\"corrective\",E1838+KPI!$P$4,IF(C1838=\"Preventative\",E1838+KPI!$P$5,\"\"))),\"\",IF(C1838=\"corrective\",E1838+KPI!$P$4,IF(C1838=\"Preventative\",E1838+KPI!$P$5,\"\")))","v":""},"Please select",null,null,null,null,null,"Please select",null,null,"",null,null,null,null,null,null,null,null,"TBD","","",null,null,0,0,1]
[null,"Please select",null,null,null,null,null,null,null,null,null,null,null,null,{"$f":"IF(ISERROR(IF(C1839=\"corrective\",E1839+KPI!$P$4,IF(C1839=\"Preventative\",E1839+KPI!$P$5,\"\"))),\"\",IF(C1839=\"corrective\",E1839+KPI!$P$4,IF(C1839=\"Preventative\",E1839+KPI!$P$5,\"\")))","v":""},{"$f":"IF(AND(O1839<TODAY(),B1839=\"new\"),\"New - Overdue\",B1839)","v":"Please select"},null,null,null,null,null,"Please select",null,null,{"$f":"Z1839&AA1839&AB1839&AC1839&AD1839&AE1839","v":""},null,null,null,null,null,null,null,null,"TBD",{"$f":"IF(ISERROR(AJ1839-20),\"\",AJ1839-20)","v":""},{"$f":"IF(ISERROR(IF(C1839=\"corrective\",E1839+AH1839,\"\")),\"\",IF(C1839=\"corrective\",E1839+AH1839,\"\"))","v":""},null,null,0,0,{"$f":"COUNTIF(AN1839,\">400\")+COUNTIF(AN1839,\"=0\")","v":1}]
[null,"Please select",null,null,null,null,null,null,null,null,null,null,null,null,{"$f":"IF(ISERROR(IF(C1840=\"corrective\",E1840+KPI!$P$4,IF(C1840=\"Preventative\",E1840+KPI!$P$5,\"\"))),\"\",IF(C1840=\"corrective\",E1840+KPI!$P$4,IF(C1840=\"Preventative\",E1840+KPI!$P$5,\"\")))","v":""},"Please select",null,null,null,null,null,"Please select",null,null,"",null,null,null,null,null,null,null,null,"TBD","","",null,null,0,0,1]
[null,"Please select",null,null,null,null,null,null,null,null,null,null,null,null,{"$f":"IF(ISERROR(IF(C1841=\"corrective\",E1841+KPI!$P$4,IF(C1841=\"Preventative\",E1841+KPI!$P$5,\"\"))),\"\",IF(C1841=\"corrective\",E1841+KPI!$P$4,IF(C1841=\"Preventative\",E1841+KPI!$P$5,\"\")))","v":""},"Please select",null,null,null,null,null,"Please select",null,null,"",null,null,null,null,null,null,null,null,"TBD","","",null,null,0,0,1]
[null,"Please select",null,null,null,null,null,null,null,null,null,null,null,null,{"$f":"IF(ISERROR(IF(C1842=\"corrective\",E1842+KPI!$P$4,IF(C1842=\"Preventative\",E1842+KPI!$P$5,\"\"))),\"\",IF(C1842=\"corrective\",E1842+KPI!$P$4,IF(C1842=\"Preventative\",E1842+KPI!$P$5,\"\")))","v":""},"Please select",null,null,null,null,null,"Please select",null,null,"",null,null,null,null,null,null,null,null,"TBD","","",null,null,0,0,1]
[null,"Please select",null,null,null,null,null,null,null,null,null,null,null,null,{"$f":"IF(ISERROR(IF(C1843=\"corrective\",E1843+KPI!$P$4,IF(C1843=\"Preventative\",E1843+KPI!$P$5,\"\"))),\"\",IF(C1843=\"corrective\",E1843+KPI!$P$4,IF(C1843=\"Preventative\",E1843+KPI!$P$5,\"\")))","v":""},"Please select",null,null,null,null,null,"Please select",null,null,"",null,null,null,null,null,null,null,null,"TBD","","",null,null,0,0,1]
[null,"Please select",null,null,null,null,null,null,null,null,null,null,null,null,{"$f":"IF(ISERROR(IF(C1844=\"corrective\",E1844+KPI!$P$4,IF(C1844=\"Preventative\",E1844+KPI!$P$5,\"\"))),\"\",IF(C1844=\"corrective\",E1844+KPI!$P$4,IF(C1844=\"Preventative\",E1844+KPI!$P$5,\"\")))","v":""},"Please select",null,null,null,null,null,"Please select",null,null,"",null,null,null,null,null,null,null,null,"TBD","","",null,null,0,0,1]
[null,"Please select",null,null,null,null,null,null,null,null,null,null,null,null,{"$f":"IF(ISERROR(IF(C1845=\"corrective\",E1845+KPI!$P$4,IF(C1845=\"Preventative\",E1845+KPI!$P$5,\"\"))),\"\",IF(C1845=\"corrective\",E1845+KPI!$P$4,IF(C1845=\"Preventative\",E1845+KPI!$P$5,\"\")))","v":""},"Please select",null,null,null,null,null,"Please select",null,null,"",null,null,null,null,null,null,null,null,"TBD","","",null,null,0,0,1]
[null,"Please select",null,null,null,null,null,null,null,null,null,null,null,null,{"$f":"IF(ISERROR(IF(C1846=\"corrective\",E1846+KPI!$P$4,IF(C1846=\"Preventative\",E1846+KPI!$P$5,\"\"))),\"\",IF(C1846=\"corrective\",E1846+KPI!$P$4,IF(C1846=\"Preventative\",E1846+KPI!$P$5,\"\")))","v":""},"Please select",null,null,null,null,null,"Please select",null,null,"",null,null,null,null,null,null,null,null,"TBD","","",null,null,0,0,1]
[null,"Please select",null,null,null,null,null,null,null,null,null,null,null,null,{"$f":"IF(ISERROR(IF(C1847=\"corrective\",E1847+KPI!$P$4,IF(C1847=\"Preventative\",E1847+KPI!$P$5,\"\"))),\"\",IF(C1847=\"corrective\",E1847+KPI!$P$4,IF(C1847=\"Preventative\",E1847+KPI!$P$5,\"\")))","v":""},"Please select",null,null,null,null,null,"Please select",null,null,"",null,null,null,null,null,null,null,null,"TBD","","",null,null,0,0,1]
[null,"Please select",null,null,null,null,null,null,null,null,null,null,null,null,{"$f":"IF(ISERROR(IF(C1848=\"corrective\",E1848+KPI!$P$4,IF(C1848=\"Preventative\",E1848+KPI!$P$5,\"\"))),\"\",IF(C1848=\"corrective\",E1848+KPI!$P$4,IF(C1848=\"Preventative\",E1848+KPI!$P$5,\"\")))","v":""},"Please select",null,null,null,null,null,"Please select",null,null,"",null,null,null,null,null,null,null,null,"TBD","","",null,null,0,0,1]
[null,"Please select",null,null,null,null,null,null,null,null,null,null,null,null,{"$f":"IF(ISERROR(IF(C1849=\"corrective\",E1849+KPI!$P$4,IF(C1849=\"Preventative\",E1849+KPI!$P$5,\"\"))),\"\",IF(C1849=\"corrective\",E1849+KPI!$P$4,IF(C1849=\"Preventative\",E1849+KPI!$P$5,\"\")))","v":""},"Please select",null,null,null,null,null,"Please select",null,null,"",null,null,null,null,null,null,null,null,"TBD","","",null,null,0,0,1]
[null,"Please select",null,null,null,null,null,null,null,null,null,null,null,null,{"$f":"IF(ISERROR(IF(C1850=\"corrective\",E1850+KPI!$P$4,IF(C1850=\"Preventative\",E1850+KPI!$P$5,\"\"))),\"\",IF(C1850=\"corrective\",E1850+KPI!$P$4,IF(C1850=\"Preventative\",E1850+KPI!$P$5,\"\")))","v":""},"Please select",null,null,null,null,null,"Please select",null,null,"",null,null,null,null,null,null,null,null,"TBD","","",null,null,0,0,1]
[null,"Please select",null,null,null,null,null,null,null,null,null,null,null,null,{"$f":"IF(ISERROR(IF(C1851=\"corrective\",E1851+KPI!$P$4,IF(C1851=\"Preventative\",E1851+KPI!$P$5,\"\"))),\"\",IF(C1851=\"corrective\",E1851+KPI!$P$4,IF(C1851=\"Preventative\",E1851+KPI!$P$5,\"\")))","v":""},"Please select",null,null,null,null,null,"Please select",null,null,"",null,null,null,null,null,null,null,null,"TBD","","",null,null,0,0,1]
[null,"Please select",null,null,null,null,null,null,null,null,null,null,null,null,{"$f":"IF(ISERROR(IF(C1852=\"corrective\",E1852+KPI!$P$4,IF(C1852=\"Preventative\",E1852+KPI!$P$5,\"\"))),\"\",IF(C1852=\"corrective\",E1852+KPI!$P$4,IF(C1852=\"Preventative\",E1852+KPI!$P$5,\"\")))","v":""},"Please select",null,null,null,null,null,"Please select",null,null,"",null,null,null,null,null,null,null,null,"TBD","","",null,null,0,0,1]
[null,"Please select",null,null,null,null,null,null,null,null,null,null,null,null,{"$f":"IF(ISERROR(IF(C1853=\"corrective\",E1853+KPI!$P$4,IF(C1853=\"Preventative\",E1853+KPI!$P$5,\"\"))),\"\",IF(C1853=\"corrective\",E1853+KPI!$P$4,IF(C1853=\"Preventative\",E1853+KPI!$P$5,\"\")))","v":""},"Please select",null,null,null,null,null,"Please select",null,null,"",null,null,null,null,null,null,null,null,"TBD","","",null,null,0,0,1]
[null,"Please select",null,null,null,null,null,null,null,null,null,null,null,null,{"$f":"IF(ISERROR(IF(C1854=\"corrective\",E1854+KPI!$P$4,IF(C1854=\"Preventative\",E1854+KPI!$P$5,\"\"))),\"\",IF(C1854=\"corrective\",E1854+KPI!$P$4,IF(C1854=\"Preventative\",E1854+KPI!$P$5,\"\")))","v":""},"Please select",null,null,null,null,null,"Please select",null,null,"",null,null,null,null,null,null,null,null,"TBD","","",null,null,0,0,1]
[null,"Please select",null,null,null,null,null,null,null,null,null,null,null,null,{"$f":"IF(ISERROR(IF(C1855=\"corrective\",E1855+KPI!$P$4,IF(C1855=\"Preventative\",E1855+KPI!$P$5,\"\"))),\"\",IF(C1855=\"corrective\",E1855+KPI!$P$4,IF(C1855=\"Preventative\",E1855+KPI!$P$5,\"\")))","v":""},"Please select",null,null,null,null,null,"Please select",null,null,"",null,null,null,null,null,null,null,null,"TBD","","",null,null,0,0,1]
[null,"Please select",null,null,null,null,null,null,null,null,null,null,null,null,{"$f":"IF(ISERROR(IF(C1856=\"corrective\",E1856+KPI!$P$4,IF(C1856=\"Preventative\",E1856+KPI!$P$5,\"\"))),\"\",IF(C1856=\"corrective\",E1856+KPI!$P$4,IF(C1856=\"Preventative\",E1856+KPI!$P$5,\"\")))","v":""},"Please select",null,null,null,null,null,"Please select",null,null,"",null,null,null,null,null,null,null,null,"TBD","","",null,null,0,0,1]
[null,"Please select",null,null,null,null,null,null,null,null,null,null,null,null,{"$f":"IF(ISERROR(IF(C1857=\"corrective\",E1857+KPI!$P$4,IF(C1857=\"Preventative\",E1857+KPI!$P$5,\"\"))),\"\",IF(C1857=\"corrective\",E1857+KPI!$P$4,IF(C1857=\"Preventative\",E1857+KPI!$P$5,\"\")))","v":""},"Please select",null,null,null,null,null,"Please select",null,null,"",null,null,null,null,null,null,null,null,"TBD","","",null,null,0,0,1]
[null,"Please select",null,null,null,null,null,null,null,null,null,null,null,null,{"$f":"IF(ISERROR(IF(C1858=\"corrective\",E1858+KPI!$P$4,IF(C1858=\"Preventative\",E1858+KPI!$P$5,\"\"))),\"\",IF(C1858=\"corrective\",E1858+KPI!$P$4,IF(C1858=\"Preventative\",E1858+KPI!$P$5,\"\")))","v":""},"Please select",null,null,null,null,null,"Please select",null,null,"",null,null,null,null,null,null,null,null,"TBD","","",null,null,{"$f":"IF(ISERROR(DATEDIF(E1858,Q1858,\"D\")),\"\",DATEDIF(E1858,Q1858,\"D\"))","v":0},{"$f":"IF(ISERROR(DATEDIF(Q1858,X1858,\"D\")),\"\",DATEDIF(Q1858,X1858,\"D\"))","v":0},1]
[null,"Please select",null,null,null,null,null,null,null,null,null,null,null,null,{"$f":"IF(ISERROR(IF(C1859=\"corrective\",E1859+KPI!$P$4,IF(C1859=\"Preventative\",E1859+KPI!$P$5,\"\"))),\"\",IF(C1859=\"corrective\",E1859+KPI!$P$4,IF(C1859=\"Preventative\",E1859+KPI!$P$5,\"\")))","v":""},"Please select",null,null,null,null,null,"Please select",null,null,"",null,null,null,null,null,null,null,null,"TBD","","",null,null,0,0,1]
[null,"Please select",null,null,null,null,null,null,null,null,null,null,null,null,{"$f":"IF(ISERROR(IF(C1860=\"corrective\",E1860+KPI!$P$4,IF(C1860=\"Preventative\",E1860+KPI!$P$5,\"\"))),\"\",IF(C1860=\"corrective\",E1860+KPI!$P$4,IF(C1860=\"Preventative\",E1860+KPI!$P$5,\"\")))","v":""},"Please select",null,null,null,null,null,"Please select",null,null,"",null,null,null,null,null,null,null,null,"TBD","","",null,null,0,0,1]
[null,"Please select",null,null,null,null,null,null,null,null,null,null,null,null,{"$f":"IF(ISERROR(IF(C1861=\"corrective\",E1861+KPI!$P$4,IF(C1861=\"Preventative\",E1861+KPI!$P$5,\"\"))),\"\",IF(C1861=\"corrective\",E1861+KPI!$P$4,IF(C1861=\"Preventative\",E1861+KPI!$P$5,\"\")))","v":""},"Please select",null,null,null,null,null,"Please select",null,null,"",null,null,null,null,null,null,null,null,"TBD","","",null,null,0,0,1]
[null,"Please select",null,null,null,null,null,null,null,null,null,null,null,null,{"$f":"IF(ISERROR(IF(C1862=\"corrective\",E1862+KPI!$P$4,IF(C1862=\"Preventative\",E1862+KPI!$P$5,\"\"))),\"\",IF(C1862=\"corrective\",E1862+KPI!$P$4,IF(C1862=\"Preventative\",E1862+KPI!$P$5,\"\")))","v":""},"Please select",null,null,null,null,null,"Please select",null,null,"",null,null,null,null,null,null,null,null,"TBD","","",null,null,0,0,1]
[null,"Please select",null,null,null,null,null,null,null,null,null,null,null,null,{"$f":"IF(ISERROR(IF(C1863=\"corrective\",E1863+KPI!$P$4,IF(C1863=\"Preventative\",E1863+KPI!$P$5,\"\"))),\"\",IF(C1863=\"corrective\",E1863+KPI!$P$4,IF(C1863=\"Preventative\",E1863+KPI!$P$5,\"\")))","v":""},"Please select",null,null,null,null,null,"Please select",null,null,"",null,null,null,null,null,null,null,null,"TBD","","",null,null,0,0,1]
[null,"Please select",null,null,null,null,null,null,null,null,null,null,null,null,{"$f":"IF(ISERROR(IF(C1864=\"corrective\",E1864+KPI!$P$4,IF(C1864=\"Preventative\",E1864+KPI!$P$5,\"\"))),\"\",IF(C1864=\"corrective\",E1864+KPI!$P$4,IF(C1864=\"Preventative\",E1864+KPI!$P$5,\"\")))","v":""},"Please select",null,null,null,null,null,"Please select",null,null,"",null,null,null,null,null,null,null,null,"TBD","","",null,null,0,0,1]
[null,"Please select",null,null,null,null,null,null,null,null,null,null,null,null,{"$f":"IF(ISERROR(IF(C1865=\"corrective\",E1865+KPI!$P$4,IF(C1865=\"Preventative\",E1865+KPI!$P$5,\"\"))),\"\",IF(C1865=\"corrective\",E1865+KPI!$P$4,IF(C1865=\"Preventative\",E1865+KPI!$P$5,\"\")))","v":""},"Please select",null,null,null,null,null,"Please select",null,null,"",null,null,null,null,null,null,null,null,"TBD","","",null,null,0,0,1]
[null,"Please select",null,null,null,null,null,null,null,null,null,null,null,null,{"$f":"IF(ISERROR(IF(C1866=\"corrective\",E1866+KPI!$P$4,IF(C1866=\"Preventative\",E1866+KPI!$P$5,\"\"))),\"\",IF(C1866=\"corrective\",E1866+KPI!$P$4,IF(C1866=\"Preventative\",E1866+KPI!$P$5,\"\")))","v":""},"Please select",null,null,null,null,null,"Please select",null,null,"",null,null,null,null,null,null,null,null,"TBD","","",null,null,0,0,1]
[null,"Please select",null,null,null,null,null,null,null,null,null,null,null,null,{"$f":"IF(ISERROR(IF(C1867=\"corrective\",E1867+KPI!$P$4,IF(C1867=\"Preventative\",E1867+KPI!$P$5,\"\"))),\"\",IF(C1867=\"corrective\",E1867+KPI!$P$4,IF(C1867=\"Preventative\",E1867+KPI!$P$5,\"\")))","v":""},"Please select",null,null,null,null,null,"Please select",null,null,"",null,null,null,null,null,null,null,null,"TBD","","",null,null,0,0,1]
[null,"Please select",null,null,null,null,null,null,null,null,null,null,null,null,{"$f":"IF(ISERROR(IF(C1868=\"corrective\",E1868+KPI!$P$4,IF(C1868=\"Preventative\",E1868+KPI!$P$5,\"\"))),\"\",IF(C1868=\"corrective\",E1868+KPI!$P$4,IF(C1868=\"Preventative\",E1868+KPI!$P$5,\"\")))","v":""},"Please select",null,null,null,null,null,"Please select",null,null,"",null,null,null,null,null,null,null,null,"TBD","","",null,null,0,0,1]
[null,"Please select",null,null,null,null,null,null,null,null,null,null,null,null,{"$f":"IF(ISERROR(IF(C1869=\"corrective\",E1869+KPI!$P$4,IF(C1869=\"Preventative\",E1869+KPI!$P$5,\"\"))),\"\",IF(C1869=\"corrective\",E1869+KPI!$P$4,IF(C1869=\"Preventative\",E1869+KPI!$P$5,\"\")))","v":""},"Please select",null,null,null,null,null,"Please select",null,null,"",null,null,null,null,null,null,null,null,"TBD","","",null,null,0,0,1]
[null,"Please select",null,null,null,null,null,null,null,null,null,null,null,null,{"$f":"IF(ISERROR(IF(C1870=\"corrective\",E1870+KPI!$P$4,IF(C1870=\"Preventative\",E1870+KPI!$P$5,\"\"))),\"\",IF(C1870=\"corrective\",E1870+KPI!$P$4,IF(C1870=\"Preventative\",E1870+KPI!$P$5,\"\")))","v":""},"Please select",null,null,null,null,null,"Please select",null,null,"",null,null,null,null,null,null,null,null,"TBD","","",null,null,0,0,1]
[null,"Please select",null,null,null,null,null,null,null,null,null,null,null,null,{"$f":"IF(ISERROR(IF(C1871=\"corrective\",E1871+KPI!$P$4,IF(C1871=\"Preventative\",E1871+KPI!$P$5,\"\"))),\"\",IF(C1871=\"corrective\",E1871+KPI!$P$4,IF(C1871=\"Preventative\",E1871+KPI!$P$5,\"\")))","v":""},"Please select",null,null,null,null,null,"Please select",null,null,"",null,null,null,null,null,null,null,null,"TBD","","",null,null,0,0,1]
[null,"Please select",null,null,null,null,null,null,null,null,null,null,null,null,{"$f":"IF(ISERROR(IF(C1872=\"corrective\",E1872+KPI!$P$4,IF(C1872=\"Preventative\",E1872+KPI!$P$5,\"\"))),\"\",IF(C1872=\"corrective\",E1872+KPI!$P$4,IF(C1872=\"Preventative\",E1872+KPI!$P$5,\"\")))","v":""},"Please select",null,null,null,null,null,"Please select",null,null,"",null,null,null,null,null,null,null,null,"TBD","","",null,null,0,0,1]
[null,"Please select",null,null,null,null,null,null,null,null,null,null,null,null,{"$f":"IF(ISERROR(IF(C1873=\"corrective\",E1873+KPI!$P$4,IF(C1873=\"Preventative\",E1873+KPI!$P$5,\"\"))),\"\",IF(C1873=\"corrective\",E1873+KPI!$P$4,IF(C1873=\"Preventative\",E1873+KPI!$P$5,\"\")))","v":""},"Please select",null,null,null,null,null,"Please select",null,null,"",null,null,null,null,null,null,null,null,"TBD","","",null,null,0,0,1]
[null,"Please select",null,null,null,null,null,null,null,null,null,null,null,null,{"$f":"IF(ISERROR(IF(C1874=\"corrective\",E1874+KPI!$P$4,IF(C1874=\"Preventative\",E1874+KPI!$P$5,\"\"))),\"\",IF(C1874=\"corrective\",E1874+KPI!$P$4,IF(C1874=\"Preventative\",E1874+KPI!$P$5,\"\")))","v":""},"Please select",null,null,null,null,null,"Please select",null,null,"",null,null,null,null,null,null,null,null,"TBD","","",null,null,0,0,1]
[null,"Please select",null,null,null,null,null,null,null,null,null,null,null,null,{"$f":"IF(ISERROR(IF(C1875=\"corrective\",E1875+KPI!$P$4,IF(C1875=\"Preventative\",E1875+KPI!$P$5,\"\"))),\"\",IF(C1875=\"corrective\",E1875+KPI!$P$4,IF(C1875=\"Preventative\",E1875+KPI!$P$5,\"\")))","v":""},"Please select",null,null,null,null,null,"Please select",null,null,"",null,null,null,null,null,null,null,null,"TBD","","",null,null,0,0,1]
[null,"Please select",null,null,null,null,null,null,null,null,null,null,null,null,{"$f":"IF(ISERROR(IF(C1876=\"corrective\",E1876+KPI!$P$4,IF(C1876=\"Preventative\",E1876+KPI!$P$5,\"\"))),\"\",IF(C1876=\"corrective\",E1876+KPI!$P$4,IF(C1876=\"Preventative\",E1876+KPI!$P$5,\"\")))","v":""},"Please select",null,null,null,null,null,"Please select",null,null,"",null,null,null,null,null,null,null,null,"TBD","","",null,null,0,0,1]
[null,"Please select",null,null,null,null,null,null,null,null,null,null,null,null,{"$f":"IF(ISERROR(IF(C1877=\"corrective\",E1877+KPI!$P$4,IF(C1877=\"Preventative\",E1877+KPI!$P$5,\"\"))),\"\",IF(C1877=\"corrective\",E1877+KPI!$P$4,IF(C1877=\"Preventative\",E1877+KPI!$P$5,\"\")))","v":""},"Please select",null,null,null,null,null,"Please select",null,null,"",null,null,null,null,null,null,null,null,"TBD","","",null,null,0,0,1]
[null,"Please select",null,null,null,null,null,null,null,null,null,null,null,null,{"$f":"IF(ISERROR(IF(C1878=\"corrective\",E1878+KPI!$P$4,IF(C1878=\"Preventative\",E1878+KPI!$P$5,\"\"))),\"\",IF(C1878=\"corrective\",E1878+KPI!$P$4,IF(C1878=\"Preventative\",E1878+KPI!$P$5,\"\")))","v":""},"Please select",null,null,null,null,null,"Please select",null,null,"",null,null,null,null,null,null,null,null,"TBD","","",null,null,0,0,1]
[null,"Please select",null,null,null,null,null,null,null,null,null,null,null,null,{"$f":"IF(ISERROR(IF(C1879=\"corrective\",E1879+KPI!$P$4,IF(C1879=\"Preventative\",E1879+KPI!$P$5,\"\"))),\"\",IF(C1879=\"corrective\",E1879+KPI!$P$4,IF(C1879=\"Preventative\",E1879+KPI!$P$5,\"\")))","v":""},"Please select",null,null,null,null,null,"Please select",null,null,"",null,null,null,null,null,null,null,null,"TBD","","",null,null,0,0,1]
[null,"Please select",null,null,null,null,null,null,null,null,null,null,null,null,{"$f":"IF(ISERROR(IF(C1880=\"corrective\",E1880+KPI!$P$4,IF(C1880=\"Preventative\",E1880+KPI!$P$5,\"\"))),\"\",IF(C1880=\"corrective\",E1880+KPI!$P$4,IF(C1880=\"Preventative\",E1880+KPI!$P$5,\"\")))","v":""},"Please select",null,null,null,null,null,"Please select",null,null,"",null,null,null,null,null,null,null,null,"TBD","","",null,null,0,0,1]
[null,"Please select",null,null,null,null,null,null,null,null,null,null,null,null,{"$f":"IF(ISERROR(IF(C1881=\"corrective\",E1881+KPI!$P$4,IF(C1881=\"Preventative\",E1881+KPI!$P$5,\"\"))),\"\",IF(C1881=\"corrective\",E1881+KPI!$P$4,IF(C1881=\"Preventative\",E1881+KPI!$P$5,\"\")))","v":""},"Please select",null,null,null,null,null,"Please select",null,null,"",null,null,null,null,null,null,null,null,"TBD","","",null,null,0,0,1]
[null,"Please select",null,null,null,null,null,null,null,null,null,null,null,null,{"$f":"IF(ISERROR(IF(C1882=\"corrective\",E1882+KPI!$P$4,IF(C1882=\"Preventative\",E1882+KPI!$P$5,\"\"))),\"\",IF(C1882=\"corrective\",E1882+KPI!$P$4,IF(C1882=\"Preventative\",E1882+KPI!$P$5,\"\")))","v":""},"Please select",null,null,null,null,null,"Please select",null,null,"",null,null,null,null,null,null,null,null,"TBD","","",null,null,0,0,1]
[null,"Please select",null,null,null,null,null,null,null,null,null,null,null,null,{"$f":"IF(ISERROR(IF(C1883=\"corrective\",E1883+KPI!$P$4,IF(C1883=\"Preventative\",E1883+KPI!$P$5,\"\"))),\"\",IF(C1883=\"corrective\",E1883+KPI!$P$4,IF(C1883=\"Preventative\",E1883+KPI!$P$5,\"\")))","v":""},"Please select",null,null,null,null,null,"Please select",null,null,"",null,null,null,null,null,null,null,null,"TBD","","",null,null,0,0,1]
[null,"Please select",null,null,null,null,null,null,null,null,null,null,null,null,{"$f":"IF(ISERROR(IF(C1884=\"corrective\",E1884+KPI!$P$4,IF(C1884=\"Preventative\",E1884+KPI!$P$5,\"\"))),\"\",IF(C1884=\"corrective\",E1884+KPI!$P$4,IF(C1884=\"Preventative\",E1884+KPI!$P$5,\"\")))","v":""},"Please select",null,null,null,null,null,"Please select",null,null,"",null,null,null,null,null,null,null,null,"TBD","","",null,null,0,0,1]
[null,"Please select",null,null,null,null,null,null,null,null,null,null,null,null,{"$f":"IF(ISERROR(IF(C1885=\"corrective\",E1885+KPI!$P$4,IF(C1885=\"Preventative\",E1885+KPI!$P$5,\"\"))),\"\",IF(C1885=\"corrective\",E1885+KPI!$P$4,IF(C1885=\"Preventative\",E1885+KPI!$P$5,\"\")))","v":""},"Please select",null,null,null,null,null,"Please select",null,null,"",null,null,null,null,null,null,null,null,"TBD","","",null,null,0,0,1]
[null,"Please select",null,null,null,null,null,null,null,null,null,null,null,null,{"$f":"IF(ISERROR(IF(C1886=\"corrective\",E1886+KPI!$P$4,IF(C1886=\"Preventative\",E1886+KPI!$P$5,\"\"))),\"\",IF(C1886=\"corrective\",E1886+KPI!$P$4,IF(C1886=\"Preventative\",E1886+KPI!$P$5,\"\")))","v":""},"Please select",null,null,null,null,null,"Please select",null,null,"",null,null,null,null,null,null,null,null,"TBD","","",null,null,0,0,1]
[null,"Please select",null,null,null,null,null,null,null,null,null,null,null,null,{"$f":"IF(ISERROR(IF(C1887=\"corrective\",E1887+KPI!$P$4,IF(C1887=\"Preventative\",E1887+KPI!$P$5,\"\"))),\"\",IF(C1887=\"corrective\",E1887+KPI!$P$4,IF(C1887=\"Preventative\",E1887+KPI!$P$5,\"\")))","v":""},"Please select",null,null,null,null,null,"Please select",null,null,"",null,null,null,null,null,null,null,null,"TBD","","",null,null,0,0,1]
[null,"Please select",null,null,null,null,null,null,null,null,null,null,null,null,{"$f":"IF(ISERROR(IF(C1888=\"corrective\",E1888+KPI!$P$4,IF(C1888=\"Preventative\",E1888+KPI!$P$5,\"\"))),\"\",IF(C1888=\"corrective\",E1888+KPI!$P$4,IF(C1888=\"Preventative\",E1888+KPI!$P$5,\"\")))","v":""},"Please select",null,null,null,null,null,"Please select",null,null,"",null,null,null,null,null,null,null,null,"TBD","","",null,null,0,0,1]
[null,"Please select",null,null,null,null,null,null,null,null,null,null,null,null,{"$f":"IF(ISERROR(IF(C1889=\"corrective\",E1889+KPI!$P$4,IF(C1889=\"Preventative\",E1889+KPI!$P$5,\"\"))),\"\",IF(C1889=\"corrective\",E1889+KPI!$P$4,IF(C1889=\"Preventative\",E1889+KPI!$P$5,\"\")))","v":""},"Please select",null,null,null,null,null,"Please select",null,null,"",null,null,null,null,null,null,null,null,"TBD","","",null,null,0,0,1]
[null,"Please select",null,null,null,null,null,null,null,null,null,null,null,null,{"$f":"IF(ISERROR(IF(C1890=\"corrective\",E1890+KPI!$P$4,IF(C1890=\"Preventative\",E1890+KPI!$P$5,\"\"))),\"\",IF(C1890=\"corrective\",E1890+KPI!$P$4,IF(C1890=\"Preventative\",E1890+KPI!$P$5,\"\")))","v":""},"Please select",null,null,null,null,null,"Please select",null,null,"",null,null,null,null,null,null,null,null,"TBD","","",null,null,0,0,1]
[null,"Please select",null,null,null,null,null,null,null,null,null,null,null,null,{"$f":"IF(ISERROR(IF(C1891=\"corrective\",E1891+KPI!$P$4,IF(C1891=\"Preventative\",E1891+KPI!$P$5,\"\"))),\"\",IF(C1891=\"corrective\",E1891+KPI!$P$4,IF(C1891=\"Preventative\",E1891+KPI!$P$5,\"\")))","v":""},"Please select",null,null,null,null,null,"Please select",null,null,"",null,null,null,null,null,null,null,null,"TBD","","",null,null,0,0,1]
[null,"Please select",null,null,null,null,null,null,null,null,null,null,null,null,{"$f":"IF(ISERROR(IF(C1892=\"corrective\",E1892+KPI!$P$4,IF(C1892=\"Preventative\",E1892+KPI!$P$5,\"\"))),\"\",IF(C1892=\"corrective\",E1892+KPI!$P$4,IF(C1892=\"Preventative\",E1892+KPI!$P$5,\"\")))","v":""},"Please select",null,null,null,null,null,"Please select",null,null,"",null,null,null,null,null,null,null,null,"TBD","","",null,null,0,0,1]
[null,"Please select",null,null,null,null,null,null,null,null,null,null,null,null,{"$f":"IF(ISERROR(IF(C1893=\"corrective\",E1893+KPI!$P$4,IF(C1893=\"Preventative\",E1893+KPI!$P$5,\"\"))),\"\",IF(C1893=\"corrective\",E1893+KPI!$P$4,IF(C1893=\"Preventative\",E1893+KPI!$P$5,\"\")))","v":""},"Please select",null,null,null,null,null,"Please select",null,null,"",null,null,null,null,null,null,null,null,"TBD","","",null,null,0,0,1]
[null,"Please select",null,null,null,null,null,null,null,null,null,null,null,null,{"$f":"IF(ISERROR(IF(C1894=\"corrective\",E1894+KPI!$P$4,IF(C1894=\"Preventative\",E1894+KPI!$P$5,\"\"))),\"\",IF(C1894=\"corrective\",E1894+KPI!$P$4,IF(C1894=\"Preventative\",E1894+KPI!$P$5,\"\")))","v":""},"Please select",null,null,null,null,null,"Please select",null,null,"",null,null,null,null,null,null,null,null,"TBD","","",null,null,0,0,1]
[null,"Please select",null,null,null,null,null,null,null,null,null,null,null,null,{"$f":"IF(ISERROR(IF(C1895=\"corrective\",E1895+KPI!$P$4,IF(C1895=\"Preventative\",E1895+KPI!$P$5,\"\"))),\"\",IF(C1895=\"corrective\",E1895+KPI!$P$4,IF(C1895=\"Preventative\",E1895+KPI!$P$5,\"\")))","v":""},"Please select",null,null,null,null,null,"Please select",null,null,"",null,null,null,null,null,null,null,null,"TBD","","",null,null,0,0,1]
[null,"Please select",null,null,null,null,null,null,null,null,null,null,null,null,{"$f":"IF(ISERROR(IF(C1896=\"corrective\",E1896+KPI!$P$4,IF(C1896=\"Preventative\",E1896+KPI!$P$5,\"\"))),\"\",IF(C1896=\"corrective\",E1896+KPI!$P$4,IF(C1896=\"Preventative\",E1896+KPI!$P$5,\"\")))","v":""},"Please select",null,null,null,null,null,"Please select",null,null,"",null,null,null,null,null,null,null,null,"TBD","","",null,null,0,0,1]
[null,"Please select",null,null,null,null,null,null,null,null,null,null,null,null,{"$f":"IF(ISERROR(IF(C1897=\"corrective\",E1897+KPI!$P$4,IF(C1897=\"Preventative\",E1897+KPI!$P$5,\"\"))),\"\",IF(C1897=\"corrective\",E1897+KPI!$P$4,IF(C1897=\"Preventative\",E1897+KPI!$P$5,\"\")))","v":""},"Please select",null,null,null,null,null,"Please select",null,null,"",null,null,null,null,null,null,null,null,"TBD","","",null,null,0,0,1]
[null,"Please select",null,null,null,null,null,null,null,null,null,null,null,null,{"$f":"IF(ISERROR(IF(C1898=\"corrective\",E1898+KPI!$P$4,IF(C1898=\"Preventative\",E1898+KPI!$P$5,\"\"))),\"\",IF(C1898=\"corrective\",E1898+KPI!$P$4,IF(C1898=\"Preventative\",E1898+KPI!$P$5,\"\")))","v":""},"Please select",null,null,null,null,null,"Please select",null,null,"",null,null,null,null,null,null,null,null,"TBD","","",null,null,0,0,1]
[null,"Please select",null,null,null,null,null,null,null,null,null,null,null,null,{"$f":"IF(ISERROR(IF(C1899=\"corrective\",E1899+KPI!$P$4,IF(C1899=\"Preventative\",E1899+KPI!$P$5,\"\"))),\"\",IF(C1899=\"corrective\",E1899+KPI!$P$4,IF(C1899=\"Preventative\",E1899+KPI!$P$5,\"\")))","v":""},"Please select",null,null,null,null,null,"Please select",null,null,"",null,null,null,null,null,null,null,null,"TBD","","",null,null,0,0,1]
[null,"Please select",null,null,null,null,null,null,null,null,null,null,null,null,{"$f":"IF(ISERROR(IF(C1900=\"corrective\",E1900+KPI!$P$4,IF(C1900=\"Preventative\",E1900+KPI!$P$5,\"\"))),\"\",IF(C1900=\"corrective\",E1900+KPI!$P$4,IF(C1900=\"Preventative\",E1900+KPI!$P$5,\"\")))","v":""},"Please select",null,null,null,null,null,"Please select",null,null,"",null,null,null,null,null,null,null,null,"TBD","","",null,null,0,0,1]
[null,"Please select",null,null,null,null,null,null,null,null,null,null,null,null,{"$f":"IF(ISERROR(IF(C1901=\"corrective\",E1901+KPI!$P$4,IF(C1901=\"Preventative\",E1901+KPI!$P$5,\"\"))),\"\",IF(C1901=\"corrective\",E1901+KPI!$P$4,IF(C1901=\"Preventative\",E1901+KPI!$P$5,\"\")))","v":""},"Please select",null,null,null,null,null,"Please select",null,null,"",null,null,null,null,null,null,null,null,"TBD","","",null,null,0,0,1]
[null,"Please select",null,null,null,null,null,null,null,null,null,null,null,null,{"$f":"IF(ISERROR(IF(C1902=\"corrective\",E1902+KPI!$P$4,IF(C1902=\"Preventative\",E1902+KPI!$P$5,\"\"))),\"\",IF(C1902=\"corrective\",E1902+KPI!$P$4,IF(C1902=\"Preventative\",E1902+KPI!$P$5,\"\")))","v":""},"Please select",null,null,null,null,null,"Please select",null,null,"",null,null,null,null,null,null,null,null,"TBD","","",null,null,0,0,1]
[null,"Please select",null,null,null,null,null,null,null,null,null,null,null,null,{"$f":"IF(ISERROR(IF(C1903=\"corrective\",E1903+KPI!$P$4,IF(C1903=\"Preventative\",E1903+KPI!$P$5,\"\"))),\"\",IF(C1903=\"corrective\",E1903+KPI!$P$4,IF(C1903=\"Preventative\",E1903+KPI!$P$5,\"\")))","v":""},{"$f":"IF(AND(O1903<TODAY(),B1903=\"new\"),\"New - Overdue\",B1903)","v":"Please select"},null,null,null,null,null,"Please select",null,null,{"$f":"Z1903&AA1903&AB1903&AC1903&AD1903&AE1903","v":""},null,null,null,null,null,null,null,null,"TBD",{"$f":"IF(ISERROR(AJ1903-20),\"\",AJ1903-20)","v":""},{"$f":"IF(ISERROR(IF(C1903=\"corrective\",E1903+AH1903,\"\")),\"\",IF(C1903=\"corrective\",E1903+AH1903,\"\"))","v":""},null,null,0,0,{"$f":"COUNTIF(AN1903,\">400\")+COUNTIF(AN1903,\"=0\")","v":1}]
[null,"Please select",null,null,null,null,null,null,null,null,null,null,null,null,{"$f":"IF(ISERROR(IF(C1904=\"corrective\",E1904+KPI!$P$4,IF(C1904=\"Preventative\",E1904+KPI!$P$5,\"\"))),\"\",IF(C1904=\"corrective\",E1904+KPI!$P$4,IF(C1904=\"Preventative\",E1904+KPI!$P$5,\"\")))","v":""},"Please select",null,null,null,null,null,"Please select",null,null,"",null,null,null,null,null,null,null,null,"TBD","","",null,null,0,0,1]
[null,"Please select",null,null,null,null,null,null,null,null,null,null,null,null,{"$f":"IF(ISERROR(IF(C1905=\"corrective\",E1905+KPI!$P$4,IF(C1905=\"Preventative\",E1905+KPI!$P$5,\"\"))),\"\",IF(C1905=\"corrective\",E1905+KPI!$P$4,IF(C1905=\"Preventative\",E1905+KPI!$P$5,\"\")))","v":""},"Please select",null,null,null,null,null,"Please select",null,null,"",null,null,null,null,null,null,null,null,"TBD","","",null,null,0,0,1]
[null,"Please select",null,null,null,null,null,null,null,null,null,null,null,null,{"$f":"IF(ISERROR(IF(C1906=\"corrective\",E1906+KPI!$P$4,IF(C1906=\"Preventative\",E1906+KPI!$P$5,\"\"))),\"\",IF(C1906=\"corrective\",E1906+KPI!$P$4,IF(C1906=\"Preventative\",E1906+KPI!$P$5,\"\")))","v":""},"Please select",null,null,null,null,null,"Please select",null,null,"",null,null,null,null,null,null,null,null,"TBD","","",null,null,0,0,1]
[null,"Please select",null,null,null,null,null,null,null,null,null,null,null,null,{"$f":"IF(ISERROR(IF(C1907=\"corrective\",E1907+KPI!$P$4,IF(C1907=\"Preventative\",E1907+KPI!$P$5,\"\"))),\"\",IF(C1907=\"corrective\",E1907+KPI!$P$4,IF(C1907=\"Preventative\",E1907+KPI!$P$5,\"\")))","v":""},"Please select",null,null,null,null,null,"Please select",null,null,"",null,null,null,null,null,null,null,null,"TBD","","",null,null,0,0,1]
[null,"Please select",null,null,null,null,null,null,null,null,null,null,null,null,{"$f":"IF(ISERROR(IF(C1908=\"corrective\",E1908+KPI!$P$4,IF(C1908=\"Preventative\",E1908+KPI!$P$5,\"\"))),\"\",IF(C1908=\"corrective\",E1908+KPI!$P$4,IF(C1908=\"Preventative\",E1908+KPI!$P$5,\"\")))","v":""},"Please select",null,null,null,null,null,"Please select",null,null,"",null,null,null,null,null,null,null,null,"TBD","","",null,null,0,0,1]
[null,"Please select",null,null,null,null,null,null,null,null,null,null,null,null,{"$f":"IF(ISERROR(IF(C1909=\"corrective\",E1909+KPI!$P$4,IF(C1909=\"Preventative\",E1909+KPI!$P$5,\"\"))),\"\",IF(C1909=\"corrective\",E1909+KPI!$P$4,IF(C1909=\"Preventative\",E1909+KPI!$P$5,\"\")))","v":""},"Please select",null,null,null,null,null,"Please select",null,null,"",null,null,null,null,null,null,null,null,"TBD","","",null,null,0,0,1]
[null,"Please select",null,null,null,null,null,null,null,null,null,null,null,null,{"$f":"IF(ISERROR(IF(C1910=\"corrective\",E1910+KPI!$P$4,IF(C1910=\"Preventative\",E1910+KPI!$P$5,\"\"))),\"\",IF(C1910=\"corrective\",E1910+KPI!$P$4,IF(C1910=\"Preventative\",E1910+KPI!$P$5,\"\")))","v":""},"Please select",null,null,null,null,null,"Please select",null,null,"",null,null,null,null,null,null,null,null,"TBD","","",null,null,0,0,1]
[null,"Please select",null,null,null,null,null,null,null,null,null,null,null,null,{"$f":"IF(ISERROR(IF(C1911=\"corrective\",E1911+KPI!$P$4,IF(C1911=\"Preventative\",E1911+KPI!$P$5,\"\"))),\"\",IF(C1911=\"corrective\",E1911+KPI!$P$4,IF(C1911=\"Preventative\",E1911+KPI!$P$5,\"\")))","v":""},"Please select",null,null,null,null,null,"Please select",null,null,"",null,null,null,null,null,null,null,null,"TBD","","",null,null,0,0,1]
[null,"Please select",null,null,null,null,null,null,null,null,null,null,null,null,{"$f":"IF(ISERROR(IF(C1912=\"corrective\",E1912+KPI!$P$4,IF(C1912=\"Preventative\",E1912+KPI!$P$5,\"\"))),\"\",IF(C1912=\"corrective\",E1912+KPI!$P$4,IF(C1912=\"Preventative\",E1912+KPI!$P$5,\"\")))","v":""},"Please select",null,null,null,null,null,"Please select",null,null,"",null,null,null,null,null,null,null,null,"TBD","","",null,null,0,0,1]
[null,"Please select",null,null,null,null,null,null,null,null,null,null,null,null,{"$f":"IF(ISERROR(IF(C1913=\"corrective\",E1913+KPI!$P$4,IF(C1913=\"Preventative\",E1913+KPI!$P$5,\"\"))),\"\",IF(C1913=\"corrective\",E1913+KPI!$P$4,IF(C1913=\"Preventative\",E1913+KPI!$P$5,\"\")))","v":""},"Please select",null,null,null,null,null,"Please select",null,null,"",null,null,null,null,null,null,null,null,"TBD","","",null,null,0,0,1]
[null,"Please select",null,null,null,null,null,null,null,null,null,null,null,null,{"$f":"IF(ISERROR(IF(C1914=\"corrective\",E1914+KPI!$P$4,IF(C1914=\"Preventative\",E1914+KPI!$P$5,\"\"))),\"\",IF(C1914=\"corrective\",E1914+KPI!$P$4,IF(C1914=\"Preventative\",E1914+KPI!$P$5,\"\")))","v":""},"Please select",null,null,null,null,null,"Please select",null,null,"",null,null,null,null,null,null,null,null,"TBD","","",null,null,0,0,1]
[null,"Please select",null,null,null,null,null,null,null,null,null,null,null,null,{"$f":"IF(ISERROR(IF(C1915=\"corrective\",E1915+KPI!$P$4,IF(C1915=\"Preventative\",E1915+KPI!$P$5,\"\"))),\"\",IF(C1915=\"corrective\",E1915+KPI!$P$4,IF(C1915=\"Preventative\",E1915+KPI!$P$5,\"\")))","v":""},"Please select",null,null,null,null,null,"Please select",null,null,"",null,null,null,null,null,null,null,null,"TBD","","",null,null,0,0,1]
[null,"Please select",null,null,null,null,null,null,null,null,null,null,null,null,{"$f":"IF(ISERROR(IF(C1916=\"corrective\",E1916+KPI!$P$4,IF(C1916=\"Preventative\",E1916+KPI!$P$5,\"\"))),\"\",IF(C1916=\"corrective\",E1916+KPI!$P$4,IF(C1916=\"Preventative\",E1916+KPI!$P$5,\"\")))","v":""},"Please select",null,null,null,null,null,"Please select",null,null,"",null,null,null,null,null,null,null,null,"TBD","","",null,null,0,0,1]
[null,"Please select",null,null,null,null,null,null,null,null,null,null,null,null,{"$f":"IF(ISERROR(IF(C1917=\"corrective\",E1917+KPI!$P$4,IF(C1917=\"Preventative\",E1917+KPI!$P$5,\"\"))),\"\",IF(C1917=\"corrective\",E1917+KPI!$P$4,IF(C1917=\"Preventative\",E1917+KPI!$P$5,\"\")))","v":""},"Please select",null,null,null,null,null,"Please select",null,null,"",null,null,null,null,null,null,null,null,"TBD","","",null,null,0,0,1]
[null,"Please select",null,null,null,null,null,null,null,null,null,null,null,null,{"$f":"IF(ISERROR(IF(C1918=\"corrective\",E1918+KPI!$P$4,IF(C1918=\"Preventative\",E1918+KPI!$P$5,\"\"))),\"\",IF(C1918=\"corrective\",E1918+KPI!$P$4,IF(C1918=\"Preventative\",E1918+KPI!$P$5,\"\")))","v":""},"Please select",null,null,null,null,null,"Please select",null,null,"",null,null,null,null,null,null,null,null,"TBD","","",null,null,0,0,1]
[null,"Please select",null,null,null,null,null,null,null,null,null,null,null,null,{"$f":"IF(ISERROR(IF(C1919=\"corrective\",E1919+KPI!$P$4,IF(C1919=\"Preventative\",E1919+KPI!$P$5,\"\"))),\"\",IF(C1919=\"corrective\",E1919+KPI!$P$4,IF(C1919=\"Preventative\",E1919+KPI!$P$5,\"\")))","v":""},"Please select",null,null,null,null,null,"Please select",null,null,"",null,null,null,null,null,null,null,null,"TBD","","",null,null,0,0,1]
[null,"Please select",null,null,null,null,null,null,null,null,null,null,null,null,{"$f":"IF(ISERROR(IF(C1920=\"corrective\",E1920+KPI!$P$4,IF(C1920=\"Preventative\",E1920+KPI!$P$5,\"\"))),\"\",IF(C1920=\"corrective\",E1920+KPI!$P$4,IF(C1920=\"Preventative\",E1920+KPI!$P$5,\"\")))","v":""},"Please select",null,null,null,null,null,"Please select",null,null,"",null,null,null,null,null,null,null,null,"TBD","","",null,null,0,0,1]
[null,"Please select",null,null,null,null,null,null,null,null,null,null,null,null,{"$f":"IF(ISERROR(IF(C1921=\"corrective\",E1921+KPI!$P$4,IF(C1921=\"Preventative\",E1921+KPI!$P$5,\"\"))),\"\",IF(C1921=\"corrective\",E1921+KPI!$P$4,IF(C1921=\"Preventative\",E1921+KPI!$P$5,\"\")))","v":""},"Please select",null,null,null,null,null,"Please select",null,null,"",null,null,null,null,null,null,null,null,"TBD","","",null,null,0,0,1]
[null,"Please select",null,null,null,null,null,null,null,null,null,null,null,null,{"$f":"IF(ISERROR(IF(C1922=\"corrective\",E1922+KPI!$P$4,IF(C1922=\"Preventative\",E1922+KPI!$P$5,\"\"))),\"\",IF(C1922=\"corrective\",E1922+KPI!$P$4,IF(C1922=\"Preventative\",E1922+KPI!$P$5,\"\")))","v":""},"Please select",null,null,null,null,null,"Please select",null,null,"",null,null,null,null,null,null,null,null,"TBD","","",null,null,{"$f":"IF(ISERROR(DATEDIF(E1922,Q1922,\"D\")),\"\",DATEDIF(E1922,Q1922,\"D\"))","v":0},{"$f":"IF(ISERROR(DATEDIF(Q1922,X1922,\"D\")),\"\",DATEDIF(Q1922,X1922,\"D\"))","v":0},1]
[null,"Please select",null,null,null,null,null,null,null,null,null,null,null,null,{"$f":"IF(ISERROR(IF(C1923=\"corrective\",E1923+KPI!$P$4,IF(C1923=\"Preventative\",E1923+KPI!$P$5,\"\"))),\"\",IF(C1923=\"corrective\",E1923+KPI!$P$4,IF(C1923=\"Preventative\",E1923+KPI!$P$5,\"\")))","v":""},"Please select",null,null,null,null,null,"Please select",null,null,"",null,null,null,null,null,null,null,null,"TBD","","",null,null,0,0,1]
[null,"Please select",null,null,null,null,null,null,null,null,null,null,null,null,{"$f":"IF(ISERROR(IF(C1924=\"corrective\",E1924+KPI!$P$4,IF(C1924=\"Preventative\",E1924+KPI!$P$5,\"\"))),\"\",IF(C1924=\"corrective\",E1924+KPI!$P$4,IF(C1924=\"Preventative\",E1924+KPI!$P$5,\"\")))","v":""},"Please select",null,null,null,null,null,"Please select",null,null,"",null,null,null,null,null,null,null,null,"TBD","","",null,null,0,0,1]
[null,"Please select",null,null,null,null,null,null,null,null,null,null,null,null,{"$f":"IF(ISERROR(IF(C1925=\"corrective\",E1925+KPI!$P$4,IF(C1925=\"Preventative\",E1925+KPI!$P$5,\"\"))),\"\",IF(C1925=\"corrective\",E1925+KPI!$P$4,IF(C1925=\"Preventative\",E1925+KPI!$P$5,\"\")))","v":""},"Please select",null,null,null,null,null,"Please select",null,null,"",null,null,null,null,null,null,null,null,"TBD","","",null,null,0,0,1]
[null,"Please select",null,null,null,null,null,null,null,null,null,null,null,null,{"$f":"IF(ISERROR(IF(C1926=\"corrective\",E1926+KPI!$P$4,IF(C1926=\"Preventative\",E1926+KPI!$P$5,\"\"))),\"\",IF(C1926=\"corrective\",E1926+KPI!$P$4,IF(C1926=\"Preventative\",E1926+KPI!$P$5,\"\")))","v":""},"Please select",null,null,null,null,null,"Please select",null,null,"",null,null,null,null,null,null,null,null,"TBD","","",null,null,0,0,1]
[null,"Please select",null,null,null,null,null,null,null,null,null,null,null,null,{"$f":"IF(ISERROR(IF(C1927=\"corrective\",E1927+KPI!$P$4,IF(C1927=\"Preventative\",E1927+KPI!$P$5,\"\"))),\"\",IF(C1927=\"corrective\",E1927+KPI!$P$4,IF(C1927=\"Preventative\",E1927+KPI!$P$5,\"\")))","v":""},"Please select",null,null,null,null,null,"Please select",null,null,"",null,null,null,null,null,null,null,null,"TBD","","",null,null,0,0,1]
[null,"Please select",null,null,null,null,null,null,null,null,null,null,null,null,{"$f":"IF(ISERROR(IF(C1928=\"corrective\",E1928+KPI!$P$4,IF(C1928=\"Preventative\",E1928+KPI!$P$5,\"\"))),\"\",IF(C1928=\"corrective\",E1928+KPI!$P$4,IF(C1928=\"Preventative\",E1928+KPI!$P$5,\"\")))","v":""},"Please select",null,null,null,null,null,"Please select",null,null,"",null,null,null,null,null,null,null,null,"TBD","","",null,null,0,0,1]
[null,"Please select",null,null,null,null,null,null,null,null,null,null,null,null,{"$f":"IF(ISERROR(IF(C1929=\"corrective\",E1929+KPI!$P$4,IF(C1929=\"Preventative\",E1929+KPI!$P$5,\"\"))),\"\",IF(C1929=\"corrective\",E1929+KPI!$P$4,IF(C1929=\"Preventative\",E1929+KPI!$P$5,\"\")))","v":""},"Please select",null,null,null,null,null,"Please select",null,null,"",null,null,null,null,null,null,null,null,"TBD","","",null,null,0,0,1]
[null,"Please select",null,null,null,null,null,null,null,null,null,null,null,null,{"$f":"IF(ISERROR(IF(C1930=\"corrective\",E1930+KPI!$P$4,IF(C1930=\"Preventative\",E1930+KPI!$P$5,\"\"))),\"\",IF(C1930=\"corrective\",E1930+KPI!$P$4,IF(C1930=\"Preventative\",E1930+KPI!$P$5,\"\")))","v":""},"Please select",null,null,null,null,null,"Please select",null,null,"",null,null,null,null,null,null,null,null,"TBD","","",null,null,0,0,1]
[null,"Please select",null,null,null,null,null,null,null,null,null,null,null,null,{"$f":"IF(ISERROR(IF(C1931=\"corrective\",E1931+KPI!$P$4,IF(C1931=\"Preventative\",E1931+KPI!$P$5,\"\"))),\"\",IF(C1931=\"corrective\",E1931+KPI!$P$4,IF(C1931=\"Preventative\",E1931+KPI!$P$5,\"\")))","v":""},"Please select",null,null,null,null,null,"Please select",null,null,"",null,null,null,null,null,null,null,null,"TBD","","",null,null,0,0,1]
[null,"Please select",null,null,null,null,null,null,null,null,null,null,null,null,{"$f":"IF(ISERROR(IF(C1932=\"corrective\",E1932+KPI!$P$4,IF(C1932=\"Preventative\",E1932+KPI!$P$5,\"\"))),\"\",IF(C1932=\"corrective\",E1932+KPI!$P$4,IF(C1932=\"Preventative\",E1932+KPI!$P$5,\"\")))","v":""},"Please select",null,null,null,null,null,"Please select",null,null,"",null,null,null,null,null,null,null,null,"TBD","","",null,null,0,0,1]
[null,"Please select",null,null,null,null,null,null,null,null,null,null,null,null,{"$f":"IF(ISERROR(IF(C1933=\"corrective\",E1933+KPI!$P$4,IF(C1933=\"Preventative\",E1933+KPI!$P$5,\"\"))),\"\",IF(C1933=\"corrective\",E1933+KPI!$P$4,IF(C1933=\"Preventative\",E1933+KPI!$P$5,\"\")))","v":""},"Please select",null,null,null,null,null,"Please select",null,null,"",null,null,null,null,null,null,null,null,"TBD","","",null,null,0,0,1]
[null,"Please select",null,null,null,null,null,null,null,null,null,null,null,null,{"$f":"IF(ISERROR(IF(C1934=\"corrective\",E1934+KPI!$P$4,IF(C1934=\"Preventative\",E1934+KPI!$P$5,\"\"))),\"\",IF(C1934=\"corrective\",E1934+KPI!$P$4,IF(C1934=\"Preventative\",E1934+KPI!$P$5,\"\")))","v":""},"Please select",null,null,null,null,null,"Please select",null,null,"",null,null,null,null,null,null,null,null,"TBD","","",null,null,0,0,1]
[null,"Please select",null,null,null,null,null,null,null,null,null,null,null,null,{"$f":"IF(ISERROR(IF(C1935=\"corrective\",E1935+KPI!$P$4,IF(C1935=\"Preventative\",E1935+KPI!$P$5,\"\"))),\"\",IF(C1935=\"corrective\",E1935+KPI!$P$4,IF(C1935=\"Preventative\",E1935+KPI!$P$5,\"\")))","v":""},"Please select",null,null,null,null,null,"Please select",null,null,"",null,null,null,null,null,null,null,null,"TBD","","",null,null,0,0,1]
[null,"Please select",null,null,null,null,null,null,null,null,null,null,null,null,{"$f":"IF(ISERROR(IF(C1936=\"corrective\",E1936+KPI!$P$4,IF(C1936=\"Preventative\",E1936+KPI!$P$5,\"\"))),\"\",IF(C1936=\"corrective\",E1936+KPI!$P$4,IF(C1936=\"Preventative\",E1936+KPI!$P$5,\"\")))","v":""},"Please select",null,null,null,null,null,"Please select",null,null,"",null,null,null,null,null,null,null,null,"TBD","","",null,null,0,0,1]
[null,"Please select",null,null,null,null,null,null,null,null,null,null,null,null,{"$f":"IF(ISERROR(IF(C1937=\"corrective\",E1937+KPI!$P$4,IF(C1937=\"Preventative\",E1937+KPI!$P$5,\"\"))),\"\",IF(C1937=\"corrective\",E1937+KPI!$P$4,IF(C1937=\"Preventative\",E1937+KPI!$P$5,\"\")))","v":""},"Please select",null,null,null,null,null,"Please select",null,null,"",null,null,null,null,null,null,null,null,"TBD","","",null,null,0,0,1]
[null,"Please select",null,null,null,null,null,null,null,null,null,null,null,null,{"$f":"IF(ISERROR(IF(C1938=\"corrective\",E1938+KPI!$P$4,IF(C1938=\"Preventative\",E1938+KPI!$P$5,\"\"))),\"\",IF(C1938=\"corrective\",E1938+KPI!$P$4,IF(C1938=\"Preventative\",E1938+KPI!$P$5,\"\")))","v":""},"Please select",null,null,null,null,null,"Please select",null,null,"",null,null,null,null,null,null,null,null,"TBD","","",null,null,0,0,1]
[null,"Please select",null,null,null,null,null,null,null,null,null,null,null,null,{"$f":"IF(ISERROR(IF(C1939=\"corrective\",E1939+KPI!$P$4,IF(C1939=\"Preventative\",E1939+KPI!$P$5,\"\"))),\"\",IF(C1939=\"corrective\",E1939+KPI!$P$4,IF(C1939=\"Preventative\",E1939+KPI!$P$5,\"\")))","v":""},"Please select",null,null,null,null,null,"Please select",null,null,"",null,null,null,null,null,null,null,null,"TBD","","",null,null,0,0,1]
[null,"Please select",null,null,null,null,null,null,null,null,null,null,null,null,{"$f":"IF(ISERROR(IF(C1940=\"corrective\",E1940+KPI!$P$4,IF(C1940=\"Preventative\",E1940+KPI!$P$5,\"\"))),\"\",IF(C1940=\"corrective\",E1940+KPI!$P$4,IF(C1940=\"Preventative\",E1940+KPI!$P$5,\"\")))","v":""},"Please select",null,null,null,null,null,"Please select",null,null,"",null,null,null,null,null,null,null,null,"TBD","","",null,null,0,0,1]
[null,"Please select",null,null,null,null,null,null,null,null,null,null,null,null,{"$f":"IF(ISERROR(IF(C1941=\"corrective\",E1941+KPI!$P$4,IF(C1941=\"Preventative\",E1941+KPI!$P$5,\"\"))),\"\",IF(C1941=\"corrective\",E1941+KPI!$P$4,IF(C1941=\"Preventative\",E1941+KPI!$P$5,\"\")))","v":""},"Please select",null,null,null,null,null,"Please select",null,null,"",null,null,null,null,null,null,null,null,"TBD","","",null,null,0,0,1]
[null,"Please select",null,null,null,null,null,null,null,null,null,null,null,null,{"$f":"IF(ISERROR(IF(C1942=\"corrective\",E1942+KPI!$P$4,IF(C1942=\"Preventative\",E1942+KPI!$P$5,\"\"))),\"\",IF(C1942=\"corrective\",E1942+KPI!$P$4,IF(C1942=\"Preventative\",E1942+KPI!$P$5,\"\")))","v":""},"Please select",null,null,null,null,null,"Please select",null,null,"",null,null,null,null,null,null,null,null,"TBD","","",null,null,0,0,1]
[null,"Please select",null,null,null,null,null,null,null,null,null,null,null,null,{"$f":"IF(ISERROR(IF(C1943=\"corrective\",E1943+KPI!$P$4,IF(C1943=\"Preventative\",E1943+KPI!$P$5,\"\"))),\"\",IF(C1943=\"corrective\",E1943+KPI!$P$4,IF(C1943=\"Preventative\",E1943+KPI!$P$5,\"\")))","v":""},"Please select",null,null,null,null,null,"Please select",null,null,"",null,null,null,null,null,null,null,null,"TBD","","",null,null,0,0,1]
[null,"Please select",null,null,null,null,null,null,null,null,null,null,null,null,{"$f":"IF(ISERROR(IF(C1944=\"corrective\",E1944+KPI!$P$4,IF(C1944=\"Preventative\",E1944+KPI!$P$5,\"\"))),\"\",IF(C1944=\"corrective\",E1944+KPI!$P$4,IF(C1944=\"Preventative\",E1944+KPI!$P$5,\"\")))","v":""},"Please select",null,null,null,null,null,"Please select",null,null,"",null,null,null,null,null,null,null,null,"TBD","","",null,null,0,0,1]
[null,"Please select",null,null,null,null,null,null,null,null,null,null,null,null,{"$f":"IF(ISERROR(IF(C1945=\"corrective\",E1945+KPI!$P$4,IF(C1945=\"Preventative\",E1945+KPI!$P$5,\"\"))),\"\",IF(C1945=\"corrective\",E1945+KPI!$P$4,IF(C1945=\"Preventative\",E1945+KPI!$P$5,\"\")))","v":""},"Please select",null,null,null,null,null,"Please select",null,null,"",null,null,null,null,null,null,null,null,"TBD","","",null,null,0,0,1]
[null,"Please select",null,null,null,null,null,null,null,null,null,null,null,null,{"$f":"IF(ISERROR(IF(C1946=\"corrective\",E1946+KPI!$P$4,IF(C1946=\"Preventative\",E1946+KPI!$P$5,\"\"))),\"\",IF(C1946=\"corrective\",E1946+KPI!$P$4,IF(C1946=\"Preventative\",E1946+KPI!$P$5,\"\")))","v":""},"Please select",null,null,null,null,null,"Please select",null,null,"",null,null,null,null,null,null,null,null,"TBD","","",null,null,0,0,1]
[null,"Please select",null,null,null,null,null,null,null,null,null,null,null,null,{"$f":"IF(ISERROR(IF(C1947=\"corrective\",E1947+KPI!$P$4,IF(C1947=\"Preventative\",E1947+KPI!$P$5,\"\"))),\"\",IF(C1947=\"corrective\",E1947+KPI!$P$4,IF(C1947=\"Preventative\",E1947+KPI!$P$5,\"\")))","v":""},"Please select",null,null,null,null,null,"Please select",null,null,"",null,null,null,null,null,null,null,null,"TBD","","",null,null,0,0,1]
[null,"Please select",null,null,null,null,null,null,null,null,null,null,null,null,{"$f":"IF(ISERROR(IF(C1948=\"corrective\",E1948+KPI!$P$4,IF(C1948=\"Preventative\",E1948+KPI!$P$5,\"\"))),\"\",IF(C1948=\"corrective\",E1948+KPI!$P$4,IF(C1948=\"Preventative\",E1948+KPI!$P$5,\"\")))","v":""},"Please select",null,null,null,null,null,"Please select",null,null,"",null,null,null,null,null,null,null,null,"TBD","","",null,null,0,0,1]
[null,"Please select",null,null,null,null,null,null,null,null,null,null,null,null,{"$f":"IF(ISERROR(IF(C1949=\"corrective\",E1949+KPI!$P$4,IF(C1949=\"Preventative\",E1949+KPI!$P$5,\"\"))),\"\",IF(C1949=\"corrective\",E1949+KPI!$P$4,IF(C1949=\"Preventative\",E1949+KPI!$P$5,\"\")))","v":""},"Please select",null,null,null,null,null,"Please select",null,null,"",null,null,null,null,null,null,null,null,"TBD","","",null,null,0,0,1]
[null,"Please select",null,null,null,null,null,null,null,null,null,null,null,null,{"$f":"IF(ISERROR(IF(C1950=\"corrective\",E1950+KPI!$P$4,IF(C1950=\"Preventative\",E1950+KPI!$P$5,\"\"))),\"\",IF(C1950=\"corrective\",E1950+KPI!$P$4,IF(C1950=\"Preventative\",E1950+KPI!$P$5,\"\")))","v":""},"Please select",null,null,null,null,null,"Please select",null,null,"",null,null,null,null,null,null,null,null,"TBD","","",null,null,0,0,1]
[null,"Please select",null,null,null,null,null,null,null,null,null,null,null,null,{"$f":"IF(ISERROR(IF(C1951=\"corrective\",E1951+KPI!$P$4,IF(C1951=\"Preventative\",E1951+KPI!$P$5,\"\"))),\"\",IF(C1951=\"corrective\",E1951+KPI!$P$4,IF(C1951=\"Preventative\",E1951+KPI!$P$5,\"\")))","v":""},"Please select",null,null,null,null,null,"Please select",null,null,"",null,null,null,null,null,null,null,null,"TBD","","",null,null,0,0,1]
[null,"Please select",null,null,null,null,null,null,null,null,null,null,null,null,{"$f":"IF(ISERROR(IF(C1952=\"corrective\",E1952+KPI!$P$4,IF(C1952=\"Preventative\",E1952+KPI!$P$5,\"\"))),\"\",IF(C1952=\"corrective\",E1952+KPI!$P$4,IF(C1952=\"Preventative\",E1952+KPI!$P$5,\"\")))","v":""},"Please select",null,null,null,null,null,"Please select",null,null,"",null,null,null,null,null,null,null,null,"TBD","","",null,null,0,0,1]
[null,"Please select",null,null,null,null,null,null,null,null,null,null,null,null,{"$f":"IF(ISERROR(IF(C1953=\"corrective\",E1953+KPI!$P$4,IF(C1953=\"Preventative\",E1953+KPI!$P$5,\"\"))),\"\",IF(C1953=\"corrective\",E1953+KPI!$P$4,IF(C1953=\"Preventative\",E1953+KPI!$P$5,\"\")))","v":""},"Please select",null,null,null,null,null,"Please select",null,null,"",null,null,null,null,null,null,null,null,"TBD","","",null,null,0,0,1]
[null,"Please select",null,null,null,null,null,null,null,null,null,null,null,null,{"$f":"IF(ISERROR(IF(C1954=\"corrective\",E1954+KPI!$P$4,IF(C1954=\"Preventative\",E1954+KPI!$P$5,\"\"))),\"\",IF(C1954=\"corrective\",E1954+KPI!$P$4,IF(C1954=\"Preventative\",E1954+KPI!$P$5,\"\")))","v":""},"Please select",null,null,null,null,null,"Please select",null,null,"",null,null,null,null,null,null,null,null,"TBD","","",null,null,0,0,1]
[null,"Please select",null,null,null,null,null,null,null,null,null,null,null,null,{"$f":"IF(ISERROR(IF(C1955=\"corrective\",E1955+KPI!$P$4,IF(C1955=\"Preventative\",E1955+KPI!$P$5,\"\"))),\"\",IF(C1955=\"corrective\",E1955+KPI!$P$4,IF(C1955=\"Preventative\",E1955+KPI!$P$5,\"\")))","v":""},"Please select",null,null,null,null,null,"Please select",null,null,"",null,null,null,null,null,null,null,null,"TBD","","",null,null,0,0,1]
[null,"Please select",null,null,null,null,null,null,null,null,null,null,null,null,{"$f":"IF(ISERROR(IF(C1956=\"corrective\",E1956+KPI!$P$4,IF(C1956=\"Preventative\",E1956+KPI!$P$5,\"\"))),\"\",IF(C1956=\"corrective\",E1956+KPI!$P$4,IF(C1956=\"Preventative\",E1956+KPI!$P$5,\"\")))","v":""},"Please select",null,null,null,null,null,"Please select",null,null,"",null,null,null,null,null,null,null,null,"TBD","","",null,null,0,0,1]
[null,"Please select",null,null,null,null,null,null,null,null,null,null,null,null,{"$f":"IF(ISERROR(IF(C1957=\"corrective\",E1957+KPI!$P$4,IF(C1957=\"Preventative\",E1957+KPI!$P$5,\"\"))),\"\",IF(C1957=\"corrective\",E1957+KPI!$P$4,IF(C1957=\"Preventative\",E1957+KPI!$P$5,\"\")))","v":""},"Please select",null,null,null,null,null,"Please select",null,null,"",null,null,null,null,null,null,null,null,"TBD","","",null,null,0,0,1]
[null,"Please select",null,null,null,null,null,null,null,null,null,null,null,null,{"$f":"IF(ISERROR(IF(C1958=\"corrective\",E1958+KPI!$P$4,IF(C1958=\"Preventative\",E1958+KPI!$P$5,\"\"))),\"\",IF(C1958=\"corrective\",E1958+KPI!$P$4,IF(C1958=\"Preventative\",E1958+KPI!$P$5,\"\")))","v":""},"Please select",null,null,null,null,null,"Please select",null,null,"",null,null,null,null,null,null,null,null,"TBD","","",null,null,0,0,1]
[null,"Please select",null,null,null,null,null,null,null,null,null,null,null,null,{"$f":"IF(ISERROR(IF(C1959=\"corrective\",E1959+KPI!$P$4,IF(C1959=\"Preventative\",E1959+KPI!$P$5,\"\"))),\"\",IF(C1959=\"corrective\",E1959+KPI!$P$4,IF(C1959=\"Preventative\",E1959+KPI!$P$5,\"\")))","v":""},"Please select",null,null,null,null,null,"Please select",null,null,"",null,null,null,null,null,null,null,null,"TBD","","",null,null,0,0,1]
[null,"Please select",null,null,null,null,null,null,null,null,null,null,null,null,{"$f":"IF(ISERROR(IF(C1960=\"corrective\",E1960+KPI!$P$4,IF(C1960=\"Preventative\",E1960+KPI!$P$5,\"\"))),\"\",IF(C1960=\"corrective\",E1960+KPI!$P$4,IF(C1960=\"Preventative\",E1960+KPI!$P$5,\"\")))","v":""},"Please select",null,null,null,null,null,"Please select",null,null,"",null,null,null,null,null,null,null,null,"TBD","","",null,null,0,0,1]
[null,"Please select",null,null,null,null,null,null,null,null,null,null,null,null,{"$f":"IF(ISERROR(IF(C1961=\"corrective\",E1961+KPI!$P$4,IF(C1961=\"Preventative\",E1961+KPI!$P$5,\"\"))),\"\",IF(C1961=\"corrective\",E1961+KPI!$P$4,IF(C1961=\"Preventative\",E1961+KPI!$P$5,\"\")))","v":""},"Please select",null,null,null,null,null,"Please select",null,null,"",null,null,null,null,null,null,null,null,"TBD","","",null,null,0,0,1]
[null,"Please select",null,null,null,null,null,null,null,null,null,null,null,null,{"$f":"IF(ISERROR(IF(C1962=\"corrective\",E1962+KPI!$P$4,IF(C1962=\"Preventative\",E1962+KPI!$P$5,\"\"))),\"\",IF(C1962=\"corrective\",E1962+KPI!$P$4,IF(C1962=\"Preventative\",E1962+KPI!$P$5,\"\")))","v":""},"Please select",null,null,null,null,null,"Please select",null,null,"",null,null,null,null,null,null,null,null,"TBD","","",null,null,0,0,1]
[null,"Please select",null,null,null,null,null,null,null,null,null,null,null,null,{"$f":"IF(ISERROR(IF(C1963=\"corrective\",E1963+KPI!$P$4,IF(C1963=\"Preventative\",E1963+KPI!$P$5,\"\"))),\"\",IF(C1963=\"corrective\",E1963+KPI!$P$4,IF(C1963=\"Preventative\",E1963+KPI!$P$5,\"\")))","v":""},"Please select",null,null,null,null,null,"Please select",null,null,"",null,null,null,null,null,null,null,null,"TBD","","",null,null,0,0,1]
[null,"Please select",null,null,null,null,null,null,null,null,null,null,null,null,{"$f":"IF(ISERROR(IF(C1964=\"corrective\",E1964+KPI!$P$4,IF(C1964=\"Preventative\",E1964+KPI!$P$5,\"\"))),\"\",IF(C1964=\"corrective\",E1964+KPI!$P$4,IF(C1964=\"Preventative\",E1964+KPI!$P$5,\"\")))","v":""},"Please select",null,null,null,null,null,"Please select",null,null,"",null,null,null,null,null,null,null,null,"TBD","","",null,null,0,0,1]
[null,"Please select",null,null,null,null,null,null,null,null,null,null,null,null,{"$f":"IF(ISERROR(IF(C1965=\"corrective\",E1965+KPI!$P$4,IF(C1965=\"Preventative\",E1965+KPI!$P$5,\"\"))),\"\",IF(C1965=\"corrective\",E1965+KPI!$P$4,IF(C1965=\"Preventative\",E1965+KPI!$P$5,\"\")))","v":""},"Please select",null,null,null,null,null,"Please select",null,null,"",null,null,null,null,null,null,null,null,"TBD","","",null,null,0,0,1]
[null,"Please select",null,null,null,null,null,null,null,null,null,null,null,null,{"$f":"IF(ISERROR(IF(C1966=\"corrective\",E1966+KPI!$P$4,IF(C1966=\"Preventative\",E1966+KPI!$P$5,\"\"))),\"\",IF(C1966=\"corrective\",E1966+KPI!$P$4,IF(C1966=\"Preventative\",E1966+KPI!$P$5,\"\")))","v":""},"Please select",null,null,null,null,null,"Please select",null,null,"",null,null,null,null,null,null,null,null,"TBD","","",null,null,0,0,1]
[null,"Please select",null,null,null,null,null,null,null,null,null,null,null,null,{"$f":"IF(ISERROR(IF(C1967=\"corrective\",E1967+KPI!$P$4,IF(C1967=\"Preventative\",E1967+KPI!$P$5,\"\"))),\"\",IF(C1967=\"corrective\",E1967+KPI!$P$4,IF(C1967=\"Preventative\",E1967+KPI!$P$5,\"\")))","v":""},{"$f":"IF(AND(O1967<TODAY(),B1967=\"new\"),\"New - Overdue\",B1967)","v":"Please select"},null,null,null,null,null,"Please select",null,null,{"$f":"Z1967&AA1967&AB1967&AC1967&AD1967&AE1967","v":""},null,null,null,null,null,null,null,null,"TBD",{"$f":"IF(ISERROR(AJ1967-20),\"\",AJ1967-20)","v":""},{"$f":"IF(ISERROR(IF(C1967=\"corrective\",E1967+AH1967,\"\")),\"\",IF(C1967=\"corrective\",E1967+AH1967,\"\"))","v":""},null,null,0,0,{"$f":"COUNTIF(AN1967,\">400\")+COUNTIF(AN1967,\"=0\")","v":1}]
[null,"Please select",null,null,null,null,null,null,null,null,null,null,null,null,{"$f":"IF(ISERROR(IF(C1968=\"corrective\",E1968+KPI!$P$4,IF(C1968=\"Preventative\",E1968+KPI!$P$5,\"\"))),\"\",IF(C1968=\"corrective\",E1968+KPI!$P$4,IF(C1968=\"Preventative\",E1968+KPI!$P$5,\"\")))","v":""},"Please select",null,null,null,null,null,"Please select",null,null,"",null,null,null,null,null,null,null,null,"TBD","","",null,null,0,0,1]
[null,"Please select",null,null,null,null,null,null,null,null,null,null,null,null,{"$f":"IF(ISERROR(IF(C1969=\"corrective\",E1969+KPI!$P$4,IF(C1969=\"Preventative\",E1969+KPI!$P$5,\"\"))),\"\",IF(C1969=\"corrective\",E1969+KPI!$P$4,IF(C1969=\"Preventative\",E1969+KPI!$P$5,\"\")))","v":""},"Please select",null,null,null,null,null,"Please select",null,null,"",null,null,null,null,null,null,null,null,"TBD","","",null,null,0,0,1]
[null,"Please select",null,null,null,null,null,null,null,null,null,null,null,null,{"$f":"IF(ISERROR(IF(C1970=\"corrective\",E1970+KPI!$P$4,IF(C1970=\"Preventative\",E1970+KPI!$P$5,\"\"))),\"\",IF(C1970=\"corrective\",E1970+KPI!$P$4,IF(C1970=\"Preventative\",E1970+KPI!$P$5,\"\")))","v":""},"Please select",null,null,null,null,null,"Please select",null,null,"",null,null,null,null,null,null,null,null,"TBD","","",null,null,0,0,1]
[null,"Please select",null,null,null,null,null,null,null,null,null,null,null,null,{"$f":"IF(ISERROR(IF(C1971=\"corrective\",E1971+KPI!$P$4,IF(C1971=\"Preventative\",E1971+KPI!$P$5,\"\"))),\"\",IF(C1971=\"corrective\",E1971+KPI!$P$4,IF(C1971=\"Preventative\",E1971+KPI!$P$5,\"\")))","v":""},"Please select",null,null,null,null,null,"Please select",null,null,"",null,null,null,null,null,null,null,null,"TBD","","",null,null,0,0,1]
[null,"Please select",null,null,null,null,null,null,null,null,null,null,null,null,{"$f":"IF(ISERROR(IF(C1972=\"corrective\",E1972+KPI!$P$4,IF(C1972=\"Preventative\",E1972+KPI!$P$5,\"\"))),\"\",IF(C1972=\"corrective\",E1972+KPI!$P$4,IF(C1972=\"Preventative\",E1972+KPI!$P$5,\"\")))","v":""},"Please select",null,null,null,null,null,"Please select",null,null,"",null,null,null,null,null,null,null,null,"TBD","","",null,null,0,0,1]
[null,"Please select",null,null,null,null,null,null,null,null,null,null,null,null,{"$f":"IF(ISERROR(IF(C1973=\"corrective\",E1973+KPI!$P$4,IF(C1973=\"Preventative\",E1973+KPI!$P$5,\"\"))),\"\",IF(C1973=\"corrective\",E1973+KPI!$P$4,IF(C1973=\"Preventative\",E1973+KPI!$P$5,\"\")))","v":""},"Please select",null,null,null,null,null,"Please select",null,null,"",null,null,null,null,null,null,null,null,"TBD","","",null,null,0,0,1]
[null,"Please select",null,null,null,null,null,null,null,null,null,null,null,null,{"$f":"IF(ISERROR(IF(C1974=\"corrective\",E1974+KPI!$P$4,IF(C1974=\"Preventative\",E1974+KPI!$P$5,\"\"))),\"\",IF(C1974=\"corrective\",E1974+KPI!$P$4,IF(C1974=\"Preventative\",E1974+KPI!$P$5,\"\")))","v":""},"Please select",null,null,null,null,null,"Please select",null,null,"",null,null,null,null,null,null,null,null,"TBD","","",null,null,0,0,1]
[null,"Please select",null,null,null,null,null,null,null,null,null,null,null,null,{"$f":"IF(ISERROR(IF(C1975=\"corrective\",E1975+KPI!$P$4,IF(C1975=\"Preventative\",E1975+KPI!$P$5,\"\"))),\"\",IF(C1975=\"corrective\",E1975+KPI!$P$4,IF(C1975=\"Preventative\",E1975+KPI!$P$5,\"\")))","v":""},"Please select",null,null,null,null,null,"Please select",null,null,"",null,null,null,null,null,null,null,null,"TBD","","",null,null,0,0,1]
[null,"Please select",null,null,null,null,null,null,null,null,null,null,null,null,{"$f":"IF(ISERROR(IF(C1976=\"corrective\",E1976+KPI!$P$4,IF(C1976=\"Preventative\",E1976+KPI!$P$5,\"\"))),\"\",IF(C1976=\"corrective\",E1976+KPI!$P$4,IF(C1976=\"Preventative\",E1976+KPI!$P$5,\"\")))","v":""},"Please select",null,null,null,null,null,"Please select",null,null,"",null,null,null,null,null,null,null,null,"TBD","","",null,null,0,0,1]
[null,"Please select",null,null,null,null,null,null,null,null,null,null,null,null,{"$f":"IF(ISERROR(IF(C1977=\"corrective\",E1977+KPI!$P$4,IF(C1977=\"Preventative\",E1977+KPI!$P$5,\"\"))),\"\",IF(C1977=\"corrective\",E1977+KPI!$P$4,IF(C1977=\"Preventative\",E1977+KPI!$P$5,\"\")))","v":""},"Please select",null,null,null,null,null,"Please select",null,null,"",null,null,null,null,null,null,null,null,"TBD","","",null,null,0,0,1]
[null,"Please select",null,null,null,null,null,null,null,null,null,null,null,null,{"$f":"IF(ISERROR(IF(C1978=\"corrective\",E1978+KPI!$P$4,IF(C1978=\"Preventative\",E1978+KPI!$P$5,\"\"))),\"\",IF(C1978=\"corrective\",E1978+KPI!$P$4,IF(C1978=\"Preventative\",E1978+KPI!$P$5,\"\")))","v":""},"Please select",null,null,null,null,null,"Please select",null,null,"",null,null,null,null,null,null,null,null,"TBD","","",null,null,0,0,1]
[null,"Please select",null,null,null,null,null,null,null,null,null,null,null,null,{"$f":"IF(ISERROR(IF(C1979=\"corrective\",E1979+KPI!$P$4,IF(C1979=\"Preventative\",E1979+KPI!$P$5,\"\"))),\"\",IF(C1979=\"corrective\",E1979+KPI!$P$4,IF(C1979=\"Preventative\",E1979+KPI!$P$5,\"\")))","v":""},"Please select",null,null,null,null,null,"Please select",null,null,"",null,null,null,null,null,null,null,null,"TBD","","",null,null,0,0,1]
[null,"Please select",null,null,null,null,null,null,null,null,null,null,null,null,{"$f":"IF(ISERROR(IF(C1980=\"corrective\",E1980+KPI!$P$4,IF(C1980=\"Preventative\",E1980+KPI!$P$5,\"\"))),\"\",IF(C1980=\"corrective\",E1980+KPI!$P$4,IF(C1980=\"Preventative\",E1980+KPI!$P$5,\"\")))","v":""},"Please select",null,null,null,null,null,"Please select",null,null,"",null,null,null,null,null,null,null,null,"TBD","","",null,null,0,0,1]
[null,"Please select",null,null,null,null,null,null,null,null,null,null,null,null,{"$f":"IF(ISERROR(IF(C1981=\"corrective\",E1981+KPI!$P$4,IF(C1981=\"Preventative\",E1981+KPI!$P$5,\"\"))),\"\",IF(C1981=\"corrective\",E1981+KPI!$P$4,IF(C1981=\"Preventative\",E1981+KPI!$P$5,\"\")))","v":""},"Please select",null,null,null,null,null,"Please select",null,null,"",null,null,null,null,null,null,null,null,"TBD","","",null,null,0,0,1]
[null,"Please select",null,null,null,null,null,null,null,null,null,null,null,null,{"$f":"IF(ISERROR(IF(C1982=\"corrective\",E1982+KPI!$P$4,IF(C1982=\"Preventative\",E1982+KPI!$P$5,\"\"))),\"\",IF(C1982=\"corrective\",E1982+KPI!$P$4,IF(C1982=\"Preventative\",E1982+KPI!$P$5,\"\")))","v":""},"Please select",null,null,null,null,null,"Please select",null,null,"",null,null,null,null,null,null,null,null,"TBD","","",null,null,0,0,1]
[null,"Please select",null,null,null,null,null,null,null,null,null,null,null,null,{"$f":"IF(ISERROR(IF(C1983=\"corrective\",E1983+KPI!$P$4,IF(C1983=\"Preventative\",E1983+KPI!$P$5,\"\"))),\"\",IF(C1983=\"corrective\",E1983+KPI!$P$4,IF(C1983=\"Preventative\",E1983+KPI!$P$5,\"\")))","v":""},"Please select",null,null,null,null,null,"Please select",null,null,"",null,null,null,null,null,null,null,null,"TBD","","",null,null,0,0,1]
[null,"Please select",null,null,null,null,null,null,null,null,null,null,null,null,{"$f":"IF(ISERROR(IF(C1984=\"corrective\",E1984+KPI!$P$4,IF(C1984=\"Preventative\",E1984+KPI!$P$5,\"\"))),\"\",IF(C1984=\"corrective\",E1984+KPI!$P$4,IF(C1984=\"Preventative\",E1984+KPI!$P$5,\"\")))","v":""},"Please select",null,null,null,null,null,"Please select",null,null,"",null,null,null,null,null,null,null,null,"TBD","","",null,null,0,0,1]
[null,"Please select",null,null,null,null,null,null,null,null,null,null,null,null,{"$f":"IF(ISERROR(IF(C1985=\"corrective\",E1985+KPI!$P$4,IF(C1985=\"Preventative\",E1985+KPI!$P$5,\"\"))),\"\",IF(C1985=\"corrective\",E1985+KPI!$P$4,IF(C1985=\"Preventative\",E1985+KPI!$P$5,\"\")))","v":""},"Please select",null,null,null,null,null,"Please select",null,null,"",null,null,null,null,null,null,null,null,"TBD","","",null,null,0,0,1]
[null,"Please select",null,null,null,null,null,null,null,null,null,null,null,null,{"$f":"IF(ISERROR(IF(C1986=\"corrective\",E1986+KPI!$P$4,IF(C1986=\"Preventative\",E1986+KPI!$P$5,\"\"))),\"\",IF(C1986=\"corrective\",E1986+KPI!$P$4,IF(C1986=\"Preventative\",E1986+KPI!$P$5,\"\")))","v":""},"Please select",null,null,null,null,null,"Please select",null,null,"",null,null,null,null,null,null,null,null,"TBD","","",null,null,{"$f":"IF(ISERROR(DATEDIF(E1986,Q1986,\"D\")),\"\",DATEDIF(E1986,Q1986,\"D\"))","v":0},{"$f":"IF(ISERROR(DATEDIF(Q1986,X1986,\"D\")),\"\",DATEDIF(Q1986,X1986,\"D\"))","v":0},1]
[null,"Please select",null,null,null,null,null,null,null,null,null,null,null,null,{"$f":"IF(ISERROR(IF(C1987=\"corrective\",E1987+KPI!$P$4,IF(C1987=\"Preventative\",E1987+KPI!$P$5,\"\"))),\"\",IF(C1987=\"corrective\",E1987+KPI!$P$4,IF(C1987=\"Preventative\",E1987+KPI!$P$5,\"\")))","v":""},"Please select",null,null,null,null,null,"Please select",null,null,"",null,null,null,null,null,null,null,null,"TBD","","",null,null,0,0,1]
[null,"Please select",null,null,null,null,null,null,null,null,null,null,null,null,{"$f":"IF(ISERROR(IF(C1988=\"corrective\",E1988+KPI!$P$4,IF(C1988=\"Preventative\",E1988+KPI!$P$5,\"\"))),\"\",IF(C1988=\"corrective\",E1988+KPI!$P$4,IF(C1988=\"Preventative\",E1988+KPI!$P$5,\"\")))","v":""},"Please select",null,null,null,null,null,"Please select",null,null,"",null,null,null,null,null,null,null,null,"TBD","","",null,null,0,0,1]
[null,"Please select",null,null,null,null,null,null,null,null,null,null,null,null,{"$f":"IF(ISERROR(IF(C1989=\"corrective\",E1989+KPI!$P$4,IF(C1989=\"Preventative\",E1989+KPI!$P$5,\"\"))),\"\",IF(C1989=\"corrective\",E1989+KPI!$P$4,IF(C1989=\"Preventative\",E1989+KPI!$P$5,\"\")))","v":""},"Please select",null,null,null,null,null,"Please select",null,null,"",null,null,null,null,null,null,null,null,"TBD","","",null,null,0,0,1]
[null,"Please select",null,null,null,null,null,null,null,null,null,null,null,null,{"$f":"IF(ISERROR(IF(C1990=\"corrective\",E1990+KPI!$P$4,IF(C1990=\"Preventative\",E1990+KPI!$P$5,\"\"))),\"\",IF(C1990=\"corrective\",E1990+KPI!$P$4,IF(C1990=\"Preventative\",E1990+KPI!$P$5,\"\")))","v":""},"Please select",null,null,null,null,null,"Please select",null,null,"",null,null,null,null,null,null,null,null,"TBD","","",null,null,0,0,1]
[null,"Please select",null,null,null,null,null,null,null,null,null,null,null,null,{"$f":"IF(ISERROR(IF(C1991=\"corrective\",E1991+KPI!$P$4,IF(C1991=\"Preventative\",E1991+KPI!$P$5,\"\"))),\"\",IF(C1991=\"corrective\",E1991+KPI!$P$4,IF(C1991=\"Preventative\",E1991+KPI!$P$5,\"\")))","v":""},"Please select",null,null,null,null,null,"Please select",null,null,"",null,null,null,null,null,null,null,null,"TBD","","",null,null,0,0,1]
[null,"Please select",null,null,null,null,null,null,null,null,null,null,null,null,{"$f":"IF(ISERROR(IF(C1992=\"corrective\",E1992+KPI!$P$4,IF(C1992=\"Preventative\",E1992+KPI!$P$5,\"\"))),\"\",IF(C1992=\"corrective\",E1992+KPI!$P$4,IF(C1992=\"Preventative\",E1992+KPI!$P$5,\"\")))","v":""},"Please select",null,null,null,null,null,"Please select",null,null,"",null,null,null,null,null,null,null,null,"TBD","","",null,null,0,0,1]
[null,"Please select",null,null,null,null,null,null,null,null,null,null,null,null,{"$f":"IF(ISERROR(IF(C1993=\"corrective\",E1993+KPI!$P$4,IF(C1993=\"Preventative\",E1993+KPI!$P$5,\"\"))),\"\",IF(C1993=\"corrective\",E1993+KPI!$P$4,IF(C1993=\"Preventative\",E1993+KPI!$P$5,\"\")))","v":""},"Please select",null,null,null,null,null,"Please select",null,null,"",null,null,null,null,null,null,null,null,"TBD","","",null,null,0,0,1]
[null,"Please select",null,null,null,null,null,null,null,null,null,null,null,null,{"$f":"IF(ISERROR(IF(C1994=\"corrective\",E1994+KPI!$P$4,IF(C1994=\"Preventative\",E1994+KPI!$P$5,\"\"))),\"\",IF(C1994=\"corrective\",E1994+KPI!$P$4,IF(C1994=\"Preventative\",E1994+KPI!$P$5,\"\")))","v":""},"Please select",null,null,null,null,null,"Please select",null,null,"",null,null,null,null,null,null,null,null,"TBD","","",null,null,0,0,1]
[null,"Please select",null,null,null,null,null,null,null,null,null,null,null,null,{"$f":"IF(ISERROR(IF(C1995=\"corrective\",E1995+KPI!$P$4,IF(C1995=\"Preventative\",E1995+KPI!$P$5,\"\"))),\"\",IF(C1995=\"corrective\",E1995+KPI!$P$4,IF(C1995=\"Preventative\",E1995+KPI!$P$5,\"\")))","v":""},"Please select",null,null,null,null,null,"Please select",null,null,"",null,null,null,null,null,null,null,null,"TBD","","",null,null,0,0,1]
[null,"Please select",null,null,null,null,null,null,null,null,null,null,null,null,{"$f":"IF(ISERROR(IF(C1996=\"corrective\",E1996+KPI!$P$4,IF(C1996=\"Preventative\",E1996+KPI!$P$5,\"\"))),\"\",IF(C1996=\"corrective\",E1996+KPI!$P$4,IF(C1996=\"Preventative\",E1996+KPI!$P$5,\"\")))","v":""},{"$f":"IF(AND(O1996<TODAY(),B1996=\"new\"),\"New - Overdue\",B1996)","v":"Please select"},null,null,null,null,null,"Please select",null,null,{"$f":"Z1996&AA1996&AB1996&AC1996&AD1996&AE1996","v":""},null,null,null,null,null,null,null,null,"TBD",{"$f":"IF(ISERROR(AJ1996-20),\"\",AJ1996-20)","v":""},{"$f":"IF(ISERROR(IF(C1996=\"corrective\",E1996+AH1996,\"\")),\"\",IF(C1996=\"corrective\",E1996+AH1996,\"\"))","v":""},null,null,{"$f":"IF(ISERROR(DATEDIF(E1996,Q1996,\"D\")),\"\",DATEDIF(E1996,Q1996,\"D\"))","v":0},{"$f":"IF(ISERROR(DATEDIF(Q1996,X1996,\"D\")),\"\",DATEDIF(Q1996,X1996,\"D\"))","v":0},{"$f":"COUNTIF(AN1996,\">400\")+COUNTIF(AN1996,\"=0\")","v":1}]
[null,"Please select",null,null,null,null,null,null,null,null,null,null,null,null,{"$f":"IF(ISERROR(IF(C1997=\"corrective\",E1997+KPI!$P$4,IF(C1997=\"Preventative\",E1997+KPI!$P$5,\"\"))),\"\",IF(C1997=\"corrective\",E1997+KPI!$P$4,IF(C1997=\"Preventative\",E1997+KPI!$P$5,\"\")))","v":""},"Please select",null,null,null,null,null,"Please select",null,null,"",null,null,null,null,null,null,null,null,"TBD","","",null,null,0,0,1]
[null,"Please select",null,null,null,null,null,null,null,null,null,null,null,null,{"$f":"IF(ISERROR(IF(C1998=\"corrective\",E1998+KPI!$P$4,IF(C1998=\"Preventative\",E1998+KPI!$P$5,\"\"))),\"\",IF(C1998=\"corrective\",E1998+KPI!$P$4,IF(C1998=\"Preventative\",E1998+KPI!$P$5,\"\")))","v":""},{"$f":"IF(AND(O1998<TODAY(),B1998=\"new\"),\"New - Overdue\",B1998)","v":"Please select"},null,null,null,null,null,"Please select",null,null,{"$f":"Z1998&AA1998&AB1998&AC1998&AD1998&AE1998","v":""},null,null,null,null,null,null,null,null,"TBD",{"$f":"IF(ISERROR(AJ1998-20),\"\",AJ1998-20)","v":""},{"$f":"IF(ISERROR(IF(C1998=\"corrective\",E1998+AH1998,\"\")),\"\",IF(C1998=\"corrective\",E1998+AH1998,\"\"))","v":""},null,null,{"$f":"IF(ISERROR(DATEDIF(E1998,Q1998,\"D\")),\"\",DATEDIF(E1998,Q1998,\"D\"))","v":0},{"$f":"IF(ISERROR(DATEDIF(Q1998,X1998,\"D\")),\"\",DATEDIF(Q1998,X1998,\"D\"))","v":0},{"$f":"COUNTIF(AN1998,\">400\")+COUNTIF(AN1998,\"=0\")","v":1}]
[null,"Please select",null,null,null,null,null,null,null,null,null,null,null,null,{"$f":"IF(ISERROR(IF(C1999=\"corrective\",E1999+KPI!$P$4,IF(C1999=\"Preventative\",E1999+KPI!$P$5,\"\"))),\"\",IF(C1999=\"corrective\",E1999+KPI!$P$4,IF(C1999=\"Preventative\",E1999+KPI!$P$5,\"\")))","v":""},"Please select",null,null,null,null,null,"Please select",null,null,"",null,null,null,null,null,null,null,null,"TBD","","",null,null,0,0,1]
[null,"Please select",null,null,null,null,null,null,null,null,null,null,null,null,{"$f":"IF(ISERROR(IF(C2000=\"corrective\",E2000+KPI!$P$4,IF(C2000=\"suggested\",E2000+KPI!$P$5,\"\"))),\"\",IF(C2000=\"corrective\",E2000+KPI!$P$4,IF(C2000=\"suggested\",E2000+KPI!$P$5,\"\")))","v":""},{"$f":"IF(AND(O2000<TODAY(),B2000=\"new\"),\"New - Overdue\",B2000)","v":"Please select"},null,null,null,null,null,"Please select",null,null,{"$f":"Z2000&AA2000&AB2000&AC2000&AD2000&AE2000","v":""},null,null,null,null,null,null,null,null,"TBD",{"$f":"IF(ISERROR(AJ2000-20),\"\",AJ2000-20)","v":""},{"$f":"IF(ISERROR(IF(C2000=\"corrective\",E2000+AH2000,\"\")),\"\",IF(C2000=\"corrective\",E2000+AH2000,\"\"))","v":""}]

{"sheet":"KPI","index":5,"n_rows":98,"n_cols":19,"rows_kept":98,"cut":false,"hidden":true,"merged":[[13,16,13,20],[3,3,3,5],[4,3,4,5],[13,1,13,5],[13,6,13,10],[13,11,13,15],[6,3,6,5],[3,12,3,14],[4,12,4,14],[73,1,73,2],[73,3,73,10],[73,11,73,18],[48,1,48,5],[48,6,48,10],[48,11,48,15],[2,12,2,15],[5,12,5,15],[39,3,39,5],[3,8,3,9],[4,8,4,9],[2,8,2,9],[6,8,6,9],[7,8,7,9],[8,8,8,9]]}
["Corrective Actions"]
[]
["Totals",null,null,null,null,null,null,null,"Corrective",null,null,null,"Timings - as days"]
["New",{"$f":"COUNTIFS('CAPA DB'!B:B,\"NEW\",'CAPA DB'!C:C,\"Corrective\")","v":0},null,"Closed/complete no end date",null,null,{"$f":"COUNTIFS('CAPA DB'!B:B,\"complete\",'CAPA DB'!C:C,\"Corrective\", 'CAPA DB'!X:X,\"=\")+COUNTIFS('CAPA DB'!B:B,\"closed\",'CAPA DB'!C:C,\"Corrective\", 'CAPA DB'!X:X,\"=\")","v":0},null,"Avg days to open action",null,{"$f":"IF(ISERROR((SUMIFS('CAPA DB'!AM:AM,'CAPA DB'!C:C,\"Corrective\",'CAPA DB'!AM:AM,\">0\"))/(COUNTIFS('CAPA DB'!C:C,\"Corrective\",'CAPA DB'!AM:AM,\">0\"))),\"\",(SUMIFS('CAPA DB'!AM:AM,'CAPA DB'!C:C,\"Corrective\",'CAPA DB'!AM:AM,\">0\"))/(COUNTIFS('CAPA DB'!C:C,\"Corrective\",'CAPA DB'!AM:AM,\">0\")))","v":""},null,"Days until corrective overdue",null,null,28]
["Under Review",{"$f":"COUNTIFS('CAPA DB'!B:B,\"under review\",'CAPA DB'!C:C,\"Corrective\")","v":0},null,"Corrective actions Under review for over 90 days",null,null,{"$f":"COUNTIFS('CAPA DB'!B:B,\"under review\",'CAPA DB'!C:C,\"Corrective\", 'CAPA DB'!X:X,\"=\",'CAPA DB'!E:E,\"<\"&MATH!E2)","v":0},null,"Avg days to complete action",null,{"$f":"IF(ISERROR((SUMIFS('CAPA DB'!AN:AN,'CAPA DB'!C:C,\"Corrective\",'CAPA DB'!AO:AO,\"=0\"))/(COUNTIFS('CAPA DB'!C:C,\"Corrective\",'CAPA DB'!AO:AO,\"=0\"))),\"\",(SUMIFS('CAPA DB'!AN:AN,'CAPA DB'!C:C,\"Corrective\",'CAPA DB'!AO:AO,\"=0\"))/(COUNTIFS('CAPA DB'!C:C,\"Corrective\",'CAPA DB'!AO:AO,\"=0\")))","v":""},null,"Days until preventatice overdue",null,null,84]
["complete",{"$f":"COUNTIFS('CAPA DB'!B:B,\"complete\",'CAPA DB'!C:C,\"Corrective\")","v":0},null,null,null,null,null,null,null,null,null,null,"Change as appropriate"]
["Closed",{"$f":"COUNTIFS('CAPA DB'!B:B,\"closed\",'CAPA DB'!C:C,\"Corrective\")","v":0},null,"% of Active actions overdue",null,null,{"$f":"IF(ISERROR(B10/(B4+B5)),\"\",B10/(B4+B5))","v":""},null,"Preventative"]
["Total",{"$f":"SUM(B4:B7)","v":0},null,null,null,null,null,null,"Avg days to open action",null,{"$f":"IF(ISERROR((SUMIFS('CAPA DB'!AM:AM,'CAPA DB'!C:C,\"preventative\",'CAPA DB'!AM:AM,\">0\"))/(COUNTIFS('CAPA DB'!C:C,\"preventative\",'CAPA DB'!AM:AM,\">0\"))),\"\",(SUMIFS('CAPA DB'!AM:AM,'CAPA DB'!C:C,\"preventative\",'CAPA DB'!AM:AM,\">0\"))/(COUNTIFS('CAPA DB'!C:C,\"preventative\",'CAPA DB'!AM:AM,\">0\")))","v":""}]
[null,null,null,null,null,null,null,null,"Avg days to complete action",null,{"$f":"IF(ISERROR((SUMIFS('CAPA DB'!AN:AN,'CAPA DB'!C:C,\"preventative\",'CAPA DB'!AO:AO,\"=0\"))/(COUNTIFS('CAPA DB'!C:C,\"preventative\",'CAPA DB'!AO:AO,\"=0\"))),\"\",(SUMIFS('CAPA DB'!AN:AN,'CAPA DB'!C:C,\"preventative\",'CAPA DB'!AO:AO,\"=0\"))/(COUNTIFS('CAPA DB'!C:C,\"preventative\",'CAPA DB'!AO:AO,\"=0\")))","v":""}]
["Corrective actions overdue",{"$f":"COUNTIFS('CAPA DB'!B:B,\"NEW\",'CAPA DB'!C:C,\"Corrective\", 'CAPA DB'!X:X,\"\",'CAPA DB'!O:O,\"<\"&TODAY())","v":0}]
[]
["Total concessions on active actions",{"$f":"(COUNTIFS('CAPA DB'!C:C,\"Corrective\", 'CAPA DB'!AF:AF,\"yes\"))-(COUNTIFS('CAPA DB'!B:B,\"closed\",'CAPA DB'!C:C,\"Corrective\", 'CAPA DB'!AF:AF,\"yes\"))","v":0}]
[]
["By Category","Any Date (using submission date)",null,null,null,null,"Submitted in the Last 90 days",null,null,null,null,"Submitted in the Last 30 days"]
["Category","New","Under review","complete","Closed","Total","New","Under review","complete","Closed","Total","New","Under review","complete","Closed","Total"]
[{"$f":"Lists!A2","v":"Access, Admission, Discharge and Transfer issue"},{"$f":"COUNTIFS('CAPA DB'!B:B,\"NEW\",'CAPA DB'!C:C,\"Corrective\", 'CAPA DB'!I:I,KPI!A:A)","v":0},{"$f":"COUNTIFS('CAPA DB'!B:B,\"under review\",'CAPA DB'!C:C,\"Corrective\", 'CAPA DB'!I:I,KPI!A:A)","v":0},{"$f":"COUNTIFS('CAPA DB'!B:B,\"complete\",'CAPA DB'!C:C,\"Corrective\", 'CAPA DB'!I:I,KPI!A:A)","v":0},{"$f":"COUNTIFS('CAPA DB'!B:B,\"closed\",'CAPA DB'!C:C,\"Corrective\", 'CAPA DB'!I:I,KPI!A:A)","v":0},{"$f":"SUM(B16:E16)","v":0},{"$f":"COUNTIFS('CAPA DB'!B:B,\"NEW\",'CAPA DB'!C:C,\"Corrective\", 'CAPA DB'!I:I,KPI!A:A,'CAPA DB'!E:E,\">=\"&MATH!E2,'CAPA DB'!E:E,\"<=\"&MATH!B2)","v":0},{"$f":"COUNTIFS('CAPA DB'!B:B,\"under review\",'CAPA DB'!C:C,\"Corrective\", 'CAPA DB'!I:I,KPI!A:A,'CAPA DB'!E:E,\">=\"&MATH!E2,'CAPA DB'!E:E,\"<=\"&MATH!B2)","v":0},{"$f":"COUNTIFS('CAPA DB'!B:B,\"complete\",'CAPA DB'!C:C,\"Corrective\", 'CAPA DB'!I:I,KPI!A:A,'CAPA DB'!E:E,\">=\"&MATH!E2,'CAPA DB'!E:E,\"<=\"&MATH!B2)","v":0},{"$f":"COUNTIFS('CAPA DB'!B:B,\"Closed\",'CAPA DB'!C:C,\"Corrective\", 'CAPA DB'!I:I,KPI!A:A,'CAPA DB'!E:E,\">=\"&MATH!E2,'CAPA DB'!E:E,\"<=\"&MATH!B2)","v":0},{"$f":"SUM(G16:J16)","v":0},{"$f":"COUNTIFS('CAPA DB'!B:B,\"NEW\",'CAPA DB'!C:C,\"Corrective\", 'CAPA DB'!I:I,KPI!A:A,'CAPA DB'!E:E,\">=\"&MATH!D2,'CAPA DB'!E:E,\"<=\"&MATH!B2)","v":0},{"$f":"COUNTIFS('CAPA DB'!B:B,\"under review\",'CAPA DB'!C:C,\"Corrective\", 'CAPA DB'!I:I,KPI!A:A,'CAPA DB'!E:E,\">=\"&MATH!D2,'CAPA DB'!E:E,\"<=\"&MATH!B2)","v":0},{"$f":"COUNTIFS('CAPA DB'!B:B,\"complete\",'CAPA DB'!C:C,\"Corrective\", 'CAPA DB'!I:I,KPI!A:A,'CAPA DB'!E:E,\">=\"&MATH!D2,'CAPA DB'!E:E,\"<=\"&MATH!B2)","v":0},{"$f":"COUNTIFS('CAPA DB'!B:B,\"closed\",'CAPA DB'!C:C,\"Corrective\", 'CAPA DB'!I:I,KPI!A:A,'CAPA DB'!E:E,\">=\"&MATH!D2,'CAPA DB'!E:E,\"<=\"&MATH!B2)","v":0},{"$f":"SUM(L16:O16)","v":0}]
[{"$f":"Lists!A3","v":"Collision/Struck against moving or stationary object"},{"$f":"COUNTIFS('CAPA DB'!B:B,\"NEW\",'CAPA DB'!C:C,\"Corrective\", 'CAPA DB'!I:I,KPI!A:A)","v":0},{"$f":"COUNTIFS('CAPA DB'!B:B,\"under review\",'CAPA DB'!C:C,\"Corrective\", 'CAPA DB'!I:I,KPI!A:A)","v":0},{"$f":"COUNTIFS('CAPA DB'!B:B,\"complete\",'CAPA DB'!C:C,\"Corrective\", 'CAPA DB'!I:I,KPI!A:A)","v":0},{"$f":"COUNTIFS('CAPA DB'!B:B,\"closed\",'CAPA DB'!C:C,\"Corrective\", 'CAPA DB'!I:I,KPI!A:A)","v":0},0,{"$f":"COUNTIFS('CAPA DB'!B:B,\"NEW\",'CAPA DB'!C:C,\"Corrective\", 'CAPA DB'!I:I,KPI!A:A,'CAPA DB'!E:E,\">=\"&MATH!E2,'CAPA DB'!E:E,\"<=\"&MATH!B2)","v":0},{"$f":"COUNTIFS('CAPA DB'!B:B,\"under review\",'CAPA DB'!C:C,\"Corrective\", 'CAPA DB'!I:I,KPI!A:A,'CAPA DB'!E:E,\">=\"&MATH!E2,'CAPA DB'!E:E,\"<=\"&MATH!B2)","v":0},{"$f":"COUNTIFS('CAPA DB'!B:B,\"complete\",'CAPA DB'!C:C,\"Corrective\", 'CAPA DB'!I:I,KPI!A:A,'CAPA DB'!E:E,\">=\"&MATH!E2,'CAPA DB'!E:E,\"<=\"&MATH!B2)","v":0},{"$f":"COUNTIFS('CAPA DB'!B:B,\"Closed\",'CAPA DB'!C:C,\"Corrective\", 'CAPA DB'!I:I,KPI!A:A,'CAPA DB'!E:E,\">=\"&MATH!E2,'CAPA DB'!E:E,\"<=\"&MATH!B2)","v":0},0,{"$f":"COUNTIFS('CAPA DB'!B:B,\"NEW\",'CAPA DB'!C:C,\"Corrective\", 'CAPA DB'!I:I,KPI!A:A,'CAPA DB'!E:E,\">=\"&MATH!D2,'CAPA DB'!E:E,\"<=\"&MATH!B2)","v":0},{"$f":"COUNTIFS('CAPA DB'!B:B,\"under review\",'CAPA DB'!C:C,\"Corrective\", 'CAPA DB'!I:I,KPI!A:A,'CAPA DB'!E:E,\">=\"&MATH!D2,'CAPA DB'!E:E,\"<=\"&MATH!B2)","v":0},{"$f":"COUNTIFS('CAPA DB'!B:B,\"complete\",'CAPA DB'!C:C,\"Corrective\", 'CAPA DB'!I:I,KPI!A:A,'CAPA DB'!E:E,\">=\"&MATH!D2,'CAPA DB'!E:E,\"<=\"&MATH!B2)","v":0},{"$f":"COUNTIFS('CAPA DB'!B:B,\"closed\",'CAPA DB'!C:C,\"Corrective\", 'CAPA DB'!I:I,KPI!A:A,'CAPA DB'!E:E,\">=\"&MATH!D2,'CAPA DB'!E:E,\"<=\"&MATH!B2)","v":0},0]
[{"$f":"Lists!A4","v":"Communication failure Consent"},{"$f":"COUNTIFS('CAPA DB'!B:B,\"NEW\",'CAPA DB'!C:C,\"Corrective\", 'CAPA DB'!I:I,KPI!A:A)","v":0},{"$f":"COUNTIFS('CAPA DB'!B:B,\"under review\",'CAPA DB'!C:C,\"Corrective\", 'CAPA DB'!I:I,KPI!A:A)","v":0},{"$f":"COUNTIFS('CAPA DB'!B:B,\"complete\",'CAPA DB'!C:C,\"Corrective\", 'CAPA DB'!I:I,KPI!A:A)","v":0},{"$f":"COUNTIFS('CAPA DB'!B:B,\"closed\",'CAPA DB'!C:C,\"Corrective\", 'CAPA DB'!I:I,KPI!A:A)","v":0},0,{"$f":"COUNTIFS('CAPA DB'!B:B,\"NEW\",'CAPA DB'!C:C,\"Corrective\", 'CAPA DB'!I:I,KPI!A:A,'CAPA DB'!E:E,\">=\"&MATH!E2,'CAPA DB'!E:E,\"<=\"&MATH!B2)","v":0},{"$f":"COUNTIFS('CAPA DB'!B:B,\"under review\",'CAPA DB'!C:C,\"Corrective\", 'CAPA DB'!I:I,KPI!A:A,'CAPA DB'!E:E,\">=\"&MATH!E2,'CAPA DB'!E:E,\"<=\"&MATH!B2)","v":0},{"$f":"COUNTIFS('CAPA DB'!B:B,\"complete\",'CAPA DB'!C:C,\"Corrective\", 'CAPA DB'!I:I,KPI!A:A,'CAPA DB'!E:E,\">=\"&MATH!E2,'CAPA DB'!E:E,\"<=\"&MATH!B2)","v":0},{"$f":"COUNTIFS('CAPA DB'!B:B,\"Closed\",'CAPA DB'!C:C,\"Corrective\", 'CAPA DB'!I:I,KPI!A:A,'CAPA DB'!E:E,\">=\"&MATH!E2,'CAPA DB'!E:E,\"<=\"&MATH!B2)","v":0},0,{"$f":"COUNTIFS('CAPA DB'!B:B,\"NEW\",'CAPA DB'!C:C,\"Corrective\", 'CAPA DB'!I:I,KPI!A:A,'CAPA DB'!E:E,\">=\"&MATH!D2,'CAPA DB'!E:E,\"<=\"&MATH!B2)","v":0},{"$f":"COUNTIFS('CAPA DB'!B:B,\"under review\",'CAPA DB'!C:C,\"Corrective\", 'CAPA DB'!I:I,KPI!A:A,'CAPA DB'!E:E,\">=\"&MATH!D2,'CAPA DB'!E:E,\"<=\"&MATH!B2)","v":0},{"$f":"COUNTIFS('CAPA DB'!B:B,\"complete\",'CAPA DB'!C:C,\"Corrective\", 'CAPA DB'!I:I,KPI!A:A,'CAPA DB'!E:E,\">=\"&MATH!D2,'CAPA DB'!E:E,\"<=\"&MATH!B2)","v":0},{"$f":"COUNTIFS('CAPA DB'!B:B,\"closed\",'CAPA DB'!C:C,\"Corrective\", 'CAPA DB'!I:I,KPI!A:A,'CAPA DB'!E:E,\">=\"&MATH!D2,'CAPA DB'!E:E,\"<=\"&MATH!B2)","v":0},0]
[{"$f":"Lists!A5","v":"Delay / failure to treatment or procedure"},{"$f":"COUNTIFS('CAPA DB'!B:B,\"NEW\",'CAPA DB'!C:C,\"Corrective\", 'CAPA DB'!I:I,KPI!A:A)","v":0},{"$f":"COUNTIFS('CAPA DB'!B:B,\"under review\",'CAPA DB'!C:C,\"Corrective\", 'CAPA DB'!I:I,KPI!A:A)","v":0},{"$f":"COUNTIFS('CAPA DB'!B:B,\"complete\",'CAPA DB'!C:C,\"Corrective\", 'CAPA DB'!I:I,KPI!A:A)","v":0},{"$f":"COUNTIFS('CAPA DB'!B:B,\"closed\",'CAPA DB'!C:C,\"Corrective\", 'CAPA DB'!I:I,KPI!A:A)","v":0},0,{"$f":"COUNTIFS('CAPA DB'!B:B,\"NEW\",'CAPA DB'!C:C,\"Corrective\", 'CAPA DB'!I:I,KPI!A:A,'CAPA DB'!E:E,\">=\"&MATH!E2,'CAPA DB'!E:E,\"<=\"&MATH!B2)","v":0},{"$f":"COUNTIFS('CAPA DB'!B:B,\"under review\",'CAPA DB'!C:C,\"Corrective\", 'CAPA DB'!I:I,KPI!A:A,'CAPA DB'!E:E,\">=\"&MATH!E2,'CAPA DB'!E:E,\"<=\"&MATH!B2)","v":0},{"$f":"COUNTIFS('CAPA DB'!B:B,\"complete\",'CAPA DB'!C:C,\"Corrective\", 'CAPA DB'!I:I,KPI!A:A,'CAPA DB'!E:E,\">=\"&MATH!E2,'CAPA DB'!E:E,\"<=\"&MATH!B2)","v":0},{"$f":"COUNTIFS('CAPA DB'!B:B,\"Closed\",'CAPA DB'!C:C,\"Corrective\", 'CAPA DB'!I:I,KPI!A:A,'CAPA DB'!E:E,\">=\"&MATH!E2,'CAPA DB'!E:E,\"<=\"&MATH!B2)","v":0},0,{"$f":"COUNTIFS('CAPA DB'!B:B,\"NEW\",'CAPA DB'!C:C,\"Corrective\", 'CAPA DB'!I:I,KPI!A:A,'CAPA DB'!E:E,\">=\"&MATH!D2,'CAPA DB'!E:E,\"<=\"&MATH!B2)","v":0},{"$f":"COUNTIFS('CAPA DB'!B:B,\"under review\",'CAPA DB'!C:C,\"Corrective\", 'CAPA DB'!I:I,KPI!A:A,'CAPA DB'!E:E,\">=\"&MATH!D2,'CAPA DB'!E:E,\"<=\"&MATH!B2)","v":0},{"$f":"COUNTIFS('CAPA DB'!B:B,\"complete\",'CAPA DB'!C:C,\"Corrective\", 'CAPA DB'!I:I,KPI!A:A,'CAPA DB'!E:E,\">=\"&MATH!D2,'CAPA DB'!E:E,\"<=\"&MATH!B2)","v":0},{"$f":"COUNTIFS('CAPA DB'!B:B,\"closed\",'CAPA DB'!C:C,\"Corrective\", 'CAPA DB'!I:I,KPI!A:A,'CAPA DB'!E:E,\">=\"&MATH!D2,'CAPA DB'!E:E,\"<=\"&MATH!B2)","v":0},0]
[{"$f":"Lists!A6","v":"Diagnosis, Scans, Tests and procedures (clinical)"},{"$f":"COUNTIFS('CAPA DB'!B:B,\"NEW\",'CAPA DB'!C:C,\"Corrective\", 'CAPA DB'!I:I,KPI!A:A)","v":0},{"$f":"COUNTIFS('CAPA DB'!B:B,\"under review\",'CAPA DB'!C:C,\"Corrective\", 'CAPA DB'!I:I,KPI!A:A)","v":0},{"$f":"COUNTIFS('CAPA DB'!B:B,\"complete\",'CAPA DB'!C:C,\"Corrective\", 'CAPA DB'!I:I,KPI!A:A)","v":0},{"$f":"COUNTIFS('CAPA DB'!B:B,\"closed\",'CAPA DB'!C:C,\"Corrective\", 'CAPA DB'!I:I,KPI!A:A)","v":0},0,{"$f":"COUNTIFS('CAPA DB'!B:B,\"NEW\",'CAPA DB'!C:C,\"Corrective\", 'CAPA DB'!I:I,KPI!A:A,'CAPA DB'!E:E,\">=\"&MATH!E2,'CAPA DB'!E:E,\"<=\"&MATH!B2)","v":0},{"$f":"COUNTIFS('CAPA DB'!B:B,\"under review\",'CAPA DB'!C:C,\"Corrective\", 'CAPA DB'!I:I,KPI!A:A,'CAPA DB'!E:E,\">=\"&MATH!E2,'CAPA DB'!E:E,\"<=\"&MATH!B2)","v":0},{"$f":"COUNTIFS('CAPA DB'!B:B,\"complete\",'CAPA DB'!C:C,\"Corrective\", 'CAPA DB'!I:I,KPI!A:A,'CAPA DB'!E:E,\">=\"&MATH!E2,'CAPA DB'!E:E,\"<=\"&MATH!B2)","v":0},{"$f":"COUNTIFS('CAPA DB'!B:B,\"Closed\",'CAPA DB'!C:C,\"Corrective\", 'CAPA DB'!I:I,KPI!A:A,'CAPA DB'!E:E,\">=\"&MATH!E2,'CAPA DB'!E:E,\"<=\"&MATH!B2)","v":0},0,{"$f":"COUNTIFS('CAPA DB'!B:B,\"NEW\",'CAPA DB'!C:C,\"Corrective\", 'CAPA DB'!I:I,KPI!A:A,'CAPA DB'!E:E,\">=\"&MATH!D2,'CAPA DB'!E:E,\"<=\"&MATH!B2)","v":0},{"$f":"COUNTIFS('CAPA DB'!B:B,\"under review\",'CAPA DB'!C:C,\"Corrective\", 'CAPA DB'!I:I,KPI!A:A,'CAPA DB'!E:E,\">=\"&MATH!D2,'CAPA DB'!E:E,\"<=\"&MATH!B2)","v":0},{"$f":"COUNTIFS('CAPA DB'!B:B,\"complete\",'CAPA DB'!C:C,\"Corrective\", 'CAPA DB'!I:I,KPI!A:A,'CAPA DB'!E:E,\">=\"&MATH!D2,'CAPA DB'!E:E,\"<=\"&MATH!B2)","v":0},{"$f":"COUNTIFS('CAPA DB'!B:B,\"closed\",'CAPA DB'!C:C,\"Corrective\", 'CAPA DB'!I:I,KPI!A:A,'CAPA DB'!E:E,\">=\"&MATH!D2,'CAPA DB'!E:E,\"<=\"&MATH!B2)","v":0},0]
[{"$f":"Lists!A7","v":"Documentation and Health Records"},{"$f":"COUNTIFS('CAPA DB'!B:B,\"NEW\",'CAPA DB'!C:C,\"Corrective\", 'CAPA DB'!I:I,KPI!A:A)","v":0},{"$f":"COUNTIFS('CAPA DB'!B:B,\"under review\",'CAPA DB'!C:C,\"Corrective\", 'CAPA DB'!I:I,KPI!A:A)","v":0},{"$f":"COUNTIFS('CAPA DB'!B:B,\"complete\",'CAPA DB'!C:C,\"Corrective\", 'CAPA DB'!I:I,KPI!A:A)","v":0},{"$f":"COUNTIFS('CAPA DB'!B:B,\"closed\",'CAPA DB'!C:C,\"Corrective\", 'CAPA DB'!I:I,KPI!A:A)","v":0},0,{"$f":"COUNTIFS('CAPA DB'!B:B,\"NEW\",'CAPA DB'!C:C,\"Corrective\", 'CAPA DB'!I:I,KPI!A:A,'CAPA DB'!E:E,\">=\"&MATH!E2,'CAPA DB'!E:E,\"<=\"&MATH!B2)","v":0},{"$f":"COUNTIFS('CAPA DB'!B:B,\"under review\",'CAPA DB'!C:C,\"Corrective\", 'CAPA DB'!I:I,KPI!A:A,'CAPA DB'!E:E,\">=\"&MATH!E2,'CAPA DB'!E:E,\"<=\"&MATH!B2)","v":0},{"$f":"COUNTIFS('CAPA DB'!B:B,\"complete\",'CAPA DB'!C:C,\"Corrective\", 'CAPA DB'!I:I,KPI!A:A,'CAPA DB'!E:E,\">=\"&MATH!E2,'CAPA DB'!E:E,\"<=\"&MATH!B2)","v":0},{"$f":"COUNTIFS('CAPA DB'!B:B,\"Closed\",'CAPA DB'!C:C,\"Corrective\", 'CAPA DB'!I:I,KPI!A:A,'CAPA DB'!E:E,\">=\"&MATH!E2,'CAPA DB'!E:E,\"<=\"&MATH!B2)","v":0},0,{"$f":"COUNTIFS('CAPA DB'!B:B,\"NEW\",'CAPA DB'!C:C,\"Corrective\", 'CAPA DB'!I:I,KPI!A:A,'CAPA DB'!E:E,\">=\"&MATH!D2,'CAPA DB'!E:E,\"<=\"&MATH!B2)","v":0},{"$f":"COUNTIFS('CAPA DB'!B:B,\"under review\",'CAPA DB'!C:C,\"Corrective\", 'CAPA DB'!I:I,KPI!A:A,'CAPA DB'!E:E,\">=\"&MATH!D2,'CAPA DB'!E:E,\"<=\"&MATH!B2)","v":0},{"$f":"COUNTIFS('CAPA DB'!B:B,\"complete\",'CAPA DB'!C:C,\"Corrective\", 'CAPA DB'!I:I,KPI!A:A,'CAPA DB'!E:E,\">=\"&MATH!D2,'CAPA DB'!E:E,\"<=\"&MATH!B2)","v":0},{"$f":"COUNTIFS('CAPA DB'!B:B,\"closed\",'CAPA DB'!C:C,\"Corrective\", 'CAPA DB'!I:I,KPI!A:A,'CAPA DB'!E:E,\">=\"&MATH!D2,'CAPA DB'!E:E,\"<=\"&MATH!B2)","v":0},0]
[{"$f":"Lists!A8","v":"Environmental / Infrastructure / Equipment"},{"$f":"COUNTIFS('CAPA DB'!B:B,\"NEW\",'CAPA DB'!C:C,\"Corrective\", 'CAPA DB'!I:I,KPI!A:A)","v":0},{"$f":"COUNTIFS('CAPA DB'!B:B,\"under review\",'CAPA DB'!C:C,\"Corrective\", 'CAPA DB'!I:I,KPI!A:A)","v":0},{"$f":"COUNTIFS('CAPA DB'!B:B,\"complete\",'CAPA DB'!C:C,\"Corrective\", 'CAPA DB'!I:I,KPI!A:A)","v":0},{"$f":"COUNTIFS('CAPA DB'!B:B,\"closed\",'CAPA DB'!C:C,\"Corrective\", 'CAPA DB'!I:I,KPI!A:A)","v":0},0,{"$f":"COUNTIFS('CAPA DB'!B:B,\"NEW\",'CAPA DB'!C:C,\"Corrective\", 'CAPA DB'!I:I,KPI!A:A,'CAPA DB'!E:E,\">=\"&MATH!E2,'CAPA DB'!E:E,\"<=\"&MATH!B2)","v":0},{"$f":"COUNTIFS('CAPA DB'!B:B,\"under review\",'CAPA DB'!C:C,\"Corrective\", 'CAPA DB'!I:I,KPI!A:A,'CAPA DB'!E:E,\">=\"&MATH!E2,'CAPA DB'!E:E,\"<=\"&MATH!B2)","v":0},{"$f":"COUNTIFS('CAPA DB'!B:B,\"complete\",'CAPA DB'!C:C,\"Corrective\", 'CAPA DB'!I:I,KPI!A:A,'CAPA DB'!E:E,\">=\"&MATH!E2,'CAPA DB'!E:E,\"<=\"&MATH!B2)","v":0},{"$f":"COUNTIFS('CAPA DB'!B:B,\"Closed\",'CAPA DB'!C:C,\"Corrective\", 'CAPA DB'!I:I,KPI!A:A,'CAPA DB'!E:E,\">=\"&MATH!E2,'CAPA DB'!E:E,\"<=\"&MATH!B2)","v":0},0,{"$f":"COUNTIFS('CAPA DB'!B:B,\"NEW\",'CAPA DB'!C:C,\"Corrective\", 'CAPA DB'!I:I,KPI!A:A,'CAPA DB'!E:E,\">=\"&MATH!D2,'CAPA DB'!E:E,\"<=\"&MATH!B2)","v":0},{"$f":"COUNTIFS('CAPA DB'!B:B,\"under review\",'CAPA DB'!C:C,\"Corrective\", 'CAPA DB'!I:I,KPI!A:A,'CAPA DB'!E:E,\">=\"&MATH!D2,'CAPA DB'!E:E,\"<=\"&MATH!B2)","v":0},{"$f":"COUNTIFS('CAPA DB'!B:B,\"complete\",'CAPA DB'!C:C,\"Corrective\", 'CAPA DB'!I:I,KPI!A:A,'CAPA DB'!E:E,\">=\"&MATH!D2,'CAPA DB'!E:E,\"<=\"&MATH!B2)","v":0},{"$f":"COUNTIFS('CAPA DB'!B:B,\"closed\",'CAPA DB'!C:C,\"Corrective\", 'CAPA DB'!I:I,KPI!A:A,'CAPA DB'!E:E,\">=\"&MATH!D2,'CAPA DB'!E:E,\"<=\"&MATH!B2)","v":0},0]
[{"$f":"Lists!A9","v":"Medical Devices (Clinical)"},{"$f":"COUNTIFS('CAPA DB'!B:B,\"NEW\",'CAPA DB'!C:C,\"Corrective\", 'CAPA DB'!I:I,KPI!A:A)","v":0},{"$f":"COUNTIFS('CAPA DB'!B:B,\"under review\",'CAPA DB'!C:C,\"Corrective\", 'CAPA DB'!I:I,KPI!A:A)","v":0},{"$f":"COUNTIFS('CAPA DB'!B:B,\"complete\",'CAPA DB'!C:C,\"Corrective\", 'CAPA DB'!I:I,KPI!A:A)","v":0},{"$f":"COUNTIFS('CAPA DB'!B:B,\"closed\",'CAPA DB'!C:C,\"Corrective\", 'CAPA DB'!I:I,KPI!A:A)","v":0},0,{"$f":"COUNTIFS('CAPA DB'!B:B,\"NEW\",'CAPA DB'!C:C,\"Corrective\", 'CAPA DB'!I:I,KPI!A:A,'CAPA DB'!E:E,\">=\"&MATH!E2,'CAPA DB'!E:E,\"<=\"&MATH!B2)","v":0},{"$f":"COUNTIFS('CAPA DB'!B:B,\"under review\",'CAPA DB'!C:C,\"Corrective\", 'CAPA DB'!I:I,KPI!A:A,'CAPA DB'!E:E,\">=\"&MATH!E2,'CAPA DB'!E:E,\"<=\"&MATH!B2)","v":0},{"$f":"COUNTIFS('CAPA DB'!B:B,\"complete\",'CAPA DB'!C:C,\"Corrective\", 'CAPA DB'!I:I,KPI!A:A,'CAPA DB'!E:E,\">=\"&MATH!E2,'CAPA DB'!E:E,\"<=\"&MATH!B2)","v":0},{"$f":"COUNTIFS('CAPA DB'!B:B,\"Closed\",'CAPA DB'!C:C,\"Corrective\", 'CAPA DB'!I:I,KPI!A:A,'CAPA DB'!E:E,\">=\"&MATH!E2,'CAPA DB'!E:E,\"<=\"&MATH!B2)","v":0},0,{"$f":"COUNTIFS('CAPA DB'!B:B,\"NEW\",'CAPA DB'!C:C,\"Corrective\", 'CAPA DB'!I:I,KPI!A:A,'CAPA DB'!E:E,\">=\"&MATH!D2,'CAPA DB'!E:E,\"<=\"&MATH!B2)","v":0},{"$f":"COUNTIFS('CAPA DB'!B:B,\"under review\",'CAPA DB'!C:C,\"Corrective\", 'CAPA DB'!I:I,KPI!A:A,'CAPA DB'!E:E,\">=\"&MATH!D2,'CAPA DB'!E:E,\"<=\"&MATH!B2)","v":0},{"$f":"COUNTIFS('CAPA DB'!B:B,\"complete\",'CAPA DB'!C:C,\"Corrective\", 'CAPA DB'!I:I,KPI!A:A,'CAPA DB'!E:E,\">=\"&MATH!D2,'CAPA DB'!E:E,\"<=\"&MATH!B2)","v":0},{"$f":"COUNTIFS('CAPA DB'!B:B,\"closed\",'CAPA DB'!C:C,\"Corrective\", 'CAPA DB'!I:I,KPI!A:A,'CAPA DB'!E:E,\">=\"&MATH!D2,'CAPA DB'!E:E,\"<=\"&MATH!B2)","v":0},0]
[{"$f":"Lists!A10","v":"Infection Control"},{"$f":"COUNTIFS('CAPA DB'!B:B,\"NEW\",'CAPA DB'!C:C,\"Corrective\", 'CAPA DB'!I:I,KPI!A:A)","v":0},{"$f":"COUNTIFS('CAPA DB'!B:B,\"under review\",'CAPA DB'!C:C,\"Corrective\", 'CAPA DB'!I:I,KPI!A:A)","v":0},{"$f":"COUNTIFS('CAPA DB'!B:B,\"complete\",'CAPA DB'!C:C,\"Corrective\", 'CAPA DB'!I:I,KPI!A:A)","v":0},{"$f":"COUNTIFS('CAPA DB'!B:B,\"closed\",'CAPA DB'!C:C,\"Corrective\", 'CAPA DB'!I:I,KPI!A:A)","v":0},0,{"$f":"COUNTIFS('CAPA DB'!B:B,\"NEW\",'CAPA DB'!C:C,\"Corrective\", 'CAPA DB'!I:I,KPI!A:A,'CAPA DB'!E:E,\">=\"&MATH!E2,'CAPA DB'!E:E,\"<=\"&MATH!B2)","v":0},{"$f":"COUNTIFS('CAPA DB'!B:B,\"under review\",'CAPA DB'!C:C,\"Corrective\", 'CAPA DB'!I:I,KPI!A:A,'CAPA DB'!E:E,\">=\"&MATH!E2,'CAPA DB'!E:E,\"<=\"&MATH!B2)","v":0},{"$f":"COUNTIFS('CAPA DB'!B:B,\"complete\",'CAPA DB'!C:C,\"Corrective\", 'CAPA DB'!I:I,KPI!A:A,'CAPA DB'!E:E,\">=\"&MATH!E2,'CAPA DB'!E:E,\"<=\"&MATH!B2)","v":0},{"$f":"COUNTIFS('CAPA DB'!B:B,\"Closed\",'CAPA DB'!C:C,\"Corrective\", 'CAPA DB'!I:I,KPI!A:A,'CAPA DB'!E:E,\">=\"&MATH!E2,'CAPA DB'!E:E,\"<=\"&MATH!B2)","v":0},0,{"$f":"COUNTIFS('CAPA DB'!B:B,\"NEW\",'CAPA DB'!C:C,\"Corrective\", 'CAPA DB'!I:I,KPI!A:A,'CAPA DB'!E:E,\">=\"&MATH!D2,'CAPA DB'!E:E,\"<=\"&MATH!B2)","v":0},{"$f":"COUNTIFS('CAPA DB'!B:B,\"under review\",'CAPA DB'!C:C,\"Corrective\", 'CAPA DB'!I:I,KPI!A:A,'CAPA DB'!E:E,\">=\"&MATH!D2,'CAPA DB'!E:E,\"<=\"&MATH!B2)","v":0},{"$f":"COUNTIFS('CAPA DB'!B:B,\"complete\",'CAPA DB'!C:C,\"Corrective\", 'CAPA DB'!I:I,KPI!A:A,'CAPA DB'!E:E,\">=\"&MATH!D2,'CAPA DB'!E:E,\"<=\"&MATH!B2)","v":0},{"$f":"COUNTIFS('CAPA DB'!B:B,\"closed\",'CAPA DB'!C:C,\"Corrective\", 'CAPA DB'!I:I,KPI!A:A,'CAPA DB'!E:E,\">=\"&MATH!D2,'CAPA DB'!E:E,\"<=\"&MATH!B2)","v":0},0]
[{"$f":"Lists!A11","v":"Information Governance"},{"$f":"COUNTIFS('CAPA DB'!B:B,\"NEW\",'CAPA DB'!C:C,\"Corrective\", 'CAPA DB'!I:I,KPI!A:A)","v":0},{"$f":"COUNTIFS('CAPA DB'!B:B,\"under review\",'CAPA DB'!C:C,\"Corrective\", 'CAPA DB'!I:I,KPI!A:A)","v":0},{"$f":"COUNTIFS('CAPA DB'!B:B,\"complete\",'CAPA DB'!C:C,\"Corrective\", 'CAPA DB'!I:I,KPI!A:A)","v":0},{"$f":"COUNTIFS('CAPA DB'!B:B,\"closed\",'CAPA DB'!C:C,\"Corrective\", 'CAPA DB'!I:I,KPI!A:A)","v":0},0,{"$f":"COUNTIFS('CAPA DB'!B:B,\"NEW\",'CAPA DB'!C:C,\"Corrective\", 'CAPA DB'!I:I,KPI!A:A,'CAPA DB'!E:E,\">=\"&MATH!E2,'CAPA DB'!E:E,\"<=\"&MATH!B2)","v":0},{"$f":"COUNTIFS('CAPA DB'!B:B,\"under review\",'CAPA DB'!C:C,\"Corrective\", 'CAPA DB'!I:I,KPI!A:A,'CAPA DB'!E:E,\">=\"&MATH!E2,'CAPA DB'!E:E,\"<=\"&MATH!B2)","v":0},{"$f":"COUNTIFS('CAPA DB'!B:B,\"complete\",'CAPA DB'!C:C,\"Corrective\", 'CAPA DB'!I:I,KPI!A:A,'CAPA DB'!E:E,\">=\"&MATH!E2,'CAPA DB'!E:E,\"<=\"&MATH!B2)","v":0},{"$f":"COUNTIFS('CAPA DB'!B:B,\"Closed\",'CAPA DB'!C:C,\"Corrective\", 'CAPA DB'!I:I,KPI!A:A,'CAPA DB'!E:E,\">=\"&MATH!E2,'CAPA DB'!E:E,\"<=\"&MATH!B2)","v":0},0,{"$f":"COUNTIFS('CAPA DB'!B:B,\"NEW\",'CAPA DB'!C:C,\"Corrective\", 'CAPA DB'!I:I,KPI!A:A,'CAPA DB'!E:E,\">=\"&MATH!D2,'CAPA DB'!E:E,\"<=\"&MATH!B2)","v":0},{"$f":"COUNTIFS('CAPA DB'!B:B,\"under review\",'CAPA DB'!C:C,\"Corrective\", 'CAPA DB'!I:I,KPI!A:A,'CAPA DB'!E:E,\">=\"&MATH!D2,'CAPA DB'!E:E,\"<=\"&MATH!B2)","v":0},{"$f":"COUNTIFS('CAPA DB'!B:B,\"complete\",'CAPA DB'!C:C,\"Corrective\", 'CAPA DB'!I:I,KPI!A:A,'CAPA DB'!E:E,\">=\"&MATH!D2,'CAPA DB'!E:E,\"<=\"&MATH!B2)","v":0},{"$f":"COUNTIFS('CAPA DB'!B:B,\"closed\",'CAPA DB'!C:C,\"Corrective\", 'CAPA DB'!I:I,KPI!A:A,'CAPA DB'!E:E,\">=\"&MATH!D2,'CAPA DB'!E:E,\"<=\"&MATH!B2)","v":0},0]
[{"$f":"Lists!A12","v":"Information Technology"},{"$f":"COUNTIFS('CAPA DB'!B:B,\"NEW\",'CAPA DB'!C:C,\"Corrective\", 'CAPA DB'!I:I,KPI!A:A)","v":0},{"$f":"COUNTIFS('CAPA DB'!B:B,\"under review\",'CAPA DB'!C:C,\"Corrective\", 'CAPA DB'!I:I,KPI!A:A)","v":0},{"$f":"COUNTIFS('CAPA DB'!B:B,\"complete\",'CAPA DB'!C:C,\"Corrective\", 'CAPA DB'!I:I,KPI!A:A)","v":0},{"$f":"COUNTIFS('CAPA DB'!B:B,\"closed\",'CAPA DB'!C:C,\"Corrective\", 'CAPA DB'!I:I,KPI!A:A)","v":0},0,{"$f":"COUNTIFS('CAPA DB'!B:B,\"NEW\",'CAPA DB'!C:C,\"Corrective\", 'CAPA DB'!I:I,KPI!A:A,'CAPA DB'!E:E,\">=\"&MATH!E2,'CAPA DB'!E:E,\"<=\"&MATH!B2)","v":0},{"$f":"COUNTIFS('CAPA DB'!B:B,\"under review\",'CAPA DB'!C:C,\"Corrective\", 'CAPA DB'!I:I,KPI!A:A,'CAPA DB'!E:E,\">=\"&MATH!E2,'CAPA DB'!E:E,\"<=\"&MATH!B2)","v":0},{"$f":"COUNTIFS('CAPA DB'!B:B,\"complete\",'CAPA DB'!C:C,\"Corrective\", 'CAPA DB'!I:I,KPI!A:A,'CAPA DB'!E:E,\">=\"&MATH!E2,'CAPA DB'!E:E,\"<=\"&MATH!B2)","v":0},{"$f":"COUNTIFS('CAPA DB'!B:B,\"Closed\",'CAPA DB'!C:C,\"Corrective\", 'CAPA DB'!I:I,KPI!A:A,'CAPA DB'!E:E,\">=\"&MATH!E2,'CAPA DB'!E:E,\"<=\"&MATH!B2)","v":0},0,{"$f":"COUNTIFS('CAPA DB'!B:B,\"NEW\",'CAPA DB'!C:C,\"Corrective\", 'CAPA DB'!I:I,KPI!A:A,'CAPA DB'!E:E,\">=\"&MATH!D2,'CAPA DB'!E:E,\"<=\"&MATH!B2)","v":0},{"$f":"COUNTIFS('CAPA DB'!B:B,\"under review\",'CAPA DB'!C:C,\"Corrective\", 'CAPA DB'!I:I,KPI!A:A,'CAPA DB'!E:E,\">=\"&MATH!D2,'CAPA DB'!E:E,\"<=\"&MATH!B2)","v":0},{"$f":"COUNTIFS('CAPA DB'!B:B,\"complete\",'CAPA DB'!C:C,\"Corrective\", 'CAPA DB'!I:I,KPI!A:A,'CAPA DB'!E:E,\">=\"&MATH!D2,'CAPA DB'!E:E,\"<=\"&MATH!B2)","v":0},{"$f":"COUNTIFS('CAPA DB'!B:B,\"closed\",'CAPA DB'!C:C,\"Corrective\", 'CAPA DB'!I:I,KPI!A:A,'CAPA DB'!E:E,\">=\"&MATH!D2,'CAPA DB'!E:E,\"<=\"&MATH!B2)","v":0},0]
[{"$f":"Lists!A13","v":"Manual Handling"},{"$f":"COUNTIFS('CAPA DB'!B:B,\"NEW\",'CAPA DB'!C:C,\"Corrective\", 'CAPA DB'!I:I,KPI!A:A)","v":0},{"$f":"COUNTIFS('CAPA DB'!B:B,\"under review\",'CAPA DB'!C:C,\"Corrective\", 'CAPA DB'!I:I,KPI!A:A)","v":0},{"$f":"COUNTIFS('CAPA DB'!B:B,\"complete\",'CAPA DB'!C:C,\"Corrective\", 'CAPA DB'!I:I,KPI!A:A)","v":0},{"$f":"COUNTIFS('CAPA DB'!B:B,\"closed\",'CAPA DB'!C:C,\"Corrective\", 'CAPA DB'!I:I,KPI!A:A)","v":0},0,{"$f":"COUNTIFS('CAPA DB'!B:B,\"NEW\",'CAPA DB'!C:C,\"Corrective\", 'CAPA DB'!I:I,KPI!A:A,'CAPA DB'!E:E,\">=\"&MATH!E2,'CAPA DB'!E:E,\"<=\"&MATH!B2)","v":0},{"$f":"COUNTIFS('CAPA DB'!B:B,\"under review\",'CAPA DB'!C:C,\"Corrective\", 'CAPA DB'!I:I,KPI!A:A,'CAPA DB'!E:E,\">=\"&MATH!E2,'CAPA DB'!E:E,\"<=\"&MATH!B2)","v":0},{"$f":"COUNTIFS('CAPA DB'!B:B,\"complete\",'CAPA DB'!C:C,\"Corrective\", 'CAPA DB'!I:I,KPI!A:A,'CAPA DB'!E:E,\">=\"&MATH!E2,'CAPA DB'!E:E,\"<=\"&MATH!B2)","v":0},{"$f":"COUNTIFS('CAPA DB'!B:B,\"Closed\",'CAPA DB'!C:C,\"Corrective\", 'CAPA DB'!I:I,KPI!A:A,'CAPA DB'!E:E,\">=\"&MATH!E2,'CAPA DB'!E:E,\"<=\"&MATH!B2)","v":0},0,{"$f":"COUNTIFS('CAPA DB'!B:B,\"NEW\",'CAPA DB'!C:C,\"Corrective\", 'CAPA DB'!I:I,KPI!A:A,'CAPA DB'!E:E,\">=\"&MATH!D2,'CAPA DB'!E:E,\"<=\"&MATH!B2)","v":0},{"$f":"COUNTIFS('CAPA DB'!B:B,\"under review\",'CAPA DB'!C:C,\"Corrective\", 'CAPA DB'!I:I,KPI!A:A,'CAPA DB'!E:E,\">=\"&MATH!D2,'CAPA DB'!E:E,\"<=\"&MATH!B2)","v":0},{"$f":"COUNTIFS('CAPA DB'!B:B,\"complete\",'CAPA DB'!C:C,\"Corrective\", 'CAPA DB'!I:I,KPI!A:A,'CAPA DB'!E:E,\">=\"&MATH!D2,'CAPA DB'!E:E,\"<=\"&MATH!B2)","v":0},{"$f":"COUNTIFS('CAPA DB'!B:B,\"closed\",'CAPA DB'!C:C,\"Corrective\", 'CAPA DB'!I:I,KPI!A:A,'CAPA DB'!E:E,\">=\"&MATH!D2,'CAPA DB'!E:E,\"<=\"&MATH!B2)","v":0},0]
[{"$f":"Lists!A14","v":"Patient Care"},{"$f":"COUNTIFS('CAPA DB'!B:B,\"NEW\",'CAPA DB'!C:C,\"Corrective\", 'CAPA DB'!I:I,KPI!A:A)","v":0},{"$f":"COUNTIFS('CAPA DB'!B:B,\"under review\",'CAPA DB'!C:C,\"Corrective\", 'CAPA DB'!I:I,KPI!A:A)","v":0},{"$f":"COUNTIFS('CAPA DB'!B:B,\"complete\",'CAPA DB'!C:C,\"Corrective\", 'CAPA DB'!I:I,KPI!A:A)","v":0},{"$f":"COUNTIFS('CAPA DB'!B:B,\"closed\",'CAPA DB'!C:C,\"Corrective\", 'CAPA DB'!I:I,KPI!A:A)","v":0},0,{"$f":"COUNTIFS('CAPA DB'!B:B,\"NEW\",'CAPA DB'!C:C,\"Corrective\", 'CAPA DB'!I:I,KPI!A:A,'CAPA DB'!E:E,\">=\"&MATH!E2,'CAPA DB'!E:E,\"<=\"&MATH!B2)","v":0},{"$f":"COUNTIFS('CAPA DB'!B:B,\"under review\",'CAPA DB'!C:C,\"Corrective\", 'CAPA DB'!I:I,KPI!A:A,'CAPA DB'!E:E,\">=\"&MATH!E2,'CAPA DB'!E:E,\"<=\"&MATH!B2)","v":0},{"$f":"COUNTIFS('CAPA DB'!B:B,\"complete\",'CAPA DB'!C:C,\"Corrective\", 'CAPA DB'!I:I,KPI!A:A,'CAPA DB'!E:E,\">=\"&MATH!E2,'CAPA DB'!E:E,\"<=\"&MATH!B2)","v":0},{"$f":"COUNTIFS('CAPA DB'!B:B,\"Closed\",'CAPA DB'!C:C,\"Corrective\", 'CAPA DB'!I:I,KPI!A:A,'CAPA DB'!E:E,\">=\"&MATH!E2,'CAPA DB'!E:E,\"<=\"&MATH!B2)","v":0},0,{"$f":"COUNTIFS('CAPA DB'!B:B,\"NEW\",'CAPA DB'!C:C,\"Corrective\", 'CAPA DB'!I:I,KPI!A:A,'CAPA DB'!E:E,\">=\"&MATH!D2,'CAPA DB'!E:E,\"<=\"&MATH!B2)","v":0},{"$f":"COUNTIFS('CAPA DB'!B:B,\"under review\",'CAPA DB'!C:C,\"Corrective\", 'CAPA DB'!I:I,KPI!A:A,'CAPA DB'!E:E,\">=\"&MATH!D2,'CAPA DB'!E:E,\"<=\"&MATH!B2)","v":0},{"$f":"COUNTIFS('CAPA DB'!B:B,\"complete\",'CAPA DB'!C:C,\"Corrective\", 'CAPA DB'!I:I,KPI!A:A,'CAPA DB'!E:E,\">=\"&MATH!D2,'CAPA DB'!E:E,\"<=\"&MATH!B2)","v":0},{"$f":"COUNTIFS('CAPA DB'!B:B,\"closed\",'CAPA DB'!C:C,\"Corrective\", 'CAPA DB'!I:I,KPI!A:A,'CAPA DB'!E:E,\">=\"&MATH!D2,'CAPA DB'!E:E,\"<=\"&MATH!B2)","v":0},0]
[{"$f":"Lists!A15","v":"Security"},{"$f":"COUNTIFS('CAPA DB'!B:B,\"NEW\",'CAPA DB'!C:C,\"Corrective\", 'CAPA DB'!I:I,KPI!A:A)","v":0},{"$f":"COUNTIFS('CAPA DB'!B:B,\"under review\",'CAPA DB'!C:C,\"Corrective\", 'CAPA DB'!I:I,KPI!A:A)","v":0},{"$f":"COUNTIFS('CAPA DB'!B:B,\"complete\",'CAPA DB'!C:C,\"Corrective\", 'CAPA DB'!I:I,KPI!A:A)","v":0},{"$f":"COUNTIFS('CAPA DB'!B:B,\"closed\",'CAPA DB'!C:C,\"Corrective\", 'CAPA DB'!I:I,KPI!A:A)","v":0},0,{"$f":"COUNTIFS('CAPA DB'!B:B,\"NEW\",'CAPA DB'!C:C,\"Corrective\", 'CAPA DB'!I:I,KPI!A:A,'CAPA DB'!E:E,\">=\"&MATH!E2,'CAPA DB'!E:E,\"<=\"&MATH!B2)","v":0},{"$f":"COUNTIFS('CAPA DB'!B:B,\"under review\",'CAPA DB'!C:C,\"Corrective\", 'CAPA DB'!I:I,KPI!A:A,'CAPA DB'!E:E,\">=\"&MATH!E2,'CAPA DB'!E:E,\"<=\"&MATH!B2)","v":0},{"$f":"COUNTIFS('CAPA DB'!B:B,\"complete\",'CAPA DB'!C:C,\"Corrective\", 'CAPA DB'!I:I,KPI!A:A,'CAPA DB'!E:E,\">=\"&MATH!E2,'CAPA DB'!E:E,\"<=\"&MATH!B2)","v":0},{"$f":"COUNTIFS('CAPA DB'!B:B,\"Closed\",'CAPA DB'!C:C,\"Corrective\", 'CAPA DB'!I:I,KPI!A:A,'CAPA DB'!E:E,\">=\"&MATH!E2,'CAPA DB'!E:E,\"<=\"&MATH!B2)","v":0},0,{"$f":"COUNTIFS('CAPA DB'!B:B,\"NEW\",'CAPA DB'!C:C,\"Corrective\", 'CAPA DB'!I:I,KPI!A:A,'CAPA DB'!E:E,\">=\"&MATH!D2,'CAPA DB'!E:E,\"<=\"&MATH!B2)","v":0},{"$f":"COUNTIFS('CAPA DB'!B:B,\"under review\",'CAPA DB'!C:C,\"Corrective\", 'CAPA DB'!I:I,KPI!A:A,'CAPA DB'!E:E,\">=\"&MATH!D2,'CAPA DB'!E:E,\"<=\"&MATH!B2)","v":0},{"$f":"COUNTIFS('CAPA DB'!B:B,\"complete\",'CAPA DB'!C:C,\"Corrective\", 'CAPA DB'!I:I,KPI!A:A,'CAPA DB'!E:E,\">=\"&MATH!D2,'CAPA DB'!E:E,\"<=\"&MATH!B2)","v":0},{"$f":"COUNTIFS('CAPA DB'!B:B,\"closed\",'CAPA DB'!C:C,\"Corrective\", 'CAPA DB'!I:I,KPI!A:A,'CAPA DB'!E:E,\">=\"&MATH!D2,'CAPA DB'!E:E,\"<=\"&MATH!B2)","v":0},0]
[{"$f":"Lists!A16","v":"Staffing"},{"$f":"COUNTIFS('CAPA DB'!B:B,\"NEW\",'CAPA DB'!C:C,\"Corrective\", 'CAPA DB'!I:I,KPI!A:A)","v":0},{"$f":"COUNTIFS('CAPA DB'!B:B,\"under review\",'CAPA DB'!C:C,\"Corrective\", 'CAPA DB'!I:I,KPI!A:A)","v":0},{"$f":"COUNTIFS('CAPA DB'!B:B,\"complete\",'CAPA DB'!C:C,\"Corrective\", 'CAPA DB'!I:I,KPI!A:A)","v":0},{"$f":"COUNTIFS('CAPA DB'!B:B,\"closed\",'CAPA DB'!C:C,\"Corrective\", 'CAPA DB'!I:I,KPI!A:A)","v":0},0,{"$f":"COUNTIFS('CAPA DB'!B:B,\"NEW\",'CAPA DB'!C:C,\"Corrective\", 'CAPA DB'!I:I,KPI!A:A,'CAPA DB'!E:E,\">=\"&MATH!E2,'CAPA DB'!E:E,\"<=\"&MATH!B2)","v":0},{"$f":"COUNTIFS('CAPA DB'!B:B,\"under review\",'CAPA DB'!C:C,\"Corrective\", 'CAPA DB'!I:I,KPI!A:A,'CAPA DB'!E:E,\">=\"&MATH!E2,'CAPA DB'!E:E,\"<=\"&MATH!B2)","v":0},{"$f":"COUNTIFS('CAPA DB'!B:B,\"complete\",'CAPA DB'!C:C,\"Corrective\", 'CAPA DB'!I:I,KPI!A:A,'CAPA DB'!E:E,\">=\"&MATH!E2,'CAPA DB'!E:E,\"<=\"&MATH!B2)","v":0},{"$f":"COUNTIFS('CAPA DB'!B:B,\"Closed\",'CAPA DB'!C:C,\"Corrective\", 'CAPA DB'!I:I,KPI!A:A,'CAPA DB'!E:E,\">=\"&MATH!E2,'CAPA DB'!E:E,\"<=\"&MATH!B2)","v":0},0,{"$f":"COUNTIFS('CAPA DB'!B:B,\"NEW\",'CAPA DB'!C:C,\"Corrective\", 'CAPA DB'!I:I,KPI!A:A,'CAPA DB'!E:E,\">=\"&MATH!D2,'CAPA DB'!E:E,\"<=\"&MATH!B2)","v":0},{"$f":"COUNTIFS('CAPA DB'!B:B,\"under review\",'CAPA DB'!C:C,\"Corrective\", 'CAPA DB'!I:I,KPI!A:A,'CAPA DB'!E:E,\">=\"&MATH!D2,'CAPA DB'!E:E,\"<=\"&MATH!B2)","v":0},{"$f":"COUNTIFS('CAPA DB'!B:B,\"complete\",'CAPA DB'!C:C,\"Corrective\", 'CAPA DB'!I:I,KPI!A:A,'CAPA DB'!E:E,\">=\"&MATH!D2,'CAPA DB'!E:E,\"<=\"&MATH!B2)","v":0},{"$f":"COUNTIFS('CAPA DB'!B:B,\"closed\",'CAPA DB'!C:C,\"Corrective\", 'CAPA DB'!I:I,KPI!A:A,'CAPA DB'!E:E,\">=\"&MATH!D2,'CAPA DB'!E:E,\"<=\"&MATH!B2)","v":0},0]
[{"$f":"Lists!A17","v":"Unsure - please detail"},{"$f":"COUNTIFS('CAPA DB'!B:B,\"NEW\",'CAPA DB'!C:C,\"Corrective\", 'CAPA DB'!I:I,KPI!A:A)","v":0},{"$f":"COUNTIFS('CAPA DB'!B:B,\"under review\",'CAPA DB'!C:C,\"Corrective\", 'CAPA DB'!I:I,KPI!A:A)","v":0},{"$f":"COUNTIFS('CAPA DB'!B:B,\"complete\",'CAPA DB'!C:C,\"Corrective\", 'CAPA DB'!I:I,KPI!A:A)","v":0},{"$f":"COUNTIFS('CAPA DB'!B:B,\"closed\",'CAPA DB'!C:C,\"Corrective\", 'CAPA DB'!I:I,KPI!A:A)","v":0},0,{"$f":"COUNTIFS('CAPA DB'!B:B,\"NEW\",'CAPA DB'!C:C,\"Corrective\", 'CAPA DB'!I:I,KPI!A:A,'CAPA DB'!E:E,\">=\"&MATH!E2,'CAPA DB'!E:E,\"<=\"&MATH!B2)","v":0},{"$f":"COUNTIFS('CAPA DB'!B:B,\"under review\",'CAPA DB'!C:C,\"Corrective\", 'CAPA DB'!I:I,KPI!A:A,'CAPA DB'!E:E,\">=\"&MATH!E2,'CAPA DB'!E:E,\"<=\"&MATH!B2)","v":0},{"$f":"COUNTIFS('CAPA DB'!B:B,\"complete\",'CAPA DB'!C:C,\"Corrective\", 'CAPA DB'!I:I,KPI!A:A,'CAPA DB'!E:E,\">=\"&MATH!E2,'CAPA DB'!E:E,\"<=\"&MATH!B2)","v":0},{"$f":"COUNTIFS('CAPA DB'!B:B,\"Closed\",'CAPA DB'!C:C,\"Corrective\", 'CAPA DB'!I:I,KPI!A:A,'CAPA DB'!E:E,\">=\"&MATH!E2,'CAPA DB'!E:E,\"<=\"&MATH!B2)","v":0},0,{"$f":"COUNTIFS('CAPA DB'!B:B,\"NEW\",'CAPA DB'!C:C,\"Corrective\", 'CAPA DB'!I:I,KPI!A:A,'CAPA DB'!E:E,\">=\"&MATH!D2,'CAPA DB'!E:E,\"<=\"&MATH!B2)","v":0},{"$f":"COUNTIFS('CAPA DB'!B:B,\"under review\",'CAPA DB'!C:C,\"Corrective\", 'CAPA DB'!I:I,KPI!A:A,'CAPA DB'!E:E,\">=\"&MATH!D2,'CAPA DB'!E:E,\"<=\"&MATH!B2)","v":0},{"$f":"COUNTIFS('CAPA DB'!B:B,\"complete\",'CAPA DB'!C:C,\"Corrective\", 'CAPA DB'!I:I,KPI!A:A,'CAPA DB'!E:E,\">=\"&MATH!D2,'CAPA DB'!E:E,\"<=\"&MATH!B2)","v":0},{"$f":"COUNTIFS('CAPA DB'!B:B,\"closed\",'CAPA DB'!C:C,\"Corrective\", 'CAPA DB'!I:I,KPI!A:A,'CAPA DB'!E:E,\">=\"&MATH!D2,'CAPA DB'!E:E,\"<=\"&MATH!B2)","v":0},0]
[]
["Accepted",{"$f":"COUNTIFS('CAPA DB'!C:C,\"Corrective\", 'CAPA DB'!V:V,\"Accepted\")","v":0}]
["Rejected",{"$f":"COUNTIFS('CAPA DB'!C:C,\"Corrective\", 'CAPA DB'!V:V,\"Rejected\")","v":0}]
["N/A",{"$f":"COUNTIFS('CAPA DB'!C:C,\"Corrective\", 'CAPA DB'!V:V,\"N/A\")","v":0}]
[]
["Preventative actions"]
[]
["Totals"]
["New",{"$f":"COUNTIFS('CAPA DB'!B:B,\"NEW\",'CAPA DB'!C:C,\"Preventative\")","v":0},null,"% of Active preventative overdue",null,null,{"$f":"IF(ISERROR(B46/(B40+B41)),\"\",B46/(B40+B41))","v":""}]
["Under Review",{"$f":"COUNTIFS('CAPA DB'!B:B,\"under review\",'CAPA DB'!C:C,\"Preventative\")","v":0}]
["complete",{"$f":"COUNTIFS('CAPA DB'!B:B,\"complete\",'CAPA DB'!C:C,\"Preventative\")","v":0}]
["Closed",{"$f":"COUNTIFS('CAPA DB'!B:B,\"closed\",'CAPA DB'!C:C,\"Preventative\")","v":0}]
["Total",{"$f":"SUM(B40:B43)","v":0}]
[]
["Suggested actions overdue",{"$f":"COUNTIFS('CAPA DB'!B:B,\"NEW\",'CAPA DB'!C:C,\"Preventative\",'CAPA DB'!X:X,\"\",'CAPA DB'!O:O,\"<\"&TODAY())","v":0}]
[]
[]
["By Category","Any Date",null,null,null,null,"Submitted in the Last 90 days",null,null,null,null,"Submitted in the Last 30 days"]
["Category","New","Under review","complete","Closed","Total","New","Under review","complete","Closed","Total","New","Under review","complete","Closed","Total"]
[{"$f":"Lists!A2","v":"Access, Admission, Discharge and Transfer issue"},{"$f":"COUNTIFS('CAPA DB'!B:B,\"NEW\",'CAPA DB'!C:C,\"Preventative\",'CAPA DB'!I:I,KPI!A:A)","v":0},{"$f":"COUNTIFS('CAPA DB'!B:B,\"under review\",'CAPA DB'!C:C,\"Preventative\",'CAPA DB'!I:I,KPI!A:A)","v":0},{"$f":"COUNTIFS('CAPA DB'!B:B,\"complete\",'CAPA DB'!C:C,\"Preventative\",'CAPA DB'!I:I,KPI!A:A)","v":0},{"$f":"COUNTIFS('CAPA DB'!B:B,\"closed\",'CAPA DB'!C:C,\"Preventative\",'CAPA DB'!I:I,KPI!A:A)","v":0},{"$f":"SUM(B51:E51)","v":0},{"$f":"COUNTIFS('CAPA DB'!B:B,\"NEW\",'CAPA DB'!C:C,\"Preventative\",'CAPA DB'!I:I,KPI!A:A,'CAPA DB'!E:E,\">=\"&MATH!E2,'CAPA DB'!E:E,\"<=\"&MATH!B2)","v":0},{"$f":"COUNTIFS('CAPA DB'!B:B,\"under review\",'CAPA DB'!C:C,\"Preventative\",'CAPA DB'!I:I,KPI!A:A,'CAPA DB'!E:E,\">=\"&MATH!E2,'CAPA DB'!E:E,\"<=\"&MATH!B2)","v":0},{"$f":"COUNTIFS('CAPA DB'!B:B,\"complete\",'CAPA DB'!C:C,\"Preventative\",'CAPA DB'!I:I,KPI!A:A,'CAPA DB'!E:E,\">=\"&MATH!E2,'CAPA DB'!E:E,\"<=\"&MATH!B2)","v":0},{"$f":"COUNTIFS('CAPA DB'!B:B,\"closed\",'CAPA DB'!C:C,\"Preventative\",'CAPA DB'!I:I,KPI!A:A,'CAPA DB'!E:E,\">=\"&MATH!E2,'CAPA DB'!E:E,\"<=\"&MATH!B2)","v":0},{"$f":"SUM(G51:J51)","v":0},{"$f":"COUNTIFS('CAPA DB'!B:B,\"NEW\",'CAPA DB'!C:C,\"Preventative\",'CAPA DB'!I:I,KPI!A:A,'CAPA DB'!E:E,\">=\"&MATH!D2,'CAPA DB'!E:E,\"<=\"&MATH!B2)","v":0},{"$f":"COUNTIFS('CAPA DB'!B:B,\"under review\",'CAPA DB'!C:C,\"Preventative\",'CAPA DB'!I:I,KPI!A:A,'CAPA DB'!E:E,\">=\"&MATH!D2,'CAPA DB'!E:E,\"<=\"&MATH!B2)","v":0},{"$f":"COUNTIFS('CAPA DB'!B:B,\"complete\",'CAPA DB'!C:C,\"Preventative\",'CAPA DB'!I:I,KPI!A:A,'CAPA DB'!E:E,\">=\"&MATH!D2,'CAPA DB'!E:E,\"<=\"&MATH!B2)","v":0},{"$f":"COUNTIFS('CAPA DB'!B:B,\"closed\",'CAPA DB'!C:C,\"Preventative\",'CAPA DB'!I:I,KPI!A:A,'CAPA DB'!E:E,\">=\"&MATH!D2,'CAPA DB'!E:E,\"<=\"&MATH!B2)","v":0},{"$f":"SUM(L51:O51)","v":0}]
[{"$f":"Lists!A3","v":"Collision/Struck against moving or stationary object"},{"$f":"COUNTIFS('CAPA DB'!B:B,\"NEW\",'CAPA DB'!C:C,\"Preventative\",'CAPA DB'!I:I,KPI!A:A)","v":0},{"$f":"COUNTIFS('CAPA DB'!B:B,\"under review\",'CAPA DB'!C:C,\"Preventative\",'CAPA DB'!I:I,KPI!A:A)","v":0},{"$f":"COUNTIFS('CAPA DB'!B:B,\"complete\",'CAPA DB'!C:C,\"Preventative\",'CAPA DB'!I:I,KPI!A:A)","v":0},{"$f":"COUNTIFS('CAPA DB'!B:B,\"closed\",'CAPA DB'!C:C,\"Preventative\",'CAPA DB'!I:I,KPI!A:A)","v":0},0,{"$f":"COUNTIFS('CAPA DB'!B:B,\"NEW\",'CAPA DB'!C:C,\"Preventative\",'CAPA DB'!I:I,KPI!A:A,'CAPA DB'!E:E,\">=\"&MATH!E2,'CAPA DB'!E:E,\"<=\"&MATH!B2)","v":0},{"$f":"COUNTIFS('CAPA DB'!B:B,\"under review\",'CAPA DB'!C:C,\"Preventative\",'CAPA DB'!I:I,KPI!A:A,'CAPA DB'!E:E,\">=\"&MATH!E2,'CAPA DB'!E:E,\"<=\"&MATH!B2)","v":0},{"$f":"COUNTIFS('CAPA DB'!B:B,\"complete\",'CAPA DB'!C:C,\"Preventative\",'CAPA DB'!I:I,KPI!A:A,'CAPA DB'!E:E,\">=\"&MATH!E2,'CAPA DB'!E:E,\"<=\"&MATH!B2)","v":0},{"$f":"COUNTIFS('CAPA DB'!B:B,\"closed\",'CAPA DB'!C:C,\"Preventative\",'CAPA DB'!I:I,KPI!A:A,'CAPA DB'!E:E,\">=\"&MATH!E2,'CAPA DB'!E:E,\"<=\"&MATH!B2)","v":0},0,{"$f":"COUNTIFS('CAPA DB'!B:B,\"NEW\",'CAPA DB'!C:C,\"Preventative\",'CAPA DB'!I:I,KPI!A:A,'CAPA DB'!E:E,\">=\"&MATH!D2,'CAPA DB'!E:E,\"<=\"&MATH!B2)","v":0},{"$f":"COUNTIFS('CAPA DB'!B:B,\"under review\",'CAPA DB'!C:C,\"Preventative\",'CAPA DB'!I:I,KPI!A:A,'CAPA DB'!E:E,\">=\"&MATH!D2,'CAPA DB'!E:E,\"<=\"&MATH!B2)","v":0},{"$f":"COUNTIFS('CAPA DB'!B:B,\"complete\",'CAPA DB'!C:C,\"Preventative\",'CAPA DB'!I:I,KPI!A:A,'CAPA DB'!E:E,\">=\"&MATH!D2,'CAPA DB'!E:E,\"<=\"&MATH!B2)","v":0},{"$f":"COUNTIFS('CAPA DB'!B:B,\"closed\",'CAPA DB'!C:C,\"Preventative\",'CAPA DB'!I:I,KPI!A:A,'CAPA DB'!E:E,\">=\"&MATH!D2,'CAPA DB'!E:E,\"<=\"&MATH!B2)","v":0},0]
[{"$f":"Lists!A4","v":"Communication failure Consent"},{"$f":"COUNTIFS('CAPA DB'!B:B,\"NEW\",'CAPA DB'!C:C,\"Preventative\",'CAPA DB'!I:I,KPI!A:A)","v":0},{"$f":"COUNTIFS('CAPA DB'!B:B,\"under review\",'CAPA DB'!C:C,\"Preventative\",'CAPA DB'!I:I,KPI!A:A)","v":0},{"$f":"COUNTIFS('CAPA DB'!B:B,\"complete\",'CAPA DB'!C:C,\"Preventative\",'CAPA DB'!I:I,KPI!A:A)","v":0},{"$f":"COUNTIFS('CAPA DB'!B:B,\"closed\",'CAPA DB'!C:C,\"Preventative\",'CAPA DB'!I:I,KPI!A:A)","v":0},0,{"$f":"COUNTIFS('CAPA DB'!B:B,\"NEW\",'CAPA DB'!C:C,\"Preventative\",'CAPA DB'!I:I,KPI!A:A,'CAPA DB'!E:E,\">=\"&MATH!E2,'CAPA DB'!E:E,\"<=\"&MATH!B2)","v":0},{"$f":"COUNTIFS('CAPA DB'!B:B,\"under review\",'CAPA DB'!C:C,\"Preventative\",'CAPA DB'!I:I,KPI!A:A,'CAPA DB'!E:E,\">=\"&MATH!E2,'CAPA DB'!E:E,\"<=\"&MATH!B2)","v":0},{"$f":"COUNTIFS('CAPA DB'!B:B,\"complete\",'CAPA DB'!C:C,\"Preventative\",'CAPA DB'!I:I,KPI!A:A,'CAPA DB'!E:E,\">=\"&MATH!E2,'CAPA DB'!E:E,\"<=\"&MATH!B2)","v":0},{"$f":"COUNTIFS('CAPA DB'!B:B,\"closed\",'CAPA DB'!C:C,\"Preventative\",'CAPA DB'!I:I,KPI!A:A,'CAPA DB'!E:E,\">=\"&MATH!E2,'CAPA DB'!E:E,\"<=\"&MATH!B2)","v":0},0,{"$f":"COUNTIFS('CAPA DB'!B:B,\"NEW\",'CAPA DB'!C:C,\"Preventative\",'CAPA DB'!I:I,KPI!A:A,'CAPA DB'!E:E,\">=\"&MATH!D2,'CAPA DB'!E:E,\"<=\"&MATH!B2)","v":0},{"$f":"COUNTIFS('CAPA DB'!B:B,\"under review\",'CAPA DB'!C:C,\"Preventative\",'CAPA DB'!I:I,KPI!A:A,'CAPA DB'!E:E,\">=\"&MATH!D2,'CAPA DB'!E:E,\"<=\"&MATH!B2)","v":0},{"$f":"COUNTIFS('CAPA DB'!B:B,\"complete\",'CAPA DB'!C:C,\"Preventative\",'CAPA DB'!I:I,KPI!A:A,'CAPA DB'!E:E,\">=\"&MATH!D2,'CAPA DB'!E:E,\"<=\"&MATH!B2)","v":0},{"$f":"COUNTIFS('CAPA DB'!B:B,\"closed\",'CAPA DB'!C:C,\"Preventative\",'CAPA DB'!I:I,KPI!A:A,'CAPA DB'!E:E,\">=\"&MATH!D2,'CAPA DB'!E:E,\"<=\"&MATH!B2)","v":0},0]
[{"$f":"Lists!A5","v":"Delay / failure to treatment or procedure"},{"$f":"COUNTIFS('CAPA DB'!B:B,\"NEW\",'CAPA DB'!C:C,\"Preventative\",'CAPA DB'!I:I,KPI!A:A)","v":0},{"$f":"COUNTIFS('CAPA DB'!B:B,\"under review\",'CAPA DB'!C:C,\"Preventative\",'CAPA DB'!I:I,KPI!A:A)","v":0},{"$f":"COUNTIFS('CAPA DB'!B:B,\"complete\",'CAPA DB'!C:C,\"Preventative\",'CAPA DB'!I:I,KPI!A:A)","v":0},{"$f":"COUNTIFS('CAPA DB'!B:B,\"closed\",'CAPA DB'!C:C,\"Preventative\",'CAPA DB'!I:I,KPI!A:A)","v":0},0,{"$f":"COUNTIFS('CAPA DB'!B:B,\"NEW\",'CAPA DB'!C:C,\"Preventative\",'CAPA DB'!I:I,KPI!A:A,'CAPA DB'!E:E,\">=\"&MATH!E2,'CAPA DB'!E:E,\"<=\"&MATH!B2)","v":0},{"$f":"COUNTIFS('CAPA DB'!B:B,\"under review\",'CAPA DB'!C:C,\"Preventative\",'CAPA DB'!I:I,KPI!A:A,'CAPA DB'!E:E,\">=\"&MATH!E2,'CAPA DB'!E:E,\"<=\"&MATH!B2)","v":0},{"$f":"COUNTIFS('CAPA DB'!B:B,\"complete\",'CAPA DB'!C:C,\"Preventative\",'CAPA DB'!I:I,KPI!A:A,'CAPA DB'!E:E,\">=\"&MATH!E2,'CAPA DB'!E:E,\"<=\"&MATH!B2)","v":0},{"$f":"COUNTIFS('CAPA DB'!B:B,\"closed\",'CAPA DB'!C:C,\"Preventative\",'CAPA DB'!I:I,KPI!A:A,'CAPA DB'!E:E,\">=\"&MATH!E2,'CAPA DB'!E:E,\"<=\"&MATH!B2)","v":0},0,{"$f":"COUNTIFS('CAPA DB'!B:B,\"NEW\",'CAPA DB'!C:C,\"Preventative\",'CAPA DB'!I:I,KPI!A:A,'CAPA DB'!E:E,\">=\"&MATH!D2,'CAPA DB'!E:E,\"<=\"&MATH!B2)","v":0},{"$f":"COUNTIFS('CAPA DB'!B:B,\"under review\",'CAPA DB'!C:C,\"Preventative\",'CAPA DB'!I:I,KPI!A:A,'CAPA DB'!E:E,\">=\"&MATH!D2,'CAPA DB'!E:E,\"<=\"&MATH!B2)","v":0},{"$f":"COUNTIFS('CAPA DB'!B:B,\"complete\",'CAPA DB'!C:C,\"Preventative\",'CAPA DB'!I:I,KPI!A:A,'CAPA DB'!E:E,\">=\"&MATH!D2,'CAPA DB'!E:E,\"<=\"&MATH!B2)","v":0},{"$f":"COUNTIFS('CAPA DB'!B:B,\"closed\",'CAPA DB'!C:C,\"Preventative\",'CAPA DB'!I:I,KPI!A:A,'CAPA DB'!E:E,\">=\"&MATH!D2,'CAPA DB'!E:E,\"<=\"&MATH!B2)","v":0},0]
[{"$f":"Lists!A6","v":"Diagnosis, Scans, Tests and procedures (clinical)"},{"$f":"COUNTIFS('CAPA DB'!B:B,\"NEW\",'CAPA DB'!C:C,\"Preventative\",'CAPA DB'!I:I,KPI!A:A)","v":0},{"$f":"COUNTIFS('CAPA DB'!B:B,\"under review\",'CAPA DB'!C:C,\"Preventative\",'CAPA DB'!I:I,KPI!A:A)","v":0},{"$f":"COUNTIFS('CAPA DB'!B:B,\"complete\",'CAPA DB'!C:C,\"Preventative\",'CAPA DB'!I:I,KPI!A:A)","v":0},{"$f":"COUNTIFS('CAPA DB'!B:B,\"closed\",'CAPA DB'!C:C,\"Preventative\",'CAPA DB'!I:I,KPI!A:A)","v":0},0,{"$f":"COUNTIFS('CAPA DB'!B:B,\"NEW\",'CAPA DB'!C:C,\"Preventative\",'CAPA DB'!I:I,KPI!A:A,'CAPA DB'!E:E,\">=\"&MATH!E2,'CAPA DB'!E:E,\"<=\"&MATH!B2)","v":0},{"$f":"COUNTIFS('CAPA DB'!B:B,\"under review\",'CAPA DB'!C:C,\"Preventative\",'CAPA DB'!I:I,KPI!A:A,'CAPA DB'!E:E,\">=\"&MATH!E2,'CAPA DB'!E:E,\"<=\"&MATH!B2)","v":0},{"$f":"COUNTIFS('CAPA DB'!B:B,\"complete\",'CAPA DB'!C:C,\"Preventative\",'CAPA DB'!I:I,KPI!A:A,'CAPA DB'!E:E,\">=\"&MATH!E2,'CAPA DB'!E:E,\"<=\"&MATH!B2)","v":0},{"$f":"COUNTIFS('CAPA DB'!B:B,\"closed\",'CAPA DB'!C:C,\"Preventative\",'CAPA DB'!I:I,KPI!A:A,'CAPA DB'!E:E,\">=\"&MATH!E2,'CAPA DB'!E:E,\"<=\"&MATH!B2)","v":0},0,{"$f":"COUNTIFS('CAPA DB'!B:B,\"NEW\",'CAPA DB'!C:C,\"Preventative\",'CAPA DB'!I:I,KPI!A:A,'CAPA DB'!E:E,\">=\"&MATH!D2,'CAPA DB'!E:E,\"<=\"&MATH!B2)","v":0},{"$f":"COUNTIFS('CAPA DB'!B:B,\"under review\",'CAPA DB'!C:C,\"Preventative\",'CAPA DB'!I:I,KPI!A:A,'CAPA DB'!E:E,\">=\"&MATH!D2,'CAPA DB'!E:E,\"<=\"&MATH!B2)","v":0},{"$f":"COUNTIFS('CAPA DB'!B:B,\"complete\",'CAPA DB'!C:C,\"Preventative\",'CAPA DB'!I:I,KPI!A:A,'CAPA DB'!E:E,\">=\"&MATH!D2,'CAPA DB'!E:E,\"<=\"&MATH!B2)","v":0},{"$f":"COUNTIFS('CAPA DB'!B:B,\"closed\",'CAPA DB'!C:C,\"Preventative\",'CAPA DB'!I:I,KPI!A:A,'CAPA DB'!E:E,\">=\"&MATH!D2,'CAPA DB'!E:E,\"<=\"&MATH!B2)","v":0},0]
[{"$f":"Lists!A7","v":"Documentation and Health Records"},{"$f":"COUNTIFS('CAPA DB'!B:B,\"NEW\",'CAPA DB'!C:C,\"Preventative\",'CAPA DB'!I:I,KPI!A:A)","v":0},{"$f":"COUNTIFS('CAPA DB'!B:B,\"under review\",'CAPA DB'!C:C,\"Preventative\",'CAPA DB'!I:I,KPI!A:A)","v":0},{"$f":"COUNTIFS('CAPA DB'!B:B,\"complete\",'CAPA DB'!C:C,\"Preventative\",'CAPA DB'!I:I,KPI!A:A)","v":0},{"$f":"COUNTIFS('CAPA DB'!B:B,\"closed\",'CAPA DB'!C:C,\"Preventative\",'CAPA DB'!I:I,KPI!A:A)","v":0},0,{"$f":"COUNTIFS('CAPA DB'!B:B,\"NEW\",'CAPA DB'!C:C,\"Preventative\",'CAPA DB'!I:I,KPI!A:A,'CAPA DB'!E:E,\">=\"&MATH!E2,'CAPA DB'!E:E,\"<=\"&MATH!B2)","v":0},{"$f":"COUNTIFS('CAPA DB'!B:B,\"under review\",'CAPA DB'!C:C,\"Preventative\",'CAPA DB'!I:I,KPI!A:A,'CAPA DB'!E:E,\">=\"&MATH!E2,'CAPA DB'!E:E,\"<=\"&MATH!B2)","v":0},{"$f":"COUNTIFS('CAPA DB'!B:B,\"complete\",'CAPA DB'!C:C,\"Preventative\",'CAPA DB'!I:I,KPI!A:A,'CAPA DB'!E:E,\">=\"&MATH!E2,'CAPA DB'!E:E,\"<=\"&MATH!B2)","v":0},{"$f":"COUNTIFS('CAPA DB'!B:B,\"closed\",'CAPA DB'!C:C,\"Preventative\",'CAPA DB'!I:I,KPI!A:A,'CAPA DB'!E:E,\">=\"&MATH!E2,'CAPA DB'!E:E,\"<=\"&MATH!B2)","v":0},0,{"$f":"COUNTIFS('CAPA DB'!B:B,\"NEW\",'CAPA DB'!C:C,\"Preventative\",'CAPA DB'!I:I,KPI!A:A,'CAPA DB'!E:E,\">=\"&MATH!D2,'CAPA DB'!E:E,\"<=\"&MATH!B2)","v":0},{"$f":"COUNTIFS('CAPA DB'!B:B,\"under review\",'CAPA DB'!C:C,\"Preventative\",'CAPA DB'!I:I,KPI!A:A,'CAPA DB'!E:E,\">=\"&MATH!D2,'CAPA DB'!E:E,\"<=\"&MATH!B2)","v":0},{"$f":"COUNTIFS('CAPA DB'!B:B,\"complete\",'CAPA DB'!C:C,\"Preventative\",'CAPA DB'!I:I,KPI!A:A,'CAPA DB'!E:E,\">=\"&MATH!D2,'CAPA DB'!E:E,\"<=\"&MATH!B2)","v":0},{"$f":"COUNTIFS('CAPA DB'!B:B,\"closed\",'CAPA DB'!C:C,\"Preventative\",'CAPA DB'!I:I,KPI!A:A,'CAPA DB'!E:E,\">=\"&MATH!D2,'CAPA DB'!E:E,\"<=\"&MATH!B2)","v":0},0]
[{"$f":"Lists!A8","v":"Environmental / Infrastructure / Equipment"},{"$f":"COUNTIFS('CAPA DB'!B:B,\"NEW\",'CAPA DB'!C:C,\"Preventative\",'CAPA DB'!I:I,KPI!A:A)","v":0},{"$f":"COUNTIFS('CAPA DB'!B:B,\"under review\",'CAPA DB'!C:C,\"Preventative\",'CAPA DB'!I:I,KPI!A:A)","v":0},{"$f":"COUNTIFS('CAPA DB'!B:B,\"complete\",'CAPA DB'!C:C,\"Preventative\",'CAPA DB'!I:I,KPI!A:A)","v":0},{"$f":"COUNTIFS('CAPA DB'!B:B,\"closed\",'CAPA DB'!C:C,\"Preventative\",'CAPA DB'!I:I,KPI!A:A)","v":0},0,{"$f":"COUNTIFS('CAPA DB'!B:B,\"NEW\",'CAPA DB'!C:C,\"Preventative\",'CAPA DB'!I:I,KPI!A:A,'CAPA DB'!E:E,\">=\"&MATH!E2,'CAPA DB'!E:E,\"<=\"&MATH!B2)","v":0},{"$f":"COUNTIFS('CAPA DB'!B:B,\"under review\",'CAPA DB'!C:C,\"Preventative\",'CAPA DB'!I:I,KPI!A:A,'CAPA DB'!E:E,\">=\"&MATH!E2,'CAPA DB'!E:E,\"<=\"&MATH!B2)","v":0},{"$f":"COUNTIFS('CAPA DB'!B:B,\"complete\",'CAPA DB'!C:C,\"Preventative\",'CAPA DB'!I:I,KPI!A:A,'CAPA DB'!E:E,\">=\"&MATH!E2,'CAPA DB'!E:E,\"<=\"&MATH!B2)","v":0},{"$f":"COUNTIFS('CAPA DB'!B:B,\"closed\",'CAPA DB'!C:C,\"Preventative\",'CAPA DB'!I:I,KPI!A:A,'CAPA DB'!E:E,\">=\"&MATH!E2,'CAPA DB'!E:E,\"<=\"&MATH!B2)","v":0},0,{"$f":"COUNTIFS('CAPA DB'!B:B,\"NEW\",'CAPA DB'!C:C,\"Preventative\",'CAPA DB'!I:I,KPI!A:A,'CAPA DB'!E:E,\">=\"&MATH!D2,'CAPA DB'!E:E,\"<=\"&MATH!B2)","v":0},{"$f":"COUNTIFS('CAPA DB'!B:B,\"under review\",'CAPA DB'!C:C,\"Preventative\",'CAPA DB'!I:I,KPI!A:A,'CAPA DB'!E:E,\">=\"&MATH!D2,'CAPA DB'!E:E,\"<=\"&MATH!B2)","v":0},{"$f":"COUNTIFS('CAPA DB'!B:B,\"complete\",'CAPA DB'!C:C,\"Preventative\",'CAPA DB'!I:I,KPI!A:A,'CAPA DB'!E:E,\">=\"&MATH!D2,'CAPA DB'!E:E,\"<=\"&MATH!B2)","v":0},{"$f":"COUNTIFS('CAPA DB'!B:B,\"closed\",'CAPA DB'!C:C,\"Preventative\",'CAPA DB'!I:I,KPI!A:A,'CAPA DB'!E:E,\">=\"&MATH!D2,'CAPA DB'!E:E,\"<=\"&MATH!B2)","v":0},0]
[{"$f":"Lists!A9","v":"Medical Devices (Clinical)"},{"$f":"COUNTIFS('CAPA DB'!B:B,\"NEW\",'CAPA DB'!C:C,\"Preventative\",'CAPA DB'!I:I,KPI!A:A)","v":0},{"$f":"COUNTIFS('CAPA DB'!B:B,\"under review\",'CAPA DB'!C:C,\"Preventative\",'CAPA DB'!I:I,KPI!A:A)","v":0},{"$f":"COUNTIFS('CAPA DB'!B:B,\"complete\",'CAPA DB'!C:C,\"Preventative\",'CAPA DB'!I:I,KPI!A:A)","v":0},{"$f":"COUNTIFS('CAPA DB'!B:B,\"closed\",'CAPA DB'!C:C,\"Preventative\",'CAPA DB'!I:I,KPI!A:A)","v":0},0,{"$f":"COUNTIFS('CAPA DB'!B:B,\"NEW\",'CAPA DB'!C:C,\"Preventative\",'CAPA DB'!I:I,KPI!A:A,'CAPA DB'!E:E,\">=\"&MATH!E2,'CAPA DB'!E:E,\"<=\"&MATH!B2)","v":0},{"$f":"COUNTIFS('CAPA DB'!B:B,\"under review\",'CAPA DB'!C:C,\"Preventative\",'CAPA DB'!I:I,KPI!A:A,'CAPA DB'!E:E,\">=\"&MATH!E2,'CAPA DB'!E:E,\"<=\"&MATH!B2)","v":0},{"$f":"COUNTIFS('CAPA DB'!B:B,\"complete\",'CAPA DB'!C:C,\"Preventative\",'CAPA DB'!I:I,KPI!A:A,'CAPA DB'!E:E,\">=\"&MATH!E2,'CAPA DB'!E:E,\"<=\"&MATH!B2)","v":0},{"$f":"COUNTIFS('CAPA DB'!B:B,\"closed\",'CAPA DB'!C:C,\"Preventative\",'CAPA DB'!I:I,KPI!A:A,'CAPA DB'!E:E,\">=\"&MATH!E2,'CAPA DB'!E:E,\"<=\"&MATH!B2)","v":0},0,{"$f":"COUNTIFS('CAPA DB'!B:B,\"NEW\",'CAPA DB'!C:C,\"Preventative\",'CAPA DB'!I:I,KPI!A:A,'CAPA DB'!E:E,\">=\"&MATH!D2,'CAPA DB'!E:E,\"<=\"&MATH!B2)","v":0},{"$f":"COUNTIFS('CAPA DB'!B:B,\"under review\",'CAPA DB'!C:C,\"Preventative\",'CAPA DB'!I:I,KPI!A:A,'CAPA DB'!E:E,\">=\"&MATH!D2,'CAPA DB'!E:E,\"<=\"&MATH!B2)","v":0},{"$f":"COUNTIFS('CAPA DB'!B:B,\"complete\",'CAPA DB'!C:C,\"Preventative\",'CAPA DB'!I:I,KPI!A:A,'CAPA DB'!E:E,\">=\"&MATH!D2,'CAPA DB'!E:E,\"<=\"&MATH!B2)","v":0},{"$f":"COUNTIFS('CAPA DB'!B:B,\"closed\",'CAPA DB'!C:C,\"Preventative\",'CAPA DB'!I:I,KPI!A:A,'CAPA DB'!E:E,\">=\"&MATH!D2,'CAPA DB'!E:E,\"<=\"&MATH!B2)","v":0},0]
[{"$f":"Lists!A10","v":"Infection Control"},{"$f":"COUNTIFS('CAPA DB'!B:B,\"NEW\",'CAPA DB'!C:C,\"Preventative\",'CAPA DB'!I:I,KPI!A:A)","v":0},{"$f":"COUNTIFS('CAPA DB'!B:B,\"under review\",'CAPA DB'!C:C,\"Preventative\",'CAPA DB'!I:I,KPI!A:A)","v":0},{"$f":"COUNTIFS('CAPA DB'!B:B,\"complete\",'CAPA DB'!C:C,\"Preventative\",'CAPA DB'!I:I,KPI!A:A)","v":0},{"$f":"COUNTIFS('CAPA DB'!B:B,\"closed\",'CAPA DB'!C:C,\"Preventative\",'CAPA DB'!I:I,KPI!A:A)","v":0},0,{"$f":"COUNTIFS('CAPA DB'!B:B,\"NEW\",'CAPA DB'!C:C,\"Preventative\",'CAPA DB'!I:I,KPI!A:A,'CAPA DB'!E:E,\">=\"&MATH!E2,'CAPA DB'!E:E,\"<=\"&MATH!B2)","v":0},{"$f":"COUNTIFS('CAPA DB'!B:B,\"under review\",'CAPA DB'!C:C,\"Preventative\",'CAPA DB'!I:I,KPI!A:A,'CAPA DB'!E:E,\">=\"&MATH!E2,'CAPA DB'!E:E,\"<=\"&MATH!B2)","v":0},{"$f":"COUNTIFS('CAPA DB'!B:B,\"complete\",'CAPA DB'!C:C,\"Preventative\",'CAPA DB'!I:I,KPI!A:A,'CAPA DB'!E:E,\">=\"&MATH!E2,'CAPA DB'!E:E,\"<=\"&MATH!B2)","v":0},{"$f":"COUNTIFS('CAPA DB'!B:B,\"closed\",'CAPA DB'!C:C,\"Preventative\",'CAPA DB'!I:I,KPI!A:A,'CAPA DB'!E:E,\">=\"&MATH!E2,'CAPA DB'!E:E,\"<=\"&MATH!B2)","v":0},0,{"$f":"COUNTIFS('CAPA DB'!B:B,\"NEW\",'CAPA DB'!C:C,\"Preventative\",'CAPA DB'!I:I,KPI!A:A,'CAPA DB'!E:E,\">=\"&MATH!D2,'CAPA DB'!E:E,\"<=\"&MATH!B2)","v":0},{"$f":"COUNTIFS('CAPA DB'!B:B,\"under review\",'CAPA DB'!C:C,\"Preventative\",'CAPA DB'!I:I,KPI!A:A,'CAPA DB'!E:E,\">=\"&MATH!D2,'CAPA DB'!E:E,\"<=\"&MATH!B2)","v":0},{"$f":"COUNTIFS('CAPA DB'!B:B,\"complete\",'CAPA DB'!C:C,\"Preventative\",'CAPA DB'!I:I,KPI!A:A,'CAPA DB'!E:E,\">=\"&MATH!D2,'CAPA DB'!E:E,\"<=\"&MATH!B2)","v":0},{"$f":"COUNTIFS('CAPA DB'!B:B,\"closed\",'CAPA DB'!C:C,\"Preventative\",'CAPA DB'!I:I,KPI!A:A,'CAPA DB'!E:E,\">=\"&MATH!D2,'CAPA DB'!E:E,\"<=\"&MATH!B2)","v":0},0]
[{"$f":"Lists!A11","v":"Information Governance"},{"$f":"COUNTIFS('CAPA DB'!B:B,\"NEW\",'CAPA DB'!C:C,\"Preventative\",'CAPA DB'!I:I,KPI!A:A)","v":0},{"$f":"COUNTIFS('CAPA DB'!B:B,\"under review\",'CAPA DB'!C:C,\"Preventative\",'CAPA DB'!I:I,KPI!A:A)","v":0},{"$f":"COUNTIFS('CAPA DB'!B:B,\"complete\",'CAPA DB'!C:C,\"Preventative\",'CAPA DB'!I:I,KPI!A:A)","v":0},{"$f":"COUNTIFS('CAPA DB'!B:B,\"closed\",'CAPA DB'!C:C,\"Preventative\",'CAPA DB'!I:I,KPI!A:A)","v":0},0,{"$f":"COUNTIFS('CAPA DB'!B:B,\"NEW\",'CAPA DB'!C:C,\"Preventative\",'CAPA DB'!I:I,KPI!A:A,'CAPA DB'!E:E,\">=\"&MATH!E2,'CAPA DB'!E:E,\"<=\"&MATH!B2)","v":0},{"$f":"COUNTIFS('CAPA DB'!B:B,\"under review\",'CAPA DB'!C:C,\"Preventative\",'CAPA DB'!I:I,KPI!A:A,'CAPA DB'!E:E,\">=\"&MATH!E2,'CAPA DB'!E:E,\"<=\"&MATH!B2)","v":0},{"$f":"COUNTIFS('CAPA DB'!B:B,\"complete\",'CAPA DB'!C:C,\"Preventative\",'CAPA DB'!I:I,KPI!A:A,'CAPA DB'!E:E,\">=\"&MATH!E2,'CAPA DB'!E:E,\"<=\"&MATH!B2)","v":0},{"$f":"COUNTIFS('CAPA DB'!B:B,\"closed\",'CAPA DB'!C:C,\"Preventative\",'CAPA DB'!I:I,KPI!A:A,'CAPA DB'!E:E,\">=\"&MATH!E2,'CAPA DB'!E:E,\"<=\"&MATH!B2)","v":0},0,{"$f":"COUNTIFS('CAPA DB'!B:B,\"NEW\",'CAPA DB'!C:C,\"Preventative\",'CAPA DB'!I:I,KPI!A:A,'CAPA DB'!E:E,\">=\"&MATH!D2,'CAPA DB'!E:E,\"<=\"&MATH!B2)","v":0},{"$f":"COUNTIFS('CAPA DB'!B:B,\"under review\",'CAPA DB'!C:C,\"Preventative\",'CAPA DB'!I:I,KPI!A:A,'CAPA DB'!E:E,\">=\"&MATH!D2,'CAPA DB'!E:E,\"<=\"&MATH!B2)","v":0},{"$f":"COUNTIFS('CAPA DB'!B:B,\"complete\",'CAPA DB'!C:C,\"Preventative\",'CAPA DB'!I:I,KPI!A:A,'CAPA DB'!E:E,\">=\"&MATH!D2,'CAPA DB'!E:E,\"<=\"&MATH!B2)","v":0},{"$f":"COUNTIFS('CAPA DB'!B:B,\"closed\",'CAPA DB'!C:C,\"Preventative\",'CAPA DB'!I:I,KPI!A:A,'CAPA DB'!E:E,\">=\"&MATH!D2,'CAPA DB'!E:E,\"<=\"&MATH!B2)","v":0},0]
[{"$f":"Lists!A12","v":"Information Technology"},{"$f":"COUNTIFS('CAPA DB'!B:B,\"NEW\",'CAPA DB'!C:C,\"Preventative\",'CAPA DB'!I:I,KPI!A:A)","v":0},{"$f":"COUNTIFS('CAPA DB'!B:B,\"under review\",'CAPA DB'!C:C,\"Preventative\",'CAPA DB'!I:I,KPI!A:A)","v":0},{"$f":"COUNTIFS('CAPA DB'!B:B,\"complete\",'CAPA DB'!C:C,\"Preventative\",'CAPA DB'!I:I,KPI!A:A)","v":0},{"$f":"COUNTIFS('CAPA DB'!B:B,\"closed\",'CAPA DB'!C:C,\"Preventative\",'CAPA DB'!I:I,KPI!A:A)","v":0},0,{"$f":"COUNTIFS('CAPA DB'!B:B,\"NEW\",'CAPA DB'!C:C,\"Preventative\",'CAPA DB'!I:I,KPI!A:A,'CAPA DB'!E:E,\">=\"&MATH!E2,'CAPA DB'!E:E,\"<=\"&MATH!B2)","v":0},{"$f":"COUNTIFS('CAPA DB'!B:B,\"under review\",'CAPA DB'!C:C,\"Preventative\",'CAPA DB'!I:I,KPI!A:A,'CAPA DB'!E:E,\">=\"&MATH!E2,'CAPA DB'!E:E,\"<=\"&MATH!B2)","v":0},{"$f":"COUNTIFS('CAPA DB'!B:B,\"complete\",'CAPA DB'!C:C,\"Preventative\",'CAPA DB'!I:I,KPI!A:A,'CAPA DB'!E:E,\">=\"&MATH!E2,'CAPA DB'!E:E,\"<=\"&MATH!B2)","v":0},{"$f":"COUNTIFS('CAPA DB'!B:B,\"closed\",'CAPA DB'!C:C,\"Preventative\",'CAPA DB'!I:I,KPI!A:A,'CAPA DB'!E:E,\">=\"&MATH!E2,'CAPA DB'!E:E,\"<=\"&MATH!B2)","v":0},0,{"$f":"COUNTIFS('CAPA DB'!B:B,\"NEW\",'CAPA DB'!C:C,\"Preventative\",'CAPA DB'!I:I,KPI!A:A,'CAPA DB'!E:E,\">=\"&MATH!D2,'CAPA DB'!E:E,\"<=\"&MATH!B2)","v":0},{"$f":"COUNTIFS('CAPA DB'!B:B,\"under review\",'CAPA DB'!C:C,\"Preventative\",'CAPA DB'!I:I,KPI!A:A,'CAPA DB'!E:E,\">=\"&MATH!D2,'CAPA DB'!E:E,\"<=\"&MATH!B2)","v":0},{"$f":"COUNTIFS('CAPA DB'!B:B,\"complete\",'CAPA DB'!C:C,\"Preventative\",'CAPA DB'!I:I,KPI!A:A,'CAPA DB'!E:E,\">=\"&MATH!D2,'CAPA DB'!E:E,\"<=\"&MATH!B2)","v":0},{"$f":"COUNTIFS('CAPA DB'!B:B,\"closed\",'CAPA DB'!C:C,\"Preventative\",'CAPA DB'!I:I,KPI!A:A,'CAPA DB'!E:E,\">=\"&MATH!D2,'CAPA DB'!E:E,\"<=\"&MATH!B2)","v":0},0]
[{"$f":"Lists!A13","v":"Manual Handling"},{"$f":"COUNTIFS('CAPA DB'!B:B,\"NEW\",'CAPA DB'!C:C,\"Preventative\",'CAPA DB'!I:I,KPI!A:A)","v":0},{"$f":"COUNTIFS('CAPA DB'!B:B,\"under review\",'CAPA DB'!C:C,\"Preventative\",'CAPA DB'!I:I,KPI!A:A)","v":0},{"$f":"COUNTIFS('CAPA DB'!B:B,\"complete\",'CAPA DB'!C:C,\"Preventative\",'CAPA DB'!I:I,KPI!A:A)","v":0},{"$f":"COUNTIFS('CAPA DB'!B:B,\"closed\",'CAPA DB'!C:C,\"Preventative\",'CAPA DB'!I:I,KPI!A:A)","v":0},0,{"$f":"COUNTIFS('CAPA DB'!B:B,\"NEW\",'CAPA DB'!C:C,\"Preventative\",'CAPA DB'!I:I,KPI!A:A,'CAPA DB'!E:E,\">=\"&MATH!E2,'CAPA DB'!E:E,\"<=\"&MATH!B2)","v":0},{"$f":"COUNTIFS('CAPA DB'!B:B,\"under review\",'CAPA DB'!C:C,\"Preventative\",'CAPA DB'!I:I,KPI!A:A,'CAPA DB'!E:E,\">=\"&MATH!E2,'CAPA DB'!E:E,\"<=\"&MATH!B2)","v":0},{"$f":"COUNTIFS('CAPA DB'!B:B,\"complete\",'CAPA DB'!C:C,\"Preventative\",'CAPA DB'!I:I,KPI!A:A,'CAPA DB'!E:E,\">=\"&MATH!E2,'CAPA DB'!E:E,\"<=\"&MATH!B2)","v":0},{"$f":"COUNTIFS('CAPA DB'!B:B,\"closed\",'CAPA DB'!C:C,\"Preventative\",'CAPA DB'!I:I,KPI!A:A,'CAPA DB'!E:E,\">=\"&MATH!E2,'CAPA DB'!E:E,\"<=\"&MATH!B2)","v":0},0,{"$f":"COUNTIFS('CAPA DB'!B:B,\"NEW\",'CAPA DB'!C:C,\"Preventative\",'CAPA DB'!I:I,KPI!A:A,'CAPA DB'!E:E,\">=\"&MATH!D2,'CAPA DB'!E:E,\"<=\"&MATH!B2)","v":0},{"$f":"COUNTIFS('CAPA DB'!B:B,\"under review\",'CAPA DB'!C:C,\"Preventative\",'CAPA DB'!I:I,KPI!A:A,'CAPA DB'!E:E,\">=\"&MATH!D2,'CAPA DB'!E:E,\"<=\"&MATH!B2)","v":0},{"$f":"COUNTIFS('CAPA DB'!B:B,\"complete\",'CAPA DB'!C:C,\"Preventative\",'CAPA DB'!I:I,KPI!A:A,'CAPA DB'!E:E,\">=\"&MATH!D2,'CAPA DB'!E:E,\"<=\"&MATH!B2)","v":0},{"$f":"COUNTIFS('CAPA DB'!B:B,\"closed\",'CAPA DB'!C:C,\"Preventative\",'CAPA DB'!I:I,KPI!A:A,'CAPA DB'!E:E,\">=\"&MATH!D2,'CAPA DB'!E:E,\"<=\"&MATH!B2)","v":0},0]
[{"$f":"Lists!A14","v":"Patient Care"},{"$f":"COUNTIFS('CAPA DB'!B:B,\"NEW\",'CAPA DB'!C:C,\"Preventative\",'CAPA DB'!I:I,KPI!A:A)","v":0},{"$f":"COUNTIFS('CAPA DB'!B:B,\"under review\",'CAPA DB'!C:C,\"Preventative\",'CAPA DB'!I:I,KPI!A:A)","v":0},{"$f":"COUNTIFS('CAPA DB'!B:B,\"complete\",'CAPA DB'!C:C,\"Preventative\",'CAPA DB'!I:I,KPI!A:A)","v":0},{"$f":"COUNTIFS('CAPA DB'!B:B,\"closed\",'CAPA DB'!C:C,\"Preventative\",'CAPA DB'!I:I,KPI!A:A)","v":0},0,{"$f":"COUNTIFS('CAPA DB'!B:B,\"NEW\",'CAPA DB'!C:C,\"Preventative\",'CAPA DB'!I:I,KPI!A:A,'CAPA DB'!E:E,\">=\"&MATH!E2,'CAPA DB'!E:E,\"<=\"&MATH!B2)","v":0},{"$f":"COUNTIFS('CAPA DB'!B:B,\"under review\",'CAPA DB'!C:C,\"Preventative\",'CAPA DB'!I:I,KPI!A:A,'CAPA DB'!E:E,\">=\"&MATH!E2,'CAPA DB'!E:E,\"<=\"&MATH!B2)","v":0},{"$f":"COUNTIFS('CAPA DB'!B:B,\"complete\",'CAPA DB'!C:C,\"Preventative\",'CAPA DB'!I:I,KPI!A:A,'CAPA DB'!E:E,\">=\"&MATH!E2,'CAPA DB'!E:E,\"<=\"&MATH!B2)","v":0},{"$f":"COUNTIFS('CAPA DB'!B:B,\"closed\",'CAPA DB'!C:C,\"Preventative\",'CAPA DB'!I:I,KPI!A:A,'CAPA DB'!E:E,\">=\"&MATH!E2,'CAPA DB'!E:E,\"<=\"&MATH!B2)","v":0},0,{"$f":"COUNTIFS('CAPA DB'!B:B,\"NEW\",'CAPA DB'!C:C,\"Preventative\",'CAPA DB'!I:I,KPI!A:A,'CAPA DB'!E:E,\">=\"&MATH!D2,'CAPA DB'!E:E,\"<=\"&MATH!B2)","v":0},{"$f":"COUNTIFS('CAPA DB'!B:B,\"under review\",'CAPA DB'!C:C,\"Preventative\",'CAPA DB'!I:I,KPI!A:A,'CAPA DB'!E:E,\">=\"&MATH!D2,'CAPA DB'!E:E,\"<=\"&MATH!B2)","v":0},{"$f":"COUNTIFS('CAPA DB'!B:B,\"complete\",'CAPA DB'!C:C,\"Preventative\",'CAPA DB'!I:I,KPI!A:A,'CAPA DB'!E:E,\">=\"&MATH!D2,'CAPA DB'!E:E,\"<=\"&MATH!B2)","v":0},{"$f":"COUNTIFS('CAPA DB'!B:B,\"closed\",'CAPA DB'!C:C,\"Preventative\",'CAPA DB'!I:I,KPI!A:A,'CAPA DB'!E:E,\">=\"&MATH!D2,'CAPA DB'!E:E,\"<=\"&MATH!B2)","v":0},0]
[{"$f":"Lists!A15","v":"Security"},{"$f":"COUNTIFS('CAPA DB'!B:B,\"NEW\",'CAPA DB'!C:C,\"Preventative\",'CAPA DB'!I:I,KPI!A:A)","v":0},{"$f":"COUNTIFS('CAPA DB'!B:B,\"under review\",'CAPA DB'!C:C,\"Preventative\",'CAPA DB'!I:I,KPI!A:A)","v":0},{"$f":"COUNTIFS('CAPA DB'!B:B,\"complete\",'CAPA DB'!C:C,\"Preventative\",'CAPA DB'!I:I,KPI!A:A)","v":0},{"$f":"COUNTIFS('CAPA DB'!B:B,\"closed\",'CAPA DB'!C:C,\"Preventative\",'CAPA DB'!I:I,KPI!A:A)","v":0},0,{"$f":"COUNTIFS('CAPA DB'!B:B,\"NEW\",'CAPA DB'!C:C,\"Preventative\",'CAPA DB'!I:I,KPI!A:A,'CAPA DB'!E:E,\">=\"&MATH!E2,'CAPA DB'!E:E,\"<=\"&MATH!B2)","v":0},{"$f":"COUNTIFS('CAPA DB'!B:B,\"under review\",'CAPA DB'!C:C,\"Preventative\",'CAPA DB'!I:I,KPI!A:A,'CAPA DB'!E:E,\">=\"&MATH!E2,'CAPA DB'!E:E,\"<=\"&MATH!B2)","v":0},{"$f":"COUNTIFS('CAPA DB'!B:B,\"complete\",'CAPA DB'!C:C,\"Preventative\",'CAPA DB'!I:I,KPI!A:A,'CAPA DB'!E:E,\">=\"&MATH!E2,'CAPA DB'!E:E,\"<=\"&MATH!B2)","v":0},{"$f":"COUNTIFS('CAPA DB'!B:B,\"closed\",'CAPA DB'!C:C,\"Preventative\",'CAPA DB'!I:I,KPI!A:A,'CAPA DB'!E:E,\">=\"&MATH!E2,'CAPA DB'!E:E,\"<=\"&MATH!B2)","v":0},0,{"$f":"COUNTIFS('CAPA DB'!B:B,\"NEW\",'CAPA DB'!C:C,\"Preventative\",'CAPA DB'!I:I,KPI!A:A,'CAPA DB'!E:E,\">=\"&MATH!D2,'CAPA DB'!E:E,\"<=\"&MATH!B2)","v":0},{"$f":"COUNTIFS('CAPA DB'!B:B,\"under review\",'CAPA DB'!C:C,\"Preventative\",'CAPA DB'!I:I,KPI!A:A,'CAPA DB'!E:E,\">=\"&MATH!D2,'CAPA DB'!E:E,\"<=\"&MATH!B2)","v":0},{"$f":"COUNTIFS('CAPA DB'!B:B,\"complete\",'CAPA DB'!C:C,\"Preventative\",'CAPA DB'!I:I,KPI!A:A,'CAPA DB'!E:E,\">=\"&MATH!D2,'CAPA DB'!E:E,\"<=\"&MATH!B2)","v":0},{"$f":"COUNTIFS('CAPA DB'!B:B,\"closed\",'CAPA DB'!C:C,\"Preventative\",'CAPA DB'!I:I,KPI!A:A,'CAPA DB'!E:E,\">=\"&MATH!D2,'CAPA DB'!E:E,\"<=\"&MATH!B2)","v":0},0]
[{"$f":"Lists!A16","v":"Staffing"},{"$f":"COUNTIFS('CAPA DB'!B:B,\"NEW\",'CAPA DB'!C:C,\"Preventative\",'CAPA DB'!I:I,KPI!A:A)","v":0},{"$f":"COUNTIFS('CAPA DB'!B:B,\"under review\",'CAPA DB'!C:C,\"Preventative\",'CAPA DB'!I:I,KPI!A:A)","v":0},{"$f":"COUNTIFS('CAPA DB'!B:B,\"complete\",'CAPA DB'!C:C,\"Preventative\",'CAPA DB'!I:I,KPI!A:A)","v":0},{"$f":"COUNTIFS('CAPA DB'!B:B,\"closed\",'CAPA DB'!C:C,\"Preventative\",'CAPA DB'!I:I,KPI!A:A)","v":0},0,{"$f":"COUNTIFS('CAPA DB'!B:B,\"NEW\",'CAPA DB'!C:C,\"Preventative\",'CAPA DB'!I:I,KPI!A:A,'CAPA DB'!E:E,\">=\"&MATH!E2,'CAPA DB'!E:E,\"<=\"&MATH!B2)","v":0},{"$f":"COUNTIFS('CAPA DB'!B:B,\"under review\",'CAPA DB'!C:C,\"Preventative\",'CAPA DB'!I:I,KPI!A:A,'CAPA DB'!E:E,\">=\"&MATH!E2,'CAPA DB'!E:E,\"<=\"&MATH!B2)","v":0},{"$f":"COUNTIFS('CAPA DB'!B:B,\"complete\",'CAPA DB'!C:C,\"Preventative\",'CAPA DB'!I:I,KPI!A:A,'CAPA DB'!E:E,\">=\"&MATH!E2,'CAPA DB'!E:E,\"<=\"&MATH!B2)","v":0},{"$f":"COUNTIFS('CAPA DB'!B:B,\"closed\",'CAPA DB'!C:C,\"Preventative\",'CAPA DB'!I:I,KPI!A:A,'CAPA DB'!E:E,\">=\"&MATH!E2,'CAPA DB'!E:E,\"<=\"&MATH!B2)","v":0},0,{"$f":"COUNTIFS('CAPA DB'!B:B,\"NEW\",'CAPA DB'!C:C,\"Preventative\",'CAPA DB'!I:I,KPI!A:A,'CAPA DB'!E:E,\">=\"&MATH!D2,'CAPA DB'!E:E,\"<=\"&MATH!B2)","v":0},{"$f":"COUNTIFS('CAPA DB'!B:B,\"under review\",'CAPA DB'!C:C,\"Preventative\",'CAPA DB'!I:I,KPI!A:A,'CAPA DB'!E:E,\">=\"&MATH!D2,'CAPA DB'!E:E,\"<=\"&MATH!B2)","v":0},{"$f":"COUNTIFS('CAPA DB'!B:B,\"complete\",'CAPA DB'!C:C,\"Preventative\",'CAPA DB'!I:I,KPI!A:A,'CAPA DB'!E:E,\">=\"&MATH!D2,'CAPA DB'!E:E,\"<=\"&MATH!B2)","v":0},{"$f":"COUNTIFS('CAPA DB'!B:B,\"closed\",'CAPA DB'!C:C,\"Preventative\",'CAPA DB'!I:I,KPI!A:A,'CAPA DB'!E:E,\">=\"&MATH!D2,'CAPA DB'!E:E,\"<=\"&MATH!B2)","v":0},0]
[{"$f":"Lists!A17","v":"Unsure - please detail"},{"$f":"COUNTIFS('CAPA DB'!B:B,\"NEW\",'CAPA DB'!C:C,\"Preventative\",'CAPA DB'!I:I,KPI!A:A)","v":0},{"$f":"COUNTIFS('CAPA DB'!B:B,\"under review\",'CAPA DB'!C:C,\"Preventative\",'CAPA DB'!I:I,KPI!A:A)","v":0},{"$f":"COUNTIFS('CAPA DB'!B:B,\"complete\",'CAPA DB'!C:C,\"Preventative\",'CAPA DB'!I:I,KPI!A:A)","v":0},{"$f":"COUNTIFS('CAPA DB'!B:B,\"closed\",'CAPA DB'!C:C,\"Preventative\",'CAPA DB'!I:I,KPI!A:A)","v":0},0,{"$f":"COUNTIFS('CAPA DB'!B:B,\"NEW\",'CAPA DB'!C:C,\"Preventative\",'CAPA DB'!I:I,KPI!A:A,'CAPA DB'!E:E,\">=\"&MATH!E2,'CAPA DB'!E:E,\"<=\"&MATH!B2)","v":0},{"$f":"COUNTIFS('CAPA DB'!B:B,\"under review\",'CAPA DB'!C:C,\"Preventative\",'CAPA DB'!I:I,KPI!A:A,'CAPA DB'!E:E,\">=\"&MATH!E2,'CAPA DB'!E:E,\"<=\"&MATH!B2)","v":0},{"$f":"COUNTIFS('CAPA DB'!B:B,\"complete\",'CAPA DB'!C:C,\"Preventative\",'CAPA DB'!I:I,KPI!A:A,'CAPA DB'!E:E,\">=\"&MATH!E2,'CAPA DB'!E:E,\"<=\"&MATH!B2)","v":0},{"$f":"COUNTIFS('CAPA DB'!B:B,\"closed\",'CAPA DB'!C:C,\"Preventative\",'CAPA DB'!I:I,KPI!A:A,'CAPA DB'!E:E,\">=\"&MATH!E2,'CAPA DB'!E:E,\"<=\"&MATH!B2)","v":0},0,{"$f":"COUNTIFS('CAPA DB'!B:B,\"NEW\",'CAPA DB'!C:C,\"Preventative\",'CAPA DB'!I:I,KPI!A:A,'CAPA DB'!E:E,\">=\"&MATH!D2,'CAPA DB'!E:E,\"<=\"&MATH!B2)","v":0},{"$f":"COUNTIFS('CAPA DB'!B:B,\"under review\",'CAPA DB'!C:C,\"Preventative\",'CAPA DB'!I:I,KPI!A:A,'CAPA DB'!E:E,\">=\"&MATH!D2,'CAPA DB'!E:E,\"<=\"&MATH!B2)","v":0},{"$f":"COUNTIFS('CAPA DB'!B:B,\"complete\",'CAPA DB'!C:C,\"Preventative\",'CAPA DB'!I:I,KPI!A:A,'CAPA DB'!E:E,\">=\"&MATH!D2,'CAPA DB'!E:E,\"<=\"&MATH!B2)","v":0},{"$f":"COUNTIFS('CAPA DB'!B:B,\"closed\",'CAPA DB'!C:C,\"Preventative\",'CAPA DB'!I:I,KPI!A:A,'CAPA DB'!E:E,\">=\"&MATH!D2,'CAPA DB'!E:E,\"<=\"&MATH!B2)","v":0},0]
[]
["Accepted",{"$f":"COUNTIFS('CAPA DB'!C:C,\"Preventative\",'CAPA DB'!V:V,\"Accepted\")","v":0}]
["Rejected",{"$f":"COUNTIFS('CAPA DB'!C:C,\"Preventative\",'CAPA DB'!V:V,\"Rejected\")","v":0}]
["N/A",{"$f":"COUNTIFS('CAPA DB'!C:C,\"Preventative\",'CAPA DB'!V:V,\"N/A\")","v":0}]
[]
[]
["Trend analysis"]
[null,"Totals",null,"Corrective by area",null,null,null,null,null,null,null,"Preventative by area"]
["Themes","Corrective","Preventative",{"$f":"Lists!E3","v":"Clinical"},{"$f":"Lists!E4","v":"Admin"},{"$f":"Lists!E5","v":0},{"$f":"Lists!E6","v":0},{"$f":"Lists!E7","v":0},{"$f":"Lists!E8","v":0},{"$f":"Lists!E9","v":0},{"$f":"Lists!E10","v":0},{"$f":"Lists!E3","v":"Clinical"},{"$f":"Lists!E4","v":"Admin"},{"$f":"Lists!E5","v":0},{"$f":"Lists!E6","v":0},{"$f":"Lists!E7","v":0},{"$f":"Lists!E8","v":0},{"$f":"Lists!E9","v":0},{"$f":"Lists!E10","v":0}]
[{"$f":"Lists!G3","v":"[Human factors]"},{"$f":"COUNTIFS('CAPA DB'!C:C,\"corrective\",'CAPA DB'!Y:Y,\"*\"&A76&\"*\")","v":0},{"$f":"COUNTIFS('CAPA DB'!C:C,\"preventative\",'CAPA DB'!Y:Y,\"*\"&A76&\"*\")","v":0},{"$f":"COUNTIFS('CAPA DB'!C:C,\"corrective\",'CAPA DB'!H:H,D75,'CAPA DB'!Y:Y,\"*\"&A76&\"*\")","v":0},{"$f":"COUNTIFS('CAPA DB'!C:C,\"corrective\",'CAPA DB'!H:H,E75,'CAPA DB'!Y:Y,\"*\"&A76&\"*\")","v":0},{"$f":"COUNTIFS('CAPA DB'!C:C,\"corrective\",'CAPA DB'!H:H,F75,'CAPA DB'!Y:Y,\"*\"&A76&\"*\")","v":0},{"$f":"COUNTIFS('CAPA DB'!C:C,\"corrective\",'CAPA DB'!H:H,G75,'CAPA DB'!Y:Y,\"*\"&A76&\"*\")","v":0},{"$f":"COUNTIFS('CAPA DB'!C:C,\"corrective\",'CAPA DB'!H:H,H75,'CAPA DB'!Y:Y,\"*\"&A76&\"*\")","v":0},{"$f":"COUNTIFS('CAPA DB'!C:C,\"corrective\",'CAPA DB'!H:H,I75,'CAPA DB'!Y:Y,\"*\"&A76&\"*\")","v":0},{"$f":"COUNTIFS('CAPA DB'!C:C,\"corrective\",'CAPA DB'!H:H,J75,'CAPA DB'!Y:Y,\"*\"&A76&\"*\")","v":0},{"$f":"COUNTIFS('CAPA DB'!C:C,\"corrective\",'CAPA DB'!H:H,K75,'CAPA DB'!Y:Y,\"*\"&A76&\"*\")","v":0},{"$f":"COUNTIFS('CAPA DB'!C:C,\"preventative\",'CAPA DB'!H:H,D75,'CAPA DB'!Y:Y,\"*\"&A76&\"*\")","v":0},{"$f":"COUNTIFS('CAPA DB'!C:C,\"preventative\",'CAPA DB'!H:H,M75,'CAPA DB'!Y:Y,\"*\"&A76&\"*\")","v":0},{"$f":"COUNTIFS('CAPA DB'!C:C,\"preventative\",'CAPA DB'!H:H,N75,'CAPA DB'!Y:Y,\"*\"&A76&\"*\")","v":0},{"$f":"COUNTIFS('CAPA DB'!C:C,\"Preventative\",'CAPA DB'!H:H,O75,'CAPA DB'!Y:Y,\"*\"&A76&\"*\")","v":0},{"$f":"COUNTIFS('CAPA DB'!C:C,\"preventative\",'CAPA DB'!H:H,P75,'CAPA DB'!Y:Y,\"*\"&A76&\"*\")","v":0},{"$f":"COUNTIFS('CAPA DB'!C:C,\"preventative\",'CAPA DB'!H:H,Q75,'CAPA DB'!Y:Y,\"*\"&A76&\"*\")","v":0},{"$f":"COUNTIFS('CAPA DB'!C:C,\"preventative\",'CAPA DB'!H:H,R75,'CAPA DB'!Y:Y,\"*\"&A76&\"*\")","v":0},{"$f":"COUNTIFS('CAPA DB'!C:C,\"Preventative\",'CAPA DB'!H:H,S75,'CAPA DB'!Y:Y,\"*\"&A76&\"*\")","v":0}]
[{"$f":"Lists!G4","v":"[Training]"},{"$f":"COUNTIFS('CAPA DB'!C:C,\"corrective\",'CAPA DB'!Y:Y,\"*\"&A77&\"*\")","v":0},{"$f":"COUNTIFS('CAPA DB'!C:C,\"preventative\",'CAPA DB'!Y:Y,\"*\"&A77&\"*\")","v":0},{"$f":"COUNTIFS('CAPA DB'!C:C,\"corrective\",'CAPA DB'!H:H,D75,'CAPA DB'!Y:Y,\"*\"&A77&\"*\")","v":0},{"$f":"COUNTIFS('CAPA DB'!C:C,\"corrective\",'CAPA DB'!H:H,E75,'CAPA DB'!Y:Y,\"*\"&A77&\"*\")","v":0},{"$f":"COUNTIFS('CAPA DB'!C:C,\"corrective\",'CAPA DB'!H:H,F75,'CAPA DB'!Y:Y,\"*\"&A77&\"*\")","v":0},{"$f":"COUNTIFS('CAPA DB'!C:C,\"corrective\",'CAPA DB'!H:H,G75,'CAPA DB'!Y:Y,\"*\"&A77&\"*\")","v":0},{"$f":"COUNTIFS('CAPA DB'!C:C,\"corrective\",'CAPA DB'!H:H,H75,'CAPA DB'!Y:Y,\"*\"&A77&\"*\")","v":0},{"$f":"COUNTIFS('CAPA DB'!C:C,\"corrective\",'CAPA DB'!H:H,I75,'CAPA DB'!Y:Y,\"*\"&A77&\"*\")","v":0},{"$f":"COUNTIFS('CAPA DB'!C:C,\"corrective\",'CAPA DB'!H:H,J75,'CAPA DB'!Y:Y,\"*\"&A77&\"*\")","v":0},{"$f":"COUNTIFS('CAPA DB'!C:C,\"corrective\",'CAPA DB'!H:H,K75,'CAPA DB'!Y:Y,\"*\"&A77&\"*\")","v":0},{"$f":"COUNTIFS('CAPA DB'!C:C,\"preventative\",'CAPA DB'!H:H,D75,'CAPA DB'!Y:Y,\"*\"&A77&\"*\")","v":0},{"$f":"COUNTIFS('CAPA DB'!C:C,\"preventative\",'CAPA DB'!H:H,M75,'CAPA DB'!Y:Y,\"*\"&A77&\"*\")","v":0},{"$f":"COUNTIFS('CAPA DB'!C:C,\"preventative\",'CAPA DB'!H:H,N75,'CAPA DB'!Y:Y,\"*\"&A77&\"*\")","v":0},{"$f":"COUNTIFS('CAPA DB'!C:C,\"Preventative\",'CAPA DB'!H:H,O75,'CAPA DB'!Y:Y,\"*\"&A77&\"*\")","v":0},{"$f":"COUNTIFS('CAPA DB'!C:C,\"preventative\",'CAPA DB'!H:H,P75,'CAPA DB'!Y:Y,\"*\"&A77&\"*\")","v":0},{"$f":"COUNTIFS('CAPA DB'!C:C,\"preventative\",'CAPA DB'!H:H,Q75,'CAPA DB'!Y:Y,\"*\"&A77&\"*\")","v":0},{"$f":"COUNTIFS('CAPA DB'!C:C,\"preventative\",'CAPA DB'!H:H,R75,'CAPA DB'!Y:Y,\"*\"&A77&\"*\")","v":0},{"$f":"COUNTIFS('CAPA DB'!C:C,\"Preventative\",'CAPA DB'!H:H,S75,'CAPA DB'!Y:Y,\"*\"&A77&\"*\")","v":0}]
[{"$f":"Lists!G5","v":"[Readership]"},{"$f":"COUNTIFS('CAPA DB'!C:C,\"corrective\",'CAPA DB'!Y:Y,\"*\"&A78&\"*\")","v":0},{"$f":"COUNTIFS('CAPA DB'!C:C,\"preventative\",'CAPA DB'!Y:Y,\"*\"&A78&\"*\")","v":0},{"$f":"COUNTIFS('CAPA DB'!C:C,\"corrective\",'CAPA DB'!H:H,D75,'CAPA DB'!Y:Y,\"*\"&A78&\"*\")","v":0},{"$f":"COUNTIFS('CAPA DB'!C:C,\"corrective\",'CAPA DB'!H:H,E75,'CAPA DB'!Y:Y,\"*\"&A78&\"*\")","v":0},{"$f":"COUNTIFS('CAPA DB'!C:C,\"corrective\",'CAPA DB'!H:H,F75,'CAPA DB'!Y:Y,\"*\"&A78&\"*\")","v":0},{"$f":"COUNTIFS('CAPA DB'!C:C,\"corrective\",'CAPA DB'!H:H,G75,'CAPA DB'!Y:Y,\"*\"&A78&\"*\")","v":0},{"$f":"COUNTIFS('CAPA DB'!C:C,\"corrective\",'CAPA DB'!H:H,H75,'CAPA DB'!Y:Y,\"*\"&A78&\"*\")","v":0},{"$f":"COUNTIFS('CAPA DB'!C:C,\"corrective\",'CAPA DB'!H:H,I75,'CAPA DB'!Y:Y,\"*\"&A78&\"*\")","v":0},{"$f":"COUNTIFS('CAPA DB'!C:C,\"corrective\",'CAPA DB'!H:H,J75,'CAPA DB'!Y:Y,\"*\"&A78&\"*\")","v":0},{"$f":"COUNTIFS('CAPA DB'!C:C,\"corrective\",'CAPA DB'!H:H,K75,'CAPA DB'!Y:Y,\"*\"&A78&\"*\")","v":0},{"$f":"COUNTIFS('CAPA DB'!C:C,\"preventative\",'CAPA DB'!H:H,D75,'CAPA DB'!Y:Y,\"*\"&A78&\"*\")","v":0},{"$f":"COUNTIFS('CAPA DB'!C:C,\"preventative\",'CAPA DB'!H:H,M75,'CAPA DB'!Y:Y,\"*\"&A78&\"*\")","v":0},{"$f":"COUNTIFS('CAPA DB'!C:C,\"preventative\",'CAPA DB'!H:H,N75,'CAPA DB'!Y:Y,\"*\"&A78&\"*\")","v":0},{"$f":"COUNTIFS('CAPA DB'!C:C,\"Preventative\",'CAPA DB'!H:H,O75,'CAPA DB'!Y:Y,\"*\"&A78&\"*\")","v":0},{"$f":"COUNTIFS('CAPA DB'!C:C,\"preventative\",'CAPA DB'!H:H,P75,'CAPA DB'!Y:Y,\"*\"&A78&\"*\")","v":0},{"$f":"COUNTIFS('CAPA DB'!C:C,\"preventative\",'CAPA DB'!H:H,Q75,'CAPA DB'!Y:Y,\"*\"&A78&\"*\")","v":0},{"$f":"COUNTIFS('CAPA DB'!C:C,\"preventative\",'CAPA DB'!H:H,R75,'CAPA DB'!Y:Y,\"*\"&A78&\"*\")","v":0},{"$f":"COUNTIFS('CAPA DB'!C:C,\"Preventative\",'CAPA DB'!H:H,S75,'CAPA DB'!Y:Y,\"*\"&A78&\"*\")","v":0}]
[{"$f":"Lists!G6","v":"[Staff levels (general)]"},{"$f":"COUNTIFS('CAPA DB'!C:C,\"corrective\",'CAPA DB'!Y:Y,\"*\"&A79&\"*\")","v":0},{"$f":"COUNTIFS('CAPA DB'!C:C,\"preventative\",'CAPA DB'!Y:Y,\"*\"&A79&\"*\")","v":0},{"$f":"COUNTIFS('CAPA DB'!C:C,\"corrective\",'CAPA DB'!H:H,D75,'CAPA DB'!Y:Y,\"*\"&A79&\"*\")","v":0},{"$f":"COUNTIFS('CAPA DB'!C:C,\"corrective\",'CAPA DB'!H:H,E75,'CAPA DB'!Y:Y,\"*\"&A79&\"*\")","v":0},{"$f":"COUNTIFS('CAPA DB'!C:C,\"corrective\",'CAPA DB'!H:H,F75,'CAPA DB'!Y:Y,\"*\"&A79&\"*\")","v":0},{"$f":"COUNTIFS('CAPA DB'!C:C,\"corrective\",'CAPA DB'!H:H,G75,'CAPA DB'!Y:Y,\"*\"&A79&\"*\")","v":0},{"$f":"COUNTIFS('CAPA DB'!C:C,\"corrective\",'CAPA DB'!H:H,H75,'CAPA DB'!Y:Y,\"*\"&A79&\"*\")","v":0},{"$f":"COUNTIFS('CAPA DB'!C:C,\"corrective\",'CAPA DB'!H:H,I75,'CAPA DB'!Y:Y,\"*\"&A79&\"*\")","v":0},{"$f":"COUNTIFS('CAPA DB'!C:C,\"corrective\",'CAPA DB'!H:H,J75,'CAPA DB'!Y:Y,\"*\"&A79&\"*\")","v":0},{"$f":"COUNTIFS('CAPA DB'!C:C,\"corrective\",'CAPA DB'!H:H,K75,'CAPA DB'!Y:Y,\"*\"&A79&\"*\")","v":0},{"$f":"COUNTIFS('CAPA DB'!C:C,\"preventative\",'CAPA DB'!H:H,D75,'CAPA DB'!Y:Y,\"*\"&A79&\"*\")","v":0},{"$f":"COUNTIFS('CAPA DB'!C:C,\"preventative\",'CAPA DB'!H:H,M75,'CAPA DB'!Y:Y,\"*\"&A79&\"*\")","v":0},{"$f":"COUNTIFS('CAPA DB'!C:C,\"preventative\",'CAPA DB'!H:H,N75,'CAPA DB'!Y:Y,\"*\"&A79&\"*\")","v":0},{"$f":"COUNTIFS('CAPA DB'!C:C,\"Preventative\",'CAPA DB'!H:H,O75,'CAPA DB'!Y:Y,\"*\"&A79&\"*\")","v":0},{"$f":"COUNTIFS('CAPA DB'!C:C,\"preventative\",'CAPA DB'!H:H,P75,'CAPA DB'!Y:Y,\"*\"&A79&\"*\")","v":0},{"$f":"COUNTIFS('CAPA DB'!C:C,\"preventative\",'CAPA DB'!H:H,Q75,'CAPA DB'!Y:Y,\"*\"&A79&\"*\")","v":0},{"$f":"COUNTIFS('CAPA DB'!C:C,\"preventative\",'CAPA DB'!H:H,R75,'CAPA DB'!Y:Y,\"*\"&A79&\"*\")","v":0},{"$f":"COUNTIFS('CAPA DB'!C:C,\"Preventative\",'CAPA DB'!H:H,S75,'CAPA DB'!Y:Y,\"*\"&A79&\"*\")","v":0}]
[{"$f":"Lists!G7","v":"[Staff Sickness]"},{"$f":"COUNTIFS('CAPA DB'!C:C,\"corrective\",'CAPA DB'!Y:Y,\"*\"&A80&\"*\")","v":0},{"$f":"COUNTIFS('CAPA DB'!C:C,\"preventative\",'CAPA DB'!Y:Y,\"*\"&A80&\"*\")","v":0},{"$f":"COUNTIFS('CAPA DB'!C:C,\"corrective\",'CAPA DB'!H:H,D75,'CAPA DB'!Y:Y,\"*\"&A80&\"*\")","v":0},{"$f":"COUNTIFS('CAPA DB'!C:C,\"corrective\",'CAPA DB'!H:H,E75,'CAPA DB'!Y:Y,\"*\"&A80&\"*\")","v":0},{"$f":"COUNTIFS('CAPA DB'!C:C,\"corrective\",'CAPA DB'!H:H,F75,'CAPA DB'!Y:Y,\"*\"&A80&\"*\")","v":0},{"$f":"COUNTIFS('CAPA DB'!C:C,\"corrective\",'CAPA DB'!H:H,G75,'CAPA DB'!Y:Y,\"*\"&A80&\"*\")","v":0},{"$f":"COUNTIFS('CAPA DB'!C:C,\"corrective\",'CAPA DB'!H:H,H75,'CAPA DB'!Y:Y,\"*\"&A80&\"*\")","v":0},{"$f":"COUNTIFS('CAPA DB'!C:C,\"corrective\",'CAPA DB'!H:H,I75,'CAPA DB'!Y:Y,\"*\"&A80&\"*\")","v":0},{"$f":"COUNTIFS('CAPA DB'!C:C,\"corrective\",'CAPA DB'!H:H,J75,'CAPA DB'!Y:Y,\"*\"&A80&\"*\")","v":0},{"$f":"COUNTIFS('CAPA DB'!C:C,\"corrective\",'CAPA DB'!H:H,K75,'CAPA DB'!Y:Y,\"*\"&A80&\"*\")","v":0},{"$f":"COUNTIFS('CAPA DB'!C:C,\"preventative\",'CAPA DB'!H:H,D75,'CAPA DB'!Y:Y,\"*\"&A80&\"*\")","v":0},{"$f":"COUNTIFS('CAPA DB'!C:C,\"preventative\",'CAPA DB'!H:H,M75,'CAPA DB'!Y:Y,\"*\"&A80&\"*\")","v":0},{"$f":"COUNTIFS('CAPA DB'!C:C,\"preventative\",'CAPA DB'!H:H,N75,'CAPA DB'!Y:Y,\"*\"&A80&\"*\")","v":0},{"$f":"COUNTIFS('CAPA DB'!C:C,\"Preventative\",'CAPA DB'!H:H,O75,'CAPA DB'!Y:Y,\"*\"&A80&\"*\")","v":0},{"$f":"COUNTIFS('CAPA DB'!C:C,\"preventative\",'CAPA DB'!H:H,P75,'CAPA DB'!Y:Y,\"*\"&A80&\"*\")","v":0},{"$f":"COUNTIFS('CAPA DB'!C:C,\"preventative\",'CAPA DB'!H:H,Q75,'CAPA DB'!Y:Y,\"*\"&A80&\"*\")","v":0},{"$f":"COUNTIFS('CAPA DB'!C:C,\"preventative\",'CAPA DB'!H:H,R75,'CAPA DB'!Y:Y,\"*\"&A80&\"*\")","v":0},{"$f":"COUNTIFS('CAPA DB'!C:C,\"Preventative\",'CAPA DB'!H:H,S75,'CAPA DB'!Y:Y,\"*\"&A80&\"*\")","v":0}]
[{"$f":"Lists!G8","v":"[Rota/allocation]"},{"$f":"COUNTIFS('CAPA DB'!C:C,\"corrective\",'CAPA DB'!Y:Y,\"*\"&A81&\"*\")","v":0},{"$f":"COUNTIFS('CAPA DB'!C:C,\"preventative\",'CAPA DB'!Y:Y,\"*\"&A81&\"*\")","v":0},{"$f":"COUNTIFS('CAPA DB'!C:C,\"corrective\",'CAPA DB'!H:H,D75,'CAPA DB'!Y:Y,\"*\"&A81&\"*\")","v":0},{"$f":"COUNTIFS('CAPA DB'!C:C,\"corrective\",'CAPA DB'!H:H,E75,'CAPA DB'!Y:Y,\"*\"&A81&\"*\")","v":0},{"$f":"COUNTIFS('CAPA DB'!C:C,\"corrective\",'CAPA DB'!H:H,F75,'CAPA DB'!Y:Y,\"*\"&A81&\"*\")","v":0},{"$f":"COUNTIFS('CAPA DB'!C:C,\"corrective\",'CAPA DB'!H:H,G75,'CAPA DB'!Y:Y,\"*\"&A81&\"*\")","v":0},{"$f":"COUNTIFS('CAPA DB'!C:C,\"corrective\",'CAPA DB'!H:H,H75,'CAPA DB'!Y:Y,\"*\"&A81&\"*\")","v":0},{"$f":"COUNTIFS('CAPA DB'!C:C,\"corrective\",'CAPA DB'!H:H,I75,'CAPA DB'!Y:Y,\"*\"&A81&\"*\")","v":0},{"$f":"COUNTIFS('CAPA DB'!C:C,\"corrective\",'CAPA DB'!H:H,J75,'CAPA DB'!Y:Y,\"*\"&A81&\"*\")","v":0},{"$f":"COUNTIFS('CAPA DB'!C:C,\"corrective\",'CAPA DB'!H:H,K75,'CAPA DB'!Y:Y,\"*\"&A81&\"*\")","v":0},{"$f":"COUNTIFS('CAPA DB'!C:C,\"preventative\",'CAPA DB'!H:H,D75,'CAPA DB'!Y:Y,\"*\"&A81&\"*\")","v":0},{"$f":"COUNTIFS('CAPA DB'!C:C,\"preventative\",'CAPA DB'!H:H,M75,'CAPA DB'!Y:Y,\"*\"&A81&\"*\")","v":0},{"$f":"COUNTIFS('CAPA DB'!C:C,\"preventative\",'CAPA DB'!H:H,N75,'CAPA DB'!Y:Y,\"*\"&A81&\"*\")","v":0},{"$f":"COUNTIFS('CAPA DB'!C:C,\"Preventative\",'CAPA DB'!H:H,O75,'CAPA DB'!Y:Y,\"*\"&A81&\"*\")","v":0},{"$f":"COUNTIFS('CAPA DB'!C:C,\"preventative\",'CAPA DB'!H:H,P75,'CAPA DB'!Y:Y,\"*\"&A81&\"*\")","v":0},{"$f":"COUNTIFS('CAPA DB'!C:C,\"preventative\",'CAPA DB'!H:H,Q75,'CAPA DB'!Y:Y,\"*\"&A81&\"*\")","v":0},{"$f":"COUNTIFS('CAPA DB'!C:C,\"preventative\",'CAPA DB'!H:H,R75,'CAPA DB'!Y:Y,\"*\"&A81&\"*\")","v":0},{"$f":"COUNTIFS('CAPA DB'!C:C,\"Preventative\",'CAPA DB'!H:H,S75,'CAPA DB'!Y:Y,\"*\"&A81&\"*\")","v":0}]
[{"$f":"Lists!G9","v":"[Time pressures]"},{"$f":"COUNTIFS('CAPA DB'!C:C,\"corrective\",'CAPA DB'!Y:Y,\"*\"&A82&\"*\")","v":0},{"$f":"COUNTIFS('CAPA DB'!C:C,\"preventative\",'CAPA DB'!Y:Y,\"*\"&A82&\"*\")","v":0},{"$f":"COUNTIFS('CAPA DB'!C:C,\"corrective\",'CAPA DB'!H:H,D75,'CAPA DB'!Y:Y,\"*\"&A82&\"*\")","v":0},{"$f":"COUNTIFS('CAPA DB'!C:C,\"corrective\",'CAPA DB'!H:H,E75,'CAPA DB'!Y:Y,\"*\"&A82&\"*\")","v":0},{"$f":"COUNTIFS('CAPA DB'!C:C,\"corrective\",'CAPA DB'!H:H,F75,'CAPA DB'!Y:Y,\"*\"&A82&\"*\")","v":0},{"$f":"COUNTIFS('CAPA DB'!C:C,\"corrective\",'CAPA DB'!H:H,G75,'CAPA DB'!Y:Y,\"*\"&A82&\"*\")","v":0},{"$f":"COUNTIFS('CAPA DB'!C:C,\"corrective\",'CAPA DB'!H:H,H75,'CAPA DB'!Y:Y,\"*\"&A82&\"*\")","v":0},{"$f":"COUNTIFS('CAPA DB'!C:C,\"corrective\",'CAPA DB'!H:H,I75,'CAPA DB'!Y:Y,\"*\"&A82&\"*\")","v":0},{"$f":"COUNTIFS('CAPA DB'!C:C,\"corrective\",'CAPA DB'!H:H,J75,'CAPA DB'!Y:Y,\"*\"&A82&\"*\")","v":0},{"$f":"COUNTIFS('CAPA DB'!C:C,\"corrective\",'CAPA DB'!H:H,K75,'CAPA DB'!Y:Y,\"*\"&A82&\"*\")","v":0},{"$f":"COUNTIFS('CAPA DB'!C:C,\"preventative\",'CAPA DB'!H:H,D75,'CAPA DB'!Y:Y,\"*\"&A82&\"*\")","v":0},{"$f":"COUNTIFS('CAPA DB'!C:C,\"preventative\",'CAPA DB'!H:H,M75,'CAPA DB'!Y:Y,\"*\"&A82&\"*\")","v":0},{"$f":"COUNTIFS('CAPA DB'!C:C,\"preventative\",'CAPA DB'!H:H,N75,'CAPA DB'!Y:Y,\"*\"&A82&\"*\")","v":0},{"$f":"COUNTIFS('CAPA DB'!C:C,\"Preventative\",'CAPA DB'!H:H,O75,'CAPA DB'!Y:Y,\"*\"&A82&\"*\")","v":0},{"$f":"COUNTIFS('CAPA DB'!C:C,\"preventative\",'CAPA DB'!H:H,P75,'CAPA DB'!Y:Y,\"*\"&A82&\"*\")","v":0},{"$f":"COUNTIFS('CAPA DB'!C:C,\"preventative\",'CAPA DB'!H:H,Q75,'CAPA DB'!Y:Y,\"*\"&A82&\"*\")","v":0},{"$f":"COUNTIFS('CAPA DB'!C:C,\"preventative\",'CAPA DB'!H:H,R75,'CAPA DB'!Y:Y,\"*\"&A82&\"*\")","v":0},{"$f":"COUNTIFS('CAPA DB'!C:C,\"Preventative\",'CAPA DB'!H:H,S75,'CAPA DB'!Y:Y,\"*\"&A82&\"*\")","v":0}]
[{"$f":"Lists!G10","v":"[Locum/Temps]"},{"$f":"COUNTIFS('CAPA DB'!C:C,\"corrective\",'CAPA DB'!Y:Y,\"*\"&A83&\"*\")","v":0},{"$f":"COUNTIFS('CAPA DB'!C:C,\"preventative\",'CAPA DB'!Y:Y,\"*\"&A83&\"*\")","v":0},{"$f":"COUNTIFS('CAPA DB'!C:C,\"corrective\",'CAPA DB'!H:H,D75,'CAPA DB'!Y:Y,\"*\"&A83&\"*\")","v":0},{"$f":"COUNTIFS('CAPA DB'!C:C,\"corrective\",'CAPA DB'!H:H,E75,'CAPA DB'!Y:Y,\"*\"&A83&\"*\")","v":0},{"$f":"COUNTIFS('CAPA DB'!C:C,\"corrective\",'CAPA DB'!H:H,F75,'CAPA DB'!Y:Y,\"*\"&A83&\"*\")","v":0},{"$f":"COUNTIFS('CAPA DB'!C:C,\"corrective\",'CAPA DB'!H:H,G75,'CAPA DB'!Y:Y,\"*\"&A83&\"*\")","v":0},{"$f":"COUNTIFS('CAPA DB'!C:C,\"corrective\",'CAPA DB'!H:H,H75,'CAPA DB'!Y:Y,\"*\"&A83&\"*\")","v":0},{"$f":"COUNTIFS('CAPA DB'!C:C,\"corrective\",'CAPA DB'!H:H,I75,'CAPA DB'!Y:Y,\"*\"&A83&\"*\")","v":0},{"$f":"COUNTIFS('CAPA DB'!C:C,\"corrective\",'CAPA DB'!H:H,J75,'CAPA DB'!Y:Y,\"*\"&A83&\"*\")","v":0},{"$f":"COUNTIFS('CAPA DB'!C:C,\"corrective\",'CAPA DB'!H:H,K75,'CAPA DB'!Y:Y,\"*\"&A83&\"*\")","v":0},{"$f":"COUNTIFS('CAPA DB'!C:C,\"preventative\",'CAPA DB'!H:H,D75,'CAPA DB'!Y:Y,\"*\"&A83&\"*\")","v":0},{"$f":"COUNTIFS('CAPA DB'!C:C,\"preventative\",'CAPA DB'!H:H,M75,'CAPA DB'!Y:Y,\"*\"&A83&\"*\")","v":0},{"$f":"COUNTIFS('CAPA DB'!C:C,\"preventative\",'CAPA DB'!H:H,N75,'CAPA DB'!Y:Y,\"*\"&A83&\"*\")","v":0},{"$f":"COUNTIFS('CAPA DB'!C:C,\"Preventative\",'CAPA DB'!H:H,O75,'CAPA DB'!Y:Y,\"*\"&A83&\"*\")","v":0},{"$f":"COUNTIFS('CAPA DB'!C:C,\"preventative\",'CAPA DB'!H:H,P75,'CAPA DB'!Y:Y,\"*\"&A83&\"*\")","v":0},{"$f":"COUNTIFS('CAPA DB'!C:C,\"preventative\",'CAPA DB'!H:H,Q75,'CAPA DB'!Y:Y,\"*\"&A83&\"*\")","v":0},{"$f":"COUNTIFS('CAPA DB'!C:C,\"preventative\",'CAPA DB'!H:H,R75,'CAPA DB'!Y:Y,\"*\"&A83&\"*\")","v":0},{"$f":"COUNTIFS('CAPA DB'!C:C,\"Preventative\",'CAPA DB'!H:H,S75,'CAPA DB'!Y:Y,\"*\"&A83&\"*\")","v":0}]
[{"$f":"Lists!G11","v":"[Communication failure]"},{"$f":"COUNTIFS('CAPA DB'!C:C,\"corrective\",'CAPA DB'!Y:Y,\"*\"&A84&\"*\")","v":0},{"$f":"COUNTIFS('CAPA DB'!C:C,\"preventative\",'CAPA DB'!Y:Y,\"*\"&A84&\"*\")","v":0},{"$f":"COUNTIFS('CAPA DB'!C:C,\"corrective\",'CAPA DB'!H:H,D75,'CAPA DB'!Y:Y,\"*\"&A84&\"*\")","v":0},{"$f":"COUNTIFS('CAPA DB'!C:C,\"corrective\",'CAPA DB'!H:H,E75,'CAPA DB'!Y:Y,\"*\"&A84&\"*\")","v":0},{"$f":"COUNTIFS('CAPA DB'!C:C,\"corrective\",'CAPA DB'!H:H,F75,'CAPA DB'!Y:Y,\"*\"&A84&\"*\")","v":0},{"$f":"COUNTIFS('CAPA DB'!C:C,\"corrective\",'CAPA DB'!H:H,G75,'CAPA DB'!Y:Y,\"*\"&A84&\"*\")","v":0},{"$f":"COUNTIFS('CAPA DB'!C:C,\"corrective\",'CAPA DB'!H:H,H75,'CAPA DB'!Y:Y,\"*\"&A84&\"*\")","v":0},{"$f":"COUNTIFS('CAPA DB'!C:C,\"corrective\",'CAPA DB'!H:H,I75,'CAPA DB'!Y:Y,\"*\"&A84&\"*\")","v":0},{"$f":"COUNTIFS('CAPA DB'!C:C,\"corrective\",'CAPA DB'!H:H,J75,'CAPA DB'!Y:Y,\"*\"&A84&\"*\")","v":0},{"$f":"COUNTIFS('CAPA DB'!C:C,\"corrective\",'CAPA DB'!H:H,K75,'CAPA DB'!Y:Y,\"*\"&A84&\"*\")","v":0},{"$f":"COUNTIFS('CAPA DB'!C:C,\"preventative\",'CAPA DB'!H:H,D75,'CAPA DB'!Y:Y,\"*\"&A84&\"*\")","v":0},{"$f":"COUNTIFS('CAPA DB'!C:C,\"preventative\",'CAPA DB'!H:H,M75,'CAPA DB'!Y:Y,\"*\"&A84&\"*\")","v":0},{"$f":"COUNTIFS('CAPA DB'!C:C,\"preventative\",'CAPA DB'!H:H,N75,'CAPA DB'!Y:Y,\"*\"&A84&\"*\")","v":0},{"$f":"COUNTIFS('CAPA DB'!C:C,\"Preventative\",'CAPA DB'!H:H,O75,'CAPA DB'!Y:Y,\"*\"&A84&\"*\")","v":0},{"$f":"COUNTIFS('CAPA DB'!C:C,\"preventative\",'CAPA DB'!H:H,P75,'CAPA DB'!Y:Y,\"*\"&A84&\"*\")","v":0},{"$f":"COUNTIFS('CAPA DB'!C:C,\"preventative\",'CAPA DB'!H:H,Q75,'CAPA DB'!Y:Y,\"*\"&A84&\"*\")","v":0},{"$f":"COUNTIFS('CAPA DB'!C:C,\"preventative\",'CAPA DB'!H:H,R75,'CAPA DB'!Y:Y,\"*\"&A84&\"*\")","v":0},{"$f":"COUNTIFS('CAPA DB'!C:C,\"Preventative\",'CAPA DB'!H:H,S75,'CAPA DB'!Y:Y,\"*\"&A84&\"*\")","v":0}]
[{"$f":"Lists!G12","v":"[Fault in process]"},{"$f":"COUNTIFS('CAPA DB'!C:C,\"corrective\",'CAPA DB'!Y:Y,\"*\"&A85&\"*\")","v":0},{"$f":"COUNTIFS('CAPA DB'!C:C,\"preventative\",'CAPA DB'!Y:Y,\"*\"&A85&\"*\")","v":0},{"$f":"COUNTIFS('CAPA DB'!C:C,\"corrective\",'CAPA DB'!H:H,D75,'CAPA DB'!Y:Y,\"*\"&A85&\"*\")","v":0},{"$f":"COUNTIFS('CAPA DB'!C:C,\"corrective\",'CAPA DB'!H:H,E75,'CAPA DB'!Y:Y,\"*\"&A85&\"*\")","v":0},{"$f":"COUNTIFS('CAPA DB'!C:C,\"corrective\",'CAPA DB'!H:H,F75,'CAPA DB'!Y:Y,\"*\"&A85&\"*\")","v":0},{"$f":"COUNTIFS('CAPA DB'!C:C,\"corrective\",'CAPA DB'!H:H,G75,'CAPA DB'!Y:Y,\"*\"&A85&\"*\")","v":0},{"$f":"COUNTIFS('CAPA DB'!C:C,\"corrective\",'CAPA DB'!H:H,H75,'CAPA DB'!Y:Y,\"*\"&A85&\"*\")","v":0},{"$f":"COUNTIFS('CAPA DB'!C:C,\"corrective\",'CAPA DB'!H:H,I75,'CAPA DB'!Y:Y,\"*\"&A85&\"*\")","v":0},{"$f":"COUNTIFS('CAPA DB'!C:C,\"corrective\",'CAPA DB'!H:H,J75,'CAPA DB'!Y:Y,\"*\"&A85&\"*\")","v":0},{"$f":"COUNTIFS('CAPA DB'!C:C,\"corrective\",'CAPA DB'!H:H,K75,'CAPA DB'!Y:Y,\"*\"&A85&\"*\")","v":0},{"$f":"COUNTIFS('CAPA DB'!C:C,\"preventative\",'CAPA DB'!H:H,D75,'CAPA DB'!Y:Y,\"*\"&A85&\"*\")","v":0},{"$f":"COUNTIFS('CAPA DB'!C:C,\"preventative\",'CAPA DB'!H:H,M75,'CAPA DB'!Y:Y,\"*\"&A85&\"*\")","v":0},{"$f":"COUNTIFS('CAPA DB'!C:C,\"preventative\",'CAPA DB'!H:H,N75,'CAPA DB'!Y:Y,\"*\"&A85&\"*\")","v":0},{"$f":"COUNTIFS('CAPA DB'!C:C,\"Preventative\",'CAPA DB'!H:H,O75,'CAPA DB'!Y:Y,\"*\"&A85&\"*\")","v":0},{"$f":"COUNTIFS('CAPA DB'!C:C,\"preventative\",'CAPA DB'!H:H,P75,'CAPA DB'!Y:Y,\"*\"&A85&\"*\")","v":0},{"$f":"COUNTIFS('CAPA DB'!C:C,\"preventative\",'CAPA DB'!H:H,Q75,'CAPA DB'!Y:Y,\"*\"&A85&\"*\")","v":0},{"$f":"COUNTIFS('CAPA DB'!C:C,\"preventative\",'CAPA DB'!H:H,R75,'CAPA DB'!Y:Y,\"*\"&A85&\"*\")","v":0},{"$f":"COUNTIFS('CAPA DB'!C:C,\"Preventative\",'CAPA DB'!H:H,S75,'CAPA DB'!Y:Y,\"*\"&A85&\"*\")","v":0}]
[{"$f":"Lists!G13","v":"[Process not defined]"},{"$f":"COUNTIFS('CAPA DB'!C:C,\"corrective\",'CAPA DB'!Y:Y,\"*\"&A86&\"*\")","v":0},{"$f":"COUNTIFS('CAPA DB'!C:C,\"preventative\",'CAPA DB'!Y:Y,\"*\"&A86&\"*\")","v":0},{"$f":"COUNTIFS('CAPA DB'!C:C,\"corrective\",'CAPA DB'!H:H,D75,'CAPA DB'!Y:Y,\"*\"&A86&\"*\")","v":0},{"$f":"COUNTIFS('CAPA DB'!C:C,\"corrective\",'CAPA DB'!H:H,E75,'CAPA DB'!Y:Y,\"*\"&A86&\"*\")","v":0},{"$f":"COUNTIFS('CAPA DB'!C:C,\"corrective\",'CAPA DB'!H:H,F75,'CAPA DB'!Y:Y,\"*\"&A86&\"*\")","v":0},{"$f":"COUNTIFS('CAPA DB'!C:C,\"corrective\",'CAPA DB'!H:H,G75,'CAPA DB'!Y:Y,\"*\"&A86&\"*\")","v":0},{"$f":"COUNTIFS('CAPA DB'!C:C,\"corrective\",'CAPA DB'!H:H,H75,'CAPA DB'!Y:Y,\"*\"&A86&\"*\")","v":0},{"$f":"COUNTIFS('CAPA DB'!C:C,\"corrective\",'CAPA DB'!H:H,I75,'CAPA DB'!Y:Y,\"*\"&A86&\"*\")","v":0},{"$f":"COUNTIFS('CAPA DB'!C:C,\"corrective\",'CAPA DB'!H:H,J75,'CAPA DB'!Y:Y,\"*\"&A86&\"*\")","v":0},{"$f":"COUNTIFS('CAPA DB'!C:C,\"corrective\",'CAPA DB'!H:H,K75,'CAPA DB'!Y:Y,\"*\"&A86&\"*\")","v":0},{"$f":"COUNTIFS('CAPA DB'!C:C,\"preventative\",'CAPA DB'!H:H,D75,'CAPA DB'!Y:Y,\"*\"&A86&\"*\")","v":0},{"$f":"COUNTIFS('CAPA DB'!C:C,\"preventative\",'CAPA DB'!H:H,M75,'CAPA DB'!Y:Y,\"*\"&A86&\"*\")","v":0},{"$f":"COUNTIFS('CAPA DB'!C:C,\"preventative\",'CAPA DB'!H:H,N75,'CAPA DB'!Y:Y,\"*\"&A86&\"*\")","v":0},{"$f":"COUNTIFS('CAPA DB'!C:C,\"Preventative\",'CAPA DB'!H:H,O75,'CAPA DB'!Y:Y,\"*\"&A86&\"*\")","v":0},{"$f":"COUNTIFS('CAPA DB'!C:C,\"preventative\",'CAPA DB'!H:H,P75,'CAPA DB'!Y:Y,\"*\"&A86&\"*\")","v":0},{"$f":"COUNTIFS('CAPA DB'!C:C,\"preventative\",'CAPA DB'!H:H,Q75,'CAPA DB'!Y:Y,\"*\"&A86&\"*\")","v":0},{"$f":"COUNTIFS('CAPA DB'!C:C,\"preventative\",'CAPA DB'!H:H,R75,'CAPA DB'!Y:Y,\"*\"&A86&\"*\")","v":0},{"$f":"COUNTIFS('CAPA DB'!C:C,\"Preventative\",'CAPA DB'!H:H,S75,'CAPA DB'!Y:Y,\"*\"&A86&\"*\")","v":0}]
[{"$f":"Lists!G14","v":"[Capacity vs demand]"},{"$f":"COUNTIFS('CAPA DB'!C:C,\"corrective\",'CAPA DB'!Y:Y,\"*\"&A87&\"*\")","v":0},{"$f":"COUNTIFS('CAPA DB'!C:C,\"preventative\",'CAPA DB'!Y:Y,\"*\"&A87&\"*\")","v":0},{"$f":"COUNTIFS('CAPA DB'!C:C,\"corrective\",'CAPA DB'!H:H,D75,'CAPA DB'!Y:Y,\"*\"&A87&\"*\")","v":0},{"$f":"COUNTIFS('CAPA DB'!C:C,\"corrective\",'CAPA DB'!H:H,E75,'CAPA DB'!Y:Y,\"*\"&A87&\"*\")","v":0},{"$f":"COUNTIFS('CAPA DB'!C:C,\"corrective\",'CAPA DB'!H:H,F75,'CAPA DB'!Y:Y,\"*\"&A87&\"*\")","v":0},{"$f":"COUNTIFS('CAPA DB'!C:C,\"corrective\",'CAPA DB'!H:H,G75,'CAPA DB'!Y:Y,\"*\"&A87&\"*\")","v":0},{"$f":"COUNTIFS('CAPA DB'!C:C,\"corrective\",'CAPA DB'!H:H,H75,'CAPA DB'!Y:Y,\"*\"&A87&\"*\")","v":0},{"$f":"COUNTIFS('CAPA DB'!C:C,\"corrective\",'CAPA DB'!H:H,I75,'CAPA DB'!Y:Y,\"*\"&A87&\"*\")","v":0},{"$f":"COUNTIFS('CAPA DB'!C:C,\"corrective\",'CAPA DB'!H:H,J75,'CAPA DB'!Y:Y,\"*\"&A87&\"*\")","v":0},{"$f":"COUNTIFS('CAPA DB'!C:C,\"corrective\",'CAPA DB'!H:H,K75,'CAPA DB'!Y:Y,\"*\"&A87&\"*\")","v":0},{"$f":"COUNTIFS('CAPA DB'!C:C,\"preventative\",'CAPA DB'!H:H,D75,'CAPA DB'!Y:Y,\"*\"&A87&\"*\")","v":0},{"$f":"COUNTIFS('CAPA DB'!C:C,\"preventative\",'CAPA DB'!H:H,M75,'CAPA DB'!Y:Y,\"*\"&A87&\"*\")","v":0},{"$f":"COUNTIFS('CAPA DB'!C:C,\"preventative\",'CAPA DB'!H:H,N75,'CAPA DB'!Y:Y,\"*\"&A87&\"*\")","v":0},{"$f":"COUNTIFS('CAPA DB'!C:C,\"Preventative\",'CAPA DB'!H:H,O75,'CAPA DB'!Y:Y,\"*\"&A87&\"*\")","v":0},{"$f":"COUNTIFS('CAPA DB'!C:C,\"preventative\",'CAPA DB'!H:H,P75,'CAPA DB'!Y:Y,\"*\"&A87&\"*\")","v":0},{"$f":"COUNTIFS('CAPA DB'!C:C,\"preventative\",'CAPA DB'!H:H,Q75,'CAPA DB'!Y:Y,\"*\"&A87&\"*\")","v":0},{"$f":"COUNTIFS('CAPA DB'!C:C,\"preventative\",'CAPA DB'!H:H,R75,'CAPA DB'!Y:Y,\"*\"&A87&\"*\")","v":0},{"$f":"COUNTIFS('CAPA DB'!C:C,\"Preventative\",'CAPA DB'!H:H,S75,'CAPA DB'!Y:Y,\"*\"&A87&\"*\")","v":0}]
[{"$f":"Lists!G15","v":"[Equipment]"},{"$f":"COUNTIFS('CAPA DB'!C:C,\"corrective\",'CAPA DB'!Y:Y,\"*\"&A88&\"*\")","v":0},{"$f":"COUNTIFS('CAPA DB'!C:C,\"preventative\",'CAPA DB'!Y:Y,\"*\"&A88&\"*\")","v":0},{"$f":"COUNTIFS('CAPA DB'!C:C,\"corrective\",'CAPA DB'!H:H,D75,'CAPA DB'!Y:Y,\"*\"&A88&\"*\")","v":0},{"$f":"COUNTIFS('CAPA DB'!C:C,\"corrective\",'CAPA DB'!H:H,E75,'CAPA DB'!Y:Y,\"*\"&A88&\"*\")","v":0},{"$f":"COUNTIFS('CAPA DB'!C:C,\"corrective\",'CAPA DB'!H:H,F75,'CAPA DB'!Y:Y,\"*\"&A88&\"*\")","v":0},{"$f":"COUNTIFS('CAPA DB'!C:C,\"corrective\",'CAPA DB'!H:H,G75,'CAPA DB'!Y:Y,\"*\"&A88&\"*\")","v":0},{"$f":"COUNTIFS('CAPA DB'!C:C,\"corrective\",'CAPA DB'!H:H,H75,'CAPA DB'!Y:Y,\"*\"&A88&\"*\")","v":0},{"$f":"COUNTIFS('CAPA DB'!C:C,\"corrective\",'CAPA DB'!H:H,I75,'CAPA DB'!Y:Y,\"*\"&A88&\"*\")","v":0},{"$f":"COUNTIFS('CAPA DB'!C:C,\"corrective\",'CAPA DB'!H:H,J75,'CAPA DB'!Y:Y,\"*\"&A88&\"*\")","v":0},{"$f":"COUNTIFS('CAPA DB'!C:C,\"corrective\",'CAPA DB'!H:H,K75,'CAPA DB'!Y:Y,\"*\"&A88&\"*\")","v":0},{"$f":"COUNTIFS('CAPA DB'!C:C,\"preventative\",'CAPA DB'!H:H,D75,'CAPA DB'!Y:Y,\"*\"&A88&\"*\")","v":0},{"$f":"COUNTIFS('CAPA DB'!C:C,\"preventative\",'CAPA DB'!H:H,M75,'CAPA DB'!Y:Y,\"*\"&A88&\"*\")","v":0},{"$f":"COUNTIFS('CAPA DB'!C:C,\"preventative\",'CAPA DB'!H:H,N75,'CAPA DB'!Y:Y,\"*\"&A88&\"*\")","v":0},{"$f":"COUNTIFS('CAPA DB'!C:C,\"Preventative\",'CAPA DB'!H:H,O75,'CAPA DB'!Y:Y,\"*\"&A88&\"*\")","v":0},{"$f":"COUNTIFS('CAPA DB'!C:C,\"preventative\",'CAPA DB'!H:H,P75,'CAPA DB'!Y:Y,\"*\"&A88&\"*\")","v":0},{"$f":"COUNTIFS('CAPA DB'!C:C,\"preventative\",'CAPA DB'!H:H,Q75,'CAPA DB'!Y:Y,\"*\"&A88&\"*\")","v":0},{"$f":"COUNTIFS('CAPA DB'!C:C,\"preventative\",'CAPA DB'!H:H,R75,'CAPA DB'!Y:Y,\"*\"&A88&\"*\")","v":0},{"$f":"COUNTIFS('CAPA DB'!C:C,\"Preventative\",'CAPA DB'!H:H,S75,'CAPA DB'!Y:Y,\"*\"&A88&\"*\")","v":0}]
[{"$f":"Lists!G16","v":"[Software]"},{"$f":"COUNTIFS('CAPA DB'!C:C,\"corrective\",'CAPA DB'!Y:Y,\"*\"&A89&\"*\")","v":0},{"$f":"COUNTIFS('CAPA DB'!C:C,\"preventative\",'CAPA DB'!Y:Y,\"*\"&A89&\"*\")","v":0},{"$f":"COUNTIFS('CAPA DB'!C:C,\"corrective\",'CAPA DB'!H:H,D75,'CAPA DB'!Y:Y,\"*\"&A89&\"*\")","v":0},{"$f":"COUNTIFS('CAPA DB'!C:C,\"corrective\",'CAPA DB'!H:H,E75,'CAPA DB'!Y:Y,\"*\"&A89&\"*\")","v":0},{"$f":"COUNTIFS('CAPA DB'!C:C,\"corrective\",'CAPA DB'!H:H,F75,'CAPA DB'!Y:Y,\"*\"&A89&\"*\")","v":0},{"$f":"COUNTIFS('CAPA DB'!C:C,\"corrective\",'CAPA DB'!H:H,G75,'CAPA DB'!Y:Y,\"*\"&A89&\"*\")","v":0},{"$f":"COUNTIFS('CAPA DB'!C:C,\"corrective\",'CAPA DB'!H:H,H75,'CAPA DB'!Y:Y,\"*\"&A89&\"*\")","v":0},{"$f":"COUNTIFS('CAPA DB'!C:C,\"corrective\",'CAPA DB'!H:H,I75,'CAPA DB'!Y:Y,\"*\"&A89&\"*\")","v":0},{"$f":"COUNTIFS('CAPA DB'!C:C,\"corrective\",'CAPA DB'!H:H,J75,'CAPA DB'!Y:Y,\"*\"&A89&\"*\")","v":0},{"$f":"COUNTIFS('CAPA DB'!C:C,\"corrective\",'CAPA DB'!H:H,K75,'CAPA DB'!Y:Y,\"*\"&A89&\"*\")","v":0},{"$f":"COUNTIFS('CAPA DB'!C:C,\"preventative\",'CAPA DB'!H:H,D75,'CAPA DB'!Y:Y,\"*\"&A89&\"*\")","v":0},{"$f":"COUNTIFS('CAPA DB'!C:C,\"preventative\",'CAPA DB'!H:H,M75,'CAPA DB'!Y:Y,\"*\"&A89&\"*\")","v":0},{"$f":"COUNTIFS('CAPA DB'!C:C,\"preventative\",'CAPA DB'!H:H,N75,'CAPA DB'!Y:Y,\"*\"&A89&\"*\")","v":0},{"$f":"COUNTIFS('CAPA DB'!C:C,\"Preventative\",'CAPA DB'!H:H,O75,'CAPA DB'!Y:Y,\"*\"&A89&\"*\")","v":0},{"$f":"COUNTIFS('CAPA DB'!C:C,\"preventative\",'CAPA DB'!H:H,P75,'CAPA DB'!Y:Y,\"*\"&A89&\"*\")","v":0},{"$f":"COUNTIFS('CAPA DB'!C:C,\"preventative\",'CAPA DB'!H:H,Q75,'CAPA DB'!Y:Y,\"*\"&A89&\"*\")","v":0},{"$f":"COUNTIFS('CAPA DB'!C:C,\"preventative\",'CAPA DB'!H:H,R75,'CAPA DB'!Y:Y,\"*\"&A89&\"*\")","v":0},{"$f":"COUNTIFS('CAPA DB'!C:C,\"Preventative\",'CAPA DB'!H:H,S75,'CAPA DB'!Y:Y,\"*\"&A89&\"*\")","v":0}]
[{"$f":"Lists!G17","v":"[Availability of supplies]"},{"$f":"COUNTIFS('CAPA DB'!C:C,\"corrective\",'CAPA DB'!Y:Y,\"*\"&A90&\"*\")","v":0},{"$f":"COUNTIFS('CAPA DB'!C:C,\"preventative\",'CAPA DB'!Y:Y,\"*\"&A90&\"*\")","v":0},{"$f":"COUNTIFS('CAPA DB'!C:C,\"corrective\",'CAPA DB'!H:H,D75,'CAPA DB'!Y:Y,\"*\"&A90&\"*\")","v":0},{"$f":"COUNTIFS('CAPA DB'!C:C,\"corrective\",'CAPA DB'!H:H,E75,'CAPA DB'!Y:Y,\"*\"&A90&\"*\")","v":0},{"$f":"COUNTIFS('CAPA DB'!C:C,\"corrective\",'CAPA DB'!H:H,F75,'CAPA DB'!Y:Y,\"*\"&A90&\"*\")","v":0},{"$f":"COUNTIFS('CAPA DB'!C:C,\"corrective\",'CAPA DB'!H:H,G75,'CAPA DB'!Y:Y,\"*\"&A90&\"*\")","v":0},{"$f":"COUNTIFS('CAPA DB'!C:C,\"corrective\",'CAPA DB'!H:H,H75,'CAPA DB'!Y:Y,\"*\"&A90&\"*\")","v":0},{"$f":"COUNTIFS('CAPA DB'!C:C,\"corrective\",'CAPA DB'!H:H,I75,'CAPA DB'!Y:Y,\"*\"&A90&\"*\")","v":0},{"$f":"COUNTIFS('CAPA DB'!C:C,\"corrective\",'CAPA DB'!H:H,J75,'CAPA DB'!Y:Y,\"*\"&A90&\"*\")","v":0},{"$f":"COUNTIFS('CAPA DB'!C:C,\"corrective\",'CAPA DB'!H:H,K75,'CAPA DB'!Y:Y,\"*\"&A90&\"*\")","v":0},{"$f":"COUNTIFS('CAPA DB'!C:C,\"preventative\",'CAPA DB'!H:H,D75,'CAPA DB'!Y:Y,\"*\"&A90&\"*\")","v":0},{"$f":"COUNTIFS('CAPA DB'!C:C,\"preventative\",'CAPA DB'!H:H,M75,'CAPA DB'!Y:Y,\"*\"&A90&\"*\")","v":0},{"$f":"COUNTIFS('CAPA DB'!C:C,\"preventative\",'CAPA DB'!H:H,N75,'CAPA DB'!Y:Y,\"*\"&A90&\"*\")","v":0},{"$f":"COUNTIFS('CAPA DB'!C:C,\"Preventative\",'CAPA DB'!H:H,O75,'CAPA DB'!Y:Y,\"*\"&A90&\"*\")","v":0},{"$f":"COUNTIFS('CAPA DB'!C:C,\"preventative\",'CAPA DB'!H:H,P75,'CAPA DB'!Y:Y,\"*\"&A90&\"*\")","v":0},{"$f":"COUNTIFS('CAPA DB'!C:C,\"preventative\",'CAPA DB'!H:H,Q75,'CAPA DB'!Y:Y,\"*\"&A90&\"*\")","v":0},{"$f":"COUNTIFS('CAPA DB'!C:C,\"preventative\",'CAPA DB'!H:H,R75,'CAPA DB'!Y:Y,\"*\"&A90&\"*\")","v":0},{"$f":"COUNTIFS('CAPA DB'!C:C,\"Preventative\",'CAPA DB'!H:H,S75,'CAPA DB'!Y:Y,\"*\"&A90&\"*\")","v":0}]
[{"$f":"Lists!G18","v":"[Quality of Supplies]"},{"$f":"COUNTIFS('CAPA DB'!C:C,\"corrective\",'CAPA DB'!Y:Y,\"*\"&A91&\"*\")","v":0},{"$f":"COUNTIFS('CAPA DB'!C:C,\"preventative\",'CAPA DB'!Y:Y,\"*\"&A91&\"*\")","v":0},{"$f":"COUNTIFS('CAPA DB'!C:C,\"corrective\",'CAPA DB'!H:H,D75,'CAPA DB'!Y:Y,\"*\"&A91&\"*\")","v":0},{"$f":"COUNTIFS('CAPA DB'!C:C,\"corrective\",'CAPA DB'!H:H,E75,'CAPA DB'!Y:Y,\"*\"&A91&\"*\")","v":0},{"$f":"COUNTIFS('CAPA DB'!C:C,\"corrective\",'CAPA DB'!H:H,F75,'CAPA DB'!Y:Y,\"*\"&A91&\"*\")","v":0},{"$f":"COUNTIFS('CAPA DB'!C:C,\"corrective\",'CAPA DB'!H:H,G75,'CAPA DB'!Y:Y,\"*\"&A91&\"*\")","v":0},{"$f":"COUNTIFS('CAPA DB'!C:C,\"corrective\",'CAPA DB'!H:H,H75,'CAPA DB'!Y:Y,\"*\"&A91&\"*\")","v":0},{"$f":"COUNTIFS('CAPA DB'!C:C,\"corrective\",'CAPA DB'!H:H,I75,'CAPA DB'!Y:Y,\"*\"&A91&\"*\")","v":0},{"$f":"COUNTIFS('CAPA DB'!C:C,\"corrective\",'CAPA DB'!H:H,J75,'CAPA DB'!Y:Y,\"*\"&A91&\"*\")","v":0},{"$f":"COUNTIFS('CAPA DB'!C:C,\"corrective\",'CAPA DB'!H:H,K75,'CAPA DB'!Y:Y,\"*\"&A91&\"*\")","v":0},{"$f":"COUNTIFS('CAPA DB'!C:C,\"preventative\",'CAPA DB'!H:H,D75,'CAPA DB'!Y:Y,\"*\"&A91&\"*\")","v":0},{"$f":"COUNTIFS('CAPA DB'!C:C,\"preventative\",'CAPA DB'!H:H,M75,'CAPA DB'!Y:Y,\"*\"&A91&\"*\")","v":0},{"$f":"COUNTIFS('CAPA DB'!C:C,\"preventative\",'CAPA DB'!H:H,N75,'CAPA DB'!Y:Y,\"*\"&A91&\"*\")","v":0},{"$f":"COUNTIFS('CAPA DB'!C:C,\"Preventative\",'CAPA DB'!H:H,O75,'CAPA DB'!Y:Y,\"*\"&A91&\"*\")","v":0},{"$f":"COUNTIFS('CAPA DB'!C:C,\"preventative\",'CAPA DB'!H:H,P75,'CAPA DB'!Y:Y,\"*\"&A91&\"*\")","v":0},{"$f":"COUNTIFS('CAPA DB'!C:C,\"preventative\",'CAPA DB'!H:H,Q75,'CAPA DB'!Y:Y,\"*\"&A91&\"*\")","v":0},{"$f":"COUNTIFS('CAPA DB'!C:C,\"preventative\",'CAPA DB'!H:H,R75,'CAPA DB'!Y:Y,\"*\"&A91&\"*\")","v":0},{"$f":"COUNTIFS('CAPA DB'!C:C,\"Preventative\",'CAPA DB'!H:H,S75,'CAPA DB'!Y:Y,\"*\"&A91&\"*\")","v":0}]
[{"$f":"Lists!G19","v":"[Documentation]"},{"$f":"COUNTIFS('CAPA DB'!C:C,\"corrective\",'CAPA DB'!Y:Y,\"*\"&A92&\"*\")","v":0},{"$f":"COUNTIFS('CAPA DB'!C:C,\"preventative\",'CAPA DB'!Y:Y,\"*\"&A92&\"*\")","v":0},{"$f":"COUNTIFS('CAPA DB'!C:C,\"corrective\",'CAPA DB'!H:H,D75,'CAPA DB'!Y:Y,\"*\"&A92&\"*\")","v":0},{"$f":"COUNTIFS('CAPA DB'!C:C,\"corrective\",'CAPA DB'!H:H,E75,'CAPA DB'!Y:Y,\"*\"&A92&\"*\")","v":0},{"$f":"COUNTIFS('CAPA DB'!C:C,\"corrective\",'CAPA DB'!H:H,F75,'CAPA DB'!Y:Y,\"*\"&A92&\"*\")","v":0},{"$f":"COUNTIFS('CAPA DB'!C:C,\"corrective\",'CAPA DB'!H:H,G75,'CAPA DB'!Y:Y,\"*\"&A92&\"*\")","v":0},{"$f":"COUNTIFS('CAPA DB'!C:C,\"corrective\",'CAPA DB'!H:H,H75,'CAPA DB'!Y:Y,\"*\"&A92&\"*\")","v":0},{"$f":"COUNTIFS('CAPA DB'!C:C,\"corrective\",'CAPA DB'!H:H,I75,'CAPA DB'!Y:Y,\"*\"&A92&\"*\")","v":0},{"$f":"COUNTIFS('CAPA DB'!C:C,\"corrective\",'CAPA DB'!H:H,J75,'CAPA DB'!Y:Y,\"*\"&A92&\"*\")","v":0},{"$f":"COUNTIFS('CAPA DB'!C:C,\"corrective\",'CAPA DB'!H:H,K75,'CAPA DB'!Y:Y,\"*\"&A92&\"*\")","v":0},{"$f":"COUNTIFS('CAPA DB'!C:C,\"preventative\",'CAPA DB'!H:H,D75,'CAPA DB'!Y:Y,\"*\"&A92&\"*\")","v":0},{"$f":"COUNTIFS('CAPA DB'!C:C,\"preventative\",'CAPA DB'!H:H,M75,'CAPA DB'!Y:Y,\"*\"&A92&\"*\")","v":0},{"$f":"COUNTIFS('CAPA DB'!C:C,\"preventative\",'CAPA DB'!H:H,N75,'CAPA DB'!Y:Y,\"*\"&A92&\"*\")","v":0},{"$f":"COUNTIFS('CAPA DB'!C:C,\"Preventative\",'CAPA DB'!H:H,O75,'CAPA DB'!Y:Y,\"*\"&A92&\"*\")","v":0},{"$f":"COUNTIFS('CAPA DB'!C:C,\"preventative\",'CAPA DB'!H:H,P75,'CAPA DB'!Y:Y,\"*\"&A92&\"*\")","v":0},{"$f":"COUNTIFS('CAPA DB'!C:C,\"preventative\",'CAPA DB'!H:H,Q75,'CAPA DB'!Y:Y,\"*\"&A92&\"*\")","v":0},{"$f":"COUNTIFS('CAPA DB'!C:C,\"preventative\",'CAPA DB'!H:H,R75,'CAPA DB'!Y:Y,\"*\"&A92&\"*\")","v":0},{"$f":"COUNTIFS('CAPA DB'!C:C,\"Preventative\",'CAPA DB'!H:H,S75,'CAPA DB'!Y:Y,\"*\"&A92&\"*\")","v":0}]
[{"$f":"Lists!G20","v":"[Clinical Noting]"},{"$f":"COUNTIFS('CAPA DB'!C:C,\"corrective\",'CAPA DB'!Y:Y,\"*\"&A93&\"*\")","v":0},{"$f":"COUNTIFS('CAPA DB'!C:C,\"preventative\",'CAPA DB'!Y:Y,\"*\"&A93&\"*\")","v":0},{"$f":"COUNTIFS('CAPA DB'!C:C,\"corrective\",'CAPA DB'!H:H,D75,'CAPA DB'!Y:Y,\"*\"&A93&\"*\")","v":0},{"$f":"COUNTIFS('CAPA DB'!C:C,\"corrective\",'CAPA DB'!H:H,E75,'CAPA DB'!Y:Y,\"*\"&A93&\"*\")","v":0},{"$f":"COUNTIFS('CAPA DB'!C:C,\"corrective\",'CAPA DB'!H:H,F75,'CAPA DB'!Y:Y,\"*\"&A93&\"*\")","v":0},{"$f":"COUNTIFS('CAPA DB'!C:C,\"corrective\",'CAPA DB'!H:H,G75,'CAPA DB'!Y:Y,\"*\"&A93&\"*\")","v":0},{"$f":"COUNTIFS('CAPA DB'!C:C,\"corrective\",'CAPA DB'!H:H,H75,'CAPA DB'!Y:Y,\"*\"&A93&\"*\")","v":0},{"$f":"COUNTIFS('CAPA DB'!C:C,\"corrective\",'CAPA DB'!H:H,I75,'CAPA DB'!Y:Y,\"*\"&A93&\"*\")","v":0},{"$f":"COUNTIFS('CAPA DB'!C:C,\"corrective\",'CAPA DB'!H:H,J75,'CAPA DB'!Y:Y,\"*\"&A93&\"*\")","v":0},{"$f":"COUNTIFS('CAPA DB'!C:C,\"corrective\",'CAPA DB'!H:H,K75,'CAPA DB'!Y:Y,\"*\"&A93&\"*\")","v":0},{"$f":"COUNTIFS('CAPA DB'!C:C,\"preventative\",'CAPA DB'!H:H,D75,'CAPA DB'!Y:Y,\"*\"&A93&\"*\")","v":0},{"$f":"COUNTIFS('CAPA DB'!C:C,\"preventative\",'CAPA DB'!H:H,M75,'CAPA DB'!Y:Y,\"*\"&A93&\"*\")","v":0},{"$f":"COUNTIFS('CAPA DB'!C:C,\"preventative\",'CAPA DB'!H:H,N75,'CAPA DB'!Y:Y,\"*\"&A93&\"*\")","v":0},{"$f":"COUNTIFS('CAPA DB'!C:C,\"Preventative\",'CAPA DB'!H:H,O75,'CAPA DB'!Y:Y,\"*\"&A93&\"*\")","v":0},{"$f":"COUNTIFS('CAPA DB'!C:C,\"preventative\",'CAPA DB'!H:H,P75,'CAPA DB'!Y:Y,\"*\"&A93&\"*\")","v":0},{"$f":"COUNTIFS('CAPA DB'!C:C,\"preventative\",'CAPA DB'!H:H,Q75,'CAPA DB'!Y:Y,\"*\"&A93&\"*\")","v":0},{"$f":"COUNTIFS('CAPA DB'!C:C,\"preventative\",'CAPA DB'!H:H,R75,'CAPA DB'!Y:Y,\"*\"&A93&\"*\")","v":0},{"$f":"COUNTIFS('CAPA DB'!C:C,\"Preventative\",'CAPA DB'!H:H,S75,'CAPA DB'!Y:Y,\"*\"&A93&\"*\")","v":0}]
[{"$f":"Lists!G21","v":"[No Action required]"},{"$f":"COUNTIFS('CAPA DB'!C:C,\"corrective\",'CAPA DB'!Y:Y,\"*\"&A94&\"*\")","v":0},{"$f":"COUNTIFS('CAPA DB'!C:C,\"preventative\",'CAPA DB'!Y:Y,\"*\"&A94&\"*\")","v":0},{"$f":"COUNTIFS('CAPA DB'!C:C,\"corrective\",'CAPA DB'!H:H,D75,'CAPA DB'!Y:Y,\"*\"&A94&\"*\")","v":0},{"$f":"COUNTIFS('CAPA DB'!C:C,\"corrective\",'CAPA DB'!H:H,E75,'CAPA DB'!Y:Y,\"*\"&A94&\"*\")","v":0},{"$f":"COUNTIFS('CAPA DB'!C:C,\"corrective\",'CAPA DB'!H:H,F75,'CAPA DB'!Y:Y,\"*\"&A94&\"*\")","v":0},{"$f":"COUNTIFS('CAPA DB'!C:C,\"corrective\",'CAPA DB'!H:H,G75,'CAPA DB'!Y:Y,\"*\"&A94&\"*\")","v":0},{"$f":"COUNTIFS('CAPA DB'!C:C,\"corrective\",'CAPA DB'!H:H,H75,'CAPA DB'!Y:Y,\"*\"&A94&\"*\")","v":0},{"$f":"COUNTIFS('CAPA DB'!C:C,\"corrective\",'CAPA DB'!H:H,I75,'CAPA DB'!Y:Y,\"*\"&A94&\"*\")","v":0},{"$f":"COUNTIFS('CAPA DB'!C:C,\"corrective\",'CAPA DB'!H:H,J75,'CAPA DB'!Y:Y,\"*\"&A94&\"*\")","v":0},{"$f":"COUNTIFS('CAPA DB'!C:C,\"corrective\",'CAPA DB'!H:H,K75,'CAPA DB'!Y:Y,\"*\"&A94&\"*\")","v":0},{"$f":"COUNTIFS('CAPA DB'!C:C,\"preventative\",'CAPA DB'!H:H,D75,'CAPA DB'!Y:Y,\"*\"&A94&\"*\")","v":0},{"$f":"COUNTIFS('CAPA DB'!C:C,\"preventative\",'CAPA DB'!H:H,M75,'CAPA DB'!Y:Y,\"*\"&A94&\"*\")","v":0},{"$f":"COUNTIFS('CAPA DB'!C:C,\"preventative\",'CAPA DB'!H:H,N75,'CAPA DB'!Y:Y,\"*\"&A94&\"*\")","v":0},{"$f":"COUNTIFS('CAPA DB'!C:C,\"Preventative\",'CAPA DB'!H:H,O75,'CAPA DB'!Y:Y,\"*\"&A94&\"*\")","v":0},{"$f":"COUNTIFS('CAPA DB'!C:C,\"preventative\",'CAPA DB'!H:H,P75,'CAPA DB'!Y:Y,\"*\"&A94&\"*\")","v":0},{"$f":"COUNTIFS('CAPA DB'!C:C,\"preventative\",'CAPA DB'!H:H,Q75,'CAPA DB'!Y:Y,\"*\"&A94&\"*\")","v":0},{"$f":"COUNTIFS('CAPA DB'!C:C,\"preventative\",'CAPA DB'!H:H,R75,'CAPA DB'!Y:Y,\"*\"&A94&\"*\")","v":0},{"$f":"COUNTIFS('CAPA DB'!C:C,\"Preventative\",'CAPA DB'!H:H,S75,'CAPA DB'!Y:Y,\"*\"&A94&\"*\")","v":0}]
[{"$f":"Lists!G22","v":"[Audit]"},{"$f":"COUNTIFS('CAPA DB'!C:C,\"corrective\",'CAPA DB'!Y:Y,\"*\"&A95&\"*\")","v":0},{"$f":"COUNTIFS('CAPA DB'!C:C,\"preventative\",'CAPA DB'!Y:Y,\"*\"&A95&\"*\")","v":0},{"$f":"COUNTIFS('CAPA DB'!C:C,\"corrective\",'CAPA DB'!H:H,D75,'CAPA DB'!Y:Y,\"*\"&A95&\"*\")","v":0},{"$f":"COUNTIFS('CAPA DB'!C:C,\"corrective\",'CAPA DB'!H:H,E75,'CAPA DB'!Y:Y,\"*\"&A95&\"*\")","v":0},{"$f":"COUNTIFS('CAPA DB'!C:C,\"corrective\",'CAPA DB'!H:H,F75,'CAPA DB'!Y:Y,\"*\"&A95&\"*\")","v":0},{"$f":"COUNTIFS('CAPA DB'!C:C,\"corrective\",'CAPA DB'!H:H,G75,'CAPA DB'!Y:Y,\"*\"&A95&\"*\")","v":0},{"$f":"COUNTIFS('CAPA DB'!C:C,\"corrective\",'CAPA DB'!H:H,H75,'CAPA DB'!Y:Y,\"*\"&A95&\"*\")","v":0},{"$f":"COUNTIFS('CAPA DB'!C:C,\"corrective\",'CAPA DB'!H:H,I75,'CAPA DB'!Y:Y,\"*\"&A95&\"*\")","v":0},{"$f":"COUNTIFS('CAPA DB'!C:C,\"corrective\",'CAPA DB'!H:H,J75,'CAPA DB'!Y:Y,\"*\"&A95&\"*\")","v":0},{"$f":"COUNTIFS('CAPA DB'!C:C,\"corrective\",'CAPA DB'!H:H,K75,'CAPA DB'!Y:Y,\"*\"&A95&\"*\")","v":0},{"$f":"COUNTIFS('CAPA DB'!C:C,\"preventative\",'CAPA DB'!H:H,D75,'CAPA DB'!Y:Y,\"*\"&A95&\"*\")","v":0},{"$f":"COUNTIFS('CAPA DB'!C:C,\"preventative\",'CAPA DB'!H:H,M75,'CAPA DB'!Y:Y,\"*\"&A95&\"*\")","v":0},{"$f":"COUNTIFS('CAPA DB'!C:C,\"preventative\",'CAPA DB'!H:H,N75,'CAPA DB'!Y:Y,\"*\"&A95&\"*\")","v":0},{"$f":"COUNTIFS('CAPA DB'!C:C,\"Preventative\",'CAPA DB'!H:H,O75,'CAPA DB'!Y:Y,\"*\"&A95&\"*\")","v":0},{"$f":"COUNTIFS('CAPA DB'!C:C,\"preventative\",'CAPA DB'!H:H,P75,'CAPA DB'!Y:Y,\"*\"&A95&\"*\")","v":0},{"$f":"COUNTIFS('CAPA DB'!C:C,\"preventative\",'CAPA DB'!H:H,Q75,'CAPA DB'!Y:Y,\"*\"&A95&\"*\")","v":0},{"$f":"COUNTIFS('CAPA DB'!C:C,\"preventative\",'CAPA DB'!H:H,R75,'CAPA DB'!Y:Y,\"*\"&A95&\"*\")","v":0},{"$f":"COUNTIFS('CAPA DB'!C:C,\"Preventative\",'CAPA DB'!H:H,S75,'CAPA DB'!Y:Y,\"*\"&A95&\"*\")","v":0}]
[{"$f":"Lists!G23","v":"[Interpreter]"},{"$f":"COUNTIFS('CAPA DB'!C:C,\"corrective\",'CAPA DB'!Y:Y,\"*\"&A96&\"*\")","v":0},{"$f":"COUNTIFS('CAPA DB'!C:C,\"preventative\",'CAPA DB'!Y:Y,\"*\"&A96&\"*\")","v":0},{"$f":"COUNTIFS('CAPA DB'!C:C,\"corrective\",'CAPA DB'!H:H,D75,'CAPA DB'!Y:Y,\"*\"&A96&\"*\")","v":0},{"$f":"COUNTIFS('CAPA DB'!C:C,\"corrective\",'CAPA DB'!H:H,E75,'CAPA DB'!Y:Y,\"*\"&A96&\"*\")","v":0},{"$f":"COUNTIFS('CAPA DB'!C:C,\"corrective\",'CAPA DB'!H:H,F75,'CAPA DB'!Y:Y,\"*\"&A96&\"*\")","v":0},{"$f":"COUNTIFS('CAPA DB'!C:C,\"corrective\",'CAPA DB'!H:H,G75,'CAPA DB'!Y:Y,\"*\"&A96&\"*\")","v":0},{"$f":"COUNTIFS('CAPA DB'!C:C,\"corrective\",'CAPA DB'!H:H,H75,'CAPA DB'!Y:Y,\"*\"&A96&\"*\")","v":0},{"$f":"COUNTIFS('CAPA DB'!C:C,\"corrective\",'CAPA DB'!H:H,I75,'CAPA DB'!Y:Y,\"*\"&A96&\"*\")","v":0},{"$f":"COUNTIFS('CAPA DB'!C:C,\"corrective\",'CAPA DB'!H:H,J75,'CAPA DB'!Y:Y,\"*\"&A96&\"*\")","v":0},{"$f":"COUNTIFS('CAPA DB'!C:C,\"corrective\",'CAPA DB'!H:H,K75,'CAPA DB'!Y:Y,\"*\"&A96&\"*\")","v":0},{"$f":"COUNTIFS('CAPA DB'!C:C,\"preventative\",'CAPA DB'!H:H,D75,'CAPA DB'!Y:Y,\"*\"&A96&\"*\")","v":0},{"$f":"COUNTIFS('CAPA DB'!C:C,\"preventative\",'CAPA DB'!H:H,M75,'CAPA DB'!Y:Y,\"*\"&A96&\"*\")","v":0},{"$f":"COUNTIFS('CAPA DB'!C:C,\"preventative\",'CAPA DB'!H:H,N75,'CAPA DB'!Y:Y,\"*\"&A96&\"*\")","v":0},{"$f":"COUNTIFS('CAPA DB'!C:C,\"Preventative\",'CAPA DB'!H:H,O75,'CAPA DB'!Y:Y,\"*\"&A96&\"*\")","v":0},{"$f":"COUNTIFS('CAPA DB'!C:C,\"preventative\",'CAPA DB'!H:H,P75,'CAPA DB'!Y:Y,\"*\"&A96&\"*\")","v":0},{"$f":"COUNTIFS('CAPA DB'!C:C,\"preventative\",'CAPA DB'!H:H,Q75,'CAPA DB'!Y:Y,\"*\"&A96&\"*\")","v":0},{"$f":"COUNTIFS('CAPA DB'!C:C,\"preventative\",'CAPA DB'!H:H,R75,'CAPA DB'!Y:Y,\"*\"&A96&\"*\")","v":0},{"$f":"COUNTIFS('CAPA DB'!C:C,\"Preventative\",'CAPA DB'!H:H,S75,'CAPA DB'!Y:Y,\"*\"&A96&\"*\")","v":0}]
[{"$f":"Lists!G24","v":0},{"$f":"COUNTIFS('CAPA DB'!C:C,\"corrective\",'CAPA DB'!Y:Y,\"*\"&A97&\"*\")","v":0},{"$f":"COUNTIFS('CAPA DB'!C:C,\"preventative\",'CAPA DB'!Y:Y,\"*\"&A97&\"*\")","v":0},{"$f":"COUNTIFS('CAPA DB'!C:C,\"corrective\",'CAPA DB'!H:H,D75,'CAPA DB'!Y:Y,\"*\"&A97&\"*\")","v":0},{"$f":"COUNTIFS('CAPA DB'!C:C,\"corrective\",'CAPA DB'!H:H,E75,'CAPA DB'!Y:Y,\"*\"&A97&\"*\")","v":0},{"$f":"COUNTIFS('CAPA DB'!C:C,\"corrective\",'CAPA DB'!H:H,F75,'CAPA DB'!Y:Y,\"*\"&A97&\"*\")","v":0},{"$f":"COUNTIFS('CAPA DB'!C:C,\"corrective\",'CAPA DB'!H:H,G75,'CAPA DB'!Y:Y,\"*\"&A97&\"*\")","v":0},{"$f":"COUNTIFS('CAPA DB'!C:C,\"corrective\",'CAPA DB'!H:H,H75,'CAPA DB'!Y:Y,\"*\"&A97&\"*\")","v":0},{"$f":"COUNTIFS('CAPA DB'!C:C,\"corrective\",'CAPA DB'!H:H,I75,'CAPA DB'!Y:Y,\"*\"&A97&\"*\")","v":0},{"$f":"COUNTIFS('CAPA DB'!C:C,\"corrective\",'CAPA DB'!H:H,J75,'CAPA DB'!Y:Y,\"*\"&A97&\"*\")","v":0},{"$f":"COUNTIFS('CAPA DB'!C:C,\"corrective\",'CAPA DB'!H:H,K75,'CAPA DB'!Y:Y,\"*\"&A97&\"*\")","v":0},{"$f":"COUNTIFS('CAPA DB'!C:C,\"preventative\",'CAPA DB'!H:H,D75,'CAPA DB'!Y:Y,\"*\"&A97&\"*\")","v":0},{"$f":"COUNTIFS('CAPA DB'!C:C,\"preventative\",'CAPA DB'!H:H,M75,'CAPA DB'!Y:Y,\"*\"&A97&\"*\")","v":0},{"$f":"COUNTIFS('CAPA DB'!C:C,\"preventative\",'CAPA DB'!H:H,N75,'CAPA DB'!Y:Y,\"*\"&A97&\"*\")","v":0},{"$f":"COUNTIFS('CAPA DB'!C:C,\"Preventative\",'CAPA DB'!H:H,O75,'CAPA DB'!Y:Y,\"*\"&A97&\"*\")","v":0},{"$f":"COUNTIFS('CAPA DB'!C:C,\"preventative\",'CAPA DB'!H:H,P75,'CAPA DB'!Y:Y,\"*\"&A97&\"*\")","v":0},{"$f":"COUNTIFS('CAPA DB'!C:C,\"preventative\",'CAPA DB'!H:H,Q75,'CAPA DB'!Y:Y,\"*\"&A97&\"*\")","v":0},{"$f":"COUNTIFS('CAPA DB'!C:C,\"preventative\",'CAPA DB'!H:H,R75,'CAPA DB'!Y:Y,\"*\"&A97&\"*\")","v":0},{"$f":"COUNTIFS('CAPA DB'!C:C,\"Preventative\",'CAPA DB'!H:H,S75,'CAPA DB'!Y:Y,\"*\"&A97&\"*\")","v":0}]
[{"$f":"Lists!G25","v":0},{"$f":"COUNTIFS('CAPA DB'!C:C,\"corrective\",'CAPA DB'!Y:Y,\"*\"&A98&\"*\")","v":0},{"$f":"COUNTIFS('CAPA DB'!C:C,\"preventative\",'CAPA DB'!Y:Y,\"*\"&A98&\"*\")","v":0},{"$f":"COUNTIFS('CAPA DB'!C:C,\"corrective\",'CAPA DB'!H:H,D75,'CAPA DB'!Y:Y,\"*\"&A98&\"*\")","v":0},{"$f":"COUNTIFS('CAPA DB'!C:C,\"corrective\",'CAPA DB'!H:H,E75,'CAPA DB'!Y:Y,\"*\"&A98&\"*\")","v":0},{"$f":"COUNTIFS('CAPA DB'!C:C,\"corrective\",'CAPA DB'!H:H,F75,'CAPA DB'!Y:Y,\"*\"&A98&\"*\")","v":0},{"$f":"COUNTIFS('CAPA DB'!C:C,\"corrective\",'CAPA DB'!H:H,G75,'CAPA DB'!Y:Y,\"*\"&A98&\"*\")","v":0},{"$f":"COUNTIFS('CAPA DB'!C:C,\"corrective\",'CAPA DB'!H:H,H75,'CAPA DB'!Y:Y,\"*\"&A98&\"*\")","v":0},{"$f":"COUNTIFS('CAPA DB'!C:C,\"corrective\",'CAPA DB'!H:H,I75,'CAPA DB'!Y:Y,\"*\"&A98&\"*\")","v":0},{"$f":"COUNTIFS('CAPA DB'!C:C,\"corrective\",'CAPA DB'!H:H,J75,'CAPA DB'!Y:Y,\"*\"&A98&\"*\")","v":0},{"$f":"COUNTIFS('CAPA DB'!C:C,\"corrective\",'CAPA DB'!H:H,K75,'CAPA DB'!Y:Y,\"*\"&A98&\"*\")","v":0},{"$f":"COUNTIFS('CAPA DB'!C:C,\"preventative\",'CAPA DB'!H:H,D75,'CAPA DB'!Y:Y,\"*\"&A98&\"*\")","v":0},{"$f":"COUNTIFS('CAPA DB'!C:C,\"preventative\",'CAPA DB'!H:H,M75,'CAPA DB'!Y:Y,\"*\"&A98&\"*\")","v":0},{"$f":"COUNTIFS('CAPA DB'!C:C,\"preventative\",'CAPA DB'!H:H,N75,'CAPA DB'!Y:Y,\"*\"&A98&\"*\")","v":0},{"$f":"COUNTIFS('CAPA DB'!C:C,\"Preventative\",'CAPA DB'!H:H,O75,'CAPA DB'!Y:Y,\"*\"&A98&\"*\")","v":0},{"$f":"COUNTIFS('CAPA DB'!C:C,\"preventative\",'CAPA DB'!H:H,P75,'CAPA DB'!Y:Y,\"*\"&A98&\"*\")","v":0},{"$f":"COUNTIFS('CAPA DB'!C:C,\"preventative\",'CAPA DB'!H:H,Q75,'CAPA DB'!Y:Y,\"*\"&A98&\"*\")","v":0},{"$f":"COUNTIFS('CAPA DB'!C:C,\"preventative\",'CAPA DB'!H:H,R75,'CAPA DB'!Y:Y,\"*\"&A98&\"*\")","v":0},{"$f":"COUNTIFS('CAPA DB'!C:C,\"Preventative\",'CAPA DB'!H:H,S75,'CAPA DB'!Y:Y,\"*\"&A98&\"*\")","v":0}]

{"sheet":"Report","index":6,"n_rows":104,"n_cols":14,"rows_kept":104,"cut":false,"hidden":true,"merged":[[103,1,103,2],[96,1,96,2],[97,1,97,2],[98,1,98,2],[90,1,90,2],[91,1,91,2],[92,1,92,2],[93,1,93,2],[94,1,94,2],[95,1,95,2],[99,1,99,2],[100,1,100,2],[101,1,101,2],[102,1,102,2],[89,1,89,2],[76,1,76,2],[77,1,77,2],[78,1,78,2],[79,1,79,2],[82,1,82,2],[83,1,83,2],[84,1,84,2],[85,1,85,2],[86,1,86,2],[87,1,87,2],[88,1,88,2],[75,1,75,2],[64,1,64,2],[65,1,65,2],[66,1,66,2],[67,1,67,2],[68,1,68,2],[69,1,69,2],[70,1,70,2],[71,1,71,2],[72,1,72,2],[73,1,73,2],[74,1,74,2],[63,1,63,2],[45,1,45,2],[46,1,46,2],[47,1,47,2],[48,1,48,2],[49,1,49,2],[50,1,50,2],[51,1,51,2],[52,1,52,2],[53,1,53,2],[54,1,54,2],[60,1,61,11],[55,1,55,2],[56,1,56,2],[57,1,57,2],[58,1,58,2],[59,1,59,2],[31,1,31,2],[44,1,44,2],[16,1,17,11],[34,1,34,2],[35,1,35,2],[38,1,38,2],[25,1,25,2],[39,1,39,2],[40,1,40,2],[41,1,41,2],[42,1,42,2],[43,1,43,2],[20,1,20,2],[21,1,21,2],[22,1,22,2],[23,1,23,2],[24,1,24,2],[32,1,32,2],[33,1,33,2],[26,1,26,2],[27,1,27,2],[28,1,28,2],[29,1,29,2],[30,1,30,2],[19,1,19,2],[12,1,12,3],[13,1,13,3],[14,1,14,3],[1,6,2,11],[7,8,7,9],[8,8,8,9],[9,8,9,9],[6,6,6,7],[6,8,6,9],[6,10,6,11],[7,6,7,7],[8,6,8,7],[9,6,9,7],[7,10,7,11],[8,10,8,11],[9,10,9,11],[1,13,4,16],[1,1,1,4],[4,1,4,2],[5,1,5,2],[6,1,6,2],[4,3,4,4],[5,3,5,4],[6,3,6,4],[8,1,8,4]]}
[]
[null,"Please enter Date range DD/MM/YYYY",null,null,null,null,"All information presented is for actions raised within the selected time frame",null,null,null,null,null,null,"change date in light blue cells before creating report"]
[null,"From:","2023-04-01","To:","2024-03-31"]
[]
[null,"Total submissions:",null,{"$f":"SUM(D6:E7)","v":0}]
[null,"Corrective:",null,{"$f":"COUNTIFS('CAPA DB'!C:C,\"Corrective\",'CAPA DB'!E:E,\">=\"&Report!C3,'CAPA DB'!E:E,\"<=\"&Report!E3)","v":0}]
[null,"Preventative:",null,{"$f":"COUNTIFS('CAPA DB'!C:C,\"Preventative\",'CAPA DB'!E:E,\">=\"&Report!C3,'CAPA DB'!E:E,\"<=\"&Report!E3)","v":0},null,null,"Status",null,"Corrective",null,"Prventative"]
[null,null,null,null,null,null,"New",null,{"$f":"COUNTIFS('CAPA DB'!C:C,\"Corrective\",'CAPA DB'!B:B,\"NEW\",'CAPA DB'!E:E,\">=\"&Report!C3,'CAPA DB'!E:E,\"<=\"&Report!E3)","v":0},null,{"$f":"COUNTIFS('CAPA DB'!C:C,\"preventative\",'CAPA DB'!B:B,\"NEW\",'CAPA DB'!E:E,\">=\"&Report!C3,'CAPA DB'!E:E,\"<=\"&Report!E3)","v":0}]
[null,"News overdue for review",null,null,null,null,"Under Review",null,{"$f":"COUNTIFS('CAPA DB'!C:C,\"Corrective\",'CAPA DB'!B:B,\"Under review\",'CAPA DB'!E:E,\">=\"&Report!C3,'CAPA DB'!E:E,\"<=\"&Report!E3)","v":0},null,{"$f":"COUNTIFS('CAPA DB'!C:C,\"Preventative\",'CAPA DB'!B:B,\"Under review\",'CAPA DB'!E:E,\">=\"&Report!C3,'CAPA DB'!E:E,\"<=\"&Report!E3)","v":0}]
[null,"Corr.",{"$f":"COUNTIFS('CAPA DB'!C:C,\"Corrective\",'CAPA DB'!P:P,\"new - overdue\",'CAPA DB'!E:E,\">=\"&Report!C3,'CAPA DB'!E:E,\"<=\"&Report!E3)","v":0},"Prev.",{"$f":"COUNTIFS('CAPA DB'!C:C,\"Preventative\",'CAPA DB'!P:P,\"new - overdue\",'CAPA DB'!E:E,\">=\"&Report!C3,'CAPA DB'!E:E,\"<=\"&Report!E3)","v":0},null,"Complete/Closed",null,{"$f":"COUNTIFS('CAPA DB'!C:C,\"Corrective\",'CAPA DB'!B:B,\"Complete\",'CAPA DB'!E:E,\">=\"&Report!C3,'CAPA DB'!E:E,\"<=\"&Report!E3)+COUNTIFS('CAPA DB'!C:C,\"Corrective\",'CAPA DB'!B:B,\"Closed\",'CAPA DB'!E:E,\">=\"&Report!C3,'CAPA DB'!E:E,\"<=\"&Report!E3)","v":0},null,{"$f":"COUNTIFS('CAPA DB'!C:C,\"preventative\",'CAPA DB'!B:B,\"Complete\",'CAPA DB'!E:E,\">=\"&Report!C3,'CAPA DB'!E:E,\"<=\"&Report!E3)+COUNTIFS('CAPA DB'!C:C,\"preventative\",'CAPA DB'!B:B,\"Closed\",'CAPA DB'!E:E,\">=\"&Report!C3,'CAPA DB'!E:E,\"<=\"&Report!E3)","v":0}]
[]
[null,"Area break-down by action type"]
[null,"Action",null,null,{"$f":"Lists!E3","v":"Clinical"},{"$f":"Lists!E4","v":"Admin"},{"$f":"Lists!E5","v":0},{"$f":"Lists!E6","v":0},{"$f":"Lists!E7","v":0},{"$f":"Lists!E8","v":0},{"$f":"Lists!E9","v":0},{"$f":"Lists!E10","v":0}]
[null,"Corrective",null,null,{"$f":"COUNTIFS('CAPA DB'!C:C,\"Corrective\",'CAPA DB'!H:H,E13,'CAPA DB'!E:E,\">=\"&Report!C3,'CAPA DB'!E:E,\"<=\"&Report!E3)","v":0},{"$f":"COUNTIFS('CAPA DB'!C:C,\"Corrective\",'CAPA DB'!H:H,F13,'CAPA DB'!E:E,\">=\"&Report!C3,'CAPA DB'!E:E,\"<=\"&Report!E3)","v":0},{"$f":"COUNTIFS('CAPA DB'!C:C,\"Corrective\",'CAPA DB'!H:H,G13,'CAPA DB'!E:E,\">=\"&Report!C3,'CAPA DB'!E:E,\"<=\"&Report!E3)","v":0},{"$f":"COUNTIFS('CAPA DB'!C:C,\"Corrective\",'CAPA DB'!H:H,H13,'CAPA DB'!E:E,\">=\"&Report!C3,'CAPA DB'!E:E,\"<=\"&Report!E3)","v":0},{"$f":"COUNTIFS('CAPA DB'!C:C,\"Corrective\",'CAPA DB'!H:H,I13,'CAPA DB'!E:E,\">=\"&Report!C3,'CAPA DB'!E:E,\"<=\"&Report!E3)","v":0},{"$f":"COUNTIFS('CAPA DB'!C:C,\"Corrective\",'CAPA DB'!H:H,J13,'CAPA DB'!E:E,\">=\"&Report!C3,'CAPA DB'!E:E,\"<=\"&Report!E3)","v":0},{"$f":"COUNTIFS('CAPA DB'!C:C,\"Corrective\",'CAPA DB'!H:H,K13,'CAPA DB'!E:E,\">=\"&Report!C3,'CAPA DB'!E:E,\"<=\"&Report!E3)","v":0},{"$f":"COUNTIFS('CAPA DB'!C:C,\"Corrective\",'CAPA DB'!H:H,L13,'CAPA DB'!E:E,\">=\"&Report!C3,'CAPA DB'!E:E,\"<=\"&Report!E3)","v":0}]
[null,"Preventative",null,null,{"$f":"COUNTIFS('CAPA DB'!C:C,\"preventative\",'CAPA DB'!H:H,E13,'CAPA DB'!E:E,\">=\"&Report!C3,'CAPA DB'!E:E,\"<=\"&Report!E3)","v":0},{"$f":"COUNTIFS('CAPA DB'!C:C,\"preventative\",'CAPA DB'!H:H,F13,'CAPA DB'!E:E,\">=\"&Report!C3,'CAPA DB'!E:E,\"<=\"&Report!E3)","v":0},{"$f":"COUNTIFS('CAPA DB'!C:C,\"preventative\",'CAPA DB'!H:H,G13,'CAPA DB'!E:E,\">=\"&Report!C3,'CAPA DB'!E:E,\"<=\"&Report!E3)","v":0},{"$f":"COUNTIFS('CAPA DB'!C:C,\"preventative\",'CAPA DB'!H:H,H13,'CAPA DB'!E:E,\">=\"&Report!C3,'CAPA DB'!E:E,\"<=\"&Report!E3)","v":0},{"$f":"COUNTIFS('CAPA DB'!C:C,\"preventative\",'CAPA DB'!H:H,I13,'CAPA DB'!E:E,\">=\"&Report!C3,'CAPA DB'!E:E,\"<=\"&Report!E3)","v":0},{"$f":"COUNTIFS('CAPA DB'!C:C,\"preventative\",'CAPA DB'!H:H,J13,'CAPA DB'!E:E,\">=\"&Report!C3,'CAPA DB'!E:E,\"<=\"&Report!E3)","v":0},{"$f":"COUNTIFS('CAPA DB'!C:C,\"preventative\",'CAPA DB'!H:H,K13,'CAPA DB'!E:E,\">=\"&Report!C3,'CAPA DB'!E:E,\"<=\"&Report!E3)","v":0},{"$f":"COUNTIFS('CAPA DB'!C:C,\"preventative\",'CAPA DB'!H:H,L13,'CAPA DB'!E:E,\">=\"&Report!C3,'CAPA DB'!E:E,\"<=\"&Report!E3)","v":0}]
[]
[null,"Corrective action Breakdown"]
[]
[null,"Area & Category"]
[null,"Category",null,"Totals",{"$f":"Lists!E3","v":"Clinical"},{"$f":"Lists!E4","v":"Admin"},{"$f":"Lists!E5","v":0},{"$f":"Lists!E6","v":0},{"$f":"Lists!E7","v":0},{"$f":"Lists!E8","v":0},{"$f":"Lists!E9","v":0},{"$f":"Lists!E10","v":0}]
[null,{"$f":"Lists!A2","v":"Access, Admission, Discharge and Transfer issue"},null,{"$f":"SUM(E21:L21)","v":0},{"$f":"COUNTIFS('CAPA DB'!C:C,\"Corrective\",'CAPA DB'!H:H,E13,'CAPA DB'!I:I,Report!B:B,'CAPA DB'!E:E,\">=\"&Report!C3,'CAPA DB'!E:E,\"<=\"&Report!E3)","v":0},{"$f":"COUNTIFS('CAPA DB'!C:C,\"Corrective\",'CAPA DB'!H:H,F13,'CAPA DB'!I:I,Report!B:B,'CAPA DB'!E:E,\">=\"&Report!C3,'CAPA DB'!E:E,\"<=\"&Report!E3)","v":0},{"$f":"COUNTIFS('CAPA DB'!C:C,\"Corrective\",'CAPA DB'!H:H,G13,'CAPA DB'!I:I,Report!B:B,'CAPA DB'!E:E,\">=\"&Report!C3,'CAPA DB'!E:E,\"<=\"&Report!E3)","v":0},{"$f":"COUNTIFS('CAPA DB'!C:C,\"Corrective\",'CAPA DB'!H:H,H13,'CAPA DB'!I:I,Report!B:B,'CAPA DB'!E:E,\">=\"&Report!C3,'CAPA DB'!E:E,\"<=\"&Report!E3)","v":0},{"$f":"COUNTIFS('CAPA DB'!C:C,\"Corrective\",'CAPA DB'!H:H,I13,'CAPA DB'!I:I,Report!B:B,'CAPA DB'!E:E,\">=\"&Report!C3,'CAPA DB'!E:E,\"<=\"&Report!E3)","v":0},{"$f":"COUNTIFS('CAPA DB'!C:C,\"Corrective\",'CAPA DB'!H:H,J13,'CAPA DB'!I:I,Report!B:B,'CAPA DB'!E:E,\">=\"&Report!C3,'CAPA DB'!E:E,\"<=\"&Report!E3)","v":0},{"$f":"COUNTIFS('CAPA DB'!C:C,\"Corrective\",'CAPA DB'!H:H,K13,'CAPA DB'!I:I,Report!B:B,'CAPA DB'!E:E,\">=\"&Report!C3,'CAPA DB'!E:E,\"<=\"&Report!E3)","v":0},{"$f":"COUNTIFS('CAPA DB'!C:C,\"Corrective\",'CAPA DB'!H:H,L13,'CAPA DB'!I:I,Report!B:B,'CAPA DB'!E:E,\">=\"&Report!C3,'CAPA DB'!E:E,\"<=\"&Report!E3)","v":0}]
[null,{"$f":"Lists!A3","v":"Collision/Struck against moving or stationary object"},null,{"$f":"SUM(E22:L22)","v":0},{"$f":"COUNTIFS('CAPA DB'!C:C,\"Corrective\",'CAPA DB'!H:H,E13,'CAPA DB'!I:I,Report!B:B,'CAPA DB'!E:E,\">=\"&Report!C3,'CAPA DB'!E:E,\"<=\"&Report!E3)","v":0},{"$f":"COUNTIFS('CAPA DB'!C:C,\"Corrective\",'CAPA DB'!H:H,F13,'CAPA DB'!I:I,Report!B:B,'CAPA DB'!E:E,\">=\"&Report!C3,'CAPA DB'!E:E,\"<=\"&Report!E3)","v":0},{"$f":"COUNTIFS('CAPA DB'!C:C,\"Corrective\",'CAPA DB'!H:H,G13,'CAPA DB'!I:I,Report!B:B,'CAPA DB'!E:E,\">=\"&Report!C3,'CAPA DB'!E:E,\"<=\"&Report!E3)","v":0},{"$f":"COUNTIFS('CAPA DB'!C:C,\"Corrective\",'CAPA DB'!H:H,H13,'CAPA DB'!I:I,Report!B:B,'CAPA DB'!E:E,\">=\"&Report!C3,'CAPA DB'!E:E,\"<=\"&Report!E3)","v":0},{"$f":"COUNTIFS('CAPA DB'!C:C,\"Corrective\",'CAPA DB'!H:H,I13,'CAPA DB'!I:I,Report!B:B,'CAPA DB'!E:E,\">=\"&Report!C3,'CAPA DB'!E:E,\"<=\"&Report!E3)","v":0},{"$f":"COUNTIFS('CAPA DB'!C:C,\"Corrective\",'CAPA DB'!H:H,J13,'CAPA DB'!I:I,Report!B:B,'CAPA DB'!E:E,\">=\"&Report!C3,'CAPA DB'!E:E,\"<=\"&Report!E3)","v":0},{"$f":"COUNTIFS('CAPA DB'!C:C,\"Corrective\",'CAPA DB'!H:H,K13,'CAPA DB'!I:I,Report!B:B,'CAPA DB'!E:E,\">=\"&Report!C3,'CAPA DB'!E:E,\"<=\"&Report!E3)","v":0},{"$f":"COUNTIFS('CAPA DB'!C:C,\"Corrective\",'CAPA DB'!H:H,L13,'CAPA DB'!I:I,Report!B:B,'CAPA DB'!E:E,\">=\"&Report!C3,'CAPA DB'!E:E,\"<=\"&Report!E3)","v":0}]
[null,{"$f":"Lists!A4","v":"Communication failure Consent"},null,0,{"$f":"COUNTIFS('CAPA DB'!C:C,\"Corrective\",'CAPA DB'!H:H,E13,'CAPA DB'!I:I,Report!B:B,'CAPA DB'!E:E,\">=\"&Report!C3,'CAPA DB'!E:E,\"<=\"&Report!E3)","v":0},{"$f":"COUNTIFS('CAPA DB'!C:C,\"Corrective\",'CAPA DB'!H:H,F13,'CAPA DB'!I:I,Report!B:B,'CAPA DB'!E:E,\">=\"&Report!C3,'CAPA DB'!E:E,\"<=\"&Report!E3)","v":0},{"$f":"COUNTIFS('CAPA DB'!C:C,\"Corrective\",'CAPA DB'!H:H,G13,'CAPA DB'!I:I,Report!B:B,'CAPA DB'!E:E,\">=\"&Report!C3,'CAPA DB'!E:E,\"<=\"&Report!E3)","v":0},{"$f":"COUNTIFS('CAPA DB'!C:C,\"Corrective\",'CAPA DB'!H:H,H13,'CAPA DB'!I:I,Report!B:B,'CAPA DB'!E:E,\">=\"&Report!C3,'CAPA DB'!E:E,\"<=\"&Report!E3)","v":0},{"$f":"COUNTIFS('CAPA DB'!C:C,\"Corrective\",'CAPA DB'!H:H,I13,'CAPA DB'!I:I,Report!B:B,'CAPA DB'!E:E,\">=\"&Report!C3,'CAPA DB'!E:E,\"<=\"&Report!E3)","v":0},{"$f":"COUNTIFS('CAPA DB'!C:C,\"Corrective\",'CAPA DB'!H:H,J13,'CAPA DB'!I:I,Report!B:B,'CAPA DB'!E:E,\">=\"&Report!C3,'CAPA DB'!E:E,\"<=\"&Report!E3)","v":0},{"$f":"COUNTIFS('CAPA DB'!C:C,\"Corrective\",'CAPA DB'!H:H,K13,'CAPA DB'!I:I,Report!B:B,'CAPA DB'!E:E,\">=\"&Report!C3,'CAPA DB'!E:E,\"<=\"&Report!E3)","v":0},{"$f":"COUNTIFS('CAPA DB'!C:C,\"Corrective\",'CAPA DB'!H:H,L13,'CAPA DB'!I:I,Report!B:B,'CAPA DB'!E:E,\">=\"&Report!C3,'CAPA DB'!E:E,\"<=\"&Report!E3)","v":0}]
[null,{"$f":"Lists!A5","v":"Delay / failure to treatment or procedure"},null,0,{"$f":"COUNTIFS('CAPA DB'!C:C,\"Corrective\",'CAPA DB'!H:H,E13,'CAPA DB'!I:I,Report!B:B,'CAPA DB'!E:E,\">=\"&Report!C3,'CAPA DB'!E:E,\"<=\"&Report!E3)","v":0},{"$f":"COUNTIFS('CAPA DB'!C:C,\"Corrective\",'CAPA DB'!H:H,F13,'CAPA DB'!I:I,Report!B:B,'CAPA DB'!E:E,\">=\"&Report!C3,'CAPA DB'!E:E,\"<=\"&Report!E3)","v":0},{"$f":"COUNTIFS('CAPA DB'!C:C,\"Corrective\",'CAPA DB'!H:H,G13,'CAPA DB'!I:I,Report!B:B,'CAPA DB'!E:E,\">=\"&Report!C3,'CAPA DB'!E:E,\"<=\"&Report!E3)","v":0},{"$f":"COUNTIFS('CAPA DB'!C:C,\"Corrective\",'CAPA DB'!H:H,H13,'CAPA DB'!I:I,Report!B:B,'CAPA DB'!E:E,\">=\"&Report!C3,'CAPA DB'!E:E,\"<=\"&Report!E3)","v":0},{"$f":"COUNTIFS('CAPA DB'!C:C,\"Corrective\",'CAPA DB'!H:H,I13,'CAPA DB'!I:I,Report!B:B,'CAPA DB'!E:E,\">=\"&Report!C3,'CAPA DB'!E:E,\"<=\"&Report!E3)","v":0},{"$f":"COUNTIFS('CAPA DB'!C:C,\"Corrective\",'CAPA DB'!H:H,J13,'CAPA DB'!I:I,Report!B:B,'CAPA DB'!E:E,\">=\"&Report!C3,'CAPA DB'!E:E,\"<=\"&Report!E3)","v":0},{"$f":"COUNTIFS('CAPA DB'!C:C,\"Corrective\",'CAPA DB'!H:H,K13,'CAPA DB'!I:I,Report!B:B,'CAPA DB'!E:E,\">=\"&Report!C3,'CAPA DB'!E:E,\"<=\"&Report!E3)","v":0},{"$f":"COUNTIFS('CAPA DB'!C:C,\"Corrective\",'CAPA DB'!H:H,L13,'CAPA DB'!I:I,Report!B:B,'CAPA DB'!E:E,\">=\"&Report!C3,'CAPA DB'!E:E,\"<=\"&Report!E3)","v":0}]
[null,{"$f":"Lists!A6","v":"Diagnosis, Scans, Tests and procedures (clinical)"},null,0,{"$f":"COUNTIFS('CAPA DB'!C:C,\"Corrective\",'CAPA DB'!H:H,E13,'CAPA DB'!I:I,Report!B:B,'CAPA DB'!E:E,\">=\"&Report!C3,'CAPA DB'!E:E,\"<=\"&Report!E3)","v":0},{"$f":"COUNTIFS('CAPA DB'!C:C,\"Corrective\",'CAPA DB'!H:H,F13,'CAPA DB'!I:I,Report!B:B,'CAPA DB'!E:E,\">=\"&Report!C3,'CAPA DB'!E:E,\"<=\"&Report!E3)","v":0},{"$f":"COUNTIFS('CAPA DB'!C:C,\"Corrective\",'CAPA DB'!H:H,G13,'CAPA DB'!I:I,Report!B:B,'CAPA DB'!E:E,\">=\"&Report!C3,'CAPA DB'!E:E,\"<=\"&Report!E3)","v":0},{"$f":"COUNTIFS('CAPA DB'!C:C,\"Corrective\",'CAPA DB'!H:H,H13,'CAPA DB'!I:I,Report!B:B,'CAPA DB'!E:E,\">=\"&Report!C3,'CAPA DB'!E:E,\"<=\"&Report!E3)","v":0},{"$f":"COUNTIFS('CAPA DB'!C:C,\"Corrective\",'CAPA DB'!H:H,I13,'CAPA DB'!I:I,Report!B:B,'CAPA DB'!E:E,\">=\"&Report!C3,'CAPA DB'!E:E,\"<=\"&Report!E3)","v":0},{"$f":"COUNTIFS('CAPA DB'!C:C,\"Corrective\",'CAPA DB'!H:H,J13,'CAPA DB'!I:I,Report!B:B,'CAPA DB'!E:E,\">=\"&Report!C3,'CAPA DB'!E:E,\"<=\"&Report!E3)","v":0},{"$f":"COUNTIFS('CAPA DB'!C:C,\"Corrective\",'CAPA DB'!H:H,K13,'CAPA DB'!I:I,Report!B:B,'CAPA DB'!E:E,\">=\"&Report!C3,'CAPA DB'!E:E,\"<=\"&Report!E3)","v":0},{"$f":"COUNTIFS('CAPA DB'!C:C,\"Corrective\",'CAPA DB'!H:H,L13,'CAPA DB'!I:I,Report!B:B,'CAPA DB'!E:E,\">=\"&Report!C3,'CAPA DB'!E:E,\"<=\"&Report!E3)","v":0}]
[null,{"$f":"Lists!A7","v":"Documentation and Health Records"},null,0,{"$f":"COUNTIFS('CAPA DB'!C:C,\"Corrective\",'CAPA DB'!H:H,E13,'CAPA DB'!I:I,Report!B:B,'CAPA DB'!E:E,\">=\"&Report!C3,'CAPA DB'!E:E,\"<=\"&Report!E3)","v":0},{"$f":"COUNTIFS('CAPA DB'!C:C,\"Corrective\",'CAPA DB'!H:H,F13,'CAPA DB'!I:I,Report!B:B,'CAPA DB'!E:E,\">=\"&Report!C3,'CAPA DB'!E:E,\"<=\"&Report!E3)","v":0},{"$f":"COUNTIFS('CAPA DB'!C:C,\"Corrective\",'CAPA DB'!H:H,G13,'CAPA DB'!I:I,Report!B:B,'CAPA DB'!E:E,\">=\"&Report!C3,'CAPA DB'!E:E,\"<=\"&Report!E3)","v":0},{"$f":"COUNTIFS('CAPA DB'!C:C,\"Corrective\",'CAPA DB'!H:H,H13,'CAPA DB'!I:I,Report!B:B,'CAPA DB'!E:E,\">=\"&Report!C3,'CAPA DB'!E:E,\"<=\"&Report!E3)","v":0},{"$f":"COUNTIFS('CAPA DB'!C:C,\"Corrective\",'CAPA DB'!H:H,I13,'CAPA DB'!I:I,Report!B:B,'CAPA DB'!E:E,\">=\"&Report!C3,'CAPA DB'!E:E,\"<=\"&Report!E3)","v":0},{"$f":"COUNTIFS('CAPA DB'!C:C,\"Corrective\",'CAPA DB'!H:H,J13,'CAPA DB'!I:I,Report!B:B,'CAPA DB'!E:E,\">=\"&Report!C3,'CAPA DB'!E:E,\"<=\"&Report!E3)","v":0},{"$f":"COUNTIFS('CAPA DB'!C:C,\"Corrective\",'CAPA DB'!H:H,K13,'CAPA DB'!I:I,Report!B:B,'CAPA DB'!E:E,\">=\"&Report!C3,'CAPA DB'!E:E,\"<=\"&Report!E3)","v":0},{"$f":"COUNTIFS('CAPA DB'!C:C,\"Corrective\",'CAPA DB'!H:H,L13,'CAPA DB'!I:I,Report!B:B,'CAPA DB'!E:E,\">=\"&Report!C3,'CAPA DB'!E:E,\"<=\"&Report!E3)","v":0}]
[null,{"$f":"Lists!A8","v":"Environmental / Infrastructure / Equipment"},null,0,{"$f":"COUNTIFS('CAPA DB'!C:C,\"Corrective\",'CAPA DB'!H:H,E13,'CAPA DB'!I:I,Report!B:B,'CAPA DB'!E:E,\">=\"&Report!C3,'CAPA DB'!E:E,\"<=\"&Report!E3)","v":0},{"$f":"COUNTIFS('CAPA DB'!C:C,\"Corrective\",'CAPA DB'!H:H,F13,'CAPA DB'!I:I,Report!B:B,'CAPA DB'!E:E,\">=\"&Report!C3,'CAPA DB'!E:E,\"<=\"&Report!E3)","v":0},{"$f":"COUNTIFS('CAPA DB'!C:C,\"Corrective\",'CAPA DB'!H:H,G13,'CAPA DB'!I:I,Report!B:B,'CAPA DB'!E:E,\">=\"&Report!C3,'CAPA DB'!E:E,\"<=\"&Report!E3)","v":0},{"$f":"COUNTIFS('CAPA DB'!C:C,\"Corrective\",'CAPA DB'!H:H,H13,'CAPA DB'!I:I,Report!B:B,'CAPA DB'!E:E,\">=\"&Report!C3,'CAPA DB'!E:E,\"<=\"&Report!E3)","v":0},{"$f":"COUNTIFS('CAPA DB'!C:C,\"Corrective\",'CAPA DB'!H:H,I13,'CAPA DB'!I:I,Report!B:B,'CAPA DB'!E:E,\">=\"&Report!C3,'CAPA DB'!E:E,\"<=\"&Report!E3)","v":0},{"$f":"COUNTIFS('CAPA DB'!C:C,\"Corrective\",'CAPA DB'!H:H,J13,'CAPA DB'!I:I,Report!B:B,'CAPA DB'!E:E,\">=\"&Report!C3,'CAPA DB'!E:E,\"<=\"&Report!E3)","v":0},{"$f":"COUNTIFS('CAPA DB'!C:C,\"Corrective\",'CAPA DB'!H:H,K13,'CAPA DB'!I:I,Report!B:B,'CAPA DB'!E:E,\">=\"&Report!C3,'CAPA DB'!E:E,\"<=\"&Report!E3)","v":0},{"$f":"COUNTIFS('CAPA DB'!C:C,\"Corrective\",'CAPA DB'!H:H,L13,'CAPA DB'!I:I,Report!B:B,'CAPA DB'!E:E,\">=\"&Report!C3,'CAPA DB'!E:E,\"<=\"&Report!E3)","v":0}]
[null,{"$f":"Lists!A9","v":"Medical Devices (Clinical)"},null,0,{"$f":"COUNTIFS('CAPA DB'!C:C,\"Corrective\",'CAPA DB'!H:H,E13,'CAPA DB'!I:I,Report!B:B,'CAPA DB'!E:E,\">=\"&Report!C3,'CAPA DB'!E:E,\"<=\"&Report!E3)","v":0},{"$f":"COUNTIFS('CAPA DB'!C:C,\"Corrective\",'CAPA DB'!H:H,F13,'CAPA DB'!I:I,Report!B:B,'CAPA DB'!E:E,\">=\"&Report!C3,'CAPA DB'!E:E,\"<=\"&Report!E3)","v":0},{"$f":"COUNTIFS('CAPA DB'!C:C,\"Corrective\",'CAPA DB'!H:H,G13,'CAPA DB'!I:I,Report!B:B,'CAPA DB'!E:E,\">=\"&Report!C3,'CAPA DB'!E:E,\"<=\"&Report!E3)","v":0},{"$f":"COUNTIFS('CAPA DB'!C:C,\"Corrective\",'CAPA DB'!H:H,H13,'CAPA DB'!I:I,Report!B:B,'CAPA DB'!E:E,\">=\"&Report!C3,'CAPA DB'!E:E,\"<=\"&Report!E3)","v":0},{"$f":"COUNTIFS('CAPA DB'!C:C,\"Corrective\",'CAPA DB'!H:H,I13,'CAPA DB'!I:I,Report!B:B,'CAPA DB'!E:E,\">=\"&Report!C3,'CAPA DB'!E:E,\"<=\"&Report!E3)","v":0},{"$f":"COUNTIFS('CAPA DB'!C:C,\"Corrective\",'CAPA DB'!H:H,J13,'CAPA DB'!I:I,Report!B:B,'CAPA DB'!E:E,\">=\"&Report!C3,'CAPA DB'!E:E,\"<=\"&Report!E3)","v":0},{"$f":"COUNTIFS('CAPA DB'!C:C,\"Corrective\",'CAPA DB'!H:H,K13,'CAPA DB'!I:I,Report!B:B,'CAPA DB'!E:E,\">=\"&Report!C3,'CAPA DB'!E:E,\"<=\"&Report!E3)","v":0},{"$f":"COUNTIFS('CAPA DB'!C:C,\"Corrective\",'CAPA DB'!H:H,L13,'CAPA DB'!I:I,Report!B:B,'CAPA DB'!E:E,\">=\"&Report!C3,'CAPA DB'!E:E,\"<=\"&Report!E3)","v":0}]
[null,{"$f":"Lists!A10","v":"Infection Control"},null,0,{"$f":"COUNTIFS('CAPA DB'!C:C,\"Corrective\",'CAPA DB'!H:H,E13,'CAPA DB'!I:I,Report!B:B,'CAPA DB'!E:E,\">=\"&Report!C3,'CAPA DB'!E:E,\"<=\"&Report!E3)","v":0},{"$f":"COUNTIFS('CAPA DB'!C:C,\"Corrective\",'CAPA DB'!H:H,F13,'CAPA DB'!I:I,Report!B:B,'CAPA DB'!E:E,\">=\"&Report!C3,'CAPA DB'!E:E,\"<=\"&Report!E3)","v":0},{"$f":"COUNTIFS('CAPA DB'!C:C,\"Corrective\",'CAPA DB'!H:H,G13,'CAPA DB'!I:I,Report!B:B,'CAPA DB'!E:E,\">=\"&Report!C3,'CAPA DB'!E:E,\"<=\"&Report!E3)","v":0},{"$f":"COUNTIFS('CAPA DB'!C:C,\"Corrective\",'CAPA DB'!H:H,H13,'CAPA DB'!I:I,Report!B:B,'CAPA DB'!E:E,\">=\"&Report!C3,'CAPA DB'!E:E,\"<=\"&Report!E3)","v":0},{"$f":"COUNTIFS('CAPA DB'!C:C,\"Corrective\",'CAPA DB'!H:H,I13,'CAPA DB'!I:I,Report!B:B,'CAPA DB'!E:E,\">=\"&Report!C3,'CAPA DB'!E:E,\"<=\"&Report!E3)","v":0},{"$f":"COUNTIFS('CAPA DB'!C:C,\"Corrective\",'CAPA DB'!H:H,J13,'CAPA DB'!I:I,Report!B:B,'CAPA DB'!E:E,\">=\"&Report!C3,'CAPA DB'!E:E,\"<=\"&Report!E3)","v":0},{"$f":"COUNTIFS('CAPA DB'!C:C,\"Corrective\",'CAPA DB'!H:H,K13,'CAPA DB'!I:I,Report!B:B,'CAPA DB'!E:E,\">=\"&Report!C3,'CAPA DB'!E:E,\"<=\"&Report!E3)","v":0},{"$f":"COUNTIFS('CAPA DB'!C:C,\"Corrective\",'CAPA DB'!H:H,L13,'CAPA DB'!I:I,Report!B:B,'CAPA DB'!E:E,\">=\"&Report!C3,'CAPA DB'!E:E,\"<=\"&Report!E3)","v":0}]
[null,{"$f":"Lists!A11","v":"Information Governance"},null,0,{"$f":"COUNTIFS('CAPA DB'!C:C,\"Corrective\",'CAPA DB'!H:H,E13,'CAPA DB'!I:I,Report!B:B,'CAPA DB'!E:E,\">=\"&Report!C3,'CAPA DB'!E:E,\"<=\"&Report!E3)","v":0},{"$f":"COUNTIFS('CAPA DB'!C:C,\"Corrective\",'CAPA DB'!H:H,F13,'CAPA DB'!I:I,Report!B:B,'CAPA DB'!E:E,\">=\"&Report!C3,'CAPA DB'!E:E,\"<=\"&Report!E3)","v":0},{"$f":"COUNTIFS('CAPA DB'!C:C,\"Corrective\",'CAPA DB'!H:H,G13,'CAPA DB'!I:I,Report!B:B,'CAPA DB'!E:E,\">=\"&Report!C3,'CAPA DB'!E:E,\"<=\"&Report!E3)","v":0},{"$f":"COUNTIFS('CAPA DB'!C:C,\"Corrective\",'CAPA DB'!H:H,H13,'CAPA DB'!I:I,Report!B:B,'CAPA DB'!E:E,\">=\"&Report!C3,'CAPA DB'!E:E,\"<=\"&Report!E3)","v":0},{"$f":"COUNTIFS('CAPA DB'!C:C,\"Corrective\",'CAPA DB'!H:H,I13,'CAPA DB'!I:I,Report!B:B,'CAPA DB'!E:E,\">=\"&Report!C3,'CAPA DB'!E:E,\"<=\"&Report!E3)","v":0},{"$f":"COUNTIFS('CAPA DB'!C:C,\"Corrective\",'CAPA DB'!H:H,J13,'CAPA DB'!I:I,Report!B:B,'CAPA DB'!E:E,\">=\"&Report!C3,'CAPA DB'!E:E,\"<=\"&Report!E3)","v":0},{"$f":"COUNTIFS('CAPA DB'!C:C,\"Corrective\",'CAPA DB'!H:H,K13,'CAPA DB'!I:I,Report!B:B,'CAPA DB'!E:E,\">=\"&Report!C3,'CAPA DB'!E:E,\"<=\"&Report!E3)","v":0},{"$f":"COUNTIFS('CAPA DB'!C:C,\"Corrective\",'CAPA DB'!H:H,L13,'CAPA DB'!I:I,Report!B:B,'CAPA DB'!E:E,\">=\"&Report!C3,'CAPA DB'!E:E,\"<=\"&Report!E3)","v":0}]
[null,{"$f":"Lists!A12","v":"Information Technology"},null,0,{"$f":"COUNTIFS('CAPA DB'!C:C,\"Corrective\",'CAPA DB'!H:H,E13,'CAPA DB'!I:I,Report!B:B,'CAPA DB'!E:E,\">=\"&Report!C3,'CAPA DB'!E:E,\"<=\"&Report!E3)","v":0},{"$f":"COUNTIFS('CAPA DB'!C:C,\"Corrective\",'CAPA DB'!H:H,F13,'CAPA DB'!I:I,Report!B:B,'CAPA DB'!E:E,\">=\"&Report!C3,'CAPA DB'!E:E,\"<=\"&Report!E3)","v":0},{"$f":"COUNTIFS('CAPA DB'!C:C,\"Corrective\",'CAPA DB'!H:H,G13,'CAPA DB'!I:I,Report!B:B,'CAPA DB'!E:E,\">=\"&Report!C3,'CAPA DB'!E:E,\"<=\"&Report!E3)","v":0},{"$f":"COUNTIFS('CAPA DB'!C:C,\"Corrective\",'CAPA DB'!H:H,H13,'CAPA DB'!I:I,Report!B:B,'CAPA DB'!E:E,\">=\"&Report!C3,'CAPA DB'!E:E,\"<=\"&Report!E3)","v":0},{"$f":"COUNTIFS('CAPA DB'!C:C,\"Corrective\",'CAPA DB'!H:H,I13,'CAPA DB'!I:I,Report!B:B,'CAPA DB'!E:E,\">=\"&Report!C3,'CAPA DB'!E:E,\"<=\"&Report!E3)","v":0},{"$f":"COUNTIFS('CAPA DB'!C:C,\"Corrective\",'CAPA DB'!H:H,J13,'CAPA DB'!I:I,Report!B:B,'CAPA DB'!E:E,\">=\"&Report!C3,'CAPA DB'!E:E,\"<=\"&Report!E3)","v":0},{"$f":"COUNTIFS('CAPA DB'!C:C,\"Corrective\",'CAPA DB'!H:H,K13,'CAPA DB'!I:I,Report!B:B,'CAPA DB'!E:E,\">=\"&Report!C3,'CAPA DB'!E:E,\"<=\"&Report!E3)","v":0},{"$f":"COUNTIFS('CAPA DB'!C:C,\"Corrective\",'CAPA DB'!H:H,L13,'CAPA DB'!I:I,Report!B:B,'CAPA DB'!E:E,\">=\"&Report!C3,'CAPA DB'!E:E,\"<=\"&Report!E3)","v":0}]
[null,{"$f":"Lists!A13","v":"Manual Handling"},null,0,{"$f":"COUNTIFS('CAPA DB'!C:C,\"Corrective\",'CAPA DB'!H:H,E13,'CAPA DB'!I:I,Report!B:B,'CAPA DB'!E:E,\">=\"&Report!C3,'CAPA DB'!E:E,\"<=\"&Report!E3)","v":0},{"$f":"COUNTIFS('CAPA DB'!C:C,\"Corrective\",'CAPA DB'!H:H,F13,'CAPA DB'!I:I,Report!B:B,'CAPA DB'!E:E,\">=\"&Report!C3,'CAPA DB'!E:E,\"<=\"&Report!E3)","v":0},{"$f":"COUNTIFS('CAPA DB'!C:C,\"Corrective\",'CAPA DB'!H:H,G13,'CAPA DB'!I:I,Report!B:B,'CAPA DB'!E:E,\">=\"&Report!C3,'CAPA DB'!E:E,\"<=\"&Report!E3)","v":0},{"$f":"COUNTIFS('CAPA DB'!C:C,\"Corrective\",'CAPA DB'!H:H,H13,'CAPA DB'!I:I,Report!B:B,'CAPA DB'!E:E,\">=\"&Report!C3,'CAPA DB'!E:E,\"<=\"&Report!E3)","v":0},{"$f":"COUNTIFS('CAPA DB'!C:C,\"Corrective\",'CAPA DB'!H:H,I13,'CAPA DB'!I:I,Report!B:B,'CAPA DB'!E:E,\">=\"&Report!C3,'CAPA DB'!E:E,\"<=\"&Report!E3)","v":0},{"$f":"COUNTIFS('CAPA DB'!C:C,\"Corrective\",'CAPA DB'!H:H,J13,'CAPA DB'!I:I,Report!B:B,'CAPA DB'!E:E,\">=\"&Report!C3,'CAPA DB'!E:E,\"<=\"&Report!E3)","v":0},{"$f":"COUNTIFS('CAPA DB'!C:C,\"Corrective\",'CAPA DB'!H:H,K13,'CAPA DB'!I:I,Report!B:B,'CAPA DB'!E:E,\">=\"&Report!C3,'CAPA DB'!E:E,\"<=\"&Report!E3)","v":0},{"$f":"COUNTIFS('CAPA DB'!C:C,\"Corrective\",'CAPA DB'!H:H,L13,'CAPA DB'!I:I,Report!B:B,'CAPA DB'!E:E,\">=\"&Report!C3,'CAPA DB'!E:E,\"<=\"&Report!E3)","v":0}]
[null,{"$f":"Lists!A14","v":"Patient Care"},null,0,{"$f":"COUNTIFS('CAPA DB'!C:C,\"Corrective\",'CAPA DB'!H:H,E13,'CAPA DB'!I:I,Report!B:B,'CAPA DB'!E:E,\">=\"&Report!C3,'CAPA DB'!E:E,\"<=\"&Report!E3)","v":0},{"$f":"COUNTIFS('CAPA DB'!C:C,\"Corrective\",'CAPA DB'!H:H,F13,'CAPA DB'!I:I,Report!B:B,'CAPA DB'!E:E,\">=\"&Report!C3,'CAPA DB'!E:E,\"<=\"&Report!E3)","v":0},{"$f":"COUNTIFS('CAPA DB'!C:C,\"Corrective\",'CAPA DB'!H:H,G13,'CAPA DB'!I:I,Report!B:B,'CAPA DB'!E:E,\">=\"&Report!C3,'CAPA DB'!E:E,\"<=\"&Report!E3)","v":0},{"$f":"COUNTIFS('CAPA DB'!C:C,\"Corrective\",'CAPA DB'!H:H,H13,'CAPA DB'!I:I,Report!B:B,'CAPA DB'!E:E,\">=\"&Report!C3,'CAPA DB'!E:E,\"<=\"&Report!E3)","v":0},{"$f":"COUNTIFS('CAPA DB'!C:C,\"Corrective\",'CAPA DB'!H:H,I13,'CAPA DB'!I:I,Report!B:B,'CAPA DB'!E:E,\">=\"&Report!C3,'CAPA DB'!E:E,\"<=\"&Report!E3)","v":0},{"$f":"COUNTIFS('CAPA DB'!C:C,\"Corrective\",'CAPA DB'!H:H,J13,'CAPA DB'!I:I,Report!B:B,'CAPA DB'!E:E,\">=\"&Report!C3,'CAPA DB'!E:E,\"<=\"&Report!E3)","v":0},{"$f":"COUNTIFS('CAPA DB'!C:C,\"Corrective\",'CAPA DB'!H:H,K13,'CAPA DB'!I:I,Report!B:B,'CAPA DB'!E:E,\">=\"&Report!C3,'CAPA DB'!E:E,\"<=\"&Report!E3)","v":0},{"$f":"COUNTIFS('CAPA DB'!C:C,\"Corrective\",'CAPA DB'!H:H,L13,'CAPA DB'!I:I,Report!B:B,'CAPA DB'!E:E,\">=\"&Report!C3,'CAPA DB'!E:E,\"<=\"&Report!E3)","v":0}]
[null,{"$f":"Lists!A15","v":"Security"},null,0,{"$f":"COUNTIFS('CAPA DB'!C:C,\"Corrective\",'CAPA DB'!H:H,E13,'CAPA DB'!I:I,Report!B:B,'CAPA DB'!E:E,\">=\"&Report!C3,'CAPA DB'!E:E,\"<=\"&Report!E3)","v":0},{"$f":"COUNTIFS('CAPA DB'!C:C,\"Corrective\",'CAPA DB'!H:H,F13,'CAPA DB'!I:I,Report!B:B,'CAPA DB'!E:E,\">=\"&Report!C3,'CAPA DB'!E:E,\"<=\"&Report!E3)","v":0},{"$f":"COUNTIFS('CAPA DB'!C:C,\"Corrective\",'CAPA DB'!H:H,G13,'CAPA DB'!I:I,Report!B:B,'CAPA DB'!E:E,\">=\"&Report!C3,'CAPA DB'!E:E,\"<=\"&Report!E3)","v":0},{"$f":"COUNTIFS('CAPA DB'!C:C,\"Corrective\",'CAPA DB'!H:H,H13,'CAPA DB'!I:I,Report!B:B,'CAPA DB'!E:E,\">=\"&Report!C3,'CAPA DB'!E:E,\"<=\"&Report!E3)","v":0},{"$f":"COUNTIFS('CAPA DB'!C:C,\"Corrective\",'CAPA DB'!H:H,I13,'CAPA DB'!I:I,Report!B:B,'CAPA DB'!E:E,\">=\"&Report!C3,'CAPA DB'!E:E,\"<=\"&Report!E3)","v":0},{"$f":"COUNTIFS('CAPA DB'!C:C,\"Corrective\",'CAPA DB'!H:H,J13,'CAPA DB'!I:I,Report!B:B,'CAPA DB'!E:E,\">=\"&Report!C3,'CAPA DB'!E:E,\"<=\"&Report!E3)","v":0},{"$f":"COUNTIFS('CAPA DB'!C:C,\"Corrective\",'CAPA DB'!H:H,K13,'CAPA DB'!I:I,Report!B:B,'CAPA DB'!E:E,\">=\"&Report!C3,'CAPA DB'!E:E,\"<=\"&Report!E3)","v":0},{"$f":"COUNTIFS('CAPA DB'!C:C,\"Corrective\",'CAPA DB'!H:H,L13,'CAPA DB'!I:I,Report!B:B,'CAPA DB'!E:E,\">=\"&Report!C3,'CAPA DB'!E:E,\"<=\"&Report!E3)","v":0}]
[null,{"$f":"Lists!A16","v":"Staffing"},null,0,{"$f":"COUNTIFS('CAPA DB'!C:C,\"Corrective\",'CAPA DB'!H:H,E13,'CAPA DB'!I:I,Report!B:B,'CAPA DB'!E:E,\">=\"&Report!C3,'CAPA DB'!E:E,\"<=\"&Report!E3)","v":0},{"$f":"COUNTIFS('CAPA DB'!C:C,\"Corrective\",'CAPA DB'!H:H,F13,'CAPA DB'!I:I,Report!B:B,'CAPA DB'!E:E,\">=\"&Report!C3,'CAPA DB'!E:E,\"<=\"&Report!E3)","v":0},{"$f":"COUNTIFS('CAPA DB'!C:C,\"Corrective\",'CAPA DB'!H:H,G13,'CAPA DB'!I:I,Report!B:B,'CAPA DB'!E:E,\">=\"&Report!C3,'CAPA DB'!E:E,\"<=\"&Report!E3)","v":0},{"$f":"COUNTIFS('CAPA DB'!C:C,\"Corrective\",'CAPA DB'!H:H,H13,'CAPA DB'!I:I,Report!B:B,'CAPA DB'!E:E,\">=\"&Report!C3,'CAPA DB'!E:E,\"<=\"&Report!E3)","v":0},{"$f":"COUNTIFS('CAPA DB'!C:C,\"Corrective\",'CAPA DB'!H:H,I13,'CAPA DB'!I:I,Report!B:B,'CAPA DB'!E:E,\">=\"&Report!C3,'CAPA DB'!E:E,\"<=\"&Report!E3)","v":0},{"$f":"COUNTIFS('CAPA DB'!C:C,\"Corrective\",'CAPA DB'!H:H,J13,'CAPA DB'!I:I,Report!B:B,'CAPA DB'!E:E,\">=\"&Report!C3,'CAPA DB'!E:E,\"<=\"&Report!E3)","v":0},{"$f":"COUNTIFS('CAPA DB'!C:C,\"Corrective\",'CAPA DB'!H:H,K13,'CAPA DB'!I:I,Report!B:B,'CAPA DB'!E:E,\">=\"&Report!C3,'CAPA DB'!E:E,\"<=\"&Report!E3)","v":0},{"$f":"COUNTIFS('CAPA DB'!C:C,\"Corrective\",'CAPA DB'!H:H,L13,'CAPA DB'!I:I,Report!B:B,'CAPA DB'!E:E,\">=\"&Report!C3,'CAPA DB'!E:E,\"<=\"&Report!E3)","v":0}]
[null,{"$f":"Lists!A17","v":"Unsure - please detail"},null,0,{"$f":"COUNTIFS('CAPA DB'!C:C,\"Corrective\",'CAPA DB'!H:H,E13,'CAPA DB'!I:I,Report!B:B,'CAPA DB'!E:E,\">=\"&Report!C3,'CAPA DB'!E:E,\"<=\"&Report!E3)","v":0},{"$f":"COUNTIFS('CAPA DB'!C:C,\"Corrective\",'CAPA DB'!H:H,F13,'CAPA DB'!I:I,Report!B:B,'CAPA DB'!E:E,\">=\"&Report!C3,'CAPA DB'!E:E,\"<=\"&Report!E3)","v":0},{"$f":"COUNTIFS('CAPA DB'!C:C,\"Corrective\",'CAPA DB'!H:H,G13,'CAPA DB'!I:I,Report!B:B,'CAPA DB'!E:E,\">=\"&Report!C3,'CAPA DB'!E:E,\"<=\"&Report!E3)","v":0},{"$f":"COUNTIFS('CAPA DB'!C:C,\"Corrective\",'CAPA DB'!H:H,H13,'CAPA DB'!I:I,Report!B:B,'CAPA DB'!E:E,\">=\"&Report!C3,'CAPA DB'!E:E,\"<=\"&Report!E3)","v":0},{"$f":"COUNTIFS('CAPA DB'!C:C,\"Corrective\",'CAPA DB'!H:H,I13,'CAPA DB'!I:I,Report!B:B,'CAPA DB'!E:E,\">=\"&Report!C3,'CAPA DB'!E:E,\"<=\"&Report!E3)","v":0},{"$f":"COUNTIFS('CAPA DB'!C:C,\"Corrective\",'CAPA DB'!H:H,J13,'CAPA DB'!I:I,Report!B:B,'CAPA DB'!E:E,\">=\"&Report!C3,'CAPA DB'!E:E,\"<=\"&Report!E3)","v":0},{"$f":"COUNTIFS('CAPA DB'!C:C,\"Corrective\",'CAPA DB'!H:H,K13,'CAPA DB'!I:I,Report!B:B,'CAPA DB'!E:E,\">=\"&Report!C3,'CAPA DB'!E:E,\"<=\"&Report!E3)","v":0},{"$f":"COUNTIFS('CAPA DB'!C:C,\"Corrective\",'CAPA DB'!H:H,L13,'CAPA DB'!I:I,Report!B:B,'CAPA DB'!E:E,\">=\"&Report!C3,'CAPA DB'!E:E,\"<=\"&Report!E3)","v":0}]
[]
[null,"Area & Theme"]
[null,"Category",null,"Totals",{"$f":"Lists!E3","v":"Clinical"},{"$f":"Lists!E4","v":"Admin"},{"$f":"Lists!E5","v":0},{"$f":"Lists!E6","v":0},{"$f":"Lists!E7","v":0},{"$f":"Lists!E8","v":0},{"$f":"Lists!E9","v":0},{"$f":"Lists!E10","v":0}]
[null,{"$f":"Lists!G3","v":"[Human factors]"},null,{"$f":"SUM(E40:L40)","v":0},{"$f":"COUNTIFS('CAPA DB'!C:C,\"Corrective\",'CAPA DB'!H:H,E13,'CAPA DB'!Y:Y,\"*\"&B40&\"*\",'CAPA DB'!E:E,\">=\"&Report!C3,'CAPA DB'!E:E,\"<=\"&Report!E3)","v":0},{"$f":"COUNTIFS('CAPA DB'!C:C,\"Corrective\",'CAPA DB'!H:H,F13,'CAPA DB'!Y:Y,\"*\"&B40&\"*\",'CAPA DB'!E:E,\">=\"&Report!C3,'CAPA DB'!E:E,\"<=\"&Report!E3)","v":0},{"$f":"COUNTIFS('CAPA DB'!C:C,\"Corrective\",'CAPA DB'!H:H,G13,'CAPA DB'!Y:Y,\"*\"&B40&\"*\",'CAPA DB'!E:E,\">=\"&Report!C3,'CAPA DB'!E:E,\"<=\"&Report!E3)","v":0},{"$f":"COUNTIFS('CAPA DB'!C:C,\"Corrective\",'CAPA DB'!H:H,H13,'CAPA DB'!Y:Y,\"*\"&B40&\"*\",'CAPA DB'!E:E,\">=\"&Report!C3,'CAPA DB'!E:E,\"<=\"&Report!E3)","v":0},{"$f":"COUNTIFS('CAPA DB'!C:C,\"Corrective\",'CAPA DB'!H:H,I13,'CAPA DB'!Y:Y,\"*\"&B40&\"*\",'CAPA DB'!E:E,\">=\"&Report!C3,'CAPA DB'!E:E,\"<=\"&Report!E3)","v":0},{"$f":"COUNTIFS('CAPA DB'!C:C,\"Corrective\",'CAPA DB'!H:H,J13,'CAPA DB'!Y:Y,\"*\"&B40&\"*\",'CAPA DB'!E:E,\">=\"&Report!C3,'CAPA DB'!E:E,\"<=\"&Report!E3)","v":0},{"$f":"COUNTIFS('CAPA DB'!C:C,\"Corrective\",'CAPA DB'!H:H,K13,'CAPA DB'!Y:Y,\"*\"&B40&\"*\",'CAPA DB'!E:E,\">=\"&Report!C3,'CAPA DB'!E:E,\"<=\"&Report!E3)","v":0},{"$f":"COUNTIFS('CAPA DB'!C:C,\"Corrective\",'CAPA DB'!H:H,L13,'CAPA DB'!Y:Y,\"*\"&B40&\"*\",'CAPA DB'!E:E,\">=\"&Report!C3,'CAPA DB'!E:E,\"<=\"&Report!E3)","v":0}]
[null,{"$f":"Lists!G4","v":"[Training]"},null,{"$f":"SUM(E41:L41)","v":0},{"$f":"COUNTIFS('CAPA DB'!C:C,\"Corrective\",'CAPA DB'!H:H,E13,'CAPA DB'!Y:Y,\"*\"&B41&\"*\",'CAPA DB'!E:E,\">=\"&Report!C3,'CAPA DB'!E:E,\"<=\"&Report!E3)","v":0},{"$f":"COUNTIFS('CAPA DB'!C:C,\"Corrective\",'CAPA DB'!H:H,F13,'CAPA DB'!Y:Y,\"*\"&B41&\"*\",'CAPA DB'!E:E,\">=\"&Report!C3,'CAPA DB'!E:E,\"<=\"&Report!E3)","v":0},{"$f":"COUNTIFS('CAPA DB'!C:C,\"Corrective\",'CAPA DB'!H:H,G13,'CAPA DB'!Y:Y,\"*\"&B41&\"*\",'CAPA DB'!E:E,\">=\"&Report!C3,'CAPA DB'!E:E,\"<=\"&Report!E3)","v":0},{"$f":"COUNTIFS('CAPA DB'!C:C,\"Corrective\",'CAPA DB'!H:H,H13,'CAPA DB'!Y:Y,\"*\"&B41&\"*\",'CAPA DB'!E:E,\">=\"&Report!C3,'CAPA DB'!E:E,\"<=\"&Report!E3)","v":0},{"$f":"COUNTIFS('CAPA DB'!C:C,\"Corrective\",'CAPA DB'!H:H,I13,'CAPA DB'!Y:Y,\"*\"&B41&\"*\",'CAPA DB'!E:E,\">=\"&Report!C3,'CAPA DB'!E:E,\"<=\"&Report!E3)","v":0},{"$f":"COUNTIFS('CAPA DB'!C:C,\"Corrective\",'CAPA DB'!H:H,J13,'CAPA DB'!Y:Y,\"*\"&B41&\"*\",'CAPA DB'!E:E,\">=\"&Report!C3,'CAPA DB'!E:E,\"<=\"&Report!E3)","v":0},{"$f":"COUNTIFS('CAPA DB'!C:C,\"Corrective\",'CAPA DB'!H:H,K13,'CAPA DB'!Y:Y,\"*\"&B41&\"*\",'CAPA DB'!E:E,\">=\"&Report!C3,'CAPA DB'!E:E,\"<=\"&Report!E3)","v":0},{"$f":"COUNTIFS('CAPA DB'!C:C,\"Corrective\",'CAPA DB'!H:H,L13,'CAPA DB'!Y:Y,\"*\"&B41&\"*\",'CAPA DB'!E:E,\">=\"&Report!C3,'CAPA DB'!E:E,\"<=\"&Report!E3)","v":0}]
[null,{"$f":"Lists!G5","v":"[Readership]"},null,0,{"$f":"COUNTIFS('CAPA DB'!C:C,\"Corrective\",'CAPA DB'!H:H,E13,'CAPA DB'!Y:Y,\"*\"&B42&\"*\",'CAPA DB'!E:E,\">=\"&Report!C3,'CAPA DB'!E:E,\"<=\"&Report!E3)","v":0},{"$f":"COUNTIFS('CAPA DB'!C:C,\"Corrective\",'CAPA DB'!H:H,F13,'CAPA DB'!Y:Y,\"*\"&B42&\"*\",'CAPA DB'!E:E,\">=\"&Report!C3,'CAPA DB'!E:E,\"<=\"&Report!E3)","v":0},{"$f":"COUNTIFS('CAPA DB'!C:C,\"Corrective\",'CAPA DB'!H:H,G13,'CAPA DB'!Y:Y,\"*\"&B42&\"*\",'CAPA DB'!E:E,\">=\"&Report!C3,'CAPA DB'!E:E,\"<=\"&Report!E3)","v":0},{"$f":"COUNTIFS('CAPA DB'!C:C,\"Corrective\",'CAPA DB'!H:H,H13,'CAPA DB'!Y:Y,\"*\"&B42&\"*\",'CAPA DB'!E:E,\">=\"&Report!C3,'CAPA DB'!E:E,\"<=\"&Report!E3)","v":0},{"$f":"COUNTIFS('CAPA DB'!C:C,\"Corrective\",'CAPA DB'!H:H,I13,'CAPA DB'!Y:Y,\"*\"&B42&\"*\",'CAPA DB'!E:E,\">=\"&Report!C3,'CAPA DB'!E:E,\"<=\"&Report!E3)","v":0},{"$f":"COUNTIFS('CAPA DB'!C:C,\"Corrective\",'CAPA DB'!H:H,J13,'CAPA DB'!Y:Y,\"*\"&B42&\"*\",'CAPA DB'!E:E,\">=\"&Report!C3,'CAPA DB'!E:E,\"<=\"&Report!E3)","v":0},{"$f":"COUNTIFS('CAPA DB'!C:C,\"Corrective\",'CAPA DB'!H:H,K13,'CAPA DB'!Y:Y,\"*\"&B42&\"*\",'CAPA DB'!E:E,\">=\"&Report!C3,'CAPA DB'!E:E,\"<=\"&Report!E3)","v":0},{"$f":"COUNTIFS('CAPA DB'!C:C,\"Corrective\",'CAPA DB'!H:H,L13,'CAPA DB'!Y:Y,\"*\"&B42&\"*\",'CAPA DB'!E:E,\">=\"&Report!C3,'CAPA DB'!E:E,\"<=\"&Report!E3)","v":0}]
[null,{"$f":"Lists!G6","v":"[Staff levels (general)]"},null,0,{"$f":"COUNTIFS('CAPA DB'!C:C,\"Corrective\",'CAPA DB'!H:H,E13,'CAPA DB'!Y:Y,\"*\"&B43&\"*\",'CAPA DB'!E:E,\">=\"&Report!C3,'CAPA DB'!E:E,\"<=\"&Report!E3)","v":0},{"$f":"COUNTIFS('CAPA DB'!C:C,\"Corrective\",'CAPA DB'!H:H,F13,'CAPA DB'!Y:Y,\"*\"&B43&\"*\",'CAPA DB'!E:E,\">=\"&Report!C3,'CAPA DB'!E:E,\"<=\"&Report!E3)","v":0},{"$f":"COUNTIFS('CAPA DB'!C:C,\"Corrective\",'CAPA DB'!H:H,G13,'CAPA DB'!Y:Y,\"*\"&B43&\"*\",'CAPA DB'!E:E,\">=\"&Report!C3,'CAPA DB'!E:E,\"<=\"&Report!E3)","v":0},{"$f":"COUNTIFS('CAPA DB'!C:C,\"Corrective\",'CAPA DB'!H:H,H13,'CAPA DB'!Y:Y,\"*\"&B43&\"*\",'CAPA DB'!E:E,\">=\"&Report!C3,'CAPA DB'!E:E,\"<=\"&Report!E3)","v":0},{"$f":"COUNTIFS('CAPA DB'!C:C,\"Corrective\",'CAPA DB'!H:H,I13,'CAPA DB'!Y:Y,\"*\"&B43&\"*\",'CAPA DB'!E:E,\">=\"&Report!C3,'CAPA DB'!E:E,\"<=\"&Report!E3)","v":0},{"$f":"COUNTIFS('CAPA DB'!C:C,\"Corrective\",'CAPA DB'!H:H,J13,'CAPA DB'!Y:Y,\"*\"&B43&\"*\",'CAPA DB'!E:E,\">=\"&Report!C3,'CAPA DB'!E:E,\"<=\"&Report!E3)","v":0},{"$f":"COUNTIFS('CAPA DB'!C:C,\"Corrective\",'CAPA DB'!H:H,K13,'CAPA DB'!Y:Y,\"*\"&B43&\"*\",'CAPA DB'!E:E,\">=\"&Report!C3,'CAPA DB'!E:E,\"<=\"&Report!E3)","v":0},{"$f":"COUNTIFS('CAPA DB'!C:C,\"Corrective\",'CAPA DB'!H:H,L13,'CAPA DB'!Y:Y,\"*\"&B43&\"*\",'CAPA DB'!E:E,\">=\"&Report!C3,'CAPA DB'!E:E,\"<=\"&Report!E3)","v":0}]
[null,{"$f":"Lists!G7","v":"[Staff Sickness]"},null,0,{"$f":"COUNTIFS('CAPA DB'!C:C,\"Corrective\",'CAPA DB'!H:H,E13,'CAPA DB'!Y:Y,\"*\"&B44&\"*\",'CAPA DB'!E:E,\">=\"&Report!C3,'CAPA DB'!E:E,\"<=\"&Report!E3)","v":0},{"$f":"COUNTIFS('CAPA DB'!C:C,\"Corrective\",'CAPA DB'!H:H,F13,'CAPA DB'!Y:Y,\"*\"&B44&\"*\",'CAPA DB'!E:E,\">=\"&Report!C3,'CAPA DB'!E:E,\"<=\"&Report!E3)","v":0},{"$f":"COUNTIFS('CAPA DB'!C:C,\"Corrective\",'CAPA DB'!H:H,G13,'CAPA DB'!Y:Y,\"*\"&B44&\"*\",'CAPA DB'!E:E,\">=\"&Report!C3,'CAPA DB'!E:E,\"<=\"&Report!E3)","v":0},{"$f":"COUNTIFS('CAPA DB'!C:C,\"Corrective\",'CAPA DB'!H:H,H13,'CAPA DB'!Y:Y,\"*\"&B44&\"*\",'CAPA DB'!E:E,\">=\"&Report!C3,'CAPA DB'!E:E,\"<=\"&Report!E3)","v":0},{"$f":"COUNTIFS('CAPA DB'!C:C,\"Corrective\",'CAPA DB'!H:H,I13,'CAPA DB'!Y:Y,\"*\"&B44&\"*\",'CAPA DB'!E:E,\">=\"&Report!C3,'CAPA DB'!E:E,\"<=\"&Report!E3)","v":0},{"$f":"COUNTIFS('CAPA DB'!C:C,\"Corrective\",'CAPA DB'!H:H,J13,'CAPA DB'!Y:Y,\"*\"&B44&\"*\",'CAPA DB'!E:E,\">=\"&Report!C3,'CAPA DB'!E:E,\"<=\"&Report!E3)","v":0},{"$f":"COUNTIFS('CAPA DB'!C:C,\"Corrective\",'CAPA DB'!H:H,K13,'CAPA DB'!Y:Y,\"*\"&B44&\"*\",'CAPA DB'!E:E,\">=\"&Report!C3,'CAPA DB'!E:E,\"<=\"&Report!E3)","v":0},{"$f":"COUNTIFS('CAPA DB'!C:C,\"Corrective\",'CAPA DB'!H:H,L13,'CAPA DB'!Y:Y,\"*\"&B44&\"*\",'CAPA DB'!E:E,\">=\"&Report!C3,'CAPA DB'!E:E,\"<=\"&Report!E3)","v":0}]
[null,{"$f":"Lists!G8","v":"[Rota/allocation]"},null,0,{"$f":"COUNTIFS('CAPA DB'!C:C,\"Corrective\",'CAPA DB'!H:H,E13,'CAPA DB'!Y:Y,\"*\"&B45&\"*\",'CAPA DB'!E:E,\">=\"&Report!C3,'CAPA DB'!E:E,\"<=\"&Report!E3)","v":0},{"$f":"COUNTIFS('CAPA DB'!C:C,\"Corrective\",'CAPA DB'!H:H,F13,'CAPA DB'!Y:Y,\"*\"&B45&\"*\",'CAPA DB'!E:E,\">=\"&Report!C3,'CAPA DB'!E:E,\"<=\"&Report!E3)","v":0},{"$f":"COUNTIFS('CAPA DB'!C:C,\"Corrective\",'CAPA DB'!H:H,G13,'CAPA DB'!Y:Y,\"*\"&B45&\"*\",'CAPA DB'!E:E,\">=\"&Report!C3,'CAPA DB'!E:E,\"<=\"&Report!E3)","v":0},{"$f":"COUNTIFS('CAPA DB'!C:C,\"Corrective\",'CAPA DB'!H:H,H13,'CAPA DB'!Y:Y,\"*\"&B45&\"*\",'CAPA DB'!E:E,\">=\"&Report!C3,'CAPA DB'!E:E,\"<=\"&Report!E3)","v":0},{"$f":"COUNTIFS('CAPA DB'!C:C,\"Corrective\",'CAPA DB'!H:H,I13,'CAPA DB'!Y:Y,\"*\"&B45&\"*\",'CAPA DB'!E:E,\">=\"&Report!C3,'CAPA DB'!E:E,\"<=\"&Report!E3)","v":0},{"$f":"COUNTIFS('CAPA DB'!C:C,\"Corrective\",'CAPA DB'!H:H,J13,'CAPA DB'!Y:Y,\"*\"&B45&\"*\",'CAPA DB'!E:E,\">=\"&Report!C3,'CAPA DB'!E:E,\"<=\"&Report!E3)","v":0},{"$f":"COUNTIFS('CAPA DB'!C:C,\"Corrective\",'CAPA DB'!H:H,K13,'CAPA DB'!Y:Y,\"*\"&B45&\"*\",'CAPA DB'!E:E,\">=\"&Report!C3,'CAPA DB'!E:E,\"<=\"&Report!E3)","v":0},{"$f":"COUNTIFS('CAPA DB'!C:C,\"Corrective\",'CAPA DB'!H:H,L13,'CAPA DB'!Y:Y,\"*\"&B45&\"*\",'CAPA DB'!E:E,\">=\"&Report!C3,'CAPA DB'!E:E,\"<=\"&Report!E3)","v":0}]
[null,{"$f":"Lists!G9","v":"[Time pressures]"},null,0,{"$f":"COUNTIFS('CAPA DB'!C:C,\"Corrective\",'CAPA DB'!H:H,E13,'CAPA DB'!Y:Y,\"*\"&B46&\"*\",'CAPA DB'!E:E,\">=\"&Report!C3,'CAPA DB'!E:E,\"<=\"&Report!E3)","v":0},{"$f":"COUNTIFS('CAPA DB'!C:C,\"Corrective\",'CAPA DB'!H:H,F13,'CAPA DB'!Y:Y,\"*\"&B46&\"*\",'CAPA DB'!E:E,\">=\"&Report!C3,'CAPA DB'!E:E,\"<=\"&Report!E3)","v":0},{"$f":"COUNTIFS('CAPA DB'!C:C,\"Corrective\",'CAPA DB'!H:H,G13,'CAPA DB'!Y:Y,\"*\"&B46&\"*\",'CAPA DB'!E:E,\">=\"&Report!C3,'CAPA DB'!E:E,\"<=\"&Report!E3)","v":0},{"$f":"COUNTIFS('CAPA DB'!C:C,\"Corrective\",'CAPA DB'!H:H,H13,'CAPA DB'!Y:Y,\"*\"&B46&\"*\",'CAPA DB'!E:E,\">=\"&Report!C3,'CAPA DB'!E:E,\"<=\"&Report!E3)","v":0},{"$f":"COUNTIFS('CAPA DB'!C:C,\"Corrective\",'CAPA DB'!H:H,I13,'CAPA DB'!Y:Y,\"*\"&B46&\"*\",'CAPA DB'!E:E,\">=\"&Report!C3,'CAPA DB'!E:E,\"<=\"&Report!E3)","v":0},{"$f":"COUNTIFS('CAPA DB'!C:C,\"Corrective\",'CAPA DB'!H:H,J13,'CAPA DB'!Y:Y,\"*\"&B46&\"*\",'CAPA DB'!E:E,\">=\"&Report!C3,'CAPA DB'!E:E,\"<=\"&Report!E3)","v":0},{"$f":"COUNTIFS('CAPA DB'!C:C,\"Corrective\",'CAPA DB'!H:H,K13,'CAPA DB'!Y:Y,\"*\"&B46&\"*\",'CAPA DB'!E:E,\">=\"&Report!C3,'CAPA DB'!E:E,\"<=\"&Report!E3)","v":0},{"$f":"COUNTIFS('CAPA DB'!C:C,\"Corrective\",'CAPA DB'!H:H,L13,'CAPA DB'!Y:Y,\"*\"&B46&\"*\",'CAPA DB'!E:E,\">=\"&Report!C3,'CAPA DB'!E:E,\"<=\"&Report!E3)","v":0}]
[null,{"$f":"Lists!G10","v":"[Locum/Temps]"},null,0,{"$f":"COUNTIFS('CAPA DB'!C:C,\"Corrective\",'CAPA DB'!H:H,E13,'CAPA DB'!Y:Y,\"*\"&B47&\"*\",'CAPA DB'!E:E,\">=\"&Report!C3,'CAPA DB'!E:E,\"<=\"&Report!E3)","v":0},{"$f":"COUNTIFS('CAPA DB'!C:C,\"Corrective\",'CAPA DB'!H:H,F13,'CAPA DB'!Y:Y,\"*\"&B47&\"*\",'CAPA DB'!E:E,\">=\"&Report!C3,'CAPA DB'!E:E,\"<=\"&Report!E3)","v":0},{"$f":"COUNTIFS('CAPA DB'!C:C,\"Corrective\",'CAPA DB'!H:H,G13,'CAPA DB'!Y:Y,\"*\"&B47&\"*\",'CAPA DB'!E:E,\">=\"&Report!C3,'CAPA DB'!E:E,\"<=\"&Report!E3)","v":0},{"$f":"COUNTIFS('CAPA DB'!C:C,\"Corrective\",'CAPA DB'!H:H,H13,'CAPA DB'!Y:Y,\"*\"&B47&\"*\",'CAPA DB'!E:E,\">=\"&Report!C3,'CAPA DB'!E:E,\"<=\"&Report!E3)","v":0},{"$f":"COUNTIFS('CAPA DB'!C:C,\"Corrective\",'CAPA DB'!H:H,I13,'CAPA DB'!Y:Y,\"*\"&B47&\"*\",'CAPA DB'!E:E,\">=\"&Report!C3,'CAPA DB'!E:E,\"<=\"&Report!E3)","v":0},{"$f":"COUNTIFS('CAPA DB'!C:C,\"Corrective\",'CAPA DB'!H:H,J13,'CAPA DB'!Y:Y,\"*\"&B47&\"*\",'CAPA DB'!E:E,\">=\"&Report!C3,'CAPA DB'!E:E,\"<=\"&Report!E3)","v":0},{"$f":"COUNTIFS('CAPA DB'!C:C,\"Corrective\",'CAPA DB'!H:H,K13,'CAPA DB'!Y:Y,\"*\"&B47&\"*\",'CAPA DB'!E:E,\">=\"&Report!C3,'CAPA DB'!E:E,\"<=\"&Report!E3)","v":0},{"$f":"COUNTIFS('CAPA DB'!C:C,\"Corrective\",'CAPA DB'!H:H,L13,'CAPA DB'!Y:Y,\"*\"&B47&\"*\",'CAPA DB'!E:E,\">=\"&Report!C3,'CAPA DB'!E:E,\"<=\"&Report!E3)","v":0}]
[null,{"$f":"Lists!G11","v":"[Communication failure]"},null,0,{"$f":"COUNTIFS('CAPA DB'!C:C,\"Corrective\",'CAPA DB'!H:H,E13,'CAPA DB'!Y:Y,\"*\"&B48&\"*\",'CAPA DB'!E:E,\">=\"&Report!C3,'CAPA DB'!E:E,\"<=\"&Report!E3)","v":0},{"$f":"COUNTIFS('CAPA DB'!C:C,\"Corrective\",'CAPA DB'!H:H,F13,'CAPA DB'!Y:Y,\"*\"&B48&\"*\",'CAPA DB'!E:E,\">=\"&Report!C3,'CAPA DB'!E:E,\"<=\"&Report!E3)","v":0},{"$f":"COUNTIFS('CAPA DB'!C:C,\"Corrective\",'CAPA DB'!H:H,G13,'CAPA DB'!Y:Y,\"*\"&B48&\"*\",'CAPA DB'!E:E,\">=\"&Report!C3,'CAPA DB'!E:E,\"<=\"&Report!E3)","v":0},{"$f":"COUNTIFS('CAPA DB'!C:C,\"Corrective\",'CAPA DB'!H:H,H13,'CAPA DB'!Y:Y,\"*\"&B48&\"*\",'CAPA DB'!E:E,\">=\"&Report!C3,'CAPA DB'!E:E,\"<=\"&Report!E3)","v":0},{"$f":"COUNTIFS('CAPA DB'!C:C,\"Corrective\",'CAPA DB'!H:H,I13,'CAPA DB'!Y:Y,\"*\"&B48&\"*\",'CAPA DB'!E:E,\">=\"&Report!C3,'CAPA DB'!E:E,\"<=\"&Report!E3)","v":0},{"$f":"COUNTIFS('CAPA DB'!C:C,\"Corrective\",'CAPA DB'!H:H,J13,'CAPA DB'!Y:Y,\"*\"&B48&\"*\",'CAPA DB'!E:E,\">=\"&Report!C3,'CAPA DB'!E:E,\"<=\"&Report!E3)","v":0},{"$f":"COUNTIFS('CAPA DB'!C:C,\"Corrective\",'CAPA DB'!H:H,K13,'CAPA DB'!Y:Y,\"*\"&B48&\"*\",'CAPA DB'!E:E,\">=\"&Report!C3,'CAPA DB'!E:E,\"<=\"&Report!E3)","v":0},{"$f":"COUNTIFS('CAPA DB'!C:C,\"Corrective\",'CAPA DB'!H:H,L13,'CAPA DB'!Y:Y,\"*\"&B48&\"*\",'CAPA DB'!E:E,\">=\"&Report!C3,'CAPA DB'!E:E,\"<=\"&Report!E3)","v":0}]
[null,{"$f":"Lists!G12","v":"[Fault in process]"},null,0,{"$f":"COUNTIFS('CAPA DB'!C:C,\"Corrective\",'CAPA DB'!H:H,E13,'CAPA DB'!Y:Y,\"*\"&B49&\"*\",'CAPA DB'!E:E,\">=\"&Report!C3,'CAPA DB'!E:E,\"<=\"&Report!E3)","v":0},{"$f":"COUNTIFS('CAPA DB'!C:C,\"Corrective\",'CAPA DB'!H:H,F13,'CAPA DB'!Y:Y,\"*\"&B49&\"*\",'CAPA DB'!E:E,\">=\"&Report!C3,'CAPA DB'!E:E,\"<=\"&Report!E3)","v":0},{"$f":"COUNTIFS('CAPA DB'!C:C,\"Corrective\",'CAPA DB'!H:H,G13,'CAPA DB'!Y:Y,\"*\"&B49&\"*\",'CAPA DB'!E:E,\">=\"&Report!C3,'CAPA DB'!E:E,\"<=\"&Report!E3)","v":0},{"$f":"COUNTIFS('CAPA DB'!C:C,\"Corrective\",'CAPA DB'!H:H,H13,'CAPA DB'!Y:Y,\"*\"&B49&\"*\",'CAPA DB'!E:E,\">=\"&Report!C3,'CAPA DB'!E:E,\"<=\"&Report!E3)","v":0},{"$f":"COUNTIFS('CAPA DB'!C:C,\"Corrective\",'CAPA DB'!H:H,I13,'CAPA DB'!Y:Y,\"*\"&B49&\"*\",'CAPA DB'!E:E,\">=\"&Report!C3,'CAPA DB'!E:E,\"<=\"&Report!E3)","v":0},{"$f":"COUNTIFS('CAPA DB'!C:C,\"Corrective\",'CAPA DB'!H:H,J13,'CAPA DB'!Y:Y,\"*\"&B49&\"*\",'CAPA DB'!E:E,\">=\"&Report!C3,'CAPA DB'!E:E,\"<=\"&Report!E3)","v":0},{"$f":"COUNTIFS('CAPA DB'!C:C,\"Corrective\",'CAPA DB'!H:H,K13,'CAPA DB'!Y:Y,\"*\"&B49&\"*\",'CAPA DB'!E:E,\">=\"&Report!C3,'CAPA DB'!E:E,\"<=\"&Report!E3)","v":0},{"$f":"COUNTIFS('CAPA DB'!C:C,\"Corrective\",'CAPA DB'!H:H,L13,'CAPA DB'!Y:Y,\"*\"&B49&\"*\",'CAPA DB'!E:E,\">=\"&Report!C3,'CAPA DB'!E:E,\"<=\"&Report!E3)","v":0}]
[null,{"$f":"Lists!G13","v":"[Process not defined]"},null,0,{"$f":"COUNTIFS('CAPA DB'!C:C,\"Corrective\",'CAPA DB'!H:H,E13,'CAPA DB'!Y:Y,\"*\"&B50&\"*\",'CAPA DB'!E:E,\">=\"&Report!C3,'CAPA DB'!E:E,\"<=\"&Report!E3)","v":0},{"$f":"COUNTIFS('CAPA DB'!C:C,\"Corrective\",'CAPA DB'!H:H,F13,'CAPA DB'!Y:Y,\"*\"&B50&\"*\",'CAPA DB'!E:E,\">=\"&Report!C3,'CAPA DB'!E:E,\"<=\"&Report!E3)","v":0},{"$f":"COUNTIFS('CAPA DB'!C:C,\"Corrective\",'CAPA DB'!H:H,G13,'CAPA DB'!Y:Y,\"*\"&B50&\"*\",'CAPA DB'!E:E,\">=\"&Report!C3,'CAPA DB'!E:E,\"<=\"&Report!E3)","v":0},{"$f":"COUNTIFS('CAPA DB'!C:C,\"Corrective\",'CAPA DB'!H:H,H13,'CAPA DB'!Y:Y,\"*\"&B50&\"*\",'CAPA DB'!E:E,\">=\"&Report!C3,'CAPA DB'!E:E,\"<=\"&Report!E3)","v":0},{"$f":"COUNTIFS('CAPA DB'!C:C,\"Corrective\",'CAPA DB'!H:H,I13,'CAPA DB'!Y:Y,\"*\"&B50&\"*\",'CAPA DB'!E:E,\">=\"&Report!C3,'CAPA DB'!E:E,\"<=\"&Report!E3)","v":0},{"$f":"COUNTIFS('CAPA DB'!C:C,\"Corrective\",'CAPA DB'!H:H,J13,'CAPA DB'!Y:Y,\"*\"&B50&\"*\",'CAPA DB'!E:E,\">=\"&Report!C3,'CAPA DB'!E:E,\"<=\"&Report!E3)","v":0},{"$f":"COUNTIFS('CAPA DB'!C:C,\"Corrective\",'CAPA DB'!H:H,K13,'CAPA DB'!Y:Y,\"*\"&B50&\"*\",'CAPA DB'!E:E,\">=\"&Report!C3,'CAPA DB'!E:E,\"<=\"&Report!E3)","v":0},{"$f":"COUNTIFS('CAPA DB'!C:C,\"Corrective\",'CAPA DB'!H:H,L13,'CAPA DB'!Y:Y,\"*\"&B50&\"*\",'CAPA DB'!E:E,\">=\"&Report!C3,'CAPA DB'!E:E,\"<=\"&Report!E3)","v":0}]
[null,{"$f":"Lists!G14","v":"[Capacity vs demand]"},null,0,{"$f":"COUNTIFS('CAPA DB'!C:C,\"Corrective\",'CAPA DB'!H:H,E13,'CAPA DB'!Y:Y,\"*\"&B51&\"*\",'CAPA DB'!E:E,\">=\"&Report!C3,'CAPA DB'!E:E,\"<=\"&Report!E3)","v":0},{"$f":"COUNTIFS('CAPA DB'!C:C,\"Corrective\",'CAPA DB'!H:H,F13,'CAPA DB'!Y:Y,\"*\"&B51&\"*\",'CAPA DB'!E:E,\">=\"&Report!C3,'CAPA DB'!E:E,\"<=\"&Report!E3)","v":0},{"$f":"COUNTIFS('CAPA DB'!C:C,\"Corrective\",'CAPA DB'!H:H,G13,'CAPA DB'!Y:Y,\"*\"&B51&\"*\",'CAPA DB'!E:E,\">=\"&Report!C3,'CAPA DB'!E:E,\"<=\"&Report!E3)","v":0},{"$f":"COUNTIFS('CAPA DB'!C:C,\"Corrective\",'CAPA DB'!H:H,H13,'CAPA DB'!Y:Y,\"*\"&B51&\"*\",'CAPA DB'!E:E,\">=\"&Report!C3,'CAPA DB'!E:E,\"<=\"&Report!E3)","v":0},{"$f":"COUNTIFS('CAPA DB'!C:C,\"Corrective\",'CAPA DB'!H:H,I13,'CAPA DB'!Y:Y,\"*\"&B51&\"*\",'CAPA DB'!E:E,\">=\"&Report!C3,'CAPA DB'!E:E,\"<=\"&Report!E3)","v":0},{"$f":"COUNTIFS('CAPA DB'!C:C,\"Corrective\",'CAPA DB'!H:H,J13,'CAPA DB'!Y:Y,\"*\"&B51&\"*\",'CAPA DB'!E:E,\">=\"&Report!C3,'CAPA DB'!E:E,\"<=\"&Report!E3)","v":0},{"$f":"COUNTIFS('CAPA DB'!C:C,\"Corrective\",'CAPA DB'!H:H,K13,'CAPA DB'!Y:Y,\"*\"&B51&\"*\",'CAPA DB'!E:E,\">=\"&Report!C3,'CAPA DB'!E:E,\"<=\"&Report!E3)","v":0},{"$f":"COUNTIFS('CAPA DB'!C:C,\"Corrective\",'CAPA DB'!H:H,L13,'CAPA DB'!Y:Y,\"*\"&B51&\"*\",'CAPA DB'!E:E,\">=\"&Report!C3,'CAPA DB'!E:E,\"<=\"&Report!E3)","v":0}]
[null,{"$f":"Lists!G15","v":"[Equipment]"},null,0,{"$f":"COUNTIFS('CAPA DB'!C:C,\"Corrective\",'CAPA DB'!H:H,E13,'CAPA DB'!Y:Y,\"*\"&B52&\"*\",'CAPA DB'!E:E,\">=\"&Report!C3,'CAPA DB'!E:E,\"<=\"&Report!E3)","v":0},{"$f":"COUNTIFS('CAPA DB'!C:C,\"Corrective\",'CAPA DB'!H:H,F13,'CAPA DB'!Y:Y,\"*\"&B52&\"*\",'CAPA DB'!E:E,\">=\"&Report!C3,'CAPA DB'!E:E,\"<=\"&Report!E3)","v":0},{"$f":"COUNTIFS('CAPA DB'!C:C,\"Corrective\",'CAPA DB'!H:H,G13,'CAPA DB'!Y:Y,\"*\"&B52&\"*\",'CAPA DB'!E:E,\">=\"&Report!C3,'CAPA DB'!E:E,\"<=\"&Report!E3)","v":0},{"$f":"COUNTIFS('CAPA DB'!C:C,\"Corrective\",'CAPA DB'!H:H,H13,'CAPA DB'!Y:Y,\"*\"&B52&\"*\",'CAPA DB'!E:E,\">=\"&Report!C3,'CAPA DB'!E:E,\"<=\"&Report!E3)","v":0},{"$f":"COUNTIFS('CAPA DB'!C:C,\"Corrective\",'CAPA DB'!H:H,I13,'CAPA DB'!Y:Y,\"*\"&B52&\"*\",'CAPA DB'!E:E,\">=\"&Report!C3,'CAPA DB'!E:E,\"<=\"&Report!E3)","v":0},{"$f":"COUNTIFS('CAPA DB'!C:C,\"Corrective\",'CAPA DB'!H:H,J13,'CAPA DB'!Y:Y,\"*\"&B52&\"*\",'CAPA DB'!E:E,\">=\"&Report!C3,'CAPA DB'!E:E,\"<=\"&Report!E3)","v":0},{"$f":"COUNTIFS('CAPA DB'!C:C,\"Corrective\",'CAPA DB'!H:H,K13,'CAPA DB'!Y:Y,\"*\"&B52&\"*\",'CAPA DB'!E:E,\">=\"&Report!C3,'CAPA DB'!E:E,\"<=\"&Report!E3)","v":0},{"$f":"COUNTIFS('CAPA DB'!C:C,\"Corrective\",'CAPA DB'!H:H,L13,'CAPA DB'!Y:Y,\"*\"&B52&\"*\",'CAPA DB'!E:E,\">=\"&Report!C3,'CAPA DB'!E:E,\"<=\"&Report!E3)","v":0}]
[null,{"$f":"Lists!G16","v":"[Software]"},null,0,{"$f":"COUNTIFS('CAPA DB'!C:C,\"Corrective\",'CAPA DB'!H:H,E13,'CAPA DB'!Y:Y,\"*\"&B53&\"*\",'CAPA DB'!E:E,\">=\"&Report!C3,'CAPA DB'!E:E,\"<=\"&Report!E3)","v":0},{"$f":"COUNTIFS('CAPA DB'!C:C,\"Corrective\",'CAPA DB'!H:H,F13,'CAPA DB'!Y:Y,\"*\"&B53&\"*\",'CAPA DB'!E:E,\">=\"&Report!C3,'CAPA DB'!E:E,\"<=\"&Report!E3)","v":0},{"$f":"COUNTIFS('CAPA DB'!C:C,\"Corrective\",'CAPA DB'!H:H,G13,'CAPA DB'!Y:Y,\"*\"&B53&\"*\",'CAPA DB'!E:E,\">=\"&Report!C3,'CAPA DB'!E:E,\"<=\"&Report!E3)","v":0},{"$f":"COUNTIFS('CAPA DB'!C:C,\"Corrective\",'CAPA DB'!H:H,H13,'CAPA DB'!Y:Y,\"*\"&B53&\"*\",'CAPA DB'!E:E,\">=\"&Report!C3,'CAPA DB'!E:E,\"<=\"&Report!E3)","v":0},{"$f":"COUNTIFS('CAPA DB'!C:C,\"Corrective\",'CAPA DB'!H:H,I13,'CAPA DB'!Y:Y,\"*\"&B53&\"*\",'CAPA DB'!E:E,\">=\"&Report!C3,'CAPA DB'!E:E,\"<=\"&Report!E3)","v":0},{"$f":"COUNTIFS('CAPA DB'!C:C,\"Corrective\",'CAPA DB'!H:H,J13,'CAPA DB'!Y:Y,\"*\"&B53&\"*\",'CAPA DB'!E:E,\">=\"&Report!C3,'CAPA DB'!E:E,\"<=\"&Report!E3)","v":0},{"$f":"COUNTIFS('CAPA DB'!C:C,\"Corrective\",'CAPA DB'!H:H,K13,'CAPA DB'!Y:Y,\"*\"&B53&\"*\",'CAPA DB'!E:E,\">=\"&Report!C3,'CAPA DB'!E:E,\"<=\"&Report!E3)","v":0},{"$f":"COUNTIFS('CAPA DB'!C:C,\"Corrective\",'CAPA DB'!H:H,L13,'CAPA DB'!Y:Y,\"*\"&B53&\"*\",'CAPA DB'!E:E,\">=\"&Report!C3,'CAPA DB'!E:E,\"<=\"&Report!E3)","v":0}]
[null,{"$f":"Lists!G17","v":"[Availability of supplies]"},null,0,{"$f":"COUNTIFS('CAPA DB'!C:C,\"Corrective\",'CAPA DB'!H:H,E13,'CAPA DB'!Y:Y,\"*\"&B54&\"*\",'CAPA DB'!E:E,\">=\"&Report!C3,'CAPA DB'!E:E,\"<=\"&Report!E3)","v":0},{"$f":"COUNTIFS('CAPA DB'!C:C,\"Corrective\",'CAPA DB'!H:H,F13,'CAPA DB'!Y:Y,\"*\"&B54&\"*\",'CAPA DB'!E:E,\">=\"&Report!C3,'CAPA DB'!E:E,\"<=\"&Report!E3)","v":0},{"$f":"COUNTIFS('CAPA DB'!C:C,\"Corrective\",'CAPA DB'!H:H,G13,'CAPA DB'!Y:Y,\"*\"&B54&\"*\",'CAPA DB'!E:E,\">=\"&Report!C3,'CAPA DB'!E:E,\"<=\"&Report!E3)","v":0},{"$f":"COUNTIFS('CAPA DB'!C:C,\"Corrective\",'CAPA DB'!H:H,H13,'CAPA DB'!Y:Y,\"*\"&B54&\"*\",'CAPA DB'!E:E,\">=\"&Report!C3,'CAPA DB'!E:E,\"<=\"&Report!E3)","v":0},{"$f":"COUNTIFS('CAPA DB'!C:C,\"Corrective\",'CAPA DB'!H:H,I13,'CAPA DB'!Y:Y,\"*\"&B54&\"*\",'CAPA DB'!E:E,\">=\"&Report!C3,'CAPA DB'!E:E,\"<=\"&Report!E3)","v":0},{"$f":"COUNTIFS('CAPA DB'!C:C,\"Corrective\",'CAPA DB'!H:H,J13,'CAPA DB'!Y:Y,\"*\"&B54&\"*\",'CAPA DB'!E:E,\">=\"&Report!C3,'CAPA DB'!E:E,\"<=\"&Report!E3)","v":0},{"$f":"COUNTIFS('CAPA DB'!C:C,\"Corrective\",'CAPA DB'!H:H,K13,'CAPA DB'!Y:Y,\"*\"&B54&\"*\",'CAPA DB'!E:E,\">=\"&Report!C3,'CAPA DB'!E:E,\"<=\"&Report!E3)","v":0},{"$f":"COUNTIFS('CAPA DB'!C:C,\"Corrective\",'CAPA DB'!H:H,L13,'CAPA DB'!Y:Y,\"*\"&B54&\"*\",'CAPA DB'!E:E,\">=\"&Report!C3,'CAPA DB'!E:E,\"<=\"&Report!E3)","v":0}]
[null,{"$f":"Lists!G18","v":"[Quality of Supplies]"},null,0,{"$f":"COUNTIFS('CAPA DB'!C:C,\"Corrective\",'CAPA DB'!H:H,E13,'CAPA DB'!Y:Y,\"*\"&B55&\"*\",'CAPA DB'!E:E,\">=\"&Report!C3,'CAPA DB'!E:E,\"<=\"&Report!E3)","v":0},{"$f":"COUNTIFS('CAPA DB'!C:C,\"Corrective\",'CAPA DB'!H:H,F13,'CAPA DB'!Y:Y,\"*\"&B55&\"*\",'CAPA DB'!E:E,\">=\"&Report!C3,'CAPA DB'!E:E,\"<=\"&Report!E3)","v":0},{"$f":"COUNTIFS('CAPA DB'!C:C,\"Corrective\",'CAPA DB'!H:H,G13,'CAPA DB'!Y:Y,\"*\"&B55&\"*\",'CAPA DB'!E:E,\">=\"&Report!C3,'CAPA DB'!E:E,\"<=\"&Report!E3)","v":0},{"$f":"COUNTIFS('CAPA DB'!C:C,\"Corrective\",'CAPA DB'!H:H,H13,'CAPA DB'!Y:Y,\"*\"&B55&\"*\",'CAPA DB'!E:E,\">=\"&Report!C3,'CAPA DB'!E:E,\"<=\"&Report!E3)","v":0},{"$f":"COUNTIFS('CAPA DB'!C:C,\"Corrective\",'CAPA DB'!H:H,I13,'CAPA DB'!Y:Y,\"*\"&B55&\"*\",'CAPA DB'!E:E,\">=\"&Report!C3,'CAPA DB'!E:E,\"<=\"&Report!E3)","v":0},{"$f":"COUNTIFS('CAPA DB'!C:C,\"Corrective\",'CAPA DB'!H:H,J13,'CAPA DB'!Y:Y,\"*\"&B55&\"*\",'CAPA DB'!E:E,\">=\"&Report!C3,'CAPA DB'!E:E,\"<=\"&Report!E3)","v":0},{"$f":"COUNTIFS('CAPA DB'!C:C,\"Corrective\",'CAPA DB'!H:H,K13,'CAPA DB'!Y:Y,\"*\"&B55&\"*\",'CAPA DB'!E:E,\">=\"&Report!C3,'CAPA DB'!E:E,\"<=\"&Report!E3)","v":0},{"$f":"COUNTIFS('CAPA DB'!C:C,\"Corrective\",'CAPA DB'!H:H,L13,'CAPA DB'!Y:Y,\"*\"&B55&\"*\",'CAPA DB'!E:E,\">=\"&Report!C3,'CAPA DB'!E:E,\"<=\"&Report!E3)","v":0}]
[null,{"$f":"Lists!G19","v":"[Documentation]"},null,0,{"$f":"COUNTIFS('CAPA DB'!C:C,\"Corrective\",'CAPA DB'!H:H,E13,'CAPA DB'!Y:Y,\"*\"&B56&\"*\",'CAPA DB'!E:E,\">=\"&Report!C3,'CAPA DB'!E:E,\"<=\"&Report!E3)","v":0},{"$f":"COUNTIFS('CAPA DB'!C:C,\"Corrective\",'CAPA DB'!H:H,F13,'CAPA DB'!Y:Y,\"*\"&B56&\"*\",'CAPA DB'!E:E,\">=\"&Report!C3,'CAPA DB'!E:E,\"<=\"&Report!E3)","v":0},{"$f":"COUNTIFS('CAPA DB'!C:C,\"Corrective\",'CAPA DB'!H:H,G13,'CAPA DB'!Y:Y,\"*\"&B56&\"*\",'CAPA DB'!E:E,\">=\"&Report!C3,'CAPA DB'!E:E,\"<=\"&Report!E3)","v":0},{"$f":"COUNTIFS('CAPA DB'!C:C,\"Corrective\",'CAPA DB'!H:H,H13,'CAPA DB'!Y:Y,\"*\"&B56&\"*\",'CAPA DB'!E:E,\">=\"&Report!C3,'CAPA DB'!E:E,\"<=\"&Report!E3)","v":0},{"$f":"COUNTIFS('CAPA DB'!C:C,\"Corrective\",'CAPA DB'!H:H,I13,'CAPA DB'!Y:Y,\"*\"&B56&\"*\",'CAPA DB'!E:E,\">=\"&Report!C3,'CAPA DB'!E:E,\"<=\"&Report!E3)","v":0},{"$f":"COUNTIFS('CAPA DB'!C:C,\"Corrective\",'CAPA DB'!H:H,J13,'CAPA DB'!Y:Y,\"*\"&B56&\"*\",'CAPA DB'!E:E,\">=\"&Report!C3,'CAPA DB'!E:E,\"<=\"&Report!E3)","v":0},{"$f":"COUNTIFS('CAPA DB'!C:C,\"Corrective\",'CAPA DB'!H:H,K13,'CAPA DB'!Y:Y,\"*\"&B56&\"*\",'CAPA DB'!E:E,\">=\"&Report!C3,'CAPA DB'!E:E,\"<=\"&Report!E3)","v":0},{"$f":"COUNTIFS('CAPA DB'!C:C,\"Corrective\",'CAPA DB'!H:H,L13,'CAPA DB'!Y:Y,\"*\"&B56&\"*\",'CAPA DB'!E:E,\">=\"&Report!C3,'CAPA DB'!E:E,\"<=\"&Report!E3)","v":0}]
[null,{"$f":"Lists!G20","v":"[Clinical Noting]"},null,0,{"$f":"COUNTIFS('CAPA DB'!C:C,\"Corrective\",'CAPA DB'!H:H,E13,'CAPA DB'!Y:Y,\"*\"&B57&\"*\",'CAPA DB'!E:E,\">=\"&Report!C3,'CAPA DB'!E:E,\"<=\"&Report!E3)","v":0},{"$f":"COUNTIFS('CAPA DB'!C:C,\"Corrective\",'CAPA DB'!H:H,F13,'CAPA DB'!Y:Y,\"*\"&B57&\"*\",'CAPA DB'!E:E,\">=\"&Report!C3,'CAPA DB'!E:E,\"<=\"&Report!E3)","v":0},{"$f":"COUNTIFS('CAPA DB'!C:C,\"Corrective\",'CAPA DB'!H:H,G13,'CAPA DB'!Y:Y,\"*\"&B57&\"*\",'CAPA DB'!E:E,\">=\"&Report!C3,'CAPA DB'!E:E,\"<=\"&Report!E3)","v":0},{"$f":"COUNTIFS('CAPA DB'!C:C,\"Corrective\",'CAPA DB'!H:H,H13,'CAPA DB'!Y:Y,\"*\"&B57&\"*\",'CAPA DB'!E:E,\">=\"&Report!C3,'CAPA DB'!E:E,\"<=\"&Report!E3)","v":0},{"$f":"COUNTIFS('CAPA DB'!C:C,\"Corrective\",'CAPA DB'!H:H,I13,'CAPA DB'!Y:Y,\"*\"&B57&\"*\",'CAPA DB'!E:E,\">=\"&Report!C3,'CAPA DB'!E:E,\"<=\"&Report!E3)","v":0},{"$f":"COUNTIFS('CAPA DB'!C:C,\"Corrective\",'CAPA DB'!H:H,J13,'CAPA DB'!Y:Y,\"*\"&B57&\"*\",'CAPA DB'!E:E,\">=\"&Report!C3,'CAPA DB'!E:E,\"<=\"&Report!E3)","v":0},{"$f":"COUNTIFS('CAPA DB'!C:C,\"Corrective\",'CAPA DB'!H:H,K13,'CAPA DB'!Y:Y,\"*\"&B57&\"*\",'CAPA DB'!E:E,\">=\"&Report!C3,'CAPA DB'!E:E,\"<=\"&Report!E3)","v":0},{"$f":"COUNTIFS('CAPA DB'!C:C,\"Corrective\",'CAPA DB'!H:H,L13,'CAPA DB'!Y:Y,\"*\"&B57&\"*\",'CAPA DB'!E:E,\">=\"&Report!C3,'CAPA DB'!E:E,\"<=\"&Report!E3)","v":0}]
[null,{"$f":"Lists!G21","v":"[No Action required]"},null,0,{"$f":"COUNTIFS('CAPA DB'!C:C,\"Corrective\",'CAPA DB'!H:H,E13,'CAPA DB'!Y:Y,\"*\"&B58&\"*\",'CAPA DB'!E:E,\">=\"&Report!C3,'CAPA DB'!E:E,\"<=\"&Report!E3)","v":0},{"$f":"COUNTIFS('CAPA DB'!C:C,\"Corrective\",'CAPA DB'!H:H,F13,'CAPA DB'!Y:Y,\"*\"&B58&\"*\",'CAPA DB'!E:E,\">=\"&Report!C3,'CAPA DB'!E:E,\"<=\"&Report!E3)","v":0},{"$f":"COUNTIFS('CAPA DB'!C:C,\"Corrective\",'CAPA DB'!H:H,G13,'CAPA DB'!Y:Y,\"*\"&B58&\"*\",'CAPA DB'!E:E,\">=\"&Report!C3,'CAPA DB'!E:E,\"<=\"&Report!E3)","v":0},{"$f":"COUNTIFS('CAPA DB'!C:C,\"Corrective\",'CAPA DB'!H:H,H13,'CAPA DB'!Y:Y,\"*\"&B58&\"*\",'CAPA DB'!E:E,\">=\"&Report!C3,'CAPA DB'!E:E,\"<=\"&Report!E3)","v":0},{"$f":"COUNTIFS('CAPA DB'!C:C,\"Corrective\",'CAPA DB'!H:H,I13,'CAPA DB'!Y:Y,\"*\"&B58&\"*\",'CAPA DB'!E:E,\">=\"&Report!C3,'CAPA DB'!E:E,\"<=\"&Report!E3)","v":0},{"$f":"COUNTIFS('CAPA DB'!C:C,\"Corrective\",'CAPA DB'!H:H,J13,'CAPA DB'!Y:Y,\"*\"&B58&\"*\",'CAPA DB'!E:E,\">=\"&Report!C3,'CAPA DB'!E:E,\"<=\"&Report!E3)","v":0},{"$f":"COUNTIFS('CAPA DB'!C:C,\"Corrective\",'CAPA DB'!H:H,K13,'CAPA DB'!Y:Y,\"*\"&B58&\"*\",'CAPA DB'!E:E,\">=\"&Report!C3,'CAPA DB'!E:E,\"<=\"&Report!E3)","v":0},{"$f":"COUNTIFS('CAPA DB'!C:C,\"Corrective\",'CAPA DB'!H:H,L13,'CAPA DB'!Y:Y,\"*\"&B58&\"*\",'CAPA DB'!E:E,\">=\"&Report!C3,'CAPA DB'!E:E,\"<=\"&Report!E3)","v":0}]
[null,{"$f":"Lists!G22","v":"[Audit]"},null,0,{"$f":"COUNTIFS('CAPA DB'!C:C,\"Corrective\",'CAPA DB'!H:H,E13,'CAPA DB'!Y:Y,\"*\"&B59&\"*\",'CAPA DB'!E:E,\">=\"&Report!C3,'CAPA DB'!E:E,\"<=\"&Report!E3)","v":0},{"$f":"COUNTIFS('CAPA DB'!C:C,\"Corrective\",'CAPA DB'!H:H,F13,'CAPA DB'!Y:Y,\"*\"&B59&\"*\",'CAPA DB'!E:E,\">=\"&Report!C3,'CAPA DB'!E:E,\"<=\"&Report!E3)","v":0},{"$f":"COUNTIFS('CAPA DB'!C:C,\"Corrective\",'CAPA DB'!H:H,G13,'CAPA DB'!Y:Y,\"*\"&B59&\"*\",'CAPA DB'!E:E,\">=\"&Report!C3,'CAPA DB'!E:E,\"<=\"&Report!E3)","v":0},{"$f":"COUNTIFS('CAPA DB'!C:C,\"Corrective\",'CAPA DB'!H:H,H13,'CAPA DB'!Y:Y,\"*\"&B59&\"*\",'CAPA DB'!E:E,\">=\"&Report!C3,'CAPA DB'!E:E,\"<=\"&Report!E3)","v":0},{"$f":"COUNTIFS('CAPA DB'!C:C,\"Corrective\",'CAPA DB'!H:H,I13,'CAPA DB'!Y:Y,\"*\"&B59&\"*\",'CAPA DB'!E:E,\">=\"&Report!C3,'CAPA DB'!E:E,\"<=\"&Report!E3)","v":0},{"$f":"COUNTIFS('CAPA DB'!C:C,\"Corrective\",'CAPA DB'!H:H,J13,'CAPA DB'!Y:Y,\"*\"&B59&\"*\",'CAPA DB'!E:E,\">=\"&Report!C3,'CAPA DB'!E:E,\"<=\"&Report!E3)","v":0},{"$f":"COUNTIFS('CAPA DB'!C:C,\"Corrective\",'CAPA DB'!H:H,K13,'CAPA DB'!Y:Y,\"*\"&B59&\"*\",'CAPA DB'!E:E,\">=\"&Report!C3,'CAPA DB'!E:E,\"<=\"&Report!E3)","v":0},{"$f":"COUNTIFS('CAPA DB'!C:C,\"Corrective\",'CAPA DB'!H:H,L13,'CAPA DB'!Y:Y,\"*\"&B59&\"*\",'CAPA DB'!E:E,\">=\"&Report!C3,'CAPA DB'!E:E,\"<=\"&Report!E3)","v":0}]
[null,{"$f":"Lists!G23","v":"[Interpreter]"},null,0,{"$f":"COUNTIFS('CAPA DB'!C:C,\"Corrective\",'CAPA DB'!H:H,E13,'CAPA DB'!Y:Y,\"*\"&B60&\"*\",'CAPA DB'!E:E,\">=\"&Report!C3,'CAPA DB'!E:E,\"<=\"&Report!E3)","v":0},{"$f":"COUNTIFS('CAPA DB'!C:C,\"Corrective\",'CAPA DB'!H:H,F13,'CAPA DB'!Y:Y,\"*\"&B60&\"*\",'CAPA DB'!E:E,\">=\"&Report!C3,'CAPA DB'!E:E,\"<=\"&Report!E3)","v":0},{"$f":"COUNTIFS('CAPA DB'!C:C,\"Corrective\",'CAPA DB'!H:H,G13,'CAPA DB'!Y:Y,\"*\"&B60&\"*\",'CAPA DB'!E:E,\">=\"&Report!C3,'CAPA DB'!E:E,\"<=\"&Report!E3)","v":0},{"$f":"COUNTIFS('CAPA DB'!C:C,\"Corrective\",'CAPA DB'!H:H,H13,'CAPA DB'!Y:Y,\"*\"&B60&\"*\",'CAPA DB'!E:E,\">=\"&Report!C3,'CAPA DB'!E:E,\"<=\"&Report!E3)","v":0},{"$f":"COUNTIFS('CAPA DB'!C:C,\"Corrective\",'CAPA DB'!H:H,I13,'CAPA DB'!Y:Y,\"*\"&B60&\"*\",'CAPA DB'!E:E,\">=\"&Report!C3,'CAPA DB'!E:E,\"<=\"&Report!E3)","v":0},{"$f":"COUNTIFS('CAPA DB'!C:C,\"Corrective\",'CAPA DB'!H:H,J13,'CAPA DB'!Y:Y,\"*\"&B60&\"*\",'CAPA DB'!E:E,\">=\"&Report!C3,'CAPA DB'!E:E,\"<=\"&Report!E3)","v":0},{"$f":"COUNTIFS('CAPA DB'!C:C,\"Corrective\",'CAPA DB'!H:H,K13,'CAPA DB'!Y:Y,\"*\"&B60&\"*\",'CAPA DB'!E:E,\">=\"&Report!C3,'CAPA DB'!E:E,\"<=\"&Report!E3)","v":0},{"$f":"COUNTIFS('CAPA DB'!C:C,\"Corrective\",'CAPA DB'!H:H,L13,'CAPA DB'!Y:Y,\"*\"&B60&\"*\",'CAPA DB'!E:E,\">=\"&Report!C3,'CAPA DB'!E:E,\"<=\"&Report!E3)","v":0}]
[null,"Preventative action Breakdown"]
[]
[null,"Area & Category"]
[null,"Category",null,"Totals",{"$f":"Lists!E3","v":"Clinical"},{"$f":"Lists!E4","v":"Admin"},{"$f":"Lists!E5","v":0},{"$f":"Lists!E6","v":0},{"$f":"Lists!E7","v":0},{"$f":"Lists!E8","v":0},{"$f":"Lists!E9","v":0},{"$f":"Lists!E10","v":0}]
[null,{"$f":"Lists!A2","v":"Access, Admission, Discharge and Transfer issue"},null,{"$f":"SUM(E65:L65)","v":0},{"$f":"COUNTIFS('CAPA DB'!C:C,\"preventative\",'CAPA DB'!H:H,E13,'CAPA DB'!I:I,Report!B:B,'CAPA DB'!E:E,\">=\"&Report!C3,'CAPA DB'!E:E,\"<=\"&Report!E3)","v":0},{"$f":"COUNTIFS('CAPA DB'!C:C,\"preventative\",'CAPA DB'!H:H,F13,'CAPA DB'!I:I,Report!B:B,'CAPA DB'!E:E,\">=\"&Report!C3,'CAPA DB'!E:E,\"<=\"&Report!E3)","v":0},{"$f":"COUNTIFS('CAPA DB'!C:C,\"preventative\",'CAPA DB'!H:H,G13,'CAPA DB'!I:I,Report!B:B,'CAPA DB'!E:E,\">=\"&Report!C3,'CAPA DB'!E:E,\"<=\"&Report!E3)","v":0},{"$f":"COUNTIFS('CAPA DB'!C:C,\"preventative\",'CAPA DB'!H:H,H13,'CAPA DB'!I:I,Report!B:B,'CAPA DB'!E:E,\">=\"&Report!C3,'CAPA DB'!E:E,\"<=\"&Report!E3)","v":0},{"$f":"COUNTIFS('CAPA DB'!C:C,\"preventative\",'CAPA DB'!H:H,I13,'CAPA DB'!I:I,Report!B:B,'CAPA DB'!E:E,\">=\"&Report!C3,'CAPA DB'!E:E,\"<=\"&Report!E3)","v":0},{"$f":"COUNTIFS('CAPA DB'!C:C,\"preventative\",'CAPA DB'!H:H,J13,'CAPA DB'!I:I,Report!B:B,'CAPA DB'!E:E,\">=\"&Report!C3,'CAPA DB'!E:E,\"<=\"&Report!E3)","v":0},{"$f":"COUNTIFS('CAPA DB'!C:C,\"preventative\",'CAPA DB'!H:H,K13,'CAPA DB'!I:I,Report!B:B,'CAPA DB'!E:E,\">=\"&Report!C3,'CAPA DB'!E:E,\"<=\"&Report!E3)","v":0},{"$f":"COUNTIFS('CAPA DB'!C:C,\"preventative\",'CAPA DB'!H:H,L13,'CAPA DB'!I:I,Report!B:B,'CAPA DB'!E:E,\">=\"&Report!C3,'CAPA DB'!E:E,\"<=\"&Report!E3)","v":0}]
[null,{"$f":"Lists!A3","v":"Collision/Struck against moving or stationary object"},null,{"$f":"SUM(E66:L66)","v":0},{"$f":"COUNTIFS('CAPA DB'!C:C,\"preventative\",'CAPA DB'!H:H,E13,'CAPA DB'!I:I,Report!B:B,'CAPA DB'!E:E,\">=\"&Report!C3,'CAPA DB'!E:E,\"<=\"&Report!E3)","v":0},{"$f":"COUNTIFS('CAPA DB'!C:C,\"preventative\",'CAPA DB'!H:H,F13,'CAPA DB'!I:I,Report!B:B,'CAPA DB'!E:E,\">=\"&Report!C3,'CAPA DB'!E:E,\"<=\"&Report!E3)","v":0},{"$f":"COUNTIFS('CAPA DB'!C:C,\"preventative\",'CAPA DB'!H:H,G13,'CAPA DB'!I:I,Report!B:B,'CAPA DB'!E:E,\">=\"&Report!C3,'CAPA DB'!E:E,\"<=\"&Report!E3)","v":0},{"$f":"COUNTIFS('CAPA DB'!C:C,\"preventative\",'CAPA DB'!H:H,H13,'CAPA DB'!I:I,Report!B:B,'CAPA DB'!E:E,\">=\"&Report!C3,'CAPA DB'!E:E,\"<=\"&Report!E3)","v":0},{"$f":"COUNTIFS('CAPA DB'!C:C,\"preventative\",'CAPA DB'!H:H,I13,'CAPA DB'!I:I,Report!B:B,'CAPA DB'!E:E,\">=\"&Report!C3,'CAPA DB'!E:E,\"<=\"&Report!E3)","v":0},{"$f":"COUNTIFS('CAPA DB'!C:C,\"preventative\",'CAPA DB'!H:H,J13,'CAPA DB'!I:I,Report!B:B,'CAPA DB'!E:E,\">=\"&Report!C3,'CAPA DB'!E:E,\"<=\"&Report!E3)","v":0},{"$f":"COUNTIFS('CAPA DB'!C:C,\"preventative\",'CAPA DB'!H:H,K13,'CAPA DB'!I:I,Report!B:B,'CAPA DB'!E:E,\">=\"&Report!C3,'CAPA DB'!E:E,\"<=\"&Report!E3)","v":0},{"$f":"COUNTIFS('CAPA DB'!C:C,\"preventative\",'CAPA DB'!H:H,L13,'CAPA DB'!I:I,Report!B:B,'CAPA DB'!E:E,\">=\"&Report!C3,'CAPA DB'!E:E,\"<=\"&Report!E3)","v":0}]
[null,{"$f":"Lists!A4","v":"Communication failure Consent"},null,0,{"$f":"COUNTIFS('CAPA DB'!C:C,\"preventative\",'CAPA DB'!H:H,E13,'CAPA DB'!I:I,Report!B:B,'CAPA DB'!E:E,\">=\"&Report!C3,'CAPA DB'!E:E,\"<=\"&Report!E3)","v":0},{"$f":"COUNTIFS('CAPA DB'!C:C,\"preventative\",'CAPA DB'!H:H,F13,'CAPA DB'!I:I,Report!B:B,'CAPA DB'!E:E,\">=\"&Report!C3,'CAPA DB'!E:E,\"<=\"&Report!E3)","v":0},{"$f":"COUNTIFS('CAPA DB'!C:C,\"preventative\",'CAPA DB'!H:H,G13,'CAPA DB'!I:I,Report!B:B,'CAPA DB'!E:E,\">=\"&Report!C3,'CAPA DB'!E:E,\"<=\"&Report!E3)","v":0},{"$f":"COUNTIFS('CAPA DB'!C:C,\"preventative\",'CAPA DB'!H:H,H13,'CAPA DB'!I:I,Report!B:B,'CAPA DB'!E:E,\">=\"&Report!C3,'CAPA DB'!E:E,\"<=\"&Report!E3)","v":0},{"$f":"COUNTIFS('CAPA DB'!C:C,\"preventative\",'CAPA DB'!H:H,I13,'CAPA DB'!I:I,Report!B:B,'CAPA DB'!E:E,\">=\"&Report!C3,'CAPA DB'!E:E,\"<=\"&Report!E3)","v":0},{"$f":"COUNTIFS('CAPA DB'!C:C,\"preventative\",'CAPA DB'!H:H,J13,'CAPA DB'!I:I,Report!B:B,'CAPA DB'!E:E,\">=\"&Report!C3,'CAPA DB'!E:E,\"<=\"&Report!E3)","v":0},{"$f":"COUNTIFS('CAPA DB'!C:C,\"preventative\",'CAPA DB'!H:H,K13,'CAPA DB'!I:I,Report!B:B,'CAPA DB'!E:E,\">=\"&Report!C3,'CAPA DB'!E:E,\"<=\"&Report!E3)","v":0},{"$f":"COUNTIFS('CAPA DB'!C:C,\"preventative\",'CAPA DB'!H:H,L13,'CAPA DB'!I:I,Report!B:B,'CAPA DB'!E:E,\">=\"&Report!C3,'CAPA DB'!E:E,\"<=\"&Report!E3)","v":0}]
[null,{"$f":"Lists!A5","v":"Delay / failure to treatment or procedure"},null,0,{"$f":"COUNTIFS('CAPA DB'!C:C,\"preventative\",'CAPA DB'!H:H,E13,'CAPA DB'!I:I,Report!B:B,'CAPA DB'!E:E,\">=\"&Report!C3,'CAPA DB'!E:E,\"<=\"&Report!E3)","v":0},{"$f":"COUNTIFS('CAPA DB'!C:C,\"preventative\",'CAPA DB'!H:H,F13,'CAPA DB'!I:I,Report!B:B,'CAPA DB'!E:E,\">=\"&Report!C3,'CAPA DB'!E:E,\"<=\"&Report!E3)","v":0},{"$f":"COUNTIFS('CAPA DB'!C:C,\"preventative\",'CAPA DB'!H:H,G13,'CAPA DB'!I:I,Report!B:B,'CAPA DB'!E:E,\">=\"&Report!C3,'CAPA DB'!E:E,\"<=\"&Report!E3)","v":0},{"$f":"COUNTIFS('CAPA DB'!C:C,\"preventative\",'CAPA DB'!H:H,H13,'CAPA DB'!I:I,Report!B:B,'CAPA DB'!E:E,\">=\"&Report!C3,'CAPA DB'!E:E,\"<=\"&Report!E3)","v":0},{"$f":"COUNTIFS('CAPA DB'!C:C,\"preventative\",'CAPA DB'!H:H,I13,'CAPA DB'!I:I,Report!B:B,'CAPA DB'!E:E,\">=\"&Report!C3,'CAPA DB'!E:E,\"<=\"&Report!E3)","v":0},{"$f":"COUNTIFS('CAPA DB'!C:C,\"preventative\",'CAPA DB'!H:H,J13,'CAPA DB'!I:I,Report!B:B,'CAPA DB'!E:E,\">=\"&Report!C3,'CAPA DB'!E:E,\"<=\"&Report!E3)","v":0},{"$f":"COUNTIFS('CAPA DB'!C:C,\"preventative\",'CAPA DB'!H:H,K13,'CAPA DB'!I:I,Report!B:B,'CAPA DB'!E:E,\">=\"&Report!C3,'CAPA DB'!E:E,\"<=\"&Report!E3)","v":0},{"$f":"COUNTIFS('CAPA DB'!C:C,\"preventative\",'CAPA DB'!H:H,L13,'CAPA DB'!I:I,Report!B:B,'CAPA DB'!E:E,\">=\"&Report!C3,'CAPA DB'!E:E,\"<=\"&Report!E3)","v":0}]
[null,{"$f":"Lists!A6","v":"Diagnosis, Scans, Tests and procedures (clinical)"},null,0,{"$f":"COUNTIFS('CAPA DB'!C:C,\"preventative\",'CAPA DB'!H:H,E13,'CAPA DB'!I:I,Report!B:B,'CAPA DB'!E:E,\">=\"&Report!C3,'CAPA DB'!E:E,\"<=\"&Report!E3)","v":0},{"$f":"COUNTIFS('CAPA DB'!C:C,\"preventative\",'CAPA DB'!H:H,F13,'CAPA DB'!I:I,Report!B:B,'CAPA DB'!E:E,\">=\"&Report!C3,'CAPA DB'!E:E,\"<=\"&Report!E3)","v":0},{"$f":"COUNTIFS('CAPA DB'!C:C,\"preventative\",'CAPA DB'!H:H,G13,'CAPA DB'!I:I,Report!B:B,'CAPA DB'!E:E,\">=\"&Report!C3,'CAPA DB'!E:E,\"<=\"&Report!E3)","v":0},{"$f":"COUNTIFS('CAPA DB'!C:C,\"preventative\",'CAPA DB'!H:H,H13,'CAPA DB'!I:I,Report!B:B,'CAPA DB'!E:E,\">=\"&Report!C3,'CAPA DB'!E:E,\"<=\"&Report!E3)","v":0},{"$f":"COUNTIFS('CAPA DB'!C:C,\"preventative\",'CAPA DB'!H:H,I13,'CAPA DB'!I:I,Report!B:B,'CAPA DB'!E:E,\">=\"&Report!C3,'CAPA DB'!E:E,\"<=\"&Report!E3)","v":0},{"$f":"COUNTIFS('CAPA DB'!C:C,\"preventative\",'CAPA DB'!H:H,J13,'CAPA DB'!I:I,Report!B:B,'CAPA DB'!E:E,\">=\"&Report!C3,'CAPA DB'!E:E,\"<=\"&Report!E3)","v":0},{"$f":"COUNTIFS('CAPA DB'!C:C,\"preventative\",'CAPA DB'!H:H,K13,'CAPA DB'!I:I,Report!B:B,'CAPA DB'!E:E,\">=\"&Report!C3,'CAPA DB'!E:E,\"<=\"&Report!E3)","v":0},{"$f":"COUNTIFS('CAPA DB'!C:C,\"preventative\",'CAPA DB'!H:H,L13,'CAPA DB'!I:I,Report!B:B,'CAPA DB'!E:E,\">=\"&Report!C3,'CAPA DB'!E:E,\"<=\"&Report!E3)","v":0}]
[null,{"$f":"Lists!A7","v":"Documentation and Health Records"},null,0,{"$f":"COUNTIFS('CAPA DB'!C:C,\"preventative\",'CAPA DB'!H:H,E13,'CAPA DB'!I:I,Report!B:B,'CAPA DB'!E:E,\">=\"&Report!C3,'CAPA DB'!E:E,\"<=\"&Report!E3)","v":0},{"$f":"COUNTIFS('CAPA DB'!C:C,\"preventative\",'CAPA DB'!H:H,F13,'CAPA DB'!I:I,Report!B:B,'CAPA DB'!E:E,\">=\"&Report!C3,'CAPA DB'!E:E,\"<=\"&Report!E3)","v":0},{"$f":"COUNTIFS('CAPA DB'!C:C,\"preventative\",'CAPA DB'!H:H,G13,'CAPA DB'!I:I,Report!B:B,'CAPA DB'!E:E,\">=\"&Report!C3,'CAPA DB'!E:E,\"<=\"&Report!E3)","v":0},{"$f":"COUNTIFS('CAPA DB'!C:C,\"preventative\",'CAPA DB'!H:H,H13,'CAPA DB'!I:I,Report!B:B,'CAPA DB'!E:E,\">=\"&Report!C3,'CAPA DB'!E:E,\"<=\"&Report!E3)","v":0},{"$f":"COUNTIFS('CAPA DB'!C:C,\"preventative\",'CAPA DB'!H:H,I13,'CAPA DB'!I:I,Report!B:B,'CAPA DB'!E:E,\">=\"&Report!C3,'CAPA DB'!E:E,\"<=\"&Report!E3)","v":0},{"$f":"COUNTIFS('CAPA DB'!C:C,\"preventative\",'CAPA DB'!H:H,J13,'CAPA DB'!I:I,Report!B:B,'CAPA DB'!E:E,\">=\"&Report!C3,'CAPA DB'!E:E,\"<=\"&Report!E3)","v":0},{"$f":"COUNTIFS('CAPA DB'!C:C,\"preventative\",'CAPA DB'!H:H,K13,'CAPA DB'!I:I,Report!B:B,'CAPA DB'!E:E,\">=\"&Report!C3,'CAPA DB'!E:E,\"<=\"&Report!E3)","v":0},{"$f":"COUNTIFS('CAPA DB'!C:C,\"preventative\",'CAPA DB'!H:H,L13,'CAPA DB'!I:I,Report!B:B,'CAPA DB'!E:E,\">=\"&Report!C3,'CAPA DB'!E:E,\"<=\"&Report!E3)","v":0}]
[null,{"$f":"Lists!A8","v":"Environmental / Infrastructure / Equipment"},null,0,{"$f":"COUNTIFS('CAPA DB'!C:C,\"preventative\",'CAPA DB'!H:H,E13,'CAPA DB'!I:I,Report!B:B,'CAPA DB'!E:E,\">=\"&Report!C3,'CAPA DB'!E:E,\"<=\"&Report!E3)","v":0},{"$f":"COUNTIFS('CAPA DB'!C:C,\"preventative\",'CAPA DB'!H:H,F13,'CAPA DB'!I:I,Report!B:B,'CAPA DB'!E:E,\">=\"&Report!C3,'CAPA DB'!E:E,\"<=\"&Report!E3)","v":0},{"$f":"COUNTIFS('CAPA DB'!C:C,\"preventative\",'CAPA DB'!H:H,G13,'CAPA DB'!I:I,Report!B:B,'CAPA DB'!E:E,\">=\"&Report!C3,'CAPA DB'!E:E,\"<=\"&Report!E3)","v":0},{"$f":"COUNTIFS('CAPA DB'!C:C,\"preventative\",'CAPA DB'!H:H,H13,'CAPA DB'!I:I,Report!B:B,'CAPA DB'!E:E,\">=\"&Report!C3,'CAPA DB'!E:E,\"<=\"&Report!E3)","v":0},{"$f":"COUNTIFS('CAPA DB'!C:C,\"preventative\",'CAPA DB'!H:H,I13,'CAPA DB'!I:I,Report!B:B,'CAPA DB'!E:E,\">=\"&Report!C3,'CAPA DB'!E:E,\"<=\"&Report!E3)","v":0},{"$f":"COUNTIFS('CAPA DB'!C:C,\"preventative\",'CAPA DB'!H:H,J13,'CAPA DB'!I:I,Report!B:B,'CAPA DB'!E:E,\">=\"&Report!C3,'CAPA DB'!E:E,\"<=\"&Report!E3)","v":0},{"$f":"COUNTIFS('CAPA DB'!C:C,\"preventative\",'CAPA DB'!H:H,K13,'CAPA DB'!I:I,Report!B:B,'CAPA DB'!E:E,\">=\"&Report!C3,'CAPA DB'!E:E,\"<=\"&Report!E3)","v":0},{"$f":"COUNTIFS('CAPA DB'!C:C,\"preventative\",'CAPA DB'!H:H,L13,'CAPA DB'!I:I,Report!B:B,'CAPA DB'!E:E,\">=\"&Report!C3,'CAPA DB'!E:E,\"<=\"&Report!E3)","v":0}]
[null,{"$f":"Lists!A9","v":"Medical Devices (Clinical)"},null,0,{"$f":"COUNTIFS('CAPA DB'!C:C,\"preventative\",'CAPA DB'!H:H,E13,'CAPA DB'!I:I,Report!B:B,'CAPA DB'!E:E,\">=\"&Report!C3,'CAPA DB'!E:E,\"<=\"&Report!E3)","v":0},{"$f":"COUNTIFS('CAPA DB'!C:C,\"preventative\",'CAPA DB'!H:H,F13,'CAPA DB'!I:I,Report!B:B,'CAPA DB'!E:E,\">=\"&Report!C3,'CAPA DB'!E:E,\"<=\"&Report!E3)","v":0},{"$f":"COUNTIFS('CAPA DB'!C:C,\"preventative\",'CAPA DB'!H:H,G13,'CAPA DB'!I:I,Report!B:B,'CAPA DB'!E:E,\">=\"&Report!C3,'CAPA DB'!E:E,\"<=\"&Report!E3)","v":0},{"$f":"COUNTIFS('CAPA DB'!C:C,\"preventative\",'CAPA DB'!H:H,H13,'CAPA DB'!I:I,Report!B:B,'CAPA DB'!E:E,\">=\"&Report!C3,'CAPA DB'!E:E,\"<=\"&Report!E3)","v":0},{"$f":"COUNTIFS('CAPA DB'!C:C,\"preventative\",'CAPA DB'!H:H,I13,'CAPA DB'!I:I,Report!B:B,'CAPA DB'!E:E,\">=\"&Report!C3,'CAPA DB'!E:E,\"<=\"&Report!E3)","v":0},{"$f":"COUNTIFS('CAPA DB'!C:C,\"preventative\",'CAPA DB'!H:H,J13,'CAPA DB'!I:I,Report!B:B,'CAPA DB'!E:E,\">=\"&Report!C3,'CAPA DB'!E:E,\"<=\"&Report!E3)","v":0},{"$f":"COUNTIFS('CAPA DB'!C:C,\"preventative\",'CAPA DB'!H:H,K13,'CAPA DB'!I:I,Report!B:B,'CAPA DB'!E:E,\">=\"&Report!C3,'CAPA DB'!E:E,\"<=\"&Report!E3)","v":0},{"$f":"COUNTIFS('CAPA DB'!C:C,\"preventative\",'CAPA DB'!H:H,L13,'CAPA DB'!I:I,Report!B:B,'CAPA DB'!E:E,\">=\"&Report!C3,'CAPA DB'!E:E,\"<=\"&Report!E3)","v":0}]
[null,{"$f":"Lists!A10","v":"Infection Control"},null,0,{"$f":"COUNTIFS('CAPA DB'!C:C,\"preventative\",'CAPA DB'!H:H,E13,'CAPA DB'!I:I,Report!B:B,'CAPA DB'!E:E,\">=\"&Report!C3,'CAPA DB'!E:E,\"<=\"&Report!E3)","v":0},{"$f":"COUNTIFS('CAPA DB'!C:C,\"preventative\",'CAPA DB'!H:H,F13,'CAPA DB'!I:I,Report!B:B,'CAPA DB'!E:E,\">=\"&Report!C3,'CAPA DB'!E:E,\"<=\"&Report!E3)","v":0},{"$f":"COUNTIFS('CAPA DB'!C:C,\"preventative\",'CAPA DB'!H:H,G13,'CAPA DB'!I:I,Report!B:B,'CAPA DB'!E:E,\">=\"&Report!C3,'CAPA DB'!E:E,\"<=\"&Report!E3)","v":0},{"$f":"COUNTIFS('CAPA DB'!C:C,\"preventative\",'CAPA DB'!H:H,H13,'CAPA DB'!I:I,Report!B:B,'CAPA DB'!E:E,\">=\"&Report!C3,'CAPA DB'!E:E,\"<=\"&Report!E3)","v":0},{"$f":"COUNTIFS('CAPA DB'!C:C,\"preventative\",'CAPA DB'!H:H,I13,'CAPA DB'!I:I,Report!B:B,'CAPA DB'!E:E,\">=\"&Report!C3,'CAPA DB'!E:E,\"<=\"&Report!E3)","v":0},{"$f":"COUNTIFS('CAPA DB'!C:C,\"preventative\",'CAPA DB'!H:H,J13,'CAPA DB'!I:I,Report!B:B,'CAPA DB'!E:E,\">=\"&Report!C3,'CAPA DB'!E:E,\"<=\"&Report!E3)","v":0},{"$f":"COUNTIFS('CAPA DB'!C:C,\"preventative\",'CAPA DB'!H:H,K13,'CAPA DB'!I:I,Report!B:B,'CAPA DB'!E:E,\">=\"&Report!C3,'CAPA DB'!E:E,\"<=\"&Report!E3)","v":0},{"$f":"COUNTIFS('CAPA DB'!C:C,\"preventative\",'CAPA DB'!H:H,L13,'CAPA DB'!I:I,Report!B:B,'CAPA DB'!E:E,\">=\"&Report!C3,'CAPA DB'!E:E,\"<=\"&Report!E3)","v":0}]
[null,{"$f":"Lists!A11","v":"Information Governance"},null,0,{"$f":"COUNTIFS('CAPA DB'!C:C,\"preventative\",'CAPA DB'!H:H,E13,'CAPA DB'!I:I,Report!B:B,'CAPA DB'!E:E,\">=\"&Report!C3,'CAPA DB'!E:E,\"<=\"&Report!E3)","v":0},{"$f":"COUNTIFS('CAPA DB'!C:C,\"preventative\",'CAPA DB'!H:H,F13,'CAPA DB'!I:I,Report!B:B,'CAPA DB'!E:E,\">=\"&Report!C3,'CAPA DB'!E:E,\"<=\"&Report!E3)","v":0},{"$f":"COUNTIFS('CAPA DB'!C:C,\"preventative\",'CAPA DB'!H:H,G13,'CAPA DB'!I:I,Report!B:B,'CAPA DB'!E:E,\">=\"&Report!C3,'CAPA DB'!E:E,\"<=\"&Report!E3)","v":0},{"$f":"COUNTIFS('CAPA DB'!C:C,\"preventative\",'CAPA DB'!H:H,H13,'CAPA DB'!I:I,Report!B:B,'CAPA DB'!E:E,\">=\"&Report!C3,'CAPA DB'!E:E,\"<=\"&Report!E3)","v":0},{"$f":"COUNTIFS('CAPA DB'!C:C,\"preventative\",'CAPA DB'!H:H,I13,'CAPA DB'!I:I,Report!B:B,'CAPA DB'!E:E,\">=\"&Report!C3,'CAPA DB'!E:E,\"<=\"&Report!E3)","v":0},{"$f":"COUNTIFS('CAPA DB'!C:C,\"preventative\",'CAPA DB'!H:H,J13,'CAPA DB'!I:I,Report!B:B,'CAPA DB'!E:E,\">=\"&Report!C3,'CAPA DB'!E:E,\"<=\"&Report!E3)","v":0},{"$f":"COUNTIFS('CAPA DB'!C:C,\"preventative\",'CAPA DB'!H:H,K13,'CAPA DB'!I:I,Report!B:B,'CAPA DB'!E:E,\">=\"&Report!C3,'CAPA DB'!E:E,\"<=\"&Report!E3)","v":0},{"$f":"COUNTIFS('CAPA DB'!C:C,\"preventative\",'CAPA DB'!H:H,L13,'CAPA DB'!I:I,Report!B:B,'CAPA DB'!E:E,\">=\"&Report!C3,'CAPA DB'!E:E,\"<=\"&Report!E3)","v":0}]
[null,{"$f":"Lists!A12","v":"Information Technology"},null,0,{"$f":"COUNTIFS('CAPA DB'!C:C,\"preventative\",'CAPA DB'!H:H,E13,'CAPA DB'!I:I,Report!B:B,'CAPA DB'!E:E,\">=\"&Report!C3,'CAPA DB'!E:E,\"<=\"&Report!E3)","v":0},{"$f":"COUNTIFS('CAPA DB'!C:C,\"preventative\",'CAPA DB'!H:H,F13,'CAPA DB'!I:I,Report!B:B,'CAPA DB'!E:E,\">=\"&Report!C3,'CAPA DB'!E:E,\"<=\"&Report!E3)","v":0},{"$f":"COUNTIFS('CAPA DB'!C:C,\"preventative\",'CAPA DB'!H:H,G13,'CAPA DB'!I:I,Report!B:B,'CAPA DB'!E:E,\">=\"&Report!C3,'CAPA DB'!E:E,\"<=\"&Report!E3)","v":0},{"$f":"COUNTIFS('CAPA DB'!C:C,\"preventative\",'CAPA DB'!H:H,H13,'CAPA DB'!I:I,Report!B:B,'CAPA DB'!E:E,\">=\"&Report!C3,'CAPA DB'!E:E,\"<=\"&Report!E3)","v":0},{"$f":"COUNTIFS('CAPA DB'!C:C,\"preventative\",'CAPA DB'!H:H,I13,'CAPA DB'!I:I,Report!B:B,'CAPA DB'!E:E,\">=\"&Report!C3,'CAPA DB'!E:E,\"<=\"&Report!E3)","v":0},{"$f":"COUNTIFS('CAPA DB'!C:C,\"preventative\",'CAPA DB'!H:H,J13,'CAPA DB'!I:I,Report!B:B,'CAPA DB'!E:E,\">=\"&Report!C3,'CAPA DB'!E:E,\"<=\"&Report!E3)","v":0},{"$f":"COUNTIFS('CAPA DB'!C:C,\"preventative\",'CAPA DB'!H:H,K13,'CAPA DB'!I:I,Report!B:B,'CAPA DB'!E:E,\">=\"&Report!C3,'CAPA DB'!E:E,\"<=\"&Report!E3)","v":0},{"$f":"COUNTIFS('CAPA DB'!C:C,\"preventative\",'CAPA DB'!H:H,L13,'CAPA DB'!I:I,Report!B:B,'CAPA DB'!E:E,\">=\"&Report!C3,'CAPA DB'!E:E,\"<=\"&Report!E3)","v":0}]
[null,{"$f":"Lists!A13","v":"Manual Handling"},null,0,{"$f":"COUNTIFS('CAPA DB'!C:C,\"preventative\",'CAPA DB'!H:H,E13,'CAPA DB'!I:I,Report!B:B,'CAPA DB'!E:E,\">=\"&Report!C3,'CAPA DB'!E:E,\"<=\"&Report!E3)","v":0},{"$f":"COUNTIFS('CAPA DB'!C:C,\"preventative\",'CAPA DB'!H:H,F13,'CAPA DB'!I:I,Report!B:B,'CAPA DB'!E:E,\">=\"&Report!C3,'CAPA DB'!E:E,\"<=\"&Report!E3)","v":0},{"$f":"COUNTIFS('CAPA DB'!C:C,\"preventative\",'CAPA DB'!H:H,G13,'CAPA DB'!I:I,Report!B:B,'CAPA DB'!E:E,\">=\"&Report!C3,'CAPA DB'!E:E,\"<=\"&Report!E3)","v":0},{"$f":"COUNTIFS('CAPA DB'!C:C,\"preventative\",'CAPA DB'!H:H,H13,'CAPA DB'!I:I,Report!B:B,'CAPA DB'!E:E,\">=\"&Report!C3,'CAPA DB'!E:E,\"<=\"&Report!E3)","v":0},{"$f":"COUNTIFS('CAPA DB'!C:C,\"preventative\",'CAPA DB'!H:H,I13,'CAPA DB'!I:I,Report!B:B,'CAPA DB'!E:E,\">=\"&Report!C3,'CAPA DB'!E:E,\"<=\"&Report!E3)","v":0},{"$f":"COUNTIFS('CAPA DB'!C:C,\"preventative\",'CAPA DB'!H:H,J13,'CAPA DB'!I:I,Report!B:B,'CAPA DB'!E:E,\">=\"&Report!C3,'CAPA DB'!E:E,\"<=\"&Report!E3)","v":0},{"$f":"COUNTIFS('CAPA DB'!C:C,\"preventative\",'CAPA DB'!H:H,K13,'CAPA DB'!I:I,Report!B:B,'CAPA DB'!E:E,\">=\"&Report!C3,'CAPA DB'!E:E,\"<=\"&Report!E3)","v":0},{"$f":"COUNTIFS('CAPA DB'!C:C,\"preventative\",'CAPA DB'!H:H,L13,'CAPA DB'!I:I,Report!B:B,'CAPA DB'!E:E,\">=\"&Report!C3,'CAPA DB'!E:E,\"<=\"&Report!E3)","v":0}]
[null,{"$f":"Lists!A14","v":"Patient Care"},null,0,{"$f":"COUNTIFS('CAPA DB'!C:C,\"preventative\",'CAPA DB'!H:H,E13,'CAPA DB'!I:I,Report!B:B,'CAPA DB'!E:E,\">=\"&Report!C3,'CAPA DB'!E:E,\"<=\"&Report!E3)","v":0},{"$f":"COUNTIFS('CAPA DB'!C:C,\"preventative\",'CAPA DB'!H:H,F13,'CAPA DB'!I:I,Report!B:B,'CAPA DB'!E:E,\">=\"&Report!C3,'CAPA DB'!E:E,\"<=\"&Report!E3)","v":0},{"$f":"COUNTIFS('CAPA DB'!C:C,\"preventative\",'CAPA DB'!H:H,G13,'CAPA DB'!I:I,Report!B:B,'CAPA DB'!E:E,\">=\"&Report!C3,'CAPA DB'!E:E,\"<=\"&Report!E3)","v":0},{"$f":"COUNTIFS('CAPA DB'!C:C,\"preventative\",'CAPA DB'!H:H,H13,'CAPA DB'!I:I,Report!B:B,'CAPA DB'!E:E,\">=\"&Report!C3,'CAPA DB'!E:E,\"<=\"&Report!E3)","v":0},{"$f":"COUNTIFS('CAPA DB'!C:C,\"preventative\",'CAPA DB'!H:H,I13,'CAPA DB'!I:I,Report!B:B,'CAPA DB'!E:E,\">=\"&Report!C3,'CAPA DB'!E:E,\"<=\"&Report!E3)","v":0},{"$f":"COUNTIFS('CAPA DB'!C:C,\"preventative\",'CAPA DB'!H:H,J13,'CAPA DB'!I:I,Report!B:B,'CAPA DB'!E:E,\">=\"&Report!C3,'CAPA DB'!E:E,\"<=\"&Report!E3)","v":0},{"$f":"COUNTIFS('CAPA DB'!C:C,\"preventative\",'CAPA DB'!H:H,K13,'CAPA DB'!I:I,Report!B:B,'CAPA DB'!E:E,\">=\"&Report!C3,'CAPA DB'!E:E,\"<=\"&Report!E3)","v":0},{"$f":"COUNTIFS('CAPA DB'!C:C,\"preventative\",'CAPA DB'!H:H,L13,'CAPA DB'!I:I,Report!B:B,'CAPA DB'!E:E,\">=\"&Report!C3,'CAPA DB'!E:E,\"<=\"&Report!E3)","v":0}]
[null,{"$f":"Lists!A15","v":"Security"},null,0,{"$f":"COUNTIFS('CAPA DB'!C:C,\"preventative\",'CAPA DB'!H:H,E13,'CAPA DB'!I:I,Report!B:B,'CAPA DB'!E:E,\">=\"&Report!C3,'CAPA DB'!E:E,\"<=\"&Report!E3)","v":0},{"$f":"COUNTIFS('CAPA DB'!C:C,\"preventative\",'CAPA DB'!H:H,F13,'CAPA DB'!I:I,Report!B:B,'CAPA DB'!E:E,\">=\"&Report!C3,'CAPA DB'!E:E,\"<=\"&Report!E3)","v":0},{"$f":"COUNTIFS('CAPA DB'!C:C,\"preventative\",'CAPA DB'!H:H,G13,'CAPA DB'!I:I,Report!B:B,'CAPA DB'!E:E,\">=\"&Report!C3,'CAPA DB'!E:E,\"<=\"&Report!E3)","v":0},{"$f":"COUNTIFS('CAPA DB'!C:C,\"preventative\",'CAPA DB'!H:H,H13,'CAPA DB'!I:I,Report!B:B,'CAPA DB'!E:E,\">=\"&Report!C3,'CAPA DB'!E:E,\"<=\"&Report!E3)","v":0},{"$f":"COUNTIFS('CAPA DB'!C:C,\"preventative\",'CAPA DB'!H:H,I13,'CAPA DB'!I:I,Report!B:B,'CAPA DB'!E:E,\">=\"&Report!C3,'CAPA DB'!E:E,\"<=\"&Report!E3)","v":0},{"$f":"COUNTIFS('CAPA DB'!C:C,\"preventative\",'CAPA DB'!H:H,J13,'CAPA DB'!I:I,Report!B:B,'CAPA DB'!E:E,\">=\"&Report!C3,'CAPA DB'!E:E,\"<=\"&Report!E3)","v":0},{"$f":"COUNTIFS('CAPA DB'!C:C,\"preventative\",'CAPA DB'!H:H,K13,'CAPA DB'!I:I,Report!B:B,'CAPA DB'!E:E,\">=\"&Report!C3,'CAPA DB'!E:E,\"<=\"&Report!E3)","v":0},{"$f":"COUNTIFS('CAPA DB'!C:C,\"preventative\",'CAPA DB'!H:H,L13,'CAPA DB'!I:I,Report!B:B,'CAPA DB'!E:E,\">=\"&Report!C3,'CAPA DB'!E:E,\"<=\"&Report!E3)","v":0}]
[null,{"$f":"Lists!A16","v":"Staffing"},null,0,{"$f":"COUNTIFS('CAPA DB'!C:C,\"preventative\",'CAPA DB'!H:H,E13,'CAPA DB'!I:I,Report!B:B,'CAPA DB'!E:E,\">=\"&Report!C3,'CAPA DB'!E:E,\"<=\"&Report!E3)","v":0},{"$f":"COUNTIFS('CAPA DB'!C:C,\"preventative\",'CAPA DB'!H:H,F13,'CAPA DB'!I:I,Report!B:B,'CAPA DB'!E:E,\">=\"&Report!C3,'CAPA DB'!E:E,\"<=\"&Report!E3)","v":0},{"$f":"COUNTIFS('CAPA DB'!C:C,\"preventative\",'CAPA DB'!H:H,G13,'CAPA DB'!I:I,Report!B:B,'CAPA DB'!E:E,\">=\"&Report!C3,'CAPA DB'!E:E,\"<=\"&Report!E3)","v":0},{"$f":"COUNTIFS('CAPA DB'!C:C,\"preventative\",'CAPA DB'!H:H,H13,'CAPA DB'!I:I,Report!B:B,'CAPA DB'!E:E,\">=\"&Report!C3,'CAPA DB'!E:E,\"<=\"&Report!E3)","v":0},{"$f":"COUNTIFS('CAPA DB'!C:C,\"preventative\",'CAPA DB'!H:H,I13,'CAPA DB'!I:I,Report!B:B,'CAPA DB'!E:E,\">=\"&Report!C3,'CAPA DB'!E:E,\"<=\"&Report!E3)","v":0},{"$f":"COUNTIFS('CAPA DB'!C:C,\"preventative\",'CAPA DB'!H:H,J13,'CAPA DB'!I:I,Report!B:B,'CAPA DB'!E:E,\">=\"&Report!C3,'CAPA DB'!E:E,\"<=\"&Report!E3)","v":0},{"$f":"COUNTIFS('CAPA DB'!C:C,\"preventative\",'CAPA DB'!H:H,K13,'CAPA DB'!I:I,Report!B:B,'CAPA DB'!E:E,\">=\"&Report!C3,'CAPA DB'!E:E,\"<=\"&Report!E3)","v":0},{"$f":"COUNTIFS('CAPA DB'!C:C,\"preventative\",'CAPA DB'!H:H,L13,'CAPA DB'!I:I,Report!B:B,'CAPA DB'!E:E,\">=\"&Report!C3,'CAPA DB'!E:E,\"<=\"&Report!E3)","v":0}]
[null,{"$f":"Lists!A17","v":"Unsure - please detail"},null,0,{"$f":"COUNTIFS('CAPA DB'!C:C,\"preventative\",'CAPA DB'!H:H,E13,'CAPA DB'!I:I,Report!B:B,'CAPA DB'!E:E,\">=\"&Report!C3,'CAPA DB'!E:E,\"<=\"&Report!E3)","v":0},{"$f":"COUNTIFS('CAPA DB'!C:C,\"preventative\",'CAPA DB'!H:H,F13,'CAPA DB'!I:I,Report!B:B,'CAPA DB'!E:E,\">=\"&Report!C3,'CAPA DB'!E:E,\"<=\"&Report!E3)","v":0},{"$f":"COUNTIFS('CAPA DB'!C:C,\"preventative\",'CAPA DB'!H:H,G13,'CAPA DB'!I:I,Report!B:B,'CAPA DB'!E:E,\">=\"&Report!C3,'CAPA DB'!E:E,\"<=\"&Report!E3)","v":0},{"$f":"COUNTIFS('CAPA DB'!C:C,\"preventative\",'CAPA DB'!H:H,H13,'CAPA DB'!I:I,Report!B:B,'CAPA DB'!E:E,\">=\"&Report!C3,'CAPA DB'!E:E,\"<=\"&Report!E3)","v":0},{"$f":"COUNTIFS('CAPA DB'!C:C,\"preventative\",'CAPA DB'!H:H,I13,'CAPA DB'!I:I,Report!B:B,'CAPA DB'!E:E,\">=\"&Report!C3,'CAPA DB'!E:E,\"<=\"&Report!E3)","v":0},{"$f":"COUNTIFS('CAPA DB'!C:C,\"preventative\",'CAPA DB'!H:H,J13,'CAPA DB'!I:I,Report!B:B,'CAPA DB'!E:E,\">=\"&Report!C3,'CAPA DB'!E:E,\"<=\"&Report!E3)","v":0},{"$f":"COUNTIFS('CAPA DB'!C:C,\"preventative\",'CAPA DB'!H:H,K13,'CAPA DB'!I:I,Report!B:B,'CAPA DB'!E:E,\">=\"&Report!C3,'CAPA DB'!E:E,\"<=\"&Report!E3)","v":0},{"$f":"COUNTIFS('CAPA DB'!C:C,\"preventative\",'CAPA DB'!H:H,L13,'CAPA DB'!I:I,Report!B:B,'CAPA DB'!E:E,\">=\"&Report!C3,'CAPA DB'!E:E,\"<=\"&Report!E3)","v":0}]
[]
[null,"Area & Theme"]
[null,"Category",null,"Totals",{"$f":"Lists!E3","v":"Clinical"},{"$f":"Lists!E4","v":"Admin"},{"$f":"Lists!E5","v":0},{"$f":"Lists!E6","v":0},{"$f":"Lists!E7","v":0},{"$f":"Lists!E8","v":0},{"$f":"Lists!E9","v":0},{"$f":"Lists!E10","v":0}]
[null,{"$f":"Lists!G3","v":"[Human factors]"},null,{"$f":"SUM(E84:L84)","v":0},{"$f":"COUNTIFS('CAPA DB'!C:C,\"preventative\",'CAPA DB'!H:H,E13,'CAPA DB'!Y:Y,\"*\"&B84&\"*\",'CAPA DB'!E:E,\">=\"&Report!C3,'CAPA DB'!E:E,\"<=\"&Report!E3)","v":0},{"$f":"COUNTIFS('CAPA DB'!C:C,\"preventative\",'CAPA DB'!H:H,F13,'CAPA DB'!Y:Y,\"*\"&B84&\"*\",'CAPA DB'!E:E,\">=\"&Report!C3,'CAPA DB'!E:E,\"<=\"&Report!E3)","v":0},{"$f":"COUNTIFS('CAPA DB'!C:C,\"preventative\",'CAPA DB'!H:H,G13,'CAPA DB'!Y:Y,\"*\"&B84&\"*\",'CAPA DB'!E:E,\">=\"&Report!C3,'CAPA DB'!E:E,\"<=\"&Report!E3)","v":0},{"$f":"COUNTIFS('CAPA DB'!C:C,\"preventative\",'CAPA DB'!H:H,H13,'CAPA DB'!Y:Y,\"*\"&B84&\"*\",'CAPA DB'!E:E,\">=\"&Report!C3,'CAPA DB'!E:E,\"<=\"&Report!E3)","v":0},{"$f":"COUNTIFS('CAPA DB'!C:C,\"preventative\",'CAPA DB'!H:H,I13,'CAPA DB'!Y:Y,\"*\"&B84&\"*\",'CAPA DB'!E:E,\">=\"&Report!C3,'CAPA DB'!E:E,\"<=\"&Report!E3)","v":0},{"$f":"COUNTIFS('CAPA DB'!C:C,\"preventative\",'CAPA DB'!H:H,J13,'CAPA DB'!Y:Y,\"*\"&B84&\"*\",'CAPA DB'!E:E,\">=\"&Report!C3,'CAPA DB'!E:E,\"<=\"&Report!E3)","v":0},{"$f":"COUNTIFS('CAPA DB'!C:C,\"preventative\",'CAPA DB'!H:H,K13,'CAPA DB'!Y:Y,\"*\"&B84&\"*\",'CAPA DB'!E:E,\">=\"&Report!C3,'CAPA DB'!E:E,\"<=\"&Report!E3)","v":0},{"$f":"COUNTIFS('CAPA DB'!C:C,\"preventative\",'CAPA DB'!H:H,L13,'CAPA DB'!Y:Y,\"*\"&B84&\"*\",'CAPA DB'!E:E,\">=\"&Report!C3,'CAPA DB'!E:E,\"<=\"&Report!E3)","v":0}]
[null,{"$f":"Lists!G4","v":"[Training]"},null,{"$f":"SUM(E85:L85)","v":0},{"$f":"COUNTIFS('CAPA DB'!C:C,\"preventative\",'CAPA DB'!H:H,E13,'CAPA DB'!Y:Y,\"*\"&B85&\"*\",'CAPA DB'!E:E,\">=\"&Report!C3,'CAPA DB'!E:E,\"<=\"&Report!E3)","v":0},{"$f":"COUNTIFS('CAPA DB'!C:C,\"preventative\",'CAPA DB'!H:H,F13,'CAPA DB'!Y:Y,\"*\"&B85&\"*\",'CAPA DB'!E:E,\">=\"&Report!C3,'CAPA DB'!E:E,\"<=\"&Report!E3)","v":0},{"$f":"COUNTIFS('CAPA DB'!C:C,\"preventative\",'CAPA DB'!H:H,G13,'CAPA DB'!Y:Y,\"*\"&B85&\"*\",'CAPA DB'!E:E,\">=\"&Report!C3,'CAPA DB'!E:E,\"<=\"&Report!E3)","v":0},{"$f":"COUNTIFS('CAPA DB'!C:C,\"preventative\",'CAPA DB'!H:H,H13,'CAPA DB'!Y:Y,\"*\"&B85&\"*\",'CAPA DB'!E:E,\">=\"&Report!C3,'CAPA DB'!E:E,\"<=\"&Report!E3)","v":0},{"$f":"COUNTIFS('CAPA DB'!C:C,\"preventative\",'CAPA DB'!H:H,I13,'CAPA DB'!Y:Y,\"*\"&B85&\"*\",'CAPA DB'!E:E,\">=\"&Report!C3,'CAPA DB'!E:E,\"<=\"&Report!E3)","v":0},{"$f":"COUNTIFS('CAPA DB'!C:C,\"preventative\",'CAPA DB'!H:H,J13,'CAPA DB'!Y:Y,\"*\"&B85&\"*\",'CAPA DB'!E:E,\">=\"&Report!C3,'CAPA DB'!E:E,\"<=\"&Report!E3)","v":0},{"$f":"COUNTIFS('CAPA DB'!C:C,\"preventative\",'CAPA DB'!H:H,K13,'CAPA DB'!Y:Y,\"*\"&B85&\"*\",'CAPA DB'!E:E,\">=\"&Report!C3,'CAPA DB'!E:E,\"<=\"&Report!E3)","v":0},{"$f":"COUNTIFS('CAPA DB'!C:C,\"preventative\",'CAPA DB'!H:H,L13,'CAPA DB'!Y:Y,\"*\"&B85&\"*\",'CAPA DB'!E:E,\">=\"&Report!C3,'CAPA DB'!E:E,\"<=\"&Report!E3)","v":0}]
[null,{"$f":"Lists!G5","v":"[Readership]"},null,0,{"$f":"COUNTIFS('CAPA DB'!C:C,\"preventative\",'CAPA DB'!H:H,E13,'CAPA DB'!Y:Y,\"*\"&B86&\"*\",'CAPA DB'!E:E,\">=\"&Report!C3,'CAPA DB'!E:E,\"<=\"&Report!E3)","v":0},{"$f":"COUNTIFS('CAPA DB'!C:C,\"preventative\",'CAPA DB'!H:H,F13,'CAPA DB'!Y:Y,\"*\"&B86&\"*\",'CAPA DB'!E:E,\">=\"&Report!C3,'CAPA DB'!E:E,\"<=\"&Report!E3)","v":0},{"$f":"COUNTIFS('CAPA DB'!C:C,\"preventative\",'CAPA DB'!H:H,G13,'CAPA DB'!Y:Y,\"*\"&B86&\"*\",'CAPA DB'!E:E,\">=\"&Report!C3,'CAPA DB'!E:E,\"<=\"&Report!E3)","v":0},{"$f":"COUNTIFS('CAPA DB'!C:C,\"preventative\",'CAPA DB'!H:H,H13,'CAPA DB'!Y:Y,\"*\"&B86&\"*\",'CAPA DB'!E:E,\">=\"&Report!C3,'CAPA DB'!E:E,\"<=\"&Report!E3)","v":0},{"$f":"COUNTIFS('CAPA DB'!C:C,\"preventative\",'CAPA DB'!H:H,I13,'CAPA DB'!Y:Y,\"*\"&B86&\"*\",'CAPA DB'!E:E,\">=\"&Report!C3,'CAPA DB'!E:E,\"<=\"&Report!E3)","v":0},{"$f":"COUNTIFS('CAPA DB'!C:C,\"preventative\",'CAPA DB'!H:H,J13,'CAPA DB'!Y:Y,\"*\"&B86&\"*\",'CAPA DB'!E:E,\">=\"&Report!C3,'CAPA DB'!E:E,\"<=\"&Report!E3)","v":0},{"$f":"COUNTIFS('CAPA DB'!C:C,\"preventative\",'CAPA DB'!H:H,K13,'CAPA DB'!Y:Y,\"*\"&B86&\"*\",'CAPA DB'!E:E,\">=\"&Report!C3,'CAPA DB'!E:E,\"<=\"&Report!E3)","v":0},{"$f":"COUNTIFS('CAPA DB'!C:C,\"preventative\",'CAPA DB'!H:H,L13,'CAPA DB'!Y:Y,\"*\"&B86&\"*\",'CAPA DB'!E:E,\">=\"&Report!C3,'CAPA DB'!E:E,\"<=\"&Report!E3)","v":0}]
[null,{"$f":"Lists!G6","v":"[Staff levels (general)]"},null,0,{"$f":"COUNTIFS('CAPA DB'!C:C,\"preventative\",'CAPA DB'!H:H,E13,'CAPA DB'!Y:Y,\"*\"&B87&\"*\",'CAPA DB'!E:E,\">=\"&Report!C3,'CAPA DB'!E:E,\"<=\"&Report!E3)","v":0},{"$f":"COUNTIFS('CAPA DB'!C:C,\"preventative\",'CAPA DB'!H:H,F13,'CAPA DB'!Y:Y,\"*\"&B87&\"*\",'CAPA DB'!E:E,\">=\"&Report!C3,'CAPA DB'!E:E,\"<=\"&Report!E3)","v":0},{"$f":"COUNTIFS('CAPA DB'!C:C,\"preventative\",'CAPA DB'!H:H,G13,'CAPA DB'!Y:Y,\"*\"&B87&\"*\",'CAPA DB'!E:E,\">=\"&Report!C3,'CAPA DB'!E:E,\"<=\"&Report!E3)","v":0},{"$f":"COUNTIFS('CAPA DB'!C:C,\"preventative\",'CAPA DB'!H:H,H13,'CAPA DB'!Y:Y,\"*\"&B87&\"*\",'CAPA DB'!E:E,\">=\"&Report!C3,'CAPA DB'!E:E,\"<=\"&Report!E3)","v":0},{"$f":"COUNTIFS('CAPA DB'!C:C,\"preventative\",'CAPA DB'!H:H,I13,'CAPA DB'!Y:Y,\"*\"&B87&\"*\",'CAPA DB'!E:E,\">=\"&Report!C3,'CAPA DB'!E:E,\"<=\"&Report!E3)","v":0},{"$f":"COUNTIFS('CAPA DB'!C:C,\"preventative\",'CAPA DB'!H:H,J13,'CAPA DB'!Y:Y,\"*\"&B87&\"*\",'CAPA DB'!E:E,\">=\"&Report!C3,'CAPA DB'!E:E,\"<=\"&Report!E3)","v":0},{"$f":"COUNTIFS('CAPA DB'!C:C,\"preventative\",'CAPA DB'!H:H,K13,'CAPA DB'!Y:Y,\"*\"&B87&\"*\",'CAPA DB'!E:E,\">=\"&Report!C3,'CAPA DB'!E:E,\"<=\"&Report!E3)","v":0},{"$f":"COUNTIFS('CAPA DB'!C:C,\"preventative\",'CAPA DB'!H:H,L13,'CAPA DB'!Y:Y,\"*\"&B87&\"*\",'CAPA DB'!E:E,\">=\"&Report!C3,'CAPA DB'!E:E,\"<=\"&Report!E3)","v":0}]
[null,{"$f":"Lists!G7","v":"[Staff Sickness]"},null,0,{"$f":"COUNTIFS('CAPA DB'!C:C,\"preventative\",'CAPA DB'!H:H,E13,'CAPA DB'!Y:Y,\"*\"&B88&\"*\",'CAPA DB'!E:E,\">=\"&Report!C3,'CAPA DB'!E:E,\"<=\"&Report!E3)","v":0},{"$f":"COUNTIFS('CAPA DB'!C:C,\"preventative\",'CAPA DB'!H:H,F13,'CAPA DB'!Y:Y,\"*\"&B88&\"*\",'CAPA DB'!E:E,\">=\"&Report!C3,'CAPA DB'!E:E,\"<=\"&Report!E3)","v":0},{"$f":"COUNTIFS('CAPA DB'!C:C,\"preventative\",'CAPA DB'!H:H,G13,'CAPA DB'!Y:Y,\"*\"&B88&\"*\",'CAPA DB'!E:E,\">=\"&Report!C3,'CAPA DB'!E:E,\"<=\"&Report!E3)","v":0},{"$f":"COUNTIFS('CAPA DB'!C:C,\"preventative\",'CAPA DB'!H:H,H13,'CAPA DB'!Y:Y,\"*\"&B88&\"*\",'CAPA DB'!E:E,\">=\"&Report!C3,'CAPA DB'!E:E,\"<=\"&Report!E3)","v":0},{"$f":"COUNTIFS('CAPA DB'!C:C,\"preventative\",'CAPA DB'!H:H,I13,'CAPA DB'!Y:Y,\"*\"&B88&\"*\",'CAPA DB'!E:E,\">=\"&Report!C3,'CAPA DB'!E:E,\"<=\"&Report!E3)","v":0},{"$f":"COUNTIFS('CAPA DB'!C:C,\"preventative\",'CAPA DB'!H:H,J13,'CAPA DB'!Y:Y,\"*\"&B88&\"*\",'CAPA DB'!E:E,\">=\"&Report!C3,'CAPA DB'!E:E,\"<=\"&Report!E3)","v":0},{"$f":"COUNTIFS('CAPA DB'!C:C,\"preventative\",'CAPA DB'!H:H,K13,'CAPA DB'!Y:Y,\"*\"&B88&\"*\",'CAPA DB'!E:E,\">=\"&Report!C3,'CAPA DB'!E:E,\"<=\"&Report!E3)","v":0},{"$f":"COUNTIFS('CAPA DB'!C:C,\"preventative\",'CAPA DB'!H:H,L13,'CAPA DB'!Y:Y,\"*\"&B88&\"*\",'CAPA DB'!E:E,\">=\"&Report!C3,'CAPA DB'!E:E,\"<=\"&Report!E3)","v":0}]
[null,{"$f":"Lists!G8","v":"[Rota/allocation]"},null,0,{"$f":"COUNTIFS('CAPA DB'!C:C,\"preventative\",'CAPA DB'!H:H,E13,'CAPA DB'!Y:Y,\"*\"&B89&\"*\",'CAPA DB'!E:E,\">=\"&Report!C3,'CAPA DB'!E:E,\"<=\"&Report!E3)","v":0},{"$f":"COUNTIFS('CAPA DB'!C:C,\"preventative\",'CAPA DB'!H:H,F13,'CAPA DB'!Y:Y,\"*\"&B89&\"*\",'CAPA DB'!E:E,\">=\"&Report!C3,'CAPA DB'!E:E,\"<=\"&Report!E3)","v":0},{"$f":"COUNTIFS('CAPA DB'!C:C,\"preventative\",'CAPA DB'!H:H,G13,'CAPA DB'!Y:Y,\"*\"&B89&\"*\",'CAPA DB'!E:E,\">=\"&Report!C3,'CAPA DB'!E:E,\"<=\"&Report!E3)","v":0},{"$f":"COUNTIFS('CAPA DB'!C:C,\"preventative\",'CAPA DB'!H:H,H13,'CAPA DB'!Y:Y,\"*\"&B89&\"*\",'CAPA DB'!E:E,\">=\"&Report!C3,'CAPA DB'!E:E,\"<=\"&Report!E3)","v":0},{"$f":"COUNTIFS('CAPA DB'!C:C,\"preventative\",'CAPA DB'!H:H,I13,'CAPA DB'!Y:Y,\"*\"&B89&\"*\",'CAPA DB'!E:E,\">=\"&Report!C3,'CAPA DB'!E:E,\"<=\"&Report!E3)","v":0},{"$f":"COUNTIFS('CAPA DB'!C:C,\"preventative\",'CAPA DB'!H:H,J13,'CAPA DB'!Y:Y,\"*\"&B89&\"*\",'CAPA DB'!E:E,\">=\"&Report!C3,'CAPA DB'!E:E,\"<=\"&Report!E3)","v":0},{"$f":"COUNTIFS('CAPA DB'!C:C,\"preventative\",'CAPA DB'!H:H,K13,'CAPA DB'!Y:Y,\"*\"&B89&\"*\",'CAPA DB'!E:E,\">=\"&Report!C3,'CAPA DB'!E:E,\"<=\"&Report!E3)","v":0},{"$f":"COUNTIFS('CAPA DB'!C:C,\"preventative\",'CAPA DB'!H:H,L13,'CAPA DB'!Y:Y,\"*\"&B89&\"*\",'CAPA DB'!E:E,\">=\"&Report!C3,'CAPA DB'!E:E,\"<=\"&Report!E3)","v":0}]
[null,{"$f":"Lists!G9","v":"[Time pressures]"},null,0,{"$f":"COUNTIFS('CAPA DB'!C:C,\"preventative\",'CAPA DB'!H:H,E13,'CAPA DB'!Y:Y,\"*\"&B90&\"*\",'CAPA DB'!E:E,\">=\"&Report!C3,'CAPA DB'!E:E,\"<=\"&Report!E3)","v":0},{"$f":"COUNTIFS('CAPA DB'!C:C,\"preventative\",'CAPA DB'!H:H,F13,'CAPA DB'!Y:Y,\"*\"&B90&\"*\",'CAPA DB'!E:E,\">=\"&Report!C3,'CAPA DB'!E:E,\"<=\"&Report!E3)","v":0},{"$f":"COUNTIFS('CAPA DB'!C:C,\"preventative\",'CAPA DB'!H:H,G13,'CAPA DB'!Y:Y,\"*\"&B90&\"*\",'CAPA DB'!E:E,\">=\"&Report!C3,'CAPA DB'!E:E,\"<=\"&Report!E3)","v":0},{"$f":"COUNTIFS('CAPA DB'!C:C,\"preventative\",'CAPA DB'!H:H,H13,'CAPA DB'!Y:Y,\"*\"&B90&\"*\",'CAPA DB'!E:E,\">=\"&Report!C3,'CAPA DB'!E:E,\"<=\"&Report!E3)","v":0},{"$f":"COUNTIFS('CAPA DB'!C:C,\"preventative\",'CAPA DB'!H:H,I13,'CAPA DB'!Y:Y,\"*\"&B90&\"*\",'CAPA DB'!E:E,\">=\"&Report!C3,'CAPA DB'!E:E,\"<=\"&Report!E3)","v":0},{"$f":"COUNTIFS('CAPA DB'!C:C,\"preventative\",'CAPA DB'!H:H,J13,'CAPA DB'!Y:Y,\"*\"&B90&\"*\",'CAPA DB'!E:E,\">=\"&Report!C3,'CAPA DB'!E:E,\"<=\"&Report!E3)","v":0},{"$f":"COUNTIFS('CAPA DB'!C:C,\"preventative\",'CAPA DB'!H:H,K13,'CAPA DB'!Y:Y,\"*\"&B90&\"*\",'CAPA DB'!E:E,\">=\"&Report!C3,'CAPA DB'!E:E,\"<=\"&Report!E3)","v":0},{"$f":"COUNTIFS('CAPA DB'!C:C,\"preventative\",'CAPA DB'!H:H,L13,'CAPA DB'!Y:Y,\"*\"&B90&\"*\",'CAPA DB'!E:E,\">=\"&Report!C3,'CAPA DB'!E:E,\"<=\"&Report!E3)","v":0}]
[null,{"$f":"Lists!G10","v":"[Locum/Temps]"},null,0,{"$f":"COUNTIFS('CAPA DB'!C:C,\"preventative\",'CAPA DB'!H:H,E13,'CAPA DB'!Y:Y,\"*\"&B91&\"*\",'CAPA DB'!E:E,\">=\"&Report!C3,'CAPA DB'!E:E,\"<=\"&Report!E3)","v":0},{"$f":"COUNTIFS('CAPA DB'!C:C,\"preventative\",'CAPA DB'!H:H,F13,'CAPA DB'!Y:Y,\"*\"&B91&\"*\",'CAPA DB'!E:E,\">=\"&Report!C3,'CAPA DB'!E:E,\"<=\"&Report!E3)","v":0},{"$f":"COUNTIFS('CAPA DB'!C:C,\"preventative\",'CAPA DB'!H:H,G13,'CAPA DB'!Y:Y,\"*\"&B91&\"*\",'CAPA DB'!E:E,\">=\"&Report!C3,'CAPA DB'!E:E,\"<=\"&Report!E3)","v":0},{"$f":"COUNTIFS('CAPA DB'!C:C,\"preventative\",'CAPA DB'!H:H,H13,'CAPA DB'!Y:Y,\"*\"&B91&\"*\",'CAPA DB'!E:E,\">=\"&Report!C3,'CAPA DB'!E:E,\"<=\"&Report!E3)","v":0},{"$f":"COUNTIFS('CAPA DB'!C:C,\"preventative\",'CAPA DB'!H:H,I13,'CAPA DB'!Y:Y,\"*\"&B91&\"*\",'CAPA DB'!E:E,\">=\"&Report!C3,'CAPA DB'!E:E,\"<=\"&Report!E3)","v":0},{"$f":"COUNTIFS('CAPA DB'!C:C,\"preventative\",'CAPA DB'!H:H,J13,'CAPA DB'!Y:Y,\"*\"&B91&\"*\",'CAPA DB'!E:E,\">=\"&Report!C3,'CAPA DB'!E:E,\"<=\"&Report!E3)","v":0},{"$f":"COUNTIFS('CAPA DB'!C:C,\"preventative\",'CAPA DB'!H:H,K13,'CAPA DB'!Y:Y,\"*\"&B91&\"*\",'CAPA DB'!E:E,\">=\"&Report!C3,'CAPA DB'!E:E,\"<=\"&Report!E3)","v":0},{"$f":"COUNTIFS('CAPA DB'!C:C,\"preventative\",'CAPA DB'!H:H,L13,'CAPA DB'!Y:Y,\"*\"&B91&\"*\",'CAPA DB'!E:E,\">=\"&Report!C3,'CAPA DB'!E:E,\"<=\"&Report!E3)","v":0}]
[null,{"$f":"Lists!G11","v":"[Communication failure]"},null,0,{"$f":"COUNTIFS('CAPA DB'!C:C,\"preventative\",'CAPA DB'!H:H,E13,'CAPA DB'!Y:Y,\"*\"&B92&\"*\",'CAPA DB'!E:E,\">=\"&Report!C3,'CAPA DB'!E:E,\"<=\"&Report!E3)","v":0},{"$f":"COUNTIFS('CAPA DB'!C:C,\"preventative\",'CAPA DB'!H:H,F13,'CAPA DB'!Y:Y,\"*\"&B92&\"*\",'CAPA DB'!E:E,\">=\"&Report!C3,'CAPA DB'!E:E,\"<=\"&Report!E3)","v":0},{"$f":"COUNTIFS('CAPA DB'!C:C,\"preventative\",'CAPA DB'!H:H,G13,'CAPA DB'!Y:Y,\"*\"&B92&\"*\",'CAPA DB'!E:E,\">=\"&Report!C3,'CAPA DB'!E:E,\"<=\"&Report!E3)","v":0},{"$f":"COUNTIFS('CAPA DB'!C:C,\"preventative\",'CAPA DB'!H:H,H13,'CAPA DB'!Y:Y,\"*\"&B92&\"*\",'CAPA DB'!E:E,\">=\"&Report!C3,'CAPA DB'!E:E,\"<=\"&Report!E3)","v":0},{"$f":"COUNTIFS('CAPA DB'!C:C,\"preventative\",'CAPA DB'!H:H,I13,'CAPA DB'!Y:Y,\"*\"&B92&\"*\",'CAPA DB'!E:E,\">=\"&Report!C3,'CAPA DB'!E:E,\"<=\"&Report!E3)","v":0},{"$f":"COUNTIFS('CAPA DB'!C:C,\"preventative\",'CAPA DB'!H:H,J13,'CAPA DB'!Y:Y,\"*\"&B92&\"*\",'CAPA DB'!E:E,\">=\"&Report!C3,'CAPA DB'!E:E,\"<=\"&Report!E3)","v":0},{"$f":"COUNTIFS('CAPA DB'!C:C,\"preventative\",'CAPA DB'!H:H,K13,'CAPA DB'!Y:Y,\"*\"&B92&\"*\",'CAPA DB'!E:E,\">=\"&Report!C3,'CAPA DB'!E:E,\"<=\"&Report!E3)","v":0},{"$f":"COUNTIFS('CAPA DB'!C:C,\"preventative\",'CAPA DB'!H:H,L13,'CAPA DB'!Y:Y,\"*\"&B92&\"*\",'CAPA DB'!E:E,\">=\"&Report!C3,'CAPA DB'!E:E,\"<=\"&Report!E3)","v":0}]
[null,{"$f":"Lists!G12","v":"[Fault in process]"},null,0,{"$f":"COUNTIFS('CAPA DB'!C:C,\"preventative\",'CAPA DB'!H:H,E13,'CAPA DB'!Y:Y,\"*\"&B93&\"*\",'CAPA DB'!E:E,\">=\"&Report!C3,'CAPA DB'!E:E,\"<=\"&Report!E3)","v":0},{"$f":"COUNTIFS('CAPA DB'!C:C,\"preventative\",'CAPA DB'!H:H,F13,'CAPA DB'!Y:Y,\"*\"&B93&\"*\",'CAPA DB'!E:E,\">=\"&Report!C3,'CAPA DB'!E:E,\"<=\"&Report!E3)","v":0},{"$f":"COUNTIFS('CAPA DB'!C:C,\"preventative\",'CAPA DB'!H:H,G13,'CAPA DB'!Y:Y,\"*\"&B93&\"*\",'CAPA DB'!E:E,\">=\"&Report!C3,'CAPA DB'!E:E,\"<=\"&Report!E3)","v":0},{"$f":"COUNTIFS('CAPA DB'!C:C,\"preventative\",'CAPA DB'!H:H,H13,'CAPA DB'!Y:Y,\"*\"&B93&\"*\",'CAPA DB'!E:E,\">=\"&Report!C3,'CAPA DB'!E:E,\"<=\"&Report!E3)","v":0},{"$f":"COUNTIFS('CAPA DB'!C:C,\"preventative\",'CAPA DB'!H:H,I13,'CAPA DB'!Y:Y,\"*\"&B93&\"*\",'CAPA DB'!E:E,\">=\"&Report!C3,'CAPA DB'!E:E,\"<=\"&Report!E3)","v":0},{"$f":"COUNTIFS('CAPA DB'!C:C,\"preventative\",'CAPA DB'!H:H,J13,'CAPA DB'!Y:Y,\"*\"&B93&\"*\",'CAPA DB'!E:E,\">=\"&Report!C3,'CAPA DB'!E:E,\"<=\"&Report!E3)","v":0},{"$f":"COUNTIFS('CAPA DB'!C:C,\"preventative\",'CAPA DB'!H:H,K13,'CAPA DB'!Y:Y,\"*\"&B93&\"*\",'CAPA DB'!E:E,\">=\"&Report!C3,'CAPA DB'!E:E,\"<=\"&Report!E3)","v":0},{"$f":"COUNTIFS('CAPA DB'!C:C,\"preventative\",'CAPA DB'!H:H,L13,'CAPA DB'!Y:Y,\"*\"&B93&\"*\",'CAPA DB'!E:E,\">=\"&Report!C3,'CAPA DB'!E:E,\"<=\"&Report!E3)","v":0}]
[null,{"$f":"Lists!G13","v":"[Process not defined]"},null,0,{"$f":"COUNTIFS('CAPA DB'!C:C,\"preventative\",'CAPA DB'!H:H,E13,'CAPA DB'!Y:Y,\"*\"&B94&\"*\",'CAPA DB'!E:E,\">=\"&Report!C3,'CAPA DB'!E:E,\"<=\"&Report!E3)","v":0},{"$f":"COUNTIFS('CAPA DB'!C:C,\"preventative\",'CAPA DB'!H:H,F13,'CAPA DB'!Y:Y,\"*\"&B94&\"*\",'CAPA DB'!E:E,\">=\"&Report!C3,'CAPA DB'!E:E,\"<=\"&Report!E3)","v":0},{"$f":"COUNTIFS('CAPA DB'!C:C,\"preventative\",'CAPA DB'!H:H,G13,'CAPA DB'!Y:Y,\"*\"&B94&\"*\",'CAPA DB'!E:E,\">=\"&Report!C3,'CAPA DB'!E:E,\"<=\"&Report!E3)","v":0},{"$f":"COUNTIFS('CAPA DB'!C:C,\"preventative\",'CAPA DB'!H:H,H13,'CAPA DB'!Y:Y,\"*\"&B94&\"*\",'CAPA DB'!E:E,\">=\"&Report!C3,'CAPA DB'!E:E,\"<=\"&Report!E3)","v":0},{"$f":"COUNTIFS('CAPA DB'!C:C,\"preventative\",'CAPA DB'!H:H,I13,'CAPA DB'!Y:Y,\"*\"&B94&\"*\",'CAPA DB'!E:E,\">=\"&Report!C3,'CAPA DB'!E:E,\"<=\"&Report!E3)","v":0},{"$f":"COUNTIFS('CAPA DB'!C:C,\"preventative\",'CAPA DB'!H:H,J13,'CAPA DB'!Y:Y,\"*\"&B94&\"*\",'CAPA DB'!E:E,\">=\"&Report!C3,'CAPA DB'!E:E,\"<=\"&Report!E3)","v":0},{"$f":"COUNTIFS('CAPA DB'!C:C,\"preventative\",'CAPA DB'!H:H,K13,'CAPA DB'!Y:Y,\"*\"&B94&\"*\",'CAPA DB'!E:E,\">=\"&Report!C3,'CAPA DB'!E:E,\"<=\"&Report!E3)","v":0},{"$f":"COUNTIFS('CAPA DB'!C:C,\"preventative\",'CAPA DB'!H:H,L13,'CAPA DB'!Y:Y,\"*\"&B94&\"*\",'CAPA DB'!E:E,\">=\"&Report!C3,'CAPA DB'!E:E,\"<=\"&Report!E3)","v":0}]
[null,{"$f":"Lists!G14","v":"[Capacity vs demand]"},null,0,{"$f":"COUNTIFS('CAPA DB'!C:C,\"preventative\",'CAPA DB'!H:H,E13,'CAPA DB'!Y:Y,\"*\"&B95&\"*\",'CAPA DB'!E:E,\">=\"&Report!C3,'CAPA DB'!E:E,\"<=\"&Report!E3)","v":0},{"$f":"COUNTIFS('CAPA DB'!C:C,\"preventative\",'CAPA DB'!H:H,F13,'CAPA DB'!Y:Y,\"*\"&B95&\"*\",'CAPA DB'!E:E,\">=\"&Report!C3,'CAPA DB'!E:E,\"<=\"&Report!E3)","v":0},{"$f":"COUNTIFS('CAPA DB'!C:C,\"preventative\",'CAPA DB'!H:H,G13,'CAPA DB'!Y:Y,\"*\"&B95&\"*\",'CAPA DB'!E:E,\">=\"&Report!C3,'CAPA DB'!E:E,\"<=\"&Report!E3)","v":0},{"$f":"COUNTIFS('CAPA DB'!C:C,\"preventative\",'CAPA DB'!H:H,H13,'CAPA DB'!Y:Y,\"*\"&B95&\"*\",'CAPA DB'!E:E,\">=\"&Report!C3,'CAPA DB'!E:E,\"<=\"&Report!E3)","v":0},{"$f":"COUNTIFS('CAPA DB'!C:C,\"preventative\",'CAPA DB'!H:H,I13,'CAPA DB'!Y:Y,\"*\"&B95&\"*\",'CAPA DB'!E:E,\">=\"&Report!C3,'CAPA DB'!E:E,\"<=\"&Report!E3)","v":0},{"$f":"COUNTIFS('CAPA DB'!C:C,\"preventative\",'CAPA DB'!H:H,J13,'CAPA DB'!Y:Y,\"*\"&B95&\"*\",'CAPA DB'!E:E,\">=\"&Report!C3,'CAPA DB'!E:E,\"<=\"&Report!E3)","v":0},{"$f":"COUNTIFS('CAPA DB'!C:C,\"preventative\",'CAPA DB'!H:H,K13,'CAPA DB'!Y:Y,\"*\"&B95&\"*\",'CAPA DB'!E:E,\">=\"&Report!C3,'CAPA DB'!E:E,\"<=\"&Report!E3)","v":0},{"$f":"COUNTIFS('CAPA DB'!C:C,\"preventative\",'CAPA DB'!H:H,L13,'CAPA DB'!Y:Y,\"*\"&B95&\"*\",'CAPA DB'!E:E,\">=\"&Report!C3,'CAPA DB'!E:E,\"<=\"&Report!E3)","v":0}]
[null,{"$f":"Lists!G15","v":"[Equipment]"},null,0,{"$f":"COUNTIFS('CAPA DB'!C:C,\"preventative\",'CAPA DB'!H:H,E13,'CAPA DB'!Y:Y,\"*\"&B96&\"*\",'CAPA DB'!E:E,\">=\"&Report!C3,'CAPA DB'!E:E,\"<=\"&Report!E3)","v":0},{"$f":"COUNTIFS('CAPA DB'!C:C,\"preventative\",'CAPA DB'!H:H,F13,'CAPA DB'!Y:Y,\"*\"&B96&\"*\",'CAPA DB'!E:E,\">=\"&Report!C3,'CAPA DB'!E:E,\"<=\"&Report!E3)","v":0},{"$f":"COUNTIFS('CAPA DB'!C:C,\"preventative\",'CAPA DB'!H:H,G13,'CAPA DB'!Y:Y,\"*\"&B96&\"*\",'CAPA DB'!E:E,\">=\"&Report!C3,'CAPA DB'!E:E,\"<=\"&Report!E3)","v":0},{"$f":"COUNTIFS('CAPA DB'!C:C,\"preventative\",'CAPA DB'!H:H,H13,'CAPA DB'!Y:Y,\"*\"&B96&\"*\",'CAPA DB'!E:E,\">=\"&Report!C3,'CAPA DB'!E:E,\"<=\"&Report!E3)","v":0},{"$f":"COUNTIFS('CAPA DB'!C:C,\"preventative\",'CAPA DB'!H:H,I13,'CAPA DB'!Y:Y,\"*\"&B96&\"*\",'CAPA DB'!E:E,\">=\"&Report!C3,'CAPA DB'!E:E,\"<=\"&Report!E3)","v":0},{"$f":"COUNTIFS('CAPA DB'!C:C,\"preventative\",'CAPA DB'!H:H,J13,'CAPA DB'!Y:Y,\"*\"&B96&\"*\",'CAPA DB'!E:E,\">=\"&Report!C3,'CAPA DB'!E:E,\"<=\"&Report!E3)","v":0},{"$f":"COUNTIFS('CAPA DB'!C:C,\"preventative\",'CAPA DB'!H:H,K13,'CAPA DB'!Y:Y,\"*\"&B96&\"*\",'CAPA DB'!E:E,\">=\"&Report!C3,'CAPA DB'!E:E,\"<=\"&Report!E3)","v":0},{"$f":"COUNTIFS('CAPA DB'!C:C,\"preventative\",'CAPA DB'!H:H,L13,'CAPA DB'!Y:Y,\"*\"&B96&\"*\",'CAPA DB'!E:E,\">=\"&Report!C3,'CAPA DB'!E:E,\"<=\"&Report!E3)","v":0}]
[null,{"$f":"Lists!G16","v":"[Software]"},null,0,{"$f":"COUNTIFS('CAPA DB'!C:C,\"preventative\",'CAPA DB'!H:H,E13,'CAPA DB'!Y:Y,\"*\"&B97&\"*\",'CAPA DB'!E:E,\">=\"&Report!C3,'CAPA DB'!E:E,\"<=\"&Report!E3)","v":0},{"$f":"COUNTIFS('CAPA DB'!C:C,\"preventative\",'CAPA DB'!H:H,F13,'CAPA DB'!Y:Y,\"*\"&B97&\"*\",'CAPA DB'!E:E,\">=\"&Report!C3,'CAPA DB'!E:E,\"<=\"&Report!E3)","v":0},{"$f":"COUNTIFS('CAPA DB'!C:C,\"preventative\",'CAPA DB'!H:H,G13,'CAPA DB'!Y:Y,\"*\"&B97&\"*\",'CAPA DB'!E:E,\">=\"&Report!C3,'CAPA DB'!E:E,\"<=\"&Report!E3)","v":0},{"$f":"COUNTIFS('CAPA DB'!C:C,\"preventative\",'CAPA DB'!H:H,H13,'CAPA DB'!Y:Y,\"*\"&B97&\"*\",'CAPA DB'!E:E,\">=\"&Report!C3,'CAPA DB'!E:E,\"<=\"&Report!E3)","v":0},{"$f":"COUNTIFS('CAPA DB'!C:C,\"preventative\",'CAPA DB'!H:H,I13,'CAPA DB'!Y:Y,\"*\"&B97&\"*\",'CAPA DB'!E:E,\">=\"&Report!C3,'CAPA DB'!E:E,\"<=\"&Report!E3)","v":0},{"$f":"COUNTIFS('CAPA DB'!C:C,\"preventative\",'CAPA DB'!H:H,J13,'CAPA DB'!Y:Y,\"*\"&B97&\"*\",'CAPA DB'!E:E,\">=\"&Report!C3,'CAPA DB'!E:E,\"<=\"&Report!E3)","v":0},{"$f":"COUNTIFS('CAPA DB'!C:C,\"preventative\",'CAPA DB'!H:H,K13,'CAPA DB'!Y:Y,\"*\"&B97&\"*\",'CAPA DB'!E:E,\">=\"&Report!C3,'CAPA DB'!E:E,\"<=\"&Report!E3)","v":0},{"$f":"COUNTIFS('CAPA DB'!C:C,\"preventative\",'CAPA DB'!H:H,L13,'CAPA DB'!Y:Y,\"*\"&B97&\"*\",'CAPA DB'!E:E,\">=\"&Report!C3,'CAPA DB'!E:E,\"<=\"&Report!E3)","v":0}]
[null,{"$f":"Lists!G17","v":"[Availability of supplies]"},null,0,{"$f":"COUNTIFS('CAPA DB'!C:C,\"preventative\",'CAPA DB'!H:H,E13,'CAPA DB'!Y:Y,\"*\"&B98&\"*\",'CAPA DB'!E:E,\">=\"&Report!C3,'CAPA DB'!E:E,\"<=\"&Report!E3)","v":0},{"$f":"COUNTIFS('CAPA DB'!C:C,\"preventative\",'CAPA DB'!H:H,F13,'CAPA DB'!Y:Y,\"*\"&B98&\"*\",'CAPA DB'!E:E,\">=\"&Report!C3,'CAPA DB'!E:E,\"<=\"&Report!E3)","v":0},{"$f":"COUNTIFS('CAPA DB'!C:C,\"preventative\",'CAPA DB'!H:H,G13,'CAPA DB'!Y:Y,\"*\"&B98&\"*\",'CAPA DB'!E:E,\">=\"&Report!C3,'CAPA DB'!E:E,\"<=\"&Report!E3)","v":0},{"$f":"COUNTIFS('CAPA DB'!C:C,\"preventative\",'CAPA DB'!H:H,H13,'CAPA DB'!Y:Y,\"*\"&B98&\"*\",'CAPA DB'!E:E,\">=\"&Report!C3,'CAPA DB'!E:E,\"<=\"&Report!E3)","v":0},{"$f":"COUNTIFS('CAPA DB'!C:C,\"preventative\",'CAPA DB'!H:H,I13,'CAPA DB'!Y:Y,\"*\"&B98&\"*\",'CAPA DB'!E:E,\">=\"&Report!C3,'CAPA DB'!E:E,\"<=\"&Report!E3)","v":0},{"$f":"COUNTIFS('CAPA DB'!C:C,\"preventative\",'CAPA DB'!H:H,J13,'CAPA DB'!Y:Y,\"*\"&B98&\"*\",'CAPA DB'!E:E,\">=\"&Report!C3,'CAPA DB'!E:E,\"<=\"&Report!E3)","v":0},{"$f":"COUNTIFS('CAPA DB'!C:C,\"preventative\",'CAPA DB'!H:H,K13,'CAPA DB'!Y:Y,\"*\"&B98&\"*\",'CAPA DB'!E:E,\">=\"&Report!C3,'CAPA DB'!E:E,\"<=\"&Report!E3)","v":0},{"$f":"COUNTIFS('CAPA DB'!C:C,\"preventative\",'CAPA DB'!H:H,L13,'CAPA DB'!Y:Y,\"*\"&B98&\"*\",'CAPA DB'!E:E,\">=\"&Report!C3,'CAPA DB'!E:E,\"<=\"&Report!E3)","v":0}]
[null,{"$f":"Lists!G18","v":"[Quality of Supplies]"},null,0,{"$f":"COUNTIFS('CAPA DB'!C:C,\"preventative\",'CAPA DB'!H:H,E13,'CAPA DB'!Y:Y,\"*\"&B99&\"*\",'CAPA DB'!E:E,\">=\"&Report!C3,'CAPA DB'!E:E,\"<=\"&Report!E3)","v":0},{"$f":"COUNTIFS('CAPA DB'!C:C,\"preventative\",'CAPA DB'!H:H,F13,'CAPA DB'!Y:Y,\"*\"&B99&\"*\",'CAPA DB'!E:E,\">=\"&Report!C3,'CAPA DB'!E:E,\"<=\"&Report!E3)","v":0},{"$f":"COUNTIFS('CAPA DB'!C:C,\"preventative\",'CAPA DB'!H:H,G13,'CAPA DB'!Y:Y,\"*\"&B99&\"*\",'CAPA DB'!E:E,\">=\"&Report!C3,'CAPA DB'!E:E,\"<=\"&Report!E3)","v":0},{"$f":"COUNTIFS('CAPA DB'!C:C,\"preventative\",'CAPA DB'!H:H,H13,'CAPA DB'!Y:Y,\"*\"&B99&\"*\",'CAPA DB'!E:E,\">=\"&Report!C3,'CAPA DB'!E:E,\"<=\"&Report!E3)","v":0},{"$f":"COUNTIFS('CAPA DB'!C:C,\"preventative\",'CAPA DB'!H:H,I13,'CAPA DB'!Y:Y,\"*\"&B99&\"*\",'CAPA DB'!E:E,\">=\"&Report!C3,'CAPA DB'!E:E,\"<=\"&Report!E3)","v":0},{"$f":"COUNTIFS('CAPA DB'!C:C,\"preventative\",'CAPA DB'!H:H,J13,'CAPA DB'!Y:Y,\"*\"&B99&\"*\",'CAPA DB'!E:E,\">=\"&Report!C3,'CAPA DB'!E:E,\"<=\"&Report!E3)","v":0},{"$f":"COUNTIFS('CAPA DB'!C:C,\"preventative\",'CAPA DB'!H:H,K13,'CAPA DB'!Y:Y,\"*\"&B99&\"*\",'CAPA DB'!E:E,\">=\"&Report!C3,'CAPA DB'!E:E,\"<=\"&Report!E3)","v":0},{"$f":"COUNTIFS('CAPA DB'!C:C,\"preventative\",'CAPA DB'!H:H,L13,'CAPA DB'!Y:Y,\"*\"&B99&\"*\",'CAPA DB'!E:E,\">=\"&Report!C3,'CAPA DB'!E:E,\"<=\"&Report!E3)","v":0}]
[null,{"$f":"Lists!G19","v":"[Documentation]"},null,0,{"$f":"COUNTIFS('CAPA DB'!C:C,\"preventative\",'CAPA DB'!H:H,E13,'CAPA DB'!Y:Y,\"*\"&B100&\"*\",'CAPA DB'!E:E,\">=\"&Report!C3,'CAPA DB'!E:E,\"<=\"&Report!E3)","v":0},{"$f":"COUNTIFS('CAPA DB'!C:C,\"preventative\",'CAPA DB'!H:H,F13,'CAPA DB'!Y:Y,\"*\"&B100&\"*\",'CAPA DB'!E:E,\">=\"&Report!C3,'CAPA DB'!E:E,\"<=\"&Report!E3)","v":0},{"$f":"COUNTIFS('CAPA DB'!C:C,\"preventative\",'CAPA DB'!H:H,G13,'CAPA DB'!Y:Y,\"*\"&B100&\"*\",'CAPA DB'!E:E,\">=\"&Report!C3,'CAPA DB'!E:E,\"<=\"&Report!E3)","v":0},{"$f":"COUNTIFS('CAPA DB'!C:C,\"preventative\",'CAPA DB'!H:H,H13,'CAPA DB'!Y:Y,\"*\"&B100&\"*\",'CAPA DB'!E:E,\">=\"&Report!C3,'CAPA DB'!E:E,\"<=\"&Report!E3)","v":0},{"$f":"COUNTIFS('CAPA DB'!C:C,\"preventative\",'CAPA DB'!H:H,I13,'CAPA DB'!Y:Y,\"*\"&B100&\"*\",'CAPA DB'!E:E,\">=\"&Report!C3,'CAPA DB'!E:E,\"<=\"&Report!E3)","v":0},{"$f":"COUNTIFS('CAPA DB'!C:C,\"preventative\",'CAPA DB'!H:H,J13,'CAPA DB'!Y:Y,\"*\"&B100&\"*\",'CAPA DB'!E:E,\">=\"&Report!C3,'CAPA DB'!E:E,\"<=\"&Report!E3)","v":0},{"$f":"COUNTIFS('CAPA DB'!C:C,\"preventative\",'CAPA DB'!H:H,K13,'CAPA DB'!Y:Y,\"*\"&B100&\"*\",'CAPA DB'!E:E,\">=\"&Report!C3,'CAPA DB'!E:E,\"<=\"&Report!E3)","v":0},{"$f":"COUNTIFS('CAPA DB'!C:C,\"preventative\",'CAPA DB'!H:H,L13,'CAPA DB'!Y:Y,\"*\"&B100&\"*\",'CAPA DB'!E:E,\">=\"&Report!C3,'CAPA DB'!E:E,\"<=\"&Report!E3)","v":0}]
[null,{"$f":"Lists!G20","v":"[Clinical Noting]"},null,0,{"$f":"COUNTIFS('CAPA DB'!C:C,\"preventative\",'CAPA DB'!H:H,E13,'CAPA DB'!Y:Y,\"*\"&B101&\"*\",'CAPA DB'!E:E,\">=\"&Report!C3,'CAPA DB'!E:E,\"<=\"&Report!E3)","v":0},{"$f":"COUNTIFS('CAPA DB'!C:C,\"preventative\",'CAPA DB'!H:H,F13,'CAPA DB'!Y:Y,\"*\"&B101&\"*\",'CAPA DB'!E:E,\">=\"&Report!C3,'CAPA DB'!E:E,\"<=\"&Report!E3)","v":0},{"$f":"COUNTIFS('CAPA DB'!C:C,\"preventative\",'CAPA DB'!H:H,G13,'CAPA DB'!Y:Y,\"*\"&B101&\"*\",'CAPA DB'!E:E,\">=\"&Report!C3,'CAPA DB'!E:E,\"<=\"&Report!E3)","v":0},{"$f":"COUNTIFS('CAPA DB'!C:C,\"preventative\",'CAPA DB'!H:H,H13,'CAPA DB'!Y:Y,\"*\"&B101&\"*\",'CAPA DB'!E:E,\">=\"&Report!C3,'CAPA DB'!E:E,\"<=\"&Report!E3)","v":0},{"$f":"COUNTIFS('CAPA DB'!C:C,\"preventative\",'CAPA DB'!H:H,I13,'CAPA DB'!Y:Y,\"*\"&B101&\"*\",'CAPA DB'!E:E,\">=\"&Report!C3,'CAPA DB'!E:E,\"<=\"&Report!E3)","v":0},{"$f":"COUNTIFS('CAPA DB'!C:C,\"preventative\",'CAPA DB'!H:H,J13,'CAPA DB'!Y:Y,\"*\"&B101&\"*\",'CAPA DB'!E:E,\">=\"&Report!C3,'CAPA DB'!E:E,\"<=\"&Report!E3)","v":0},{"$f":"COUNTIFS('CAPA DB'!C:C,\"preventative\",'CAPA DB'!H:H,K13,'CAPA DB'!Y:Y,\"*\"&B101&\"*\",'CAPA DB'!E:E,\">=\"&Report!C3,'CAPA DB'!E:E,\"<=\"&Report!E3)","v":0},{"$f":"COUNTIFS('CAPA DB'!C:C,\"preventative\",'CAPA DB'!H:H,L13,'CAPA DB'!Y:Y,\"*\"&B101&\"*\",'CAPA DB'!E:E,\">=\"&Report!C3,'CAPA DB'!E:E,\"<=\"&Report!E3)","v":0}]
[null,{"$f":"Lists!G21","v":"[No Action required]"},null,0,{"$f":"COUNTIFS('CAPA DB'!C:C,\"preventative\",'CAPA DB'!H:H,E13,'CAPA DB'!Y:Y,\"*\"&B102&\"*\",'CAPA DB'!E:E,\">=\"&Report!C3,'CAPA DB'!E:E,\"<=\"&Report!E3)","v":0},{"$f":"COUNTIFS('CAPA DB'!C:C,\"preventative\",'CAPA DB'!H:H,F13,'CAPA DB'!Y:Y,\"*\"&B102&\"*\",'CAPA DB'!E:E,\">=\"&Report!C3,'CAPA DB'!E:E,\"<=\"&Report!E3)","v":0},{"$f":"COUNTIFS('CAPA DB'!C:C,\"preventative\",'CAPA DB'!H:H,G13,'CAPA DB'!Y:Y,\"*\"&B102&\"*\",'CAPA DB'!E:E,\">=\"&Report!C3,'CAPA DB'!E:E,\"<=\"&Report!E3)","v":0},{"$f":"COUNTIFS('CAPA DB'!C:C,\"preventative\",'CAPA DB'!H:H,H13,'CAPA DB'!Y:Y,\"*\"&B102&\"*\",'CAPA DB'!E:E,\">=\"&Report!C3,'CAPA DB'!E:E,\"<=\"&Report!E3)","v":0},{"$f":"COUNTIFS('CAPA DB'!C:C,\"preventative\",'CAPA DB'!H:H,I13,'CAPA DB'!Y:Y,\"*\"&B102&\"*\",'CAPA DB'!E:E,\">=\"&Report!C3,'CAPA DB'!E:E,\"<=\"&Report!E3)","v":0},{"$f":"COUNTIFS('CAPA DB'!C:C,\"preventative\",'CAPA DB'!H:H,J13,'CAPA DB'!Y:Y,\"*\"&B102&\"*\",'CAPA DB'!E:E,\">=\"&Report!C3,'CAPA DB'!E:E,\"<=\"&Report!E3)","v":0},{"$f":"COUNTIFS('CAPA DB'!C:C,\"preventative\",'CAPA DB'!H:H,K13,'CAPA DB'!Y:Y,\"*\"&B102&\"*\",'CAPA DB'!E:E,\">=\"&Report!C3,'CAPA DB'!E:E,\"<=\"&Report!E3)","v":0},{"$f":"COUNTIFS('CAPA DB'!C:C,\"preventative\",'CAPA DB'!H:H,L13,'CAPA DB'!Y:Y,\"*\"&B102&\"*\",'CAPA DB'!E:E,\">=\"&Report!C3,'CAPA DB'!E:E,\"<=\"&Report!E3)","v":0}]
[null,{"$f":"Lists!G22","v":"[Audit]"},null,0,{"$f":"COUNTIFS('CAPA DB'!C:C,\"preventative\",'CAPA DB'!H:H,E13,'CAPA DB'!Y:Y,\"*\"&B103&\"*\",'CAPA DB'!E:E,\">=\"&Report!C3,'CAPA DB'!E:E,\"<=\"&Report!E3)","v":0},{"$f":"COUNTIFS('CAPA DB'!C:C,\"preventative\",'CAPA DB'!H:H,F13,'CAPA DB'!Y:Y,\"*\"&B103&\"*\",'CAPA DB'!E:E,\">=\"&Report!C3,'CAPA DB'!E:E,\"<=\"&Report!E3)","v":0},{"$f":"COUNTIFS('CAPA DB'!C:C,\"preventative\",'CAPA DB'!H:H,G13,'CAPA DB'!Y:Y,\"*\"&B103&\"*\",'CAPA DB'!E:E,\">=\"&Report!C3,'CAPA DB'!E:E,\"<=\"&Report!E3)","v":0},{"$f":"COUNTIFS('CAPA DB'!C:C,\"preventative\",'CAPA DB'!H:H,H13,'CAPA DB'!Y:Y,\"*\"&B103&\"*\",'CAPA DB'!E:E,\">=\"&Report!C3,'CAPA DB'!E:E,\"<=\"&Report!E3)","v":0},{"$f":"COUNTIFS('CAPA DB'!C:C,\"preventative\",'CAPA DB'!H:H,I13,'CAPA DB'!Y:Y,\"*\"&B103&\"*\",'CAPA DB'!E:E,\">=\"&Report!C3,'CAPA DB'!E:E,\"<=\"&Report!E3)","v":0},{"$f":"COUNTIFS('CAPA DB'!C:C,\"preventative\",'CAPA DB'!H:H,J13,'CAPA DB'!Y:Y,\"*\"&B103&\"*\",'CAPA DB'!E:E,\">=\"&Report!C3,'CAPA DB'!E:E,\"<=\"&Report!E3)","v":0},{"$f":"COUNTIFS('CAPA DB'!C:C,\"preventative\",'CAPA DB'!H:H,K13,'CAPA DB'!Y:Y,\"*\"&B103&\"*\",'CAPA DB'!E:E,\">=\"&Report!C3,'CAPA DB'!E:E,\"<=\"&Report!E3)","v":0},{"$f":"COUNTIFS('CAPA DB'!C:C,\"preventative\",'CAPA DB'!H:H,L13,'CAPA DB'!Y:Y,\"*\"&B103&\"*\",'CAPA DB'!E:E,\">=\"&Report!C3,'CAPA DB'!E:E,\"<=\"&Report!E3)","v":0}]
[null,{"$f":"Lists!G23","v":"[Interpreter]"},null,0,{"$f":"COUNTIFS('CAPA DB'!C:C,\"preventative\",'CAPA DB'!H:H,E13,'CAPA DB'!Y:Y,\"*\"&B104&\"*\",'CAPA DB'!E:E,\">=\"&Report!C3,'CAPA DB'!E:E,\"<=\"&Report!E3)","v":0},{"$f":"COUNTIFS('CAPA DB'!C:C,\"preventative\",'CAPA DB'!H:H,F13,'CAPA DB'!Y:Y,\"*\"&B104&\"*\",'CAPA DB'!E:E,\">=\"&Report!C3,'CAPA DB'!E:E,\"<=\"&Report!E3)","v":0},{"$f":"COUNTIFS('CAPA DB'!C:C,\"preventative\",'CAPA DB'!H:H,G13,'CAPA DB'!Y:Y,\"*\"&B104&\"*\",'CAPA DB'!E:E,\">=\"&Report!C3,'CAPA DB'!E:E,\"<=\"&Report!E3)","v":0},{"$f":"COUNTIFS('CAPA DB'!C:C,\"preventative\",'CAPA DB'!H:H,H13,'CAPA DB'!Y:Y,\"*\"&B104&\"*\",'CAPA DB'!E:E,\">=\"&Report!C3,'CAPA DB'!E:E,\"<=\"&Report!E3)","v":0},{"$f":"COUNTIFS('CAPA DB'!C:C,\"preventative\",'CAPA DB'!H:H,I13,'CAPA DB'!Y:Y,\"*\"&B104&\"*\",'CAPA DB'!E:E,\">=\"&Report!C3,'CAPA DB'!E:E,\"<=\"&Report!E3)","v":0},{"$f":"COUNTIFS('CAPA DB'!C:C,\"preventative\",'CAPA DB'!H:H,J13,'CAPA DB'!Y:Y,\"*\"&B104&\"*\",'CAPA DB'!E:E,\">=\"&Report!C3,'CAPA DB'!E:E,\"<=\"&Report!E3)","v":0},{"$f":"COUNTIFS('CAPA DB'!C:C,\"preventative\",'CAPA DB'!H:H,K13,'CAPA DB'!Y:Y,\"*\"&B104&\"*\",'CAPA DB'!E:E,\">=\"&Report!C3,'CAPA DB'!E:E,\"<=\"&Report!E3)","v":0},{"$f":"COUNTIFS('CAPA DB'!C:C,\"preventative\",'CAPA DB'!H:H,L13,'CAPA DB'!Y:Y,\"*\"&B104&\"*\",'CAPA DB'!E:E,\">=\"&Report!C3,'CAPA DB'!E:E,\"<=\"&Report!E3)","v":0}]

{"sheet":"EXPREP","index":7,"n_rows":106,"n_cols":12,"rows_kept":106,"cut":false,"hidden":true,"merged":[[98,1,98,2],[92,1,92,2],[93,1,93,2],[94,1,94,2],[95,1,95,2],[96,1,96,2],[97,1,97,2],[91,1,91,2],[78,1,78,2],[79,1,79,2],[82,1,82,2],[83,1,83,2],[84,1,84,2],[85,1,85,2],[86,1,86,2],[87,1,87,2],[88,1,88,2],[89,1,89,2],[90,1,90,2],[77,1,77,2],[66,1,66,2],[67,1,67,2],[68,1,68,2],[69,1,69,2],[70,1,70,2],[71,1,71,2],[72,1,72,2],[73,1,73,2],[74,1,74,2],[75,1,75,2],[76,1,76,2],[65,1,65,2],[47,1,47,2],[48,1,48,2],[49,1,49,2],[50,1,50,2],[51,1,51,2],[52,1,52,2],[53,1,53,2],[54,1,54,2],[60,1,61,11],[63,1,63,2],[64,1,64,2],[55,1,55,2],[56,1,56,2],[57,1,57,2],[58,1,58,2],[30,1,30,2],[31,1,31,2],[46,1,46,2],[33,1,33,2],[34,1,34,2],[35,1,35,2],[38,1,38,2],[39,1,39,2],[40,1,40,2],[41,1,41,2],[42,1,42,2],[43,1,43,2],[44,1,44,2],[45,1,45,2],[21,1,21,2],[22,1,22,2],[23,1,23,2],[24,1,24,2],[25,1,25,2],[26,1,26,2],[27,1,27,2],[28,1,28,2],[29,1,29,2],[1,1,1,4],[1,6,2,11],[4,1,4,2],[4,3,4,4],[5,1,5,2],[5,3,5,4],[6,1,6,2],[6,3,6,4],[6,6,6,7],[6,8,6,9],[6,10,6,11],[106,1,110,11],[99,1,99,2],[100,1,100,2],[101,1,101,2],[102,1,102,2],[103,1,103,2],[59,1,59,2],[7,6,7,7],[7,8,7,9],[7,10,7,11],[20,1,20,2],[8,1,8,4],[8,6,8,7],[8,8,8,9],[8,10,8,11],[9,6,9,7],[9,8,9,9],[9,10,9,11],[12,1,12,3],[13,1,13,3],[14,1,14,3],[16,1,17,11],[19,1,19,2],[32,1,32,2]]}
[]
[null,"Please enter Date range DD/MM/YYYY",null,null,null,null,"All information presented is for actions raised within the selected time frame"]
[null,"From:","2023-04-01","To:","2024-03-31"]
[]
[null,"Total submissions:",null,0]
[null,"Corrective:",null,0]
[null,"Preventative:",null,0,null,null,"Status",null,"Corrective",null,"Prventative"]
[null,null,null,null,null,null,"New",null,0,null,0]
[null,"News overdue for review",null,null,null,null,"Under Review",null,0,null,0]
[null,"Corr.",0,"Prev.",0,null,"Complete/Closed",null,0,null,0]
[]
[null,"Area break-down by action type"]
[null,"Action",null,null,"Clinical","Admin",0,0,0,0,0,0]
[null,"Corrective",null,null,0,0,0,0,0,0,0,0]
[null,"Preventative",null,null,0,0,0,0,0,0,0,0]
[]
[null,"Corrective action Breakdown"]
[]
[null,"Area & Category"]
[null,"Category",null,"Totals","Clinical","Admin",0,0,0,0,0,0]
[null,"Access, Admission, Discharge and Transfer issue",null,0,0,0,0,0,0,0,0,0]
[null,"Collision/Struck against moving or stationary object",null,0,0,0,0,0,0,0,0,0]
[null,"Communication failure Consent",null,0,0,0,0,0,0,0,0,0]
[null,"Delay / failure to treatment or procedure",null,0,0,0,0,0,0,0,0,0]
[null,"Diagnosis, Scans, Tests and procedures (clinical)",null,0,0,0,0,0,0,0,0,0]
[null,"Documentation and Health Records",null,0,0,0,0,0,0,0,0,0]
[null,"Environmental / Infrastructure / Equipment",null,0,0,0,0,0,0,0,0,0]
[null,"Medical Devices (Clinical)",null,0,0,0,0,0,0,0,0,0]
[null,"Infection Control",null,0,0,0,0,0,0,0,0,0]
[null,"Information Governance",null,0,0,0,0,0,0,0,0,0]
[null,"Information Technology",null,0,0,0,0,0,0,0,0,0]
[null,"Manual Handling",null,0,0,0,0,0,0,0,0,0]
[null,"Patient Care",null,0,0,0,0,0,0,0,0,0]
[null,"Security",null,0,0,0,0,0,0,0,0,0]
[null,"Staffing",null,0,0,0,0,0,0,0,0,0]
[null,"Unsure - please detail",null,0,0,0,0,0,0,0,0,0]
[]
[null,"Area & Theme"]
[null,"Category",null,"Totals","Clinical","Admin",0,0,0,0,0,0]
[null,"[Human factors]",null,0,0,0,0,0,0,0,0,0]
[null,"[Training]",null,0,0,0,0,0,0,0,0,0]
[null,"[Readership]",null,0,0,0,0,0,0,0,0,0]
[null,"[Staff levels (general)]",null,0,0,0,0,0,0,0,0,0]
[null,"[Staff Sickness]",null,0,0,0,0,0,0,0,0,0]
[null,"[Rota/allocation]",null,0,0,0,0,0,0,0,0,0]
[null,"[Time pressures]",null,0,0,0,0,0,0,0,0,0]
[null,"[Locum/Temps]",null,0,0,0,0,0,0,0,0,0]
[null,"[Communication failure]",null,0,0,0,0,0,0,0,0,0]
[null,"[Fault in process]",null,0,0,0,0,0,0,0,0,0]
[null,"[Process not defined]",null,0,0,0,0,0,0,0,0,0]
[null,"[Capacity vs demand]",null,0,0,0,0,0,0,0,0,0]
[null,"[Equipment]",null,0,0,0,0,0,0,0,0,0]
[null,"[Software]",null,0,0,0,0,0,0,0,0,0]
[null,"[Availability of supplies]",null,0,0,0,0,0,0,0,0,0]
[null,"[Quality of Supplies]",null,0,0,0,0,0,0,0,0,0]
[null,0,null,0,0,0,0,0,0,0,0,0]
[null,0,null,0,0,0,0,0,0,0,0,0]
[null,0,null,0,0,0,0,0,0,0,0,0]
[null,0,null,0,0,0,0,0,0,0,0,0]
[null,0,null,0,0,0,0,0,0,0,0,0]
[null,"Preventative action Breakdown"]
[]
[null,"Area & Category"]
[null,"Category",null,"Totals","Clinical","Admin",0,0,0,0,0,0]
[null,"Access, Admission, Discharge and Transfer issue",null,0,0,0,0,0,0,0,0,0]
[null,"Collision/Struck against moving or stationary object",null,0,0,0,0,0,0,0,0,0]
[null,"Communication failure Consent",null,0,0,0,0,0,0,0,0,0]
[null,"Delay / failure to treatment or procedure",null,0,0,0,0,0,0,0,0,0]
[null,"Diagnosis, Scans, Tests and procedures (clinical)",null,0,0,0,0,0,0,0,0,0]
[null,"Documentation and Health Records",null,0,0,0,0,0,0,0,0,0]
[null,"Environmental / Infrastructure / Equipment",null,0,0,0,0,0,0,0,0,0]
[null,"Medical Devices (Clinical)",null,0,0,0,0,0,0,0,0,0]
[null,"Infection Control",null,0,0,0,0,0,0,0,0,0]
[null,"Information Governance",null,0,0,0,0,0,0,0,0,0]
[null,"Information Technology",null,0,0,0,0,0,0,0,0,0]
[null,"Manual Handling",null,0,0,0,0,0,0,0,0,0]
[null,"Patient Care",null,0,0,0,0,0,0,0,0,0]
[null,"Security",null,0,0,0,0,0,0,0,0,0]
[null,"Staffing",null,0,0,0,0,0,0,0,0,0]
[null,"Unsure - please detail",null,0,0,0,0,0,0,0,0,0]
[]
[null,"Area & Theme"]
[null,"Category",null,"Totals","Clinical","Admin",0,0,0,0,0,0]
[null,"[Human factors]",null,0,0,0,0,0,0,0,0,0]
[null,"[Training]",null,0,0,0,0,0,0,0,0,0]
[null,"[Readership]",null,0,0,0,0,0,0,0,0,0]
[null,"[Staff levels (general)]",null,0,0,0,0,0,0,0,0,0]
[null,"[Staff Sickness]",null,0,0,0,0,0,0,0,0,0]
[null,"[Rota/allocation]",null,0,0,0,0,0,0,0,0,0]
[null,"[Time pressures]",null,0,0,0,0,0,0,0,0,0]
[null,"[Locum/Temps]",null,0,0,0,0,0,0,0,0,0]
[null,"[Communication failure]",null,0,0,0,0,0,0,0,0,0]
[null,"[Fault in process]",null,0,0,0,0,0,0,0,0,0]
[null,"[Process not defined]",null,0,0,0,0,0,0,0,0,0]
[null,"[Capacity vs demand]",null,0,0,0,0,0,0,0,0,0]
[null,"[Equipment]",null,0,0,0,0,0,0,0,0,0]
[null,"[Software]",null,0,0,0,0,0,0,0,0,0]
[null,"[Availability of supplies]",null,0,0,0,0,0,0,0,0,0]
[null,"[Quality of Supplies]",null,0,0,0,0,0,0,0,0,0]
[null,null,null,0,0,0,0,0,0,0,0,0]
[null,null,null,0,0,0,0,0,0,0,0,0]
[null,null,null,0,0,0,0,0,0,0,0,0]
[null,null,null,0,0,0,0,0,0,0,0,0]
[null,null,null,0,0,0,0,0,0,0,0,0]
[]
[null,"Comments"]

{"sheet":"expReport","index":8,"n_rows":24,"n_cols":9,"rows_kept":24,"cut":false,"hidden":true,"merged":[[24,1,24,2],[24,3,24,6],[23,8,23,9],[23,10,23,13],[6,1,10,6],[12,1,16,6],[18,1,22,6],[6,8,10,13],[0,1,0,13],[23,1,23,2],[23,3,23,6],[3,8,3,9],[3,10,3,13],[2,8,2,9],[2,10,2,13],[12,8,16,13],[18,8,22,13],[2,1,2,2],[2,3,2,6],[3,1,3,2],[3,3,3,6]]}
[null,"CAPA Report"]
[]
[null,"Incident number:",null,null,null,null,null,null,"Date raised:"]
[null,"Reviewer:",null,null,null,null,null,null,"Action type:"]
[]
[null,"Description",null,null,null,null,null,null,"Notes"]
[]
[]
[]
[]
[]
[null,"RCA",null,null,null,null,null,null,"Themes"]
[]
[]
[]
[]
[]
[null,"Action plan",null,null,null,null,null,null,"Leadership response"]
[]
[]
[]
[]
[]
[null,"CAPA score:",null,null,null,null,null,null,"Response date:"]

{"sheet":"Lists","index":9,"n_rows":26,"n_cols":10,"rows_kept":26,"cut":false,"hidden":true,"merged":[[1,9,14,13]]}
["Category","Document?","Status","y or N","Area","Outcome","Themes"]
["Access, Admission, Discharge and Transfer issue","Yes","Please select",null,null,"Accepted",null,null,null,"The light blue cells in column A should be populated with the caetgories of incident you require. Light blue cells in column E should be popualted with areas of the service, this will affect the dropdown for users and KPI's. Cells in light blue in column G can be popualted with themes. Please use [ brackets ] either side as it makes reading their summary easier. for both columns please leave the 'please select' or blank cell at the top."]
["Collision/Struck against moving or stationary object","The document isn't listed","New","Yes","Clinical","Rejected","[Human factors]"]
["Communication failure Consent","I can't remember the document title","Under review","No","Admin","N/A","[Training]"]
["Delay / failure to treatment or procedure","Not related to a document","Complete",null,null,"Please select","[Readership]"]
["Diagnosis, Scans, Tests and procedures (clinical)",null,"Closed",null,null,null,"[Staff levels (general)]"]
["Documentation and Health Records",null,null,null,null,null,"[Staff Sickness]"]
["Environmental / Infrastructure / Equipment",null,null,null,null,null,"[Rota/allocation]"]
["Medical Devices (Clinical)",null,null,null,null,null,"[Time pressures]"]
["Infection Control",null,null,null,null,null,"[Locum/Temps]"]
["Information Governance",null,null,null,null,null,"[Communication failure]"]
["Information Technology",null,null,null,null,null,"[Fault in process]"]
["Manual Handling",null,null,null,null,null,"[Process not defined]"]
["Patient Care",null,null,null,null,null,"[Capacity vs demand]"]
["Security",null,null,null,null,null,"[Equipment]"]
["Staffing",null,null,null,null,null,"[Software]"]
["Unsure - please detail",null,null,null,null,null,"[Availability of supplies]"]
[null,null,null,null,null,null,"[Quality of Supplies]"]
[null,null,null,null,null,null,"[Documentation]"]
[null,null,null,null,null,null,"[Clinical Noting]"]
[null,null,null,null,null,null,"[No Action required]"]
[null,null,null,null,null,null,"[Audit]"]
[null,null,null,null,null,null,"[Interpreter]"]
[]
[]
[null,null,null,null,null,null,null,"< past here doesn’t show in KPI screen"]

{"sheet":"DAte","index":10,"n_rows":3,"n_cols":2,"rows_kept":3,"cut":false,"hidden":true,"merged":[]}
["Today",{"$f":"TODAY()","v":"2026-01-09"}]
["90 days ago",{"$f":"B1-90","v":"2025-10-11"}]
["30 days ago",{"$f":"B1-30","v":"2025-12-10"}]

{"sheet":"docs","index":11,"n_rows":158,"n_cols":6,"rows_kept":158,"cut":false,"hidden":true,"merged":[[1,5,7,9]]}
["Document","Total corrective","Total preventative"]
[null,{"$f":"COUNTIFS('CAPA DB'!C:C,\"Corrective\", 'CAPA DB'!K:K,docs!A:A)","v":0},{"$f":"COUNTIFS('CAPA DB'!C:C,\"suggested\", 'CAPA DB'!K:K,docs!A:A)","v":0},null,null,"Cells coloured in light blue can be populated with document titles"]
[null,{"$f":"COUNTIFS('CAPA DB'!C:C,\"Corrective\", 'CAPA DB'!K:K,docs!A:A)","v":0},{"$f":"COUNTIFS('CAPA DB'!C:C,\"suggested\", 'CAPA DB'!K:K,docs!A:A)","v":0}]
[null,{"$f":"COUNTIFS('CAPA DB'!C:C,\"Corrective\", 'CAPA DB'!K:K,docs!A:A)","v":0},{"$f":"COUNTIFS('CAPA DB'!C:C,\"suggested\", 'CAPA DB'!K:K,docs!A:A)","v":0}]
[null,{"$f":"COUNTIFS('CAPA DB'!C:C,\"Corrective\", 'CAPA DB'!K:K,docs!A:A)","v":0},{"$f":"COUNTIFS('CAPA DB'!C:C,\"suggested\", 'CAPA DB'!K:K,docs!A:A)","v":0}]
[null,{"$f":"COUNTIFS('CAPA DB'!C:C,\"Corrective\", 'CAPA DB'!K:K,docs!A:A)","v":0},{"$f":"COUNTIFS('CAPA DB'!C:C,\"suggested\", 'CAPA DB'!K:K,docs!A:A)","v":0}]
[null,{"$f":"COUNTIFS('CAPA DB'!C:C,\"Corrective\", 'CAPA DB'!K:K,docs!A:A)","v":0},{"$f":"COUNTIFS('CAPA DB'!C:C,\"suggested\", 'CAPA DB'!K:K,docs!A:A)","v":0}]
[null,{"$f":"COUNTIFS('CAPA DB'!C:C,\"Corrective\", 'CAPA DB'!K:K,docs!A:A)","v":0},{"$f":"COUNTIFS('CAPA DB'!C:C,\"suggested\", 'CAPA DB'!K:K,docs!A:A)","v":0}]
[null,{"$f":"COUNTIFS('CAPA DB'!C:C,\"Corrective\", 'CAPA DB'!K:K,docs!A:A)","v":0},{"$f":"COUNTIFS('CAPA DB'!C:C,\"suggested\", 'CAPA DB'!K:K,docs!A:A)","v":0}]
[null,{"$f":"COUNTIFS('CAPA DB'!C:C,\"Corrective\", 'CAPA DB'!K:K,docs!A:A)","v":0},{"$f":"COUNTIFS('CAPA DB'!C:C,\"suggested\", 'CAPA DB'!K:K,docs!A:A)","v":0}]
[null,{"$f":"COUNTIFS('CAPA DB'!C:C,\"Corrective\", 'CAPA DB'!K:K,docs!A:A)","v":0},{"$f":"COUNTIFS('CAPA DB'!C:C,\"suggested\", 'CAPA DB'!K:K,docs!A:A)","v":0}]
[null,{"$f":"COUNTIFS('CAPA DB'!C:C,\"Corrective\", 'CAPA DB'!K:K,docs!A:A)","v":0},{"$f":"COUNTIFS('CAPA DB'!C:C,\"suggested\", 'CAPA DB'!K:K,docs!A:A)","v":0}]
[null,{"$f":"COUNTIFS('CAPA DB'!C:C,\"Corrective\", 'CAPA DB'!K:K,docs!A:A)","v":0},{"$f":"COUNTIFS('CAPA DB'!C:C,\"suggested\", 'CAPA DB'!K:K,docs!A:A)","v":0}]
[null,{"$f":"COUNTIFS('CAPA DB'!C:C,\"Corrective\", 'CAPA DB'!K:K,docs!A:A)","v":0},{"$f":"COUNTIFS('CAPA DB'!C:C,\"suggested\", 'CAPA DB'!K:K,docs!A:A)","v":0}]
[null,{"$f":"COUNTIFS('CAPA DB'!C:C,\"Corrective\", 'CAPA DB'!K:K,docs!A:A)","v":0},{"$f":"COUNTIFS('CAPA DB'!C:C,\"suggested\", 'CAPA DB'!K:K,docs!A:A)","v":0}]
[null,{"$f":"COUNTIFS('CAPA DB'!C:C,\"Corrective\", 'CAPA DB'!K:K,docs!A:A)","v":0},{"$f":"COUNTIFS('CAPA DB'!C:C,\"suggested\", 'CAPA DB'!K:K,docs!A:A)","v":0}]
[null,{"$f":"COUNTIFS('CAPA DB'!C:C,\"Corrective\", 'CAPA DB'!K:K,docs!A:A)","v":0},{"$f":"COUNTIFS('CAPA DB'!C:C,\"suggested\", 'CAPA DB'!K:K,docs!A:A)","v":0}]
[null,{"$f":"COUNTIFS('CAPA DB'!C:C,\"Corrective\", 'CAPA DB'!K:K,docs!A:A)","v":0},{"$f":"COUNTIFS('CAPA DB'!C:C,\"suggested\", 'CAPA DB'!K:K,docs!A:A)","v":0}]
[null,{"$f":"COUNTIFS('CAPA DB'!C:C,\"Corrective\", 'CAPA DB'!K:K,docs!A:A)","v":0},{"$f":"COUNTIFS('CAPA DB'!C:C,\"suggested\", 'CAPA DB'!K:K,docs!A:A)","v":0}]
[null,{"$f":"COUNTIFS('CAPA DB'!C:C,\"Corrective\", 'CAPA DB'!K:K,docs!A:A)","v":0},{"$f":"COUNTIFS('CAPA DB'!C:C,\"suggested\", 'CAPA DB'!K:K,docs!A:A)","v":0}]
[null,{"$f":"COUNTIFS('CAPA DB'!C:C,\"Corrective\", 'CAPA DB'!K:K,docs!A:A)","v":0},{"$f":"COUNTIFS('CAPA DB'!C:C,\"suggested\", 'CAPA DB'!K:K,docs!A:A)","v":0}]
[null,{"$f":"COUNTIFS('CAPA DB'!C:C,\"Corrective\", 'CAPA DB'!K:K,docs!A:A)","v":0},{"$f":"COUNTIFS('CAPA DB'!C:C,\"suggested\", 'CAPA DB'!K:K,docs!A:A)","v":0}]
[null,{"$f":"COUNTIFS('CAPA DB'!C:C,\"Corrective\", 'CAPA DB'!K:K,docs!A:A)","v":0},{"$f":"COUNTIFS('CAPA DB'!C:C,\"suggested\", 'CAPA DB'!K:K,docs!A:A)","v":0}]
[null,{"$f":"COUNTIFS('CAPA DB'!C:C,\"Corrective\", 'CAPA DB'!K:K,docs!A:A)","v":0},{"$f":"COUNTIFS('CAPA DB'!C:C,\"suggested\", 'CAPA DB'!K:K,docs!A:A)","v":0}]
[null,{"$f":"COUNTIFS('CAPA DB'!C:C,\"Corrective\", 'CAPA DB'!K:K,docs!A:A)","v":0},{"$f":"COUNTIFS('CAPA DB'!C:C,\"suggested\", 'CAPA DB'!K:K,docs!A:A)","v":0}]
[null,{"$f":"COUNTIFS('CAPA DB'!C:C,\"Corrective\", 'CAPA DB'!K:K,docs!A:A)","v":0},{"$f":"COUNTIFS('CAPA DB'!C:C,\"suggested\", 'CAPA DB'!K:K,docs!A:A)","v":0}]
[null,{"$f":"COUNTIFS('CAPA DB'!C:C,\"Corrective\", 'CAPA DB'!K:K,docs!A:A)","v":0},{"$f":"COUNTIFS('CAPA DB'!C:C,\"suggested\", 'CAPA DB'!K:K,docs!A:A)","v":0}]
[null,{"$f":"COUNTIFS('CAPA DB'!C:C,\"Corrective\", 'CAPA DB'!K:K,docs!A:A)","v":0},{"$f":"COUNTIFS('CAPA DB'!C:C,\"suggested\", 'CAPA DB'!K:K,docs!A:A)","v":0}]
[null,{"$f":"COUNTIFS('CAPA DB'!C:C,\"Corrective\", 'CAPA DB'!K:K,docs!A:A)","v":0},{"$f":"COUNTIFS('CAPA DB'!C:C,\"suggested\", 'CAPA DB'!K:K,docs!A:A)","v":0}]
[null,{"$f":"COUNTIFS('CAPA DB'!C:C,\"Corrective\", 'CAPA DB'!K:K,docs!A:A)","v":0},{"$f":"COUNTIFS('CAPA DB'!C:C,\"suggested\", 'CAPA DB'!K:K,docs!A:A)","v":0}]
[null,{"$f":"COUNTIFS('CAPA DB'!C:C,\"Corrective\", 'CAPA DB'!K:K,docs!A:A)","v":0},{"$f":"COUNTIFS('CAPA DB'!C:C,\"suggested\", 'CAPA DB'!K:K,docs!A:A)","v":0}]
[null,{"$f":"COUNTIFS('CAPA DB'!C:C,\"Corrective\", 'CAPA DB'!K:K,docs!A:A)","v":0},{"$f":"COUNTIFS('CAPA DB'!C:C,\"suggested\", 'CAPA DB'!K:K,docs!A:A)","v":0}]
[null,{"$f":"COUNTIFS('CAPA DB'!C:C,\"Corrective\", 'CAPA DB'!K:K,docs!A:A)","v":0},{"$f":"COUNTIFS('CAPA DB'!C:C,\"suggested\", 'CAPA DB'!K:K,docs!A:A)","v":0}]
[null,{"$f":"COUNTIFS('CAPA DB'!C:C,\"Corrective\", 'CAPA DB'!K:K,docs!A:A)","v":0},{"$f":"COUNTIFS('CAPA DB'!C:C,\"suggested\", 'CAPA DB'!K:K,docs!A:A)","v":0}]
[null,{"$f":"COUNTIFS('CAPA DB'!C:C,\"Corrective\", 'CAPA DB'!K:K,docs!A:A)","v":0},{"$f":"COUNTIFS('CAPA DB'!C:C,\"suggested\", 'CAPA DB'!K:K,docs!A:A)","v":0}]
[null,{"$f":"COUNTIFS('CAPA DB'!C:C,\"Corrective\", 'CAPA DB'!K:K,docs!A:A)","v":0},{"$f":"COUNTIFS('CAPA DB'!C:C,\"suggested\", 'CAPA DB'!K:K,docs!A:A)","v":0}]
[null,{"$f":"COUNTIFS('CAPA DB'!C:C,\"Corrective\", 'CAPA DB'!K:K,docs!A:A)","v":0},{"$f":"COUNTIFS('CAPA DB'!C:C,\"suggested\", 'CAPA DB'!K:K,docs!A:A)","v":0}]
[null,{"$f":"COUNTIFS('CAPA DB'!C:C,\"Corrective\", 'CAPA DB'!K:K,docs!A:A)","v":0},{"$f":"COUNTIFS('CAPA DB'!C:C,\"suggested\", 'CAPA DB'!K:K,docs!A:A)","v":0}]
[null,{"$f":"COUNTIFS('CAPA DB'!C:C,\"Corrective\", 'CAPA DB'!K:K,docs!A:A)","v":0},{"$f":"COUNTIFS('CAPA DB'!C:C,\"suggested\", 'CAPA DB'!K:K,docs!A:A)","v":0}]
[null,{"$f":"COUNTIFS('CAPA DB'!C:C,\"Corrective\", 'CAPA DB'!K:K,docs!A:A)","v":0},{"$f":"COUNTIFS('CAPA DB'!C:C,\"suggested\", 'CAPA DB'!K:K,docs!A:A)","v":0}]
[null,{"$f":"COUNTIFS('CAPA DB'!C:C,\"Corrective\", 'CAPA DB'!K:K,docs!A:A)","v":0},{"$f":"COUNTIFS('CAPA DB'!C:C,\"suggested\", 'CAPA DB'!K:K,docs!A:A)","v":0}]
[null,{"$f":"COUNTIFS('CAPA DB'!C:C,\"Corrective\", 'CAPA DB'!K:K,docs!A:A)","v":0},{"$f":"COUNTIFS('CAPA DB'!C:C,\"suggested\", 'CAPA DB'!K:K,docs!A:A)","v":0}]
[null,{"$f":"COUNTIFS('CAPA DB'!C:C,\"Corrective\", 'CAPA DB'!K:K,docs!A:A)","v":0},{"$f":"COUNTIFS('CAPA DB'!C:C,\"suggested\", 'CAPA DB'!K:K,docs!A:A)","v":0}]
[null,{"$f":"COUNTIFS('CAPA DB'!C:C,\"Corrective\", 'CAPA DB'!K:K,docs!A:A)","v":0},{"$f":"COUNTIFS('CAPA DB'!C:C,\"suggested\", 'CAPA DB'!K:K,docs!A:A)","v":0}]
[null,{"$f":"COUNTIFS('CAPA DB'!C:C,\"Corrective\", 'CAPA DB'!K:K,docs!A:A)","v":0},{"$f":"COUNTIFS('CAPA DB'!C:C,\"suggested\", 'CAPA DB'!K:K,docs!A:A)","v":0}]
[null,{"$f":"COUNTIFS('CAPA DB'!C:C,\"Corrective\", 'CAPA DB'!K:K,docs!A:A)","v":0},{"$f":"COUNTIFS('CAPA DB'!C:C,\"suggested\", 'CAPA DB'!K:K,docs!A:A)","v":0}]
[null,{"$f":"COUNTIFS('CAPA DB'!C:C,\"Corrective\", 'CAPA DB'!K:K,docs!A:A)","v":0},{"$f":"COUNTIFS('CAPA DB'!C:C,\"suggested\", 'CAPA DB'!K:K,docs!A:A)","v":0}]
[null,{"$f":"COUNTIFS('CAPA DB'!C:C,\"Corrective\", 'CAPA DB'!K:K,docs!A:A)","v":0},{"$f":"COUNTIFS('CAPA DB'!C:C,\"suggested\", 'CAPA DB'!K:K,docs!A:A)","v":0}]
[null,{"$f":"COUNTIFS('CAPA DB'!C:C,\"Corrective\", 'CAPA DB'!K:K,docs!A:A)","v":0},{"$f":"COUNTIFS('CAPA DB'!C:C,\"suggested\", 'CAPA DB'!K:K,docs!A:A)","v":0}]
[null,{"$f":"COUNTIFS('CAPA DB'!C:C,\"Corrective\", 'CAPA DB'!K:K,docs!A:A)","v":0},{"$f":"COUNTIFS('CAPA DB'!C:C,\"suggested\", 'CAPA DB'!K:K,docs!A:A)","v":0}]
[null,{"$f":"COUNTIFS('CAPA DB'!C:C,\"Corrective\", 'CAPA DB'!K:K,docs!A:A)","v":0},{"$f":"COUNTIFS('CAPA DB'!C:C,\"suggested\", 'CAPA DB'!K:K,docs!A:A)","v":0}]
[null,{"$f":"COUNTIFS('CAPA DB'!C:C,\"Corrective\", 'CAPA DB'!K:K,docs!A:A)","v":0},{"$f":"COUNTIFS('CAPA DB'!C:C,\"suggested\", 'CAPA DB'!K:K,docs!A:A)","v":0}]
[null,{"$f":"COUNTIFS('CAPA DB'!C:C,\"Corrective\", 'CAPA DB'!K:K,docs!A:A)","v":0},{"$f":"COUNTIFS('CAPA DB'!C:C,\"suggested\", 'CAPA DB'!K:K,docs!A:A)","v":0}]
[null,{"$f":"COUNTIFS('CAPA DB'!C:C,\"Corrective\", 'CAPA DB'!K:K,docs!A:A)","v":0},{"$f":"COUNTIFS('CAPA DB'!C:C,\"suggested\", 'CAPA DB'!K:K,docs!A:A)","v":0}]
[null,{"$f":"COUNTIFS('CAPA DB'!C:C,\"Corrective\", 'CAPA DB'!K:K,docs!A:A)","v":0},{"$f":"COUNTIFS('CAPA DB'!C:C,\"suggested\", 'CAPA DB'!K:K,docs!A:A)","v":0}]
[null,{"$f":"COUNTIFS('CAPA DB'!C:C,\"Corrective\", 'CAPA DB'!K:K,docs!A:A)","v":0},{"$f":"COUNTIFS('CAPA DB'!C:C,\"suggested\", 'CAPA DB'!K:K,docs!A:A)","v":0}]
[null,{"$f":"COUNTIFS('CAPA DB'!C:C,\"Corrective\", 'CAPA DB'!K:K,docs!A:A)","v":0},{"$f":"COUNTIFS('CAPA DB'!C:C,\"suggested\", 'CAPA DB'!K:K,docs!A:A)","v":0}]
[null,{"$f":"COUNTIFS('CAPA DB'!C:C,\"Corrective\", 'CAPA DB'!K:K,docs!A:A)","v":0},{"$f":"COUNTIFS('CAPA DB'!C:C,\"suggested\", 'CAPA DB'!K:K,docs!A:A)","v":0}]
[null,{"$f":"COUNTIFS('CAPA DB'!C:C,\"Corrective\", 'CAPA DB'!K:K,docs!A:A)","v":0},{"$f":"COUNTIFS('CAPA DB'!C:C,\"suggested\", 'CAPA DB'!K:K,docs!A:A)","v":0}]
[null,{"$f":"COUNTIFS('CAPA DB'!C:C,\"Corrective\", 'CAPA DB'!K:K,docs!A:A)","v":0},{"$f":"COUNTIFS('CAPA DB'!C:C,\"suggested\", 'CAPA DB'!K:K,docs!A:A)","v":0}]
[null,{"$f":"COUNTIFS('CAPA DB'!C:C,\"Corrective\", 'CAPA DB'!K:K,docs!A:A)","v":0},{"$f":"COUNTIFS('CAPA DB'!C:C,\"suggested\", 'CAPA DB'!K:K,docs!A:A)","v":0}]
[null,{"$f":"COUNTIFS('CAPA DB'!C:C,\"Corrective\", 'CAPA DB'!K:K,docs!A:A)","v":0},{"$f":"COUNTIFS('CAPA DB'!C:C,\"suggested\", 'CAPA DB'!K:K,docs!A:A)","v":0}]
[null,{"$f":"COUNTIFS('CAPA DB'!C:C,\"Corrective\", 'CAPA DB'!K:K,docs!A:A)","v":0},{"$f":"COUNTIFS('CAPA DB'!C:C,\"suggested\", 'CAPA DB'!K:K,docs!A:A)","v":0}]
[null,{"$f":"COUNTIFS('CAPA DB'!C:C,\"Corrective\", 'CAPA DB'!K:K,docs!A:A)","v":0},{"$f":"COUNTIFS('CAPA DB'!C:C,\"suggested\", 'CAPA DB'!K:K,docs!A:A)","v":0}]
[null,{"$f":"COUNTIFS('CAPA DB'!C:C,\"Corrective\", 'CAPA DB'!K:K,docs!A:A)","v":0},{"$f":"COUNTIFS('CAPA DB'!C:C,\"suggested\", 'CAPA DB'!K:K,docs!A:A)","v":0}]
[null,{"$f":"COUNTIFS('CAPA DB'!C:C,\"Corrective\", 'CAPA DB'!K:K,docs!A:A)","v":0},{"$f":"COUNTIFS('CAPA DB'!C:C,\"suggested\", 'CAPA DB'!K:K,docs!A:A)","v":0}]
[null,{"$f":"COUNTIFS('CAPA DB'!C:C,\"Corrective\", 'CAPA DB'!K:K,docs!A:A)","v":0},{"$f":"COUNTIFS('CAPA DB'!C:C,\"suggested\", 'CAPA DB'!K:K,docs!A:A)","v":0}]
[null,{"$f":"COUNTIFS('CAPA DB'!C:C,\"Corrective\", 'CAPA DB'!K:K,docs!A:A)","v":0},{"$f":"COUNTIFS('CAPA DB'!C:C,\"suggested\", 'CAPA DB'!K:K,docs!A:A)","v":0}]
[null,{"$f":"COUNTIFS('CAPA DB'!C:C,\"Corrective\", 'CAPA DB'!K:K,docs!A:A)","v":0},{"$f":"COUNTIFS('CAPA DB'!C:C,\"suggested\", 'CAPA DB'!K:K,docs!A:A)","v":0}]
[null,{"$f":"COUNTIFS('CAPA DB'!C:C,\"Corrective\", 'CAPA DB'!K:K,docs!A:A)","v":0},{"$f":"COUNTIFS('CAPA DB'!C:C,\"suggested\", 'CAPA DB'!K:K,docs!A:A)","v":0}]
[null,{"$f":"COUNTIFS('CAPA DB'!C:C,\"Corrective\", 'CAPA DB'!K:K,docs!A:A)","v":0},{"$f":"COUNTIFS('CAPA DB'!C:C,\"suggested\", 'CAPA DB'!K:K,docs!A:A)","v":0}]
[null,{"$f":"COUNTIFS('CAPA DB'!C:C,\"Corrective\", 'CAPA DB'!K:K,docs!A:A)","v":0},{"$f":"COUNTIFS('CAPA DB'!C:C,\"suggested\", 'CAPA DB'!K:K,docs!A:A)","v":0}]
[null,{"$f":"COUNTIFS('CAPA DB'!C:C,\"Corrective\", 'CAPA DB'!K:K,docs!A:A)","v":0},{"$f":"COUNTIFS('CAPA DB'!C:C,\"suggested\", 'CAPA DB'!K:K,docs!A:A)","v":0}]
[null,{"$f":"COUNTIFS('CAPA DB'!C:C,\"Corrective\", 'CAPA DB'!K:K,docs!A:A)","v":0},{"$f":"COUNTIFS('CAPA DB'!C:C,\"suggested\", 'CAPA DB'!K:K,docs!A:A)","v":0}]
[null,{"$f":"COUNTIFS('CAPA DB'!C:C,\"Corrective\", 'CAPA DB'!K:K,docs!A:A)","v":0},{"$f":"COUNTIFS('CAPA DB'!C:C,\"suggested\", 'CAPA DB'!K:K,docs!A:A)","v":0}]
[null,{"$f":"COUNTIFS('CAPA DB'!C:C,\"Corrective\", 'CAPA DB'!K:K,docs!A:A)","v":0},{"$f":"COUNTIFS('CAPA DB'!C:C,\"suggested\", 'CAPA DB'!K:K,docs!A:A)","v":0}]
[null,{"$f":"COUNTIFS('CAPA DB'!C:C,\"Corrective\", 'CAPA DB'!K:K,docs!A:A)","v":0},{"$f":"COUNTIFS('CAPA DB'!C:C,\"suggested\", 'CAPA DB'!K:K,docs!A:A)","v":0}]
[null,{"$f":"COUNTIFS('CAPA DB'!C:C,\"Corrective\", 'CAPA DB'!K:K,docs!A:A)","v":0},{"$f":"COUNTIFS('CAPA DB'!C:C,\"suggested\", 'CAPA DB'!K:K,docs!A:A)","v":0}]
[null,{"$f":"COUNTIFS('CAPA DB'!C:C,\"Corrective\", 'CAPA DB'!K:K,docs!A:A)","v":0},{"$f":"COUNTIFS('CAPA DB'!C:C,\"suggested\", 'CAPA DB'!K:K,docs!A:A)","v":0}]
[null,{"$f":"COUNTIFS('CAPA DB'!C:C,\"Corrective\", 'CAPA DB'!K:K,docs!A:A)","v":0},{"$f":"COUNTIFS('CAPA DB'!C:C,\"suggested\", 'CAPA DB'!K:K,docs!A:A)","v":0}]
[null,{"$f":"COUNTIFS('CAPA DB'!C:C,\"Corrective\", 'CAPA DB'!K:K,docs!A:A)","v":0},{"$f":"COUNTIFS('CAPA DB'!C:C,\"suggested\", 'CAPA DB'!K:K,docs!A:A)","v":0}]
[null,{"$f":"COUNTIFS('CAPA DB'!C:C,\"Corrective\", 'CAPA DB'!K:K,docs!A:A)","v":0},{"$f":"COUNTIFS('CAPA DB'!C:C,\"suggested\", 'CAPA DB'!K:K,docs!A:A)","v":0}]
[null,{"$f":"COUNTIFS('CAPA DB'!C:C,\"Corrective\", 'CAPA DB'!K:K,docs!A:A)","v":0},{"$f":"COUNTIFS('CAPA DB'!C:C,\"suggested\", 'CAPA DB'!K:K,docs!A:A)","v":0}]
[null,{"$f":"COUNTIFS('CAPA DB'!C:C,\"Corrective\", 'CAPA DB'!K:K,docs!A:A)","v":0},{"$f":"COUNTIFS('CAPA DB'!C:C,\"suggested\", 'CAPA DB'!K:K,docs!A:A)","v":0}]
[null,{"$f":"COUNTIFS('CAPA DB'!C:C,\"Corrective\", 'CAPA DB'!K:K,docs!A:A)","v":0},{"$f":"COUNTIFS('CAPA DB'!C:C,\"suggested\", 'CAPA DB'!K:K,docs!A:A)","v":0}]
[null,{"$f":"COUNTIFS('CAPA DB'!C:C,\"Corrective\", 'CAPA DB'!K:K,docs!A:A)","v":0},{"$f":"COUNTIFS('CAPA DB'!C:C,\"suggested\", 'CAPA DB'!K:K,docs!A:A)","v":0}]
[null,{"$f":"COUNTIFS('CAPA DB'!C:C,\"Corrective\", 'CAPA DB'!K:K,docs!A:A)","v":0},{"$f":"COUNTIFS('CAPA DB'!C:C,\"suggested\", 'CAPA DB'!K:K,docs!A:A)","v":0}]
[null,{"$f":"COUNTIFS('CAPA DB'!C:C,\"Corrective\", 'CAPA DB'!K:K,docs!A:A)","v":0},{"$f":"COUNTIFS('CAPA DB'!C:C,\"suggested\", 'CAPA DB'!K:K,docs!A:A)","v":0}]
[null,{"$f":"COUNTIFS('CAPA DB'!C:C,\"Corrective\", 'CAPA DB'!K:K,docs!A:A)","v":0},{"$f":"COUNTIFS('CAPA DB'!C:C,\"suggested\", 'CAPA DB'!K:K,docs!A:A)","v":0}]
[null,{"$f":"COUNTIFS('CAPA DB'!C:C,\"Corrective\", 'CAPA DB'!K:K,docs!A:A)","v":0},{"$f":"COUNTIFS('CAPA DB'!C:C,\"suggested\", 'CAPA DB'!K:K,docs!A:A)","v":0}]
[null,{"$f":"COUNTIFS('CAPA DB'!C:C,\"Corrective\", 'CAPA DB'!K:K,docs!A:A)","v":0},{"$f":"COUNTIFS('CAPA DB'!C:C,\"suggested\", 'CAPA DB'!K:K,docs!A:A)","v":0}]
[null,{"$f":"COUNTIFS('CAPA DB'!C:C,\"Corrective\", 'CAPA DB'!K:K,docs!A:A)","v":0},{"$f":"COUNTIFS('CAPA DB'!C:C,\"suggested\", 'CAPA DB'!K:K,docs!A:A)","v":0}]
[null,{"$f":"COUNTIFS('CAPA DB'!C:C,\"Corrective\", 'CAPA DB'!K:K,docs!A:A)","v":0},{"$f":"COUNTIFS('CAPA DB'!C:C,\"suggested\", 'CAPA DB'!K:K,docs!A:A)","v":0}]
[null,{"$f":"COUNTIFS('CAPA DB'!C:C,\"Corrective\", 'CAPA DB'!K:K,docs!A:A)","v":0},{"$f":"COUNTIFS('CAPA DB'!C:C,\"suggested\", 'CAPA DB'!K:K,docs!A:A)","v":0}]
[null,{"$f":"COUNTIFS('CAPA DB'!C:C,\"Corrective\", 'CAPA DB'!K:K,docs!A:A)","v":0},{"$f":"COUNTIFS('CAPA DB'!C:C,\"suggested\", 'CAPA DB'!K:K,docs!A:A)","v":0}]
[null,{"$f":"COUNTIFS('CAPA DB'!C:C,\"Corrective\", 'CAPA DB'!K:K,docs!A:A)","v":0},{"$f":"COUNTIFS('CAPA DB'!C:C,\"suggested\", 'CAPA DB'!K:K,docs!A:A)","v":0}]
[null,{"$f":"COUNTIFS('CAPA DB'!C:C,\"Corrective\", 'CAPA DB'!K:K,docs!A:A)","v":0},{"$f":"COUNTIFS('CAPA DB'!C:C,\"suggested\", 'CAPA DB'!K:K,docs!A:A)","v":0}]
[null,{"$f":"COUNTIFS('CAPA DB'!C:C,\"Corrective\", 'CAPA DB'!K:K,docs!A:A)","v":0},{"$f":"COUNTIFS('CAPA DB'!C:C,\"suggested\", 'CAPA DB'!K:K,docs!A:A)","v":0}]
[null,{"$f":"COUNTIFS('CAPA DB'!C:C,\"Corrective\", 'CAPA DB'!K:K,docs!A:A)","v":0},{"$f":"COUNTIFS('CAPA DB'!C:C,\"suggested\", 'CAPA DB'!K:K,docs!A:A)","v":0}]
[null,{"$f":"COUNTIFS('CAPA DB'!C:C,\"Corrective\", 'CAPA DB'!K:K,docs!A:A)","v":0},{"$f":"COUNTIFS('CAPA DB'!C:C,\"suggested\", 'CAPA DB'!K:K,docs!A:A)","v":0}]
[null,{"$f":"COUNTIFS('CAPA DB'!C:C,\"Corrective\", 'CAPA DB'!K:K,docs!A:A)","v":0},{"$f":"COUNTIFS('CAPA DB'!C:C,\"suggested\", 'CAPA DB'!K:K,docs!A:A)","v":0}]
[null,{"$f":"COUNTIFS('CAPA DB'!C:C,\"Corrective\", 'CAPA DB'!K:K,docs!A:A)","v":0},{"$f":"COUNTIFS('CAPA DB'!C:C,\"suggested\", 'CAPA DB'!K:K,docs!A:A)","v":0}]
[null,{"$f":"COUNTIFS('CAPA DB'!C:C,\"Corrective\", 'CAPA DB'!K:K,docs!A:A)","v":0},{"$f":"COUNTIFS('CAPA DB'!C:C,\"suggested\", 'CAPA DB'!K:K,docs!A:A)","v":0}]
[null,{"$f":"COUNTIFS('CAPA DB'!C:C,\"Corrective\", 'CAPA DB'!K:K,docs!A:A)","v":0},{"$f":"COUNTIFS('CAPA DB'!C:C,\"suggested\", 'CAPA DB'!K:K,docs!A:A)","v":0}]
[null,{"$f":"COUNTIFS('CAPA DB'!C:C,\"Corrective\", 'CAPA DB'!K:K,docs!A:A)","v":0},{"$f":"COUNTIFS('CAPA DB'!C:C,\"suggested\", 'CAPA DB'!K:K,docs!A:A)","v":0}]
[null,{"$f":"COUNTIFS('CAPA DB'!C:C,\"Corrective\", 'CAPA DB'!K:K,docs!A:A)","v":0},{"$f":"COUNTIFS('CAPA DB'!C:C,\"suggested\", 'CAPA DB'!K:K,docs!A:A)","v":0}]
[null,{"$f":"COUNTIFS('CAPA DB'!C:C,\"Corrective\", 'CAPA DB'!K:K,docs!A:A)","v":0},{"$f":"COUNTIFS('CAPA DB'!C:C,\"suggested\", 'CAPA DB'!K:K,docs!A:A)","v":0}]
[null,{"$f":"COUNTIFS('CAPA DB'!C:C,\"Corrective\", 'CAPA DB'!K:K,docs!A:A)","v":0},{"$f":"COUNTIFS('CAPA DB'!C:C,\"suggested\", 'CAPA DB'!K:K,docs!A:A)","v":0}]
[null,{"$f":"COUNTIFS('CAPA DB'!C:C,\"Corrective\", 'CAPA DB'!K:K,docs!A:A)","v":0},{"$f":"COUNTIFS('CAPA DB'!C:C,\"suggested\", 'CAPA DB'!K:K,docs!A:A)","v":0}]
[null,{"$f":"COUNTIFS('CAPA DB'!C:C,\"Corrective\", 'CAPA DB'!K:K,docs!A:A)","v":0},{"$f":"COUNTIFS('CAPA DB'!C:C,\"suggested\", 'CAPA DB'!K:K,docs!A:A)","v":0}]
[null,{"$f":"COUNTIFS('CAPA DB'!C:C,\"Corrective\", 'CAPA DB'!K:K,docs!A:A)","v":0},{"$f":"COUNTIFS('CAPA DB'!C:C,\"suggested\", 'CAPA DB'!K:K,docs!A:A)","v":0}]
[null,{"$f":"COUNTIFS('CAPA DB'!C:C,\"Corrective\", 'CAPA DB'!K:K,docs!A:A)","v":0},{"$f":"COUNTIFS('CAPA DB'!C:C,\"suggested\", 'CAPA DB'!K:K,docs!A:A)","v":0}]
[null,{"$f":"COUNTIFS('CAPA DB'!C:C,\"Corrective\", 'CAPA DB'!K:K,docs!A:A)","v":0},{"$f":"COUNTIFS('CAPA DB'!C:C,\"suggested\", 'CAPA DB'!K:K,docs!A:A)","v":0}]
[null,{"$f":"COUNTIFS('CAPA DB'!C:C,\"Corrective\", 'CAPA DB'!K:K,docs!A:A)","v":0},{"$f":"COUNTIFS('CAPA DB'!C:C,\"suggested\", 'CAPA DB'!K:K,docs!A:A)","v":0}]
[null,{"$f":"COUNTIFS('CAPA DB'!C:C,\"Corrective\", 'CAPA DB'!K:K,docs!A:A)","v":0},{"$f":"COUNTIFS('CAPA DB'!C:C,\"suggested\", 'CAPA DB'!K:K,docs!A:A)","v":0}]
[null,{"$f":"COUNTIFS('CAPA DB'!C:C,\"Corrective\", 'CAPA DB'!K:K,docs!A:A)","v":0},{"$f":"COUNTIFS('CAPA DB'!C:C,\"suggested\", 'CAPA DB'!K:K,docs!A:A)","v":0}]
[null,{"$f":"COUNTIFS('CAPA DB'!C:C,\"Corrective\", 'CAPA DB'!K:K,docs!A:A)","v":0},{"$f":"COUNTIFS('CAPA DB'!C:C,\"suggested\", 'CAPA DB'!K:K,docs!A:A)","v":0}]
[null,{"$f":"COUNTIFS('CAPA DB'!C:C,\"Corrective\", 'CAPA DB'!K:K,docs!A:A)","v":0},{"$f":"COUNTIFS('CAPA DB'!C:C,\"suggested\", 'CAPA DB'!K:K,docs!A:A)","v":0}]
[null,{"$f":"COUNTIFS('CAPA DB'!C:C,\"Corrective\", 'CAPA DB'!K:K,docs!A:A)","v":0},{"$f":"COUNTIFS('CAPA DB'!C:C,\"suggested\", 'CAPA DB'!K:K,docs!A:A)","v":0}]
[null,{"$f":"COUNTIFS('CAPA DB'!C:C,\"Corrective\", 'CAPA DB'!K:K,docs!A:A)","v":0},{"$f":"COUNTIFS('CAPA DB'!C:C,\"suggested\", 'CAPA DB'!K:K,docs!A:A)","v":0}]
[null,{"$f":"COUNTIFS('CAPA DB'!C:C,\"Corrective\", 'CAPA DB'!K:K,docs!A:A)","v":0},{"$f":"COUNTIFS('CAPA DB'!C:C,\"suggested\", 'CAPA DB'!K:K,docs!A:A)","v":0}]
[null,{"$f":"COUNTIFS('CAPA DB'!C:C,\"Corrective\", 'CAPA DB'!K:K,docs!A:A)","v":0},{"$f":"COUNTIFS('CAPA DB'!C:C,\"suggested\", 'CAPA DB'!K:K,docs!A:A)","v":0}]
[null,{"$f":"COUNTIFS('CAPA DB'!C:C,\"Corrective\", 'CAPA DB'!K:K,docs!A:A)","v":0},{"$f":"COUNTIFS('CAPA DB'!C:C,\"suggested\", 'CAPA DB'!K:K,docs!A:A)","v":0}]
[null,{"$f":"COUNTIFS('CAPA DB'!C:C,\"Corrective\", 'CAPA DB'!K:K,docs!A:A)","v":0},{"$f":"COUNTIFS('CAPA DB'!C:C,\"suggested\", 'CAPA DB'!K:K,docs!A:A)","v":0}]
[null,{"$f":"COUNTIFS('CAPA DB'!C:C,\"Corrective\", 'CAPA DB'!K:K,docs!A:A)","v":0},{"$f":"COUNTIFS('CAPA DB'!C:C,\"suggested\", 'CAPA DB'!K:K,docs!A:A)","v":0}]
[null,{"$f":"COUNTIFS('CAPA DB'!C:C,\"Corrective\", 'CAPA DB'!K:K,docs!A:A)","v":0},{"$f":"COUNTIFS('CAPA DB'!C:C,\"suggested\", 'CAPA DB'!K:K,docs!A:A)","v":0}]
[null,{"$f":"COUNTIFS('CAPA DB'!C:C,\"Corrective\", 'CAPA DB'!K:K,docs!A:A)","v":0},{"$f":"COUNTIFS('CAPA DB'!C:C,\"suggested\", 'CAPA DB'!K:K,docs!A:A)","v":0}]
[null,{"$f":"COUNTIFS('CAPA DB'!C:C,\"Corrective\", 'CAPA DB'!K:K,docs!A:A)","v":0},{"$f":"COUNTIFS('CAPA DB'!C:C,\"suggested\", 'CAPA DB'!K:K,docs!A:A)","v":0}]
[null,{"$f":"COUNTIFS('CAPA DB'!C:C,\"Corrective\", 'CAPA DB'!K:K,docs!A:A)","v":0},{"$f":"COUNTIFS('CAPA DB'!C:C,\"suggested\", 'CAPA DB'!K:K,docs!A:A)","v":0}]
[null,{"$f":"COUNTIFS('CAPA DB'!C:C,\"Corrective\", 'CAPA DB'!K:K,docs!A:A)","v":0},{"$f":"COUNTIFS('CAPA DB'!C:C,\"suggested\", 'CAPA DB'!K:K,docs!A:A)","v":0}]
[null,{"$f":"COUNTIFS('CAPA DB'!C:C,\"Corrective\", 'CAPA DB'!K:K,docs!A:A)","v":0},{"$f":"COUNTIFS('CAPA DB'!C:C,\"suggested\", 'CAPA DB'!K:K,docs!A:A)","v":0}]
[null,{"$f":"COUNTIFS('CAPA DB'!C:C,\"Corrective\", 'CAPA DB'!K:K,docs!A:A)","v":0},{"$f":"COUNTIFS('CAPA DB'!C:C,\"suggested\", 'CAPA DB'!K:K,docs!A:A)","v":0}]
[null,{"$f":"COUNTIFS('CAPA DB'!C:C,\"Corrective\", 'CAPA DB'!K:K,docs!A:A)","v":0},{"$f":"COUNTIFS('CAPA DB'!C:C,\"suggested\", 'CAPA DB'!K:K,docs!A:A)","v":0}]
[null,{"$f":"COUNTIFS('CAPA DB'!C:C,\"Corrective\", 'CAPA DB'!K:K,docs!A:A)","v":0},{"$f":"COUNTIFS('CAPA DB'!C:C,\"suggested\", 'CAPA DB'!K:K,docs!A:A)","v":0}]
[null,{"$f":"COUNTIFS('CAPA DB'!C:C,\"Corrective\", 'CAPA DB'!K:K,docs!A:A)","v":0},{"$f":"COUNTIFS('CAPA DB'!C:C,\"suggested\", 'CAPA DB'!K:K,docs!A:A)","v":0}]
[null,{"$f":"COUNTIFS('CAPA DB'!C:C,\"Corrective\", 'CAPA DB'!K:K,docs!A:A)","v":0},{"$f":"COUNTIFS('CAPA DB'!C:C,\"suggested\", 'CAPA DB'!K:K,docs!A:A)","v":0}]
[null,{"$f":"COUNTIFS('CAPA DB'!C:C,\"Corrective\", 'CAPA DB'!K:K,docs!A:A)","v":0},{"$f":"COUNTIFS('CAPA DB'!C:C,\"suggested\", 'CAPA DB'!K:K,docs!A:A)","v":0}]
[null,{"$f":"COUNTIFS('CAPA DB'!C:C,\"Corrective\", 'CAPA DB'!K:K,docs!A:A)","v":0},{"$f":"COUNTIFS('CAPA DB'!C:C,\"suggested\", 'CAPA DB'!K:K,docs!A:A)","v":0}]
[null,{"$f":"COUNTIFS('CAPA DB'!C:C,\"Corrective\", 'CAPA DB'!K:K,docs!A:A)","v":0},{"$f":"COUNTIFS('CAPA DB'!C:C,\"suggested\", 'CAPA DB'!K:K,docs!A:A)","v":0}]
[null,{"$f":"COUNTIFS('CAPA DB'!C:C,\"Corrective\", 'CAPA DB'!K:K,docs!A:A)","v":0},{"$f":"COUNTIFS('CAPA DB'!C:C,\"suggested\", 'CAPA DB'!K:K,docs!A:A)","v":0}]
[null,{"$f":"COUNTIFS('CAPA DB'!C:C,\"Corrective\", 'CAPA DB'!K:K,docs!A:A)","v":0},{"$f":"COUNTIFS('CAPA DB'!C:C,\"suggested\", 'CAPA DB'!K:K,docs!A:A)","v":0}]
[null,{"$f":"COUNTIFS('CAPA DB'!C:C,\"Corrective\", 'CAPA DB'!K:K,docs!A:A)","v":0},{"$f":"COUNTIFS('CAPA DB'!C:C,\"suggested\", 'CAPA DB'!K:K,docs!A:A)","v":0}]
[null,{"$f":"COUNTIFS('CAPA DB'!C:C,\"Corrective\", 'CAPA DB'!K:K,docs!A:A)","v":0},{"$f":"COUNTIFS('CAPA DB'!C:C,\"suggested\", 'CAPA DB'!K:K,docs!A:A)","v":0}]
[null,{"$f":"COUNTIFS('CAPA DB'!C:C,\"Corrective\", 'CAPA DB'!K:K,docs!A:A)","v":0},{"$f":"COUNTIFS('CAPA DB'!C:C,\"suggested\", 'CAPA DB'!K:K,docs!A:A)","v":0}]
[null,{"$f":"COUNTIFS('CAPA DB'!C:C,\"Corrective\", 'CAPA DB'!K:K,docs!A:A)","v":0},{"$f":"COUNTIFS('CAPA DB'!C:C,\"suggested\", 'CAPA DB'!K:K,docs!A:A)","v":0}]
[null,{"$f":"COUNTIFS('CAPA DB'!C:C,\"Corrective\", 'CAPA DB'!K:K,docs!A:A)","v":0},{"$f":"COUNTIFS('CAPA DB'!C:C,\"suggested\", 'CAPA DB'!K:K,docs!A:A)","v":0}]
[null,{"$f":"COUNTIFS('CAPA DB'!C:C,\"Corrective\", 'CAPA DB'!K:K,docs!A:A)","v":0},{"$f":"COUNTIFS('CAPA DB'!C:C,\"suggested\", 'CAPA DB'!K:K,docs!A:A)","v":0}]
[null,{"$f":"COUNTIFS('CAPA DB'!C:C,\"Corrective\", 'CAPA DB'!K:K,docs!A:A)","v":0},{"$f":"COUNTIFS('CAPA DB'!C:C,\"suggested\", 'CAPA DB'!K:K,docs!A:A)","v":0}]
[null,{"$f":"COUNTIFS('CAPA DB'!C:C,\"Corrective\", 'CAPA DB'!K:K,docs!A:A)","v":0},{"$f":"COUNTIFS('CAPA DB'!C:C,\"suggested\", 'CAPA DB'!K:K,docs!A:A)","v":0}]
[null,{"$f":"COUNTIFS('CAPA DB'!C:C,\"Corrective\", 'CAPA DB'!K:K,docs!A:A)","v":0},{"$f":"COUNTIFS('CAPA DB'!C:C,\"suggested\", 'CAPA DB'!K:K,docs!A:A)","v":0}]
[null,{"$f":"COUNTIFS('CAPA DB'!C:C,\"Corrective\", 'CAPA DB'!K:K,docs!A:A)","v":0},{"$f":"COUNTIFS('CAPA DB'!C:C,\"suggested\", 'CAPA DB'!K:K,docs!A:A)","v":0}]
[null,{"$f":"COUNTIFS('CAPA DB'!C:C,\"Corrective\", 'CAPA DB'!K:K,docs!A:A)","v":0},{"$f":"COUNTIFS('CAPA DB'!C:C,\"suggested\", 'CAPA DB'!K:K,docs!A:A)","v":0}]
[null,{"$f":"COUNTIFS('CAPA DB'!C:C,\"Corrective\", 'CAPA DB'!K:K,docs!A:A)","v":0},{"$f":"COUNTIFS('CAPA DB'!C:C,\"suggested\", 'CAPA DB'!K:K,docs!A:A)","v":0}]
[null,{"$f":"COUNTIFS('CAPA DB'!C:C,\"Corrective\", 'CAPA DB'!K:K,docs!A:A)","v":0},{"$f":"COUNTIFS('CAPA DB'!C:C,\"suggested\", 'CAPA DB'!K:K,docs!A:A)","v":0}]
[null,{"$f":"COUNTIFS('CAPA DB'!C:C,\"Corrective\", 'CAPA DB'!K:K,docs!A:A)","v":0},{"$f":"COUNTIFS('CAPA DB'!C:C,\"suggested\", 'CAPA DB'!K:K,docs!A:A)","v":0}]
[null,{"$f":"COUNTIFS('CAPA DB'!C:C,\"Corrective\", 'CAPA DB'!K:K,docs!A:A)","v":0},{"$f":"COUNTIFS('CAPA DB'!C:C,\"suggested\", 'CAPA DB'!K:K,docs!A:A)","v":0}]
[]
[null,{"$f":"COUNTIFS('CAPA DB'!C:C,\"Corrective\", 'CAPA DB'!K:K,docs!A:A)","v":0},{"$f":"COUNTIFS('CAPA DB'!C:C,\"suggested\", 'CAPA DB'!K:K,docs!A:A)","v":0}]

{"sheet":"MATH","index":12,"n_rows":3,"n_cols":13,"rows_kept":3,"cut":false,"hidden":true,"merged":[[2,8,2,9],[0,6,0,8]]}
["Total recs","Today","Week","30days","90days",null,"Login password:",null,null,"Noncon",null,null,"Database capacity"]
[{"$f":"COUNTA('CAPA DB'!A3:A9998)+1","v":1},{"$f":"TODAY()","v":"2026-01-09"},{"$f":"B2+6","v":"2026-01-15"},{"$f":"B2-30","v":"2025-12-10"},{"$f":"B2-90","v":"2025-10-11"},null,null,null,null,null,null,null,{"$f":"IF((COUNTA('CAPA DB'!A1999)>0),\"Capacity Breached\",\"Within Capacity\")","v":"Within Capacity"}]
[null,null,null,null,null,null,null,null,null,null,null,null,"This database was created with a soft limit to how many CAPA's it can hold, that limit is 2000. If the limit has been breached, please select columns A to AO (you will need to unhide columns P & AL-AO)  in row 2001 and drag them down further to create a new limit, then replace 'A2000' in Cell M2's code with the new limit."]